Workbook
Name link: INDIRECT(首页!$C1&"!a1")
Name qqq: 库存表!$T$5:$U$6

Sheet 首页
C3: 出入库综合管理系统（Excel）
D5: 月份 | E5: 43739
C8: 基础资料 | E8: 出入库单 | G8: 综合查询
C10: 产品资料 | E10: 商品入库 | G10: 入库单打印
C12: 供货商 | E12: 商品出库 | G12: 领料单打印
C14: 领料部门 | E14: 月报表 | G14: 库存表
B17: 功能介绍：会用Excel电子表格，就会用我做的软件。只需维护产品资料,日常输入进货和销售的记录(红色字部份) 自动统计库存。非常简单的记账本。 =========软件使用说明=========== 1.出入库只输红色字休部份,其他会自动公式显示. 2.打印入库单及出库单时,只要复制出入库单号,即能打印. 3.表格字段和整个结构不允许修改和删除，否则数据不能自动统计
B18: 使用本账册，第一步：增加产品资料，之后产品的入库出库才能操作。后面都设置了公式。
C19: 第二步：商品入库跟商品出库只需填红字部分
C20: 第三步：表格字段和整个结构不允许修改和删除，密码可以提供，但是建议不要用密码打开，公式全部安全锁定
C21: 第四步：打印入库单和出库单时，只要复制出入库单号，既可以打印
C22: 第五步：出入库只输入红色字体部分，其他公式自动显示

Sheet 产品资料
A1: 产品资料库 | G1: 返回首页<<
A2: 编号 | B2: 名称 | C2: 型号 | D2: 单位 | E2: 分类 | F2: 备注
A3: 1 | B3: 鸭 | C3: A | D3: 只 | E3: 生产类
A4: 2 | B4: 鹅 | C4: A | D4: 只 | E4: 生产类
A5: 3
A6: 4
A7: 5
A8: 6
A9: 7
A10: 8
A11: 9
A12: 10
A13: 11
A14: 12
A15: 13
A16: 14
A17: 15

Sheet 供货商
A1: 供应商资料 | K1: 返回首页<<
A2: 供货商简称 | B2: 公司名称 | C2: 联系人 | D2: 电话 | E2: 传真 | F2: 手机 | G2: 通讯地址 | H2: 邮政编码 | I2: 性别 | J2: 备注
A3: 蓬江 | B3: 熊猫办公XXXXXXX有限公司 | C3: 小李1 | D3: 123
A4: 供应商1 | B4: 熊猫办公XXXXXXX有限公司 | C4: 小李2 | D4: 124
A5: 供应商2 | B5: 熊猫办公XXXXXXX有限公司 | C5: 小李3 | D5: 125
A6: 供应商3 | B6: 熊猫办公XXXXXXX有限公司 | C6: 小李4 | D6: 126
A7: 供应商4 | B7: 熊猫办公XXXXXXX有限公司 | C7: 小李5 | D7: 127
A8: 供应商5 | B8: 熊猫办公XXXXXXX有限公司 | C8: 小李6 | D8: 128
A9: 供应商6 | B9: 熊猫办公XXXXXXX有限公司 | C9: 小李7 | D9: 129
A10: 供应商7 | B10: 熊猫办公XXXXXXX有限公司 | C10: 小李8 | D10: 130
A11: 供应商8 | B11: 熊猫办公XXXXXXX有限公司 | C11: 小李9 | D11: 131
A12: 供应商9 | B12: 熊猫办公XXXXXXX有限公司 | C12: 小李10 | D12: 132
A13: 供应商10 | B13: 熊猫办公XXXXXXX有限公司 | C13: 小李11 | D13: 133
A14: 供应商11 | B14: 熊猫办公XXXXXXX有限公司 | C14: 小李12 | D14: 134
... A29: 阳西 | B29: 熊猫办公XXXXXXX有限公司 | C29: 小李31 | D29: 153

Sheet 商品入库
A1: =首页!E5 -> 43739 | N1: 返回首页<<
A2: 入库单号 | B2: 进货日期 | C2: 商品编码 | D2: 商品名称 | E2: 规格型号 | F2: 单位 | G2: 进货数量 | H2: 进货单价 | I2: 总金额 | J2: 进货人 | K2: 供货商简称 | L2: 供货商全称 | M2: 备注
A3: A191028 | B3: 43766 | C3: 1 | D3: =IF(C3="","",VLOOKUP(C3,产品资料!A:D,2,0)) -> 鸭 | E3: =IF(C3="","",VLOOKUP(C3,产品资料!A:E,3,0)) -> A | F3: =IF(C3="","",VLOOKUP(C3,产品资料!A:E,4,0)) -> 只 | G3: 100 | H3: 40.4041 | I3: =IF(G3="","",G3*H3) -> 4040.41 | J3: 小明 | K3: 蓬江 | L3: =IF(K3="","",VLOOKUP(K3,供货商!A:B,2,0)) -> 熊猫办公XXXXXXX有限公司
A4: A191028 | B4: 43766 | C4: 2 | D4: =IF(C4="","",VLOOKUP(C4,产品资料!A:D,2,0)) -> 鹅 | E4: =IF(C4="","",VLOOKUP(C4,产品资料!A:E,3,0)) -> A | F4: =IF(C4="","",VLOOKUP(C4,产品资料!A:E,4,0)) -> 只 | G4: 200 | H4: 40.4041 | I4: =IF(G4="","",G4*H4) -> 8080.82 | J4: 小明 | K4: 蓬江 | L4: =IF(K4="","",VLOOKUP(K4,供货商!A:B,2,0)) -> 熊猫办公XXXXXXX有限公司
A5: A191028 | B5: 43766 | C5: 5 | D5: =IF(C5="","",VLOOKUP(C5,产品资料!A:D,2,0)) -> 0 | E5: =IF(C5="","",VLOOKUP(C5,产品资料!A:E,3,0)) -> 0 | F5: =IF(C5="","",VLOOKUP(C5,产品资料!A:E,4,0)) -> 0 | G5: 300 | H5: 40.4041 | I5: =IF(G5="","",G5*H5) -> 12121.23 | J5: 小明 | K5: 蓬江 | L5: =IF(K5="","",VLOOKUP(K5,供货商!A:B,2,0)) -> 熊猫办公XXXXXXX有限公司
D6: =IF(C6="","",VLOOKUP(C6,产品资料!A:D,2,0)) | E6: =IF(C6="","",VLOOKUP(C6,产品资料!A:E,3,0)) | F6: =IF(C6="","",VLOOKUP(C6,产品资料!A:E,4,0))
D7: =IF(C7="","",VLOOKUP(C7,产品资料!A:D,2,0)) | E7: =IF(C7="","",VLOOKUP(C7,产品资料!A:E,3,0)) | F7: =IF(C7="","",VLOOKUP(C7,产品资料!A:E,4,0))
D8: =IF(C8="","",VLOOKUP(C8,产品资料!A:D,2,0)) | E8: =IF(C8="","",VLOOKUP(C8,产品资料!A:E,3,0)) | F8: =IF(C8="","",VLOOKUP(C8,产品资料!A:E,4,0))
D9: =IF(C9="","",VLOOKUP(C9,产品资料!A:D,2,0)) | E9: =IF(C9="","",VLOOKUP(C9,产品资料!A:E,3,0)) | F9: =IF(C9="","",VLOOKUP(C9,产品资料!A:E,4,0))
D10: =IF(C10="","",VLOOKUP(C10,产品资料!A:D,2,0)) | E10: =IF(C10="","",VLOOKUP(C10,产品资料!A:E,3,0)) | F10: =IF(C10="","",VLOOKUP(C10,产品资料!A:E,4,0))
D38: =IF(C36="","",VLOOKUP(C36,产品资料!A:D,2,0)) | E38: =IF(C36="","",VLOOKUP(C36,产品资料!A:E,3,0)) | F38: =IF(C36="","",VLOOKUP(C36,产品资料!A:E,4,0)) | L38: =IF(K38="","",VLOOKUP(K38,供货商!A:B,2,0))
D39: =IF(C37="","",VLOOKUP(C37,产品资料!A:D,2,0)) | E39: =IF(C37="","",VLOOKUP(C37,产品资料!A:E,3,0)) | F39: =IF(C37="","",VLOOKUP(C37,产品资料!A:E,4,0))
D40: =IF(C38="","",VLOOKUP(C38,产品资料!A:D,2,0)) | E40: =IF(C38="","",VLOOKUP(C38,产品资料!A:E,3,0)) | F40: =IF(C38="","",VLOOKUP(C38,产品资料!A:E,4,0))
D41: =IF(C39="","",VLOOKUP(C39,产品资料!A:D,2,0)) | E41: =IF(C39="","",VLOOKUP(C39,产品资料!A:E,3,0)) | F41: =IF(C39="","",VLOOKUP(C39,产品资料!A:E,4,0))
D42: =IF(C40="","",VLOOKUP(C40,产品资料!A:D,2,0)) | E42: =IF(C40="","",VLOOKUP(C40,产品资料!A:E,3,0)) | F42: =IF(C40="","",VLOOKUP(C40,产品资料!A:E,4,0))
D43: =IF(C41="","",VLOOKUP(C41,产品资料!A:D,2,0)) | E43: =IF(C41="","",VLOOKUP(C41,产品资料!A:E,3,0)) | F43: =IF(C41="","",VLOOKUP(C41,产品资料!A:E,4,0))
D44: =IF(C42="","",VLOOKUP(C42,产品资料!A:D,2,0)) | E44: =IF(C42="","",VLOOKUP(C42,产品资料!A:E,3,0)) | F44: =IF(C42="","",VLOOKUP(C42,产品资料!A:E,4,0))
D45: =IF(C43="","",VLOOKUP(C43,产品资料!A:D,2,0)) | E45: =IF(C43="","",VLOOKUP(C43,产品资料!A:E,3,0)) | F45: =IF(C43="","",VLOOKUP(C43,产品资料!A:E,4,0))
D46: =IF(C44="","",VLOOKUP(C44,产品资料!A:D,2,0)) | E46: =IF(C44="","",VLOOKUP(C44,产品资料!A:E,3,0)) | F46: =IF(C44="","",VLOOKUP(C44,产品资料!A:E,4,0))

Sheet 入库单打印
C1: ＸＸＸＸ有限公司器材验收单 | K1: NO. | L1: A191028 | P1: 返回首页<<
N2: 白色:存根联 红色:领料员 黄色:财务联 | P2: 本领料单只需改红字单号，中间设了公式，请勿动
A3: 来货单位: | B3: =VLOOKUP(L1,商品入库!A:L,12,0) -> 熊猫办公XXXXXXX有限公司 | J3: 日期: | K3: =VLOOKUP(L1,商品入库!A:D,2,0) -> 43766
A4: 编 号 | B4: 商品名称规格 | C4: 单位 | D4: 原发数 | G4: 实收数 | J4: 验 收 差(-) 溢(+) | L4: 备注
D5: 数量 | E5: 单价 | F5: 金额 | G5: 数量 | H5: 单价 | I5: 金额 | J5: 数量 | K5: 金额
A6: =IF(COUNTIF(商品入库!$A$3:$A$2798,$L$1)-$O5>0,OFFSET(商品入库!$C$2,MATCH($L$1,商品入库!$A$3:$A$2798,0)+$O5,0)&"",0) -> 1 | B6: =IF(COUNTIF(商品入库!$A$3:$A$2798,$L$1)-$O5>0,OFFSET(商品入库!$D$2,MATCH($L$1,商品入库!$A$3:$A$2798,0)+$O5,0)&"",0)&IF(COUNTIF(商品入库!$A$3:$A$2798,$L$1)-$O5>0,OFFSET(商品入库!$E$2,MATCH($L$1,商品入库!$A$3:$A$2798,0)+$O5,0)&"",0) -> 鸭A | C6: =IF(COUNTIF(商品入库!$A$3:$A$2798,$L$1)-$O5>0,OFFSET(商品入库!$F$2,MATCH($L$1,商品入库!$A$3:$A$2798,0)+$O5,0)&"",0) -> 只 | D6: =IF(COUNTIF(商品入库!$A$3:$A$2798,$L$1)-$O5>0,OFFSET(商品入库!$G$2,MATCH($L$1,商品入库!$A$3:$A$2798,0)+$O5,0)&"",0) -> 100 | F6: =IF(COUNTIF(商品入库!$A$3:$A$2798,$L$1)-$O5>0,OFFSET(商品入库!$I$2,MATCH($L$1,商品入库!$A$3:$A$2798,0)+$O5,0)&"",0) -> 4040.41 | G6: =IF(COUNTIF(商品入库!$A$3:$A$2798,$L$1)-$O5>0,OFFSET(商品入库!$G$2,MATCH($L$1,商品入库!$A$3:$A$2798,0)+$O5,0)&"",0) -> 100 | I6: =IF(COUNTIF(商品入库!$A$3:$A$2798,$L$1)-$O5>0,OFFSET(商品入库!$I$2,MATCH($L$1,商品入库!$A$3:$A$2798,0)+$O5,0)&"",0) -> 4040.41 | O6: 1
A7: =IF(COUNTIF(商品入库!$A$3:$A$2798,$L$1)-$O6>0,OFFSET(商品入库!$C$2,MATCH($L$1,商品入库!$A$3:$A$2798,0)+$O6,0)&"",0) -> 2 | B7: =IF(COUNTIF(商品入库!$A$3:$A$2798,$L$1)-$O6>0,OFFSET(商品入库!$D$2,MATCH($L$1,商品入库!$A$3:$A$2798,0)+$O6,0)&"",0)&IF(COUNTIF(商品入库!$A$3:$A$2798,$L$1)-$O6>0,OFFSET(商品入库!$E$2,MATCH($L$1,商品入库!$A$3:$A$2798,0)+$O6,0)&"",0) -> 鹅A | C7: =IF(COUNTIF(商品入库!$A$3:$A$2798,$L$1)-$O6>0,OFFSET(商品入库!$F$2,MATCH($L$1,商品入库!$A$3:$A$2798,0)+$O6,0)&"",0) -> 只 | D7: =IF(COUNTIF(商品入库!$A$3:$A$2798,$L$1)-$O6>0,OFFSET(商品入库!$G$2,MATCH($L$1,商品入库!$A$3:$A$2798,0)+$O6,0)&"",0) -> 200 | E7: 0 | F7: =IF(COUNTIF(商品入库!$A$3:$A$2798,$L$1)-$O6>0,OFFSET(商品入库!$I$2,MATCH($L$1,商品入库!$A$3:$A$2798,0)+$O6,0)&"",0) -> 8080.82 | G7: =IF(COUNTIF(商品入库!$A$3:$A$2798,$L$1)-$O6>0,OFFSET(商品入库!$G$2,MATCH($L$1,商品入库!$A$3:$A$2798,0)+$O6,0)&"",0) -> 200 | I7: =IF(COUNTIF(商品入库!$A$3:$A$2798,$L$1)-$O6>0,OFFSET(商品入库!$I$2,MATCH($L$1,商品入库!$A$3:$A$2798,0)+$O6,0)&"",0) -> 8080.82 | O7: 2
A8: =IF(COUNTIF(商品入库!$A$3:$A$2798,$L$1)-$O7>0,OFFSET(商品入库!$C$2,MATCH($L$1,商品入库!$A$3:$A$2798,0)+$O7,0)&"",0) -> 5 | B8: =IF(COUNTIF(商品入库!$A$3:$A$2798,$L$1)-$O7>0,OFFSET(商品入库!$D$2,MATCH($L$1,商品入库!$A$3:$A$2798,0)+$O7,0)&"",0)&IF(COUNTIF(商品入库!$A$3:$A$2798,$L$1)-$O7>0,OFFSET(商品入库!$E$2,MATCH($L$1,商品入库!$A$3:$A$2798,0)+$O7,0)&"",0) -> 00 | C8: =IF(COUNTIF(商品入库!$A$3:$A$2798,$L$1)-$O7>0,OFFSET(商品入库!$F$2,MATCH($L$1,商品入库!$A$3:$A$2798,0)+$O7,0)&"",0) -> 0 | D8: =IF(COUNTIF(商品入库!$A$3:$A$2798,$L$1)-$O7>0,OFFSET(商品入库!$G$2,MATCH($L$1,商品入库!$A$3:$A$2798,0)+$O7,0)&"",0) -> 300 | E8: 0 | F8: =IF(COUNTIF(商品入库!$A$3:$A$2798,$L$1)-$O7>0,OFFSET(商品入库!$I$2,MATCH($L$1,商品入库!$A$3:$A$2798,0)+$O7,0)&"",0) -> 12121.23 | G8: =IF(COUNTIF(商品入库!$A$3:$A$2798,$L$1)-$O7>0,OFFSET(商品入库!$G$2,MATCH($L$1,商品入库!$A$3:$A$2798,0)+$O7,0)&"",0) -> 300 | I8: =IF(COUNTIF(商品入库!$A$3:$A$2798,$L$1)-$O7>0,OFFSET(商品入库!$I$2,MATCH($L$1,商品入库!$A$3:$A$2798,0)+$O7,0)&"",0) -> 12121.23 | O8: 3
A9: =IF(COUNTIF(商品入库!$A$3:$A$2798,$L$1)-$O8>0,OFFSET(商品入库!$C$2,MATCH($L$1,商品入库!$A$3:$A$2798,0)+$O8,0)&"",0) -> 0 | B9: =IF(COUNTIF(商品入库!$A$3:$A$2798,$L$1)-$O8>0,OFFSET(商品入库!$D$2,MATCH($L$1,商品入库!$A$3:$A$2798,0)+$O8,0)&"",0)&IF(COUNTIF(商品入库!$A$3:$A$2798,$L$1)-$O8>0,OFFSET(商品入库!$E$2,MATCH($L$1,商品入库!$A$3:$A$2798,0)+$O8,0)&"",0) -> 00 | C9: =IF(COUNTIF(商品入库!$A$3:$A$2798,$L$1)-$O8>0,OFFSET(商品入库!$F$2,MATCH($L$1,商品入库!$A$3:$A$2798,0)+$O8,0)&"",0) -> 0 | D9: =IF(COUNTIF(商品入库!$A$3:$A$2798,$L$1)-$O8>0,OFFSET(商品入库!$G$2,MATCH($L$1,商品入库!$A$3:$A$2798,0)+$O8,0)&"",0) -> 0 | E9: 0 | F9: =IF(COUNTIF(商品入库!$A$3:$A$2798,$L$1)-$O8>0,OFFSET(商品入库!$I$2,MATCH($L$1,商品入库!$A$3:$A$2798,0)+$O8,0)&"",0) -> 0 | G9: =IF(COUNTIF(商品入库!$A$3:$A$2798,$L$1)-$O8>0,OFFSET(商品入库!$G$2,MATCH($L$1,商品入库!$A$3:$A$2798,0)+$O8,0)&"",0) -> 0 | I9: =IF(COUNTIF(商品入库!$A$3:$A$2798,$L$1)-$O8>0,OFFSET(商品入库!$I$2,MATCH($L$1,商品入库!$A$3:$A$2798,0)+$O8,0)&"",0) -> 0 | O9: 4
A10: =IF(COUNTIF(商品入库!$A$3:$A$2798,$L$1)-$O9>0,OFFSET(商品入库!$C$2,MATCH($L$1,商品入库!$A$3:$A$2798,0)+$O9,0)&"",0) -> 0 | B10: =IF(COUNTIF(商品入库!$A$3:$A$2798,$L$1)-$O9>0,OFFSET(商品入库!$D$2,MATCH($L$1,商品入库!$A$3:$A$2798,0)+$O9,0)&"",0)&IF(COUNTIF(商品入库!$A$3:$A$2798,$L$1)-$O9>0,OFFSET(商品入库!$E$2,MATCH($L$1,商品入库!$A$3:$A$2798,0)+$O9,0)&"",0) -> 00 | C10: =IF(COUNTIF(商品入库!$A$3:$A$2798,$L$1)-$O9>0,OFFSET(商品入库!$F$2,MATCH($L$1,商品入库!$A$3:$A$2798,0)+$O9,0)&"",0) -> 0 | D10: =IF(COUNTIF(商品入库!$A$3:$A$2798,$L$1)-$O9>0,OFFSET(商品入库!$G$2,MATCH($L$1,商品入库!$A$3:$A$2798,0)+$O9,0)&"",0) -> 0 | E10: 0 | F10: =IF(COUNTIF(商品入库!$A$3:$A$2798,$L$1)-$O9>0,OFFSET(商品入库!$I$2,MATCH($L$1,商品入库!$A$3:$A$2798,0)+$O9,0)&"",0) -> 0 | G10: =IF(COUNTIF(商品入库!$A$3:$A$2798,$L$1)-$O9>0,OFFSET(商品入库!$G$2,MATCH($L$1,商品入库!$A$3:$A$2798,0)+$O9,0)&"",0) -> 0 | I10: =IF(COUNTIF(商品入库!$A$3:$A$2798,$L$1)-$O9>0,OFFSET(商品入库!$I$2,MATCH($L$1,商品入库!$A$3:$A$2798,0)+$O9,0)&"",0) -> 0 | O10: 5
A11: 合计 | I11: =SUMIF(商品入库!A:A,入库单打印!L1,商品入库!I:I) -> 24242.46
A13: 业务主管 | C13: 验收员 | H13: 复核 | K13: 制表

Sheet 领料部门
A1: 领料部门 | J1: 返回首页<<
A2: 领料部门 | B2: 联系人 | C2: 公司名称 | D2: 电话 | E2: 手机 | F2: 传真 | G2: 性别 | H2: 职务 | I2: 备注
A3: 习城乡西街村 | B3: 张松林 | C3: 123 | D3: 12345
A4: 生产部 | B4: 蔡居照 | C4: 主管 | D4: 12346
A5: 习城乡杨店村 | B5: 段合法 | C5: 125 | D5: 12347
A6: 习城乡韩岗村 | B6: 马彪 | C6: 126 | D6: 12348
A7: 习城乡马寨村 | B7: 刘飞虎 | C7: 127 | D7: 12349
A8: 习城乡陈寨村 | B8: 刘飞虎1 | C8: 128 | D8: 12350
A9: 习城乡青古庄 | B9: 刘飞虎2 | C9: 129 | D9: 12351
A10: 黄河滩环建房 | B10: 刘飞虎3 | C10: 130 | D10: 12352

Sheet 商品出库
A1: =首页!E5 -> 43739 | O1: 返回首页<< | Q1: 全部商品列表
A2: 发货单号 | B2: 日期 | C2: 领料单位 | D2: 商品编码 | E2: 商品类别 | F2: 商品名称 | G2: 规格型号 | H2: 参考单价 | I2: 单价 | J2: 数量 | K2: 合计 | L2: 净重 | M2: 平均净重 /单价 | N2: 备注 | P2: 商品编码 | Q2: 商品类别 | R2: 商品名称 | S2: 规格型号 | T2: 单位
A3: A191028 | B3: 43766 | C3: 蔡居照 | D3: 1 | E3: =IF(D3="","",VLOOKUP(D3,产品资料!A:E,5,0)) -> 生产类 | F3: =IF(D3="","",VLOOKUP(D3,产品资料!A:E,2,0)) -> 鸭 | G3: =IF(D3="","",VLOOKUP(D3,产品资料!A:E,3,0)) -> A | H3: =IF(D3="","",VLOOKUP(D3,库存表!B:P,15,0)) -> 40.95798 | I3: 40.4041 | J3: =15637+14125 -> 29762 | K3: =IF(J3="","",J3*I3) -> 1202506.8 | L3: 6.946 | M3: =K3/(J3*L3) -> 5.8168874 | N3: =ROUND(VLOOKUP(D3,库存表!$B$2:$I$43,COLUMN($I$3),0)&"",2) -> #REF! | P3: {=INDEX(商品入库!C:C,MATCH(0,COUNTIF(P$2:P2,商品入库!$C$2:$C$48),)+1)&""} -> 1 | Q3: =IF(ISERROR(VLOOKUP(P3,商品入库!$C$2:$F$50,COLUMN($E$2),0)&""),"",VLOOKUP(P3,商品入库!$C$2:$F$50,COLUMN($E$2),0)&"") | R3: =IF(ISERROR(VLOOKUP(P3,商品入库!$C$2:$F$50,COLUMN($F$2),0)&""),"",VLOOKUP(P3,商品入库!$C$2:$F$50,COLUMN($F$2),0)&"") | S3: =IF(ISERROR(VLOOKUP(P3,商品入库!$C$2:$F$50,COLUMN($G$2),0)&""),"",VLOOKUP(P3,商品入库!$C$2:$F$50,COLUMN($G$2),0)&"") | T3: =IF(ISERROR(VLOOKUP(P3,商品入库!$C$2:$H$50,COLUMN($C$2),0)&""),"",VLOOKUP(P3,商品入库!$C$2:$H$50,COLUMN($C$2),0)&"")
A4: A191028 | B4: 43766 | D4: 1 | E4: =IF(D4="","",VLOOKUP(D4,产品资料!A:E,5,0)) -> 生产类 | F4: =IF(D4="","",VLOOKUP(D4,产品资料!A:E,2,0)) -> 鸭 | G4: =IF(D4="","",VLOOKUP(D4,产品资料!A:E,3,0)) -> A | H4: =IF(D4="","",VLOOKUP(D4,库存表!B:P,15,0)) -> 40.95798 | I4: 41.4041 | J4: =15637+14125 -> 29762 | K4: =IF(J4="","",J4*I4) -> 1232268.8 | L4: 7.946 | M4: =K4/(J4*L4) -> 5.2106846
A5: A191028 | B5: 43766 | E5: =IF(D5="","",VLOOKUP(D5,产品资料!A:E,5,0)) | F5: =IF(D5="","",VLOOKUP(D5,产品资料!A:E,2,0)) | G5: =IF(D5="","",VLOOKUP(D5,产品资料!A:E,3,0)) | H5: =IF(D5="","",VLOOKUP(D5,库存表!B:P,15,0)) | I5: 42.4041 | J5: =15637+14125 -> 29762 | K5: =IF(J5="","",J5*I5) -> 1262030.8 | L5: 8.946 | M5: =K5/(J5*L5) -> 4.7400067
A6: A191028 | B6: 43766 | E6: =IF(D6="","",VLOOKUP(D6,产品资料!A:E,5,0)) | F6: =IF(D6="","",VLOOKUP(D6,产品资料!A:E,2,0)) | G6: =IF(D6="","",VLOOKUP(D6,产品资料!A:E,3,0)) | H6: =IF(D6="","",VLOOKUP(D6,库存表!B:P,15,0)) | I6: 43.4041 | J6: =15637+14125 -> 29762 | K6: =IF(J6="","",J6*I6) -> 1291792.8 | L6: 9.946 | M6: =K6/(J6*L6) -> 4.3639755
A7: A191028 | B7: 43766 | E7: =IF(D7="","",VLOOKUP(D7,产品资料!A:E,5,0)) | F7: =IF(D7="","",VLOOKUP(D7,产品资料!A:E,2,0)) | G7: =IF(D7="","",VLOOKUP(D7,产品资料!A:E,3,0)) | H7: =IF(D7="","",VLOOKUP(D7,库存表!B:P,15,0)) | I7: 44.4041 | J7: =15637+14125 -> 29762 | K7: =IF(J7="","",J7*I7) -> 1321554.8 | L7: 10.946 | M7: =K7/(J7*L7) -> 4.0566508
E9: =IF(D9="","",VLOOKUP(D9,商品入库!C:F,2,0)) | F9: =IF(D9="","",VLOOKUP(D9,商品入库!C:F,3,0)) | G9: =IF(D9="","",VLOOKUP(D9,商品入库!C:F,4,0)) | H9: =IF(D9="","",VLOOKUP(D9,库存表!B:P,15,0)) | K9: =IF(J9="","",J9*I9) | N9: =ROUND(VLOOKUP(D9,库存表!$B$2:$I$43,COLUMN($I$3),0)&"",2) -> #N/A | P9: {=INDEX(商品入库!C:C,MATCH(0,COUNTIF(P$2:P8,商品入库!$C$2:$C$48),)+1)&""} -> 2 | Q9: =IF(ISERROR(VLOOKUP(P9,商品入库!$C$2:$F$50,COLUMN($E$2),0)&""),"",VLOOKUP(P9,商品入库!$C$2:$F$50,COLUMN($E$2),0)&"") | R9: =IF(ISERROR(VLOOKUP(P9,商品入库!$C$2:$F$50,COLUMN($F$2),0)&""),"",VLOOKUP(P9,商品入库!$C$2:$F$50,COLUMN($F$2),0)&"") | S9: =IF(ISERROR(VLOOKUP(P9,商品入库!$C$2:$F$50,COLUMN($G$2),0)&""),"",VLOOKUP(P9,商品入库!$C$2:$F$50,COLUMN($G$2),0)&"") | T9: =IF(ISERROR(VLOOKUP(P9,商品入库!$C$2:$H$50,COLUMN($C$2),0)&""),"",VLOOKUP(P9,商品入库!$C$2:$H$50,COLUMN($C$2),0)&"")
E10: =IF(D10="","",VLOOKUP(D10,商品入库!C:F,2,0)) | F10: =IF(D10="","",VLOOKUP(D10,商品入库!C:F,3,0)) | G10: =IF(D10="","",VLOOKUP(D10,商品入库!C:F,4,0)) | H10: =IF(D10="","",VLOOKUP(D10,库存表!B:P,15,0)) | K10: =IF(J10="","",J10*I10) | N10: =ROUND(VLOOKUP(D10,库存表!$B$2:$I$43,COLUMN($I$3),0)&"",2) -> #N/A | P10: {=INDEX(商品入库!C:C,MATCH(0,COUNTIF(P$2:P9,商品入库!$C$2:$C$48),)+1)&""} -> 5 | Q10: =IF(ISERROR(VLOOKUP(P10,商品入库!$C$2:$F$50,COLUMN($E$2),0)&""),"",VLOOKUP(P10,商品入库!$C$2:$F$50,COLUMN($E$2),0)&"") | R10: =IF(ISERROR(VLOOKUP(P10,商品入库!$C$2:$F$50,COLUMN($F$2),0)&""),"",VLOOKUP(P10,商品入库!$C$2:$F$50,COLUMN($F$2),0)&"") | S10: =IF(ISERROR(VLOOKUP(P10,商品入库!$C$2:$F$50,COLUMN($G$2),0)&""),"",VLOOKUP(P10,商品入库!$C$2:$F$50,COLUMN($G$2),0)&"") | T10: =IF(ISERROR(VLOOKUP(P10,商品入库!$C$2:$H$50,COLUMN($C$2),0)&""),"",VLOOKUP(P10,商品入库!$C$2:$H$50,COLUMN($C$2),0)&"")
E11: =IF(D11="","",VLOOKUP(D11,商品入库!C:F,2,0)) | F11: =IF(D11="","",VLOOKUP(D11,商品入库!C:F,3,0)) | G11: =IF(D11="","",VLOOKUP(D11,商品入库!C:F,4,0)) | H11: =IF(D11="","",VLOOKUP(D11,库存表!B:P,15,0)) | K11: =IF(J11="","",J11*I11) | N11: =ROUND(VLOOKUP(D11,库存表!$B$2:$I$43,COLUMN($I$3),0)&"",2) -> #N/A | P11: {=INDEX(商品入库!C:C,MATCH(0,COUNTIF(P$2:P10,商品入库!$C$2:$C$48),)+1)&""} | Q11: =IF(ISERROR(VLOOKUP(P11,商品入库!$C$2:$F$50,COLUMN($E$2),0)&""),"",VLOOKUP(P11,商品入库!$C$2:$F$50,COLUMN($E$2),0)&"") | R11: =IF(ISERROR(VLOOKUP(P11,商品入库!$C$2:$F$50,COLUMN($F$2),0)&""),"",VLOOKUP(P11,商品入库!$C$2:$F$50,COLUMN($F$2),0)&"") | S11: =IF(ISERROR(VLOOKUP(P11,商品入库!$C$2:$F$50,COLUMN($G$2),0)&""),"",VLOOKUP(P11,商品入库!$C$2:$F$50,COLUMN($G$2),0)&"") | T11: =IF(ISERROR(VLOOKUP(P11,商品入库!$C$2:$H$50,COLUMN($C$2),0)&""),"",VLOOKUP(P11,商品入库!$C$2:$H$50,COLUMN($C$2),0)&"")
E12: =IF(D12="","",VLOOKUP(D12,商品入库!C:F,2,0)) | F12: =IF(D12="","",VLOOKUP(D12,商品入库!C:F,3,0)) | G12: =IF(D12="","",VLOOKUP(D12,商品入库!C:F,4,0)) | H12: =IF(D12="","",VLOOKUP(D12,库存表!B:P,15,0)) | K12: =IF(J12="","",J12*I12) | N12: =ROUND(VLOOKUP(D12,库存表!$B$2:$I$43,COLUMN($I$3),0)&"",2) -> #N/A | P12: {=INDEX(商品入库!C:C,MATCH(0,COUNTIF(P$2:P11,商品入库!$C$2:$C$48),)+1)&""} | Q12: =IF(ISERROR(VLOOKUP(P12,商品入库!$C$2:$F$50,COLUMN($E$2),0)&""),"",VLOOKUP(P12,商品入库!$C$2:$F$50,COLUMN($E$2),0)&"") | R12: =IF(ISERROR(VLOOKUP(P12,商品入库!$C$2:$F$50,COLUMN($F$2),0)&""),"",VLOOKUP(P12,商品入库!$C$2:$F$50,COLUMN($F$2),0)&"") | S12: =IF(ISERROR(VLOOKUP(P12,商品入库!$C$2:$F$50,COLUMN($G$2),0)&""),"",VLOOKUP(P12,商品入库!$C$2:$F$50,COLUMN($G$2),0)&"") | T12: =IF(ISERROR(VLOOKUP(P12,商品入库!$C$2:$H$50,COLUMN($C$2),0)&""),"",VLOOKUP(P12,商品入库!$C$2:$H$50,COLUMN($C$2),0)&"")
E13: =IF(D13="","",VLOOKUP(D13,商品入库!C:F,2,0)) | F13: =IF(D13="","",VLOOKUP(D13,商品入库!C:F,3,0)) | G13: =IF(D13="","",VLOOKUP(D13,商品入库!C:F,4,0)) | H13: =IF(D13="","",VLOOKUP(D13,库存表!B:P,15,0)) | K13: =IF(J13="","",J13*I13) | N13: =ROUND(VLOOKUP(D13,库存表!$B$2:$I$43,COLUMN($I$3),0)&"",2) -> #N/A | P13: {=INDEX(商品入库!C:C,MATCH(0,COUNTIF(P$2:P12,商品入库!$C$2:$C$48),)+1)&""} | Q13: =IF(ISERROR(VLOOKUP(P13,商品入库!$C$2:$F$50,COLUMN($E$2),0)&""),"",VLOOKUP(P13,商品入库!$C$2:$F$50,COLUMN($E$2),0)&"") | R13: =IF(ISERROR(VLOOKUP(P13,商品入库!$C$2:$F$50,COLUMN($F$2),0)&""),"",VLOOKUP(P13,商品入库!$C$2:$F$50,COLUMN($F$2),0)&"") | S13: =IF(ISERROR(VLOOKUP(P13,商品入库!$C$2:$F$50,COLUMN($G$2),0)&""),"",VLOOKUP(P13,商品入库!$C$2:$F$50,COLUMN($G$2),0)&"") | T13: =IF(ISERROR(VLOOKUP(P13,商品入库!$C$2:$H$50,COLUMN($C$2),0)&""),"",VLOOKUP(P13,商品入库!$C$2:$H$50,COLUMN($C$2),0)&"")
E14: =IF(D14="","",VLOOKUP(D14,商品入库!C:F,2,0)) | F14: =IF(D14="","",VLOOKUP(D14,商品入库!C:F,3,0)) | G14: =IF(D14="","",VLOOKUP(D14,商品入库!C:F,4,0)) | H14: =IF(D14="","",VLOOKUP(D14,库存表!B:P,15,0)) | K14: =IF(J14="","",J14*I14) | N14: =ROUND(VLOOKUP(D14,库存表!$B$2:$I$43,COLUMN($I$3),0)&"",2) -> #N/A | P14: {=INDEX(商品入库!C:C,MATCH(0,COUNTIF(P$2:P13,商品入库!$C$2:$C$48),)+1)&""} | Q14: =IF(ISERROR(VLOOKUP(P14,商品入库!$C$2:$F$50,COLUMN($E$2),0)&""),"",VLOOKUP(P14,商品入库!$C$2:$F$50,COLUMN($E$2),0)&"") | R14: =IF(ISERROR(VLOOKUP(P14,商品入库!$C$2:$F$50,COLUMN($F$2),0)&""),"",VLOOKUP(P14,商品入库!$C$2:$F$50,COLUMN($F$2),0)&"") | S14: =IF(ISERROR(VLOOKUP(P14,商品入库!$C$2:$F$50,COLUMN($G$2),0)&""),"",VLOOKUP(P14,商品入库!$C$2:$F$50,COLUMN($G$2),0)&"") | T14: =IF(ISERROR(VLOOKUP(P14,商品入库!$C$2:$H$50,COLUMN($C$2),0)&""),"",VLOOKUP(P14,商品入库!$C$2:$H$50,COLUMN($C$2),0)&"")
E15: =IF(D15="","",VLOOKUP(D15,商品入库!C:F,2,0)) | F15: =IF(D15="","",VLOOKUP(D15,商品入库!C:F,3,0)) | G15: =IF(D15="","",VLOOKUP(D15,商品入库!C:F,4,0)) | H15: =IF(D15="","",VLOOKUP(D15,库存表!B:P,15,0)) | K15: =IF(J15="","",J15*I15) | N15: =ROUND(VLOOKUP(D15,库存表!$B$2:$I$43,COLUMN($I$3),0)&"",2) -> #N/A | P15: {=INDEX(商品入库!C:C,MATCH(0,COUNTIF(P$2:P14,商品入库!$C$2:$C$48),)+1)&""} | Q15: =IF(ISERROR(VLOOKUP(P15,商品入库!$C$2:$F$50,COLUMN($E$2),0)&""),"",VLOOKUP(P15,商品入库!$C$2:$F$50,COLUMN($E$2),0)&"") | R15: =IF(ISERROR(VLOOKUP(P15,商品入库!$C$2:$F$50,COLUMN($F$2),0)&""),"",VLOOKUP(P15,商品入库!$C$2:$F$50,COLUMN($F$2),0)&"") | S15: =IF(ISERROR(VLOOKUP(P15,商品入库!$C$2:$F$50,COLUMN($G$2),0)&""),"",VLOOKUP(P15,商品入库!$C$2:$F$50,COLUMN($G$2),0)&"") | T15: =IF(ISERROR(VLOOKUP(P15,商品入库!$C$2:$H$50,COLUMN($C$2),0)&""),"",VLOOKUP(P15,商品入库!$C$2:$H$50,COLUMN($C$2),0)&"")
E16: =IF(D16="","",VLOOKUP(D16,商品入库!C:F,2,0)) | F16: =IF(D16="","",VLOOKUP(D16,商品入库!C:F,3,0)) | G16: =IF(D16="","",VLOOKUP(D16,商品入库!C:F,4,0)) | H16: =IF(D16="","",VLOOKUP(D16,库存表!B:P,15,0)) | K16: =IF(J16="","",J16*I16) | N16: =ROUND(VLOOKUP(D16,库存表!$B$2:$I$43,COLUMN($I$3),0)&"",2) -> #N/A | P16: {=INDEX(商品入库!C:C,MATCH(0,COUNTIF(P$2:P15,商品入库!$C$2:$C$48),)+1)&""} | Q16: =IF(ISERROR(VLOOKUP(P16,商品入库!$C$2:$F$50,COLUMN($E$2),0)&""),"",VLOOKUP(P16,商品入库!$C$2:$F$50,COLUMN($E$2),0)&"") | R16: =IF(ISERROR(VLOOKUP(P16,商品入库!$C$2:$F$50,COLUMN($F$2),0)&""),"",VLOOKUP(P16,商品入库!$C$2:$F$50,COLUMN($F$2),0)&"") | S16: =IF(ISERROR(VLOOKUP(P16,商品入库!$C$2:$F$50,COLUMN($G$2),0)&""),"",VLOOKUP(P16,商品入库!$C$2:$F$50,COLUMN($G$2),0)&"") | T16: =IF(ISERROR(VLOOKUP(P16,商品入库!$C$2:$H$50,COLUMN($C$2),0)&""),"",VLOOKUP(P16,商品入库!$C$2:$H$50,COLUMN($C$2),0)&"")
E17: =IF(D17="","",VLOOKUP(D17,商品入库!C:F,2,0)) | F17: =IF(D17="","",VLOOKUP(D17,商品入库!C:F,3,0)) | G17: =IF(D17="","",VLOOKUP(D17,商品入库!C:F,4,0)) | H17: =IF(D17="","",VLOOKUP(D17,库存表!B:P,15,0)) | K17: =IF(J17="","",J17*I17) | N17: =ROUND(VLOOKUP(D17,库存表!$B$2:$I$43,COLUMN($I$3),0)&"",2) -> #N/A | P17: {=INDEX(商品入库!C:C,MATCH(0,COUNTIF(P$2:P16,商品入库!$C$2:$C$48),)+1)&""} | Q17: =IF(ISERROR(VLOOKUP(P17,商品入库!$C$2:$F$50,COLUMN($E$2),0)&""),"",VLOOKUP(P17,商品入库!$C$2:$F$50,COLUMN($E$2),0)&"") | R17: =IF(ISERROR(VLOOKUP(P17,商品入库!$C$2:$F$50,COLUMN($F$2),0)&""),"",VLOOKUP(P17,商品入库!$C$2:$F$50,COLUMN($F$2),0)&"") | S17: =IF(ISERROR(VLOOKUP(P17,商品入库!$C$2:$F$50,COLUMN($G$2),0)&""),"",VLOOKUP(P17,商品入库!$C$2:$F$50,COLUMN($G$2),0)&"") | T17: =IF(ISERROR(VLOOKUP(P17,商品入库!$C$2:$H$50,COLUMN($C$2),0)&""),"",VLOOKUP(P17,商品入库!$C$2:$H$50,COLUMN($C$2),0)&"")
E18: =IF(D18="","",VLOOKUP(D18,商品入库!C:F,2,0)) | F18: =IF(D18="","",VLOOKUP(D18,商品入库!C:F,3,0)) | G18: =IF(D18="","",VLOOKUP(D18,商品入库!C:F,4,0)) | H18: =IF(D18="","",VLOOKUP(D18,库存表!B:P,15,0)) | K18: =IF(J18="","",J18*I18) | N18: =ROUND(VLOOKUP(D18,库存表!$B$2:$I$43,COLUMN($I$3),0)&"",2) -> #N/A | P18: {=INDEX(商品入库!C:C,MATCH(0,COUNTIF(P$2:P17,商品入库!$C$2:$C$48),)+1)&""} | Q18: =IF(ISERROR(VLOOKUP(P18,商品入库!$C$2:$F$50,COLUMN($E$2),0)&""),"",VLOOKUP(P18,商品入库!$C$2:$F$50,COLUMN($E$2),0)&"") | R18: =IF(ISERROR(VLOOKUP(P18,商品入库!$C$2:$F$50,COLUMN($F$2),0)&""),"",VLOOKUP(P18,商品入库!$C$2:$F$50,COLUMN($F$2),0)&"") | S18: =IF(ISERROR(VLOOKUP(P18,商品入库!$C$2:$F$50,COLUMN($G$2),0)&""),"",VLOOKUP(P18,商品入库!$C$2:$F$50,COLUMN($G$2),0)&"") | T18: =IF(ISERROR(VLOOKUP(P18,商品入库!$C$2:$H$50,COLUMN($C$2),0)&""),"",VLOOKUP(P18,商品入库!$C$2:$H$50,COLUMN($C$2),0)&"")
E19: =IF(D19="","",VLOOKUP(D19,商品入库!C:F,2,0)) | F19: =IF(D19="","",VLOOKUP(D19,商品入库!C:F,3,0)) | G19: =IF(D19="","",VLOOKUP(D19,商品入库!C:F,4,0)) | H19: =IF(D19="","",VLOOKUP(D19,库存表!B:P,15,0)) | K19: =IF(J19="","",J19*I19) | N19: =ROUND(VLOOKUP(D19,库存表!$B$2:$I$43,COLUMN($I$3),0)&"",2) -> #N/A | P19: {=INDEX(商品入库!C:C,MATCH(0,COUNTIF(P$2:P18,商品入库!$C$2:$C$48),)+1)&""} | Q19: =IF(ISERROR(VLOOKUP(P19,商品入库!$C$2:$F$50,COLUMN($E$2),0)&""),"",VLOOKUP(P19,商品入库!$C$2:$F$50,COLUMN($E$2),0)&"") | R19: =IF(ISERROR(VLOOKUP(P19,商品入库!$C$2:$F$50,COLUMN($F$2),0)&""),"",VLOOKUP(P19,商品入库!$C$2:$F$50,COLUMN($F$2),0)&"") | S19: =IF(ISERROR(VLOOKUP(P19,商品入库!$C$2:$F$50,COLUMN($G$2),0)&""),"",VLOOKUP(P19,商品入库!$C$2:$F$50,COLUMN($G$2),0)&"") | T19: =IF(ISERROR(VLOOKUP(P19,商品入库!$C$2:$H$50,COLUMN($C$2),0)&""),"",VLOOKUP(P19,商品入库!$C$2:$H$50,COLUMN($C$2),0)&"")
E20: =IF(D20="","",VLOOKUP(D20,商品入库!C:F,2,0)) | F20: =IF(D20="","",VLOOKUP(D20,商品入库!C:F,3,0)) | G20: =IF(D20="","",VLOOKUP(D20,商品入库!C:F,4,0)) | H20: =IF(D20="","",VLOOKUP(D20,库存表!B:P,15,0)) | K20: =IF(J20="","",J20*I20) | N20: =ROUND(VLOOKUP(D20,库存表!$B$2:$I$43,COLUMN($I$3),0)&"",2) -> #N/A | P20: {=INDEX(商品入库!C:C,MATCH(0,COUNTIF(P$2:P19,商品入库!$C$2:$C$48),)+1)&""} | Q20: =IF(ISERROR(VLOOKUP(P20,商品入库!$C$2:$F$50,COLUMN($E$2),0)&""),"",VLOOKUP(P20,商品入库!$C$2:$F$50,COLUMN($E$2),0)&"") | R20: =IF(ISERROR(VLOOKUP(P20,商品入库!$C$2:$F$50,COLUMN($F$2),0)&""),"",VLOOKUP(P20,商品入库!$C$2:$F$50,COLUMN($F$2),0)&"") | S20: =IF(ISERROR(VLOOKUP(P20,商品入库!$C$2:$F$50,COLUMN($G$2),0)&""),"",VLOOKUP(P20,商品入库!$C$2:$F$50,COLUMN($G$2),0)&"") | T20: =IF(ISERROR(VLOOKUP(P20,商品入库!$C$2:$H$50,COLUMN($C$2),0)&""),"",VLOOKUP(P20,商品入库!$C$2:$H$50,COLUMN($C$2),0)&"")
... E27: =IF(D27="","",VLOOKUP(D27,商品入库!C:F,2,0)) | F27: =IF(D27="","",VLOOKUP(D27,商品入库!C:F,3,0)) | G27: =IF(D27="","",VLOOKUP(D27,商品入库!C:F,4,0)) | H27: =IF(D27="","",VLOOKUP(D27,库存表!B:P,15,0)) | K27: =IF(J27="","",J27*I27) | N27: =ROUND(VLOOKUP(D27,库存表!$B$2:$I$43,COLUMN($I$3),0)&"",2) -> #N/A | P27: {=INDEX(商品入库!C:C,MATCH(0,COUNTIF(P$2:P26,商品入库!$C$2:$C$48),)+1)&""} | Q27: =IF(ISERROR(VLOOKUP(P27,商品入库!$C$2:$F$50,COLUMN($E$2),0)&""),"",VLOOKUP(P27,商品入库!$C$2:$F$50,COLUMN($E$2),0)&"") | R27: =IF(ISERROR(VLOOKUP(P27,商品入库!$C$2:$F$50,COLUMN($F$2),0)&""),"",VLOOKUP(P27,商品入库!$C$2:$F$50,COLUMN($F$2),0)&"") | S27: =IF(ISERROR(VLOOKUP(P27,商品入库!$C$2:$F$50,COLUMN($G$2),0)&""),"",VLOOKUP(P27,商品入库!$C$2:$F$50,COLUMN($G$2),0)&"") | T27: =IF(ISERROR(VLOOKUP(P27,商品入库!$C$2:$H$50,COLUMN($C$2),0)&""),"",VLOOKUP(P27,商品入库!$C$2:$H$50,COLUMN($C$2),0)&"")
E28: =IF(D28="","",VLOOKUP(D28,商品入库!C:F,2,0)) | F28: =IF(D28="","",VLOOKUP(D28,商品入库!C:F,3,0)) | G28: =IF(D28="","",VLOOKUP(D28,商品入库!C:F,4,0)) | H28: =IF(D28="","",VLOOKUP(D28,库存表!B:P,15,0)) | K28: =IF(J28="","",J28*I28) | N28: =ROUND(VLOOKUP(D28,库存表!$B$2:$I$43,COLUMN($I$3),0)&"",2) -> #N/A | R28: =IF(ISERROR(VLOOKUP(P28,商品入库!$C$2:$F$50,COLUMN($F$2),0)&""),"",VLOOKUP(P28,商品入库!$C$2:$F$50,COLUMN($F$2),0)&"") | S28: =IF(ISERROR(VLOOKUP(P28,商品入库!$C$2:$F$50,COLUMN($G$2),0)&""),"",VLOOKUP(P28,商品入库!$C$2:$F$50,COLUMN($G$2),0)&"") | T28: =IF(ISERROR(VLOOKUP(P28,商品入库!$C$2:$H$50,COLUMN($C$2),0)&""),"",VLOOKUP(P28,商品入库!$C$2:$H$50,COLUMN($C$2),0)&"")
E29: =IF(ISERROR(VLOOKUP(D29,商品入库!$C$2:$F$50,COLUMN($E$2),0)&""),"",VLOOKUP(D29,商品入库!$C$2:$F$50,COLUMN($E$2),0)&"") | F29: =IF(ISERROR(VLOOKUP(D29,商品入库!$C$2:$F$50,COLUMN($F$2),0)&""),"",VLOOKUP(D29,商品入库!$C$2:$F$50,COLUMN($F$2),0)&"") | G29: =IF(ISERROR(VLOOKUP(D29,商品入库!$C$2:$F$50,COLUMN($G$2),0)&""),"",VLOOKUP(D29,商品入库!$C$2:$F$50,COLUMN($G$2),0)&"") | K29: =IF(J29="","",J29*I29) | N29: =ROUND(VLOOKUP(D29,库存表!$B$2:$I$43,COLUMN($I$3),0)&"",2) -> #N/A | P29: {=INDEX(商品入库!C:C,MATCH(0,COUNTIF(P$2:P28,商品入库!$C$2:$C$48),)+1)&""}
E30: =IF(ISERROR(VLOOKUP(D30,商品入库!$C$2:$F$50,COLUMN($E$2),0)&""),"",VLOOKUP(D30,商品入库!$C$2:$F$50,COLUMN($E$2),0)&"") | F30: =IF(ISERROR(VLOOKUP(D30,商品入库!$C$2:$F$50,COLUMN($F$2),0)&""),"",VLOOKUP(D30,商品入库!$C$2:$F$50,COLUMN($F$2),0)&"") | G30: =IF(ISERROR(VLOOKUP(D30,商品入库!$C$2:$F$50,COLUMN($G$2),0)&""),"",VLOOKUP(D30,商品入库!$C$2:$F$50,COLUMN($G$2),0)&"") | K30: =IF(J30="","",J30*I30) | N30: =ROUND(VLOOKUP(D30,库存表!$B$2:$I$43,COLUMN($I$3),0)&"",2) -> #N/A | P30: {=INDEX(商品入库!C:C,MATCH(0,COUNTIF(P$2:P29,商品入库!$C$2:$C$48),)+1)&""}
E31: =IF(ISERROR(VLOOKUP(D31,商品入库!$C$2:$F$50,COLUMN($E$2),0)&""),"",VLOOKUP(D31,商品入库!$C$2:$F$50,COLUMN($E$2),0)&"") | F31: =IF(ISERROR(VLOOKUP(D31,商品入库!$C$2:$F$50,COLUMN($F$2),0)&""),"",VLOOKUP(D31,商品入库!$C$2:$F$50,COLUMN($F$2),0)&"") | G31: =IF(ISERROR(VLOOKUP(D31,商品入库!$C$2:$F$50,COLUMN($G$2),0)&""),"",VLOOKUP(D31,商品入库!$C$2:$F$50,COLUMN($G$2),0)&"") | K31: =IF(J31="","",J31*I31) | N31: =ROUND(VLOOKUP(D31,库存表!$B$2:$I$43,COLUMN($I$3),0)&"",2) -> #N/A | P31: {=INDEX(商品入库!C:C,MATCH(0,COUNTIF(P$2:P30,商品入库!$C$2:$C$48),)+1)&""}
E32: =IF(ISERROR(VLOOKUP(D32,商品入库!$C$2:$F$50,COLUMN($E$2),0)&""),"",VLOOKUP(D32,商品入库!$C$2:$F$50,COLUMN($E$2),0)&"") | F32: =IF(ISERROR(VLOOKUP(D32,商品入库!$C$2:$F$50,COLUMN($F$2),0)&""),"",VLOOKUP(D32,商品入库!$C$2:$F$50,COLUMN($F$2),0)&"") | G32: =IF(ISERROR(VLOOKUP(D32,商品入库!$C$2:$F$50,COLUMN($G$2),0)&""),"",VLOOKUP(D32,商品入库!$C$2:$F$50,COLUMN($G$2),0)&"") | K32: =IF(J32="","",J32*I32) | N32: =ROUND(VLOOKUP(D32,库存表!$B$2:$I$43,COLUMN($I$3),0)&"",2) -> #N/A | P32: {=INDEX(商品入库!C:C,MATCH(0,COUNTIF(P$2:P31,商品入库!$C$2:$C$48),)+1)&""}
E33: =IF(ISERROR(VLOOKUP(D33,商品入库!$C$2:$F$50,COLUMN($E$2),0)&""),"",VLOOKUP(D33,商品入库!$C$2:$F$50,COLUMN($E$2),0)&"") | F33: =IF(ISERROR(VLOOKUP(D33,商品入库!$C$2:$F$50,COLUMN($F$2),0)&""),"",VLOOKUP(D33,商品入库!$C$2:$F$50,COLUMN($F$2),0)&"") | G33: =IF(ISERROR(VLOOKUP(D33,商品入库!$C$2:$F$50,COLUMN($G$2),0)&""),"",VLOOKUP(D33,商品入库!$C$2:$F$50,COLUMN($G$2),0)&"") | K33: =IF(J33="","",J33*I33) | N33: =ROUND(VLOOKUP(D33,库存表!$B$2:$I$43,COLUMN($I$3),0)&"",2) -> #N/A | P33: {=INDEX(商品入库!C:C,MATCH(0,COUNTIF(P$2:P32,商品入库!$C$2:$C$48),)+1)&""}
E34: =IF(ISERROR(VLOOKUP(D34,商品入库!$C$2:$F$50,COLUMN($E$2),0)&""),"",VLOOKUP(D34,商品入库!$C$2:$F$50,COLUMN($E$2),0)&"") | F34: =IF(ISERROR(VLOOKUP(D34,商品入库!$C$2:$F$50,COLUMN($F$2),0)&""),"",VLOOKUP(D34,商品入库!$C$2:$F$50,COLUMN($F$2),0)&"") | G34: =IF(ISERROR(VLOOKUP(D34,商品入库!$C$2:$F$50,COLUMN($G$2),0)&""),"",VLOOKUP(D34,商品入库!$C$2:$F$50,COLUMN($G$2),0)&"") | K34: =IF(J34="","",J34*I34) | N34: =ROUND(VLOOKUP(D34,库存表!$B$2:$I$43,COLUMN($I$3),0)&"",2) -> #N/A | P34: {=INDEX(商品入库!C:C,MATCH(0,COUNTIF(P$2:P33,商品入库!$C$2:$C$48),)+1)&""}
E35: =IF(ISERROR(VLOOKUP(D35,商品入库!$C$2:$F$50,COLUMN($E$2),0)&""),"",VLOOKUP(D35,商品入库!$C$2:$F$50,COLUMN($E$2),0)&"") | F35: =IF(ISERROR(VLOOKUP(D35,商品入库!$C$2:$F$50,COLUMN($F$2),0)&""),"",VLOOKUP(D35,商品入库!$C$2:$F$50,COLUMN($F$2),0)&"") | G35: =IF(ISERROR(VLOOKUP(D35,商品入库!$C$2:$F$50,COLUMN($G$2),0)&""),"",VLOOKUP(D35,商品入库!$C$2:$F$50,COLUMN($G$2),0)&"") | K35: =IF(J35="","",J35*I35) | N35: =ROUND(VLOOKUP(D35,库存表!$B$2:$I$43,COLUMN($I$3),0)&"",2) -> #N/A | P35: {=INDEX(商品入库!C:C,MATCH(0,COUNTIF(P$2:P34,商品入库!$C$2:$C$48),)+1)&""}
E36: =IF(ISERROR(VLOOKUP(D36,商品入库!$C$2:$F$50,COLUMN($E$2),0)&""),"",VLOOKUP(D36,商品入库!$C$2:$F$50,COLUMN($E$2),0)&"") | F36: =IF(ISERROR(VLOOKUP(D36,商品入库!$C$2:$F$50,COLUMN($F$2),0)&""),"",VLOOKUP(D36,商品入库!$C$2:$F$50,COLUMN($F$2),0)&"") | G36: =IF(ISERROR(VLOOKUP(D36,商品入库!$C$2:$F$50,COLUMN($G$2),0)&""),"",VLOOKUP(D36,商品入库!$C$2:$F$50,COLUMN($G$2),0)&"") | K36: =IF(J36="","",J36*I36) | N36: =ROUND(VLOOKUP(D36,库存表!$B$2:$I$43,COLUMN($I$3),0)&"",2) -> #N/A | P36: {=INDEX(商品入库!C:C,MATCH(0,COUNTIF(P$2:P35,商品入库!$C$2:$C$48),)+1)&""}
E37: =IF(ISERROR(VLOOKUP(D37,商品入库!$C$2:$F$50,COLUMN($E$2),0)&""),"",VLOOKUP(D37,商品入库!$C$2:$F$50,COLUMN($E$2),0)&"") | F37: =IF(ISERROR(VLOOKUP(D37,商品入库!$C$2:$F$50,COLUMN($F$2),0)&""),"",VLOOKUP(D37,商品入库!$C$2:$F$50,COLUMN($F$2),0)&"") | G37: =IF(ISERROR(VLOOKUP(D37,商品入库!$C$2:$F$50,COLUMN($G$2),0)&""),"",VLOOKUP(D37,商品入库!$C$2:$F$50,COLUMN($G$2),0)&"") | K37: =IF(J37="","",J37*I37) | P37: {=INDEX(商品入库!C:C,MATCH(0,COUNTIF(P$2:P36,商品入库!$C$2:$C$48),)+1)&""}
E38: =IF(ISERROR(VLOOKUP(D38,商品入库!$C$2:$F$50,COLUMN($E$2),0)&""),"",VLOOKUP(D38,商品入库!$C$2:$F$50,COLUMN($E$2),0)&"") | F38: =IF(ISERROR(VLOOKUP(D38,商品入库!$C$2:$F$50,COLUMN($F$2),0)&""),"",VLOOKUP(D38,商品入库!$C$2:$F$50,COLUMN($F$2),0)&"") | G38: =IF(ISERROR(VLOOKUP(D38,商品入库!$C$2:$F$50,COLUMN($G$2),0)&""),"",VLOOKUP(D38,商品入库!$C$2:$F$50,COLUMN($G$2),0)&"") | K38: =IF(J38="","",J38*I38) | P38: {=INDEX(商品入库!C:C,MATCH(0,COUNTIF(P$2:P37,商品入库!$C$2:$C$48),)+1)&""}
E39: =IF(ISERROR(VLOOKUP(D39,商品入库!$C$2:$F$50,COLUMN($E$2),0)&""),"",VLOOKUP(D39,商品入库!$C$2:$F$50,COLUMN($E$2),0)&"") | F39: =IF(ISERROR(VLOOKUP(D39,商品入库!$C$2:$F$50,COLUMN($F$2),0)&""),"",VLOOKUP(D39,商品入库!$C$2:$F$50,COLUMN($F$2),0)&"") | G39: =IF(ISERROR(VLOOKUP(D39,商品入库!$C$2:$F$50,COLUMN($G$2),0)&""),"",VLOOKUP(D39,商品入库!$C$2:$F$50,COLUMN($G$2),0)&"") | K39: =IF(J39="","",J39*I39) | P39: {=INDEX(商品入库!C:C,MATCH(0,COUNTIF(P$2:P38,商品入库!$C$2:$C$48),)+1)&""}
E40: =IF(ISERROR(VLOOKUP(D40,商品入库!$C$2:$F$50,COLUMN($E$2),0)&""),"",VLOOKUP(D40,商品入库!$C$2:$F$50,COLUMN($E$2),0)&"") | F40: =IF(ISERROR(VLOOKUP(D40,商品入库!$C$2:$F$50,COLUMN($F$2),0)&""),"",VLOOKUP(D40,商品入库!$C$2:$F$50,COLUMN($F$2),0)&"") | G40: =IF(ISERROR(VLOOKUP(D40,商品入库!$C$2:$F$50,COLUMN($G$2),0)&""),"",VLOOKUP(D40,商品入库!$C$2:$F$50,COLUMN($G$2),0)&"") | K40: =IF(J40="","",J40*I40) | P40: {=INDEX(商品入库!C:C,MATCH(0,COUNTIF(P$2:P39,商品入库!$C$2:$C$48),)+1)&""}
P41: {=INDEX(商品入库!C:C,MATCH(0,COUNTIF(P$2:P40,商品入库!$C$2:$C$48),)+1)&""}
P42: {=INDEX(商品入库!C:C,MATCH(0,COUNTIF(P$2:P41,商品入库!$C$2:$C$48),)+1)&""}
P43: {=INDEX(商品入库!C:C,MATCH(0,COUNTIF(P$2:P42,商品入库!$C$2:$C$48),)+1)&""}
P44: {=INDEX(商品入库!C:C,MATCH(0,COUNTIF(P$2:P43,商品入库!$C$2:$C$48),)+1)&""}
P45: {=INDEX(商品入库!C:C,MATCH(0,COUNTIF(P$2:P44,商品入库!$C$2:$C$48),)+1)&""}
P46: {=INDEX(商品入库!C:C,MATCH(0,COUNTIF(P$2:P45,商品入库!$C$2:$C$48),)+1)&""}
P47: {=INDEX(商品入库!C:C,MATCH(0,COUNTIF(P$2:P46,商品入库!$C$2:$C$48),)+1)&""}
...

Sheet 领料单打印
B1: 本单不作付出凭证 | C1: . ＸＸＸＸ 有 限 公 司 . | L1: 返回首页<<
B2: 只作出库付件 | D2: 领 料 单 | H2: NO. | I2: A191028 | L2: 本领料单只需改红字单号，中间设了公式，请勿动
J3: 白色:存根联 红色:领料员 黄色:财务联
A4: 领料单位: | B4: =VLOOKUP(I2,商品出库!A:D,3,0) -> 蔡居照 | D4: 日期: | E4: =VLOOKUP(I2,商品出库!A:B,2,0) -> 43766 | H4: 单位:元/件(米)
A5: 编号 | B5: 器 材 名 称 | D5: 单位 | E5: 单价 | F5: 数量 | G5: 金额 | H5: 备注
A6: =IF(COUNTIF(商品出库!$A$3:$A$2800,$I$2)-$K5>0,OFFSET(商品出库!$D$2,MATCH($I$2,商品出库!$A$3:$A$2800,0)+$K5,0)&"",0) -> 1 | B6: =IF(COUNTIF(商品出库!$A$3:$A$2800,$I$2)-$K5>0,OFFSET(商品出库!$E$2,MATCH($I$2,商品出库!$A$3:$A$2800,0)+$K5,0)&"",0)&IF(COUNTIF(商品出库!$A$3:$A$2800,$I$2)-$K5>0,OFFSET(商品出库!$F$2,MATCH($I$2,商品出库!$A$3:$A$2800,0)+$K5,0)&"",0) -> 生产类鸭 | D6: =IF(COUNTIF(商品出库!$A$3:$A$2800,$I$2)-$K5>0,OFFSET(商品出库!$F$2,MATCH($I$2,商品出库!$A$3:$A$2800,0)+$K5,1)&"",0) -> A | E6: =IF(COUNTIF(商品出库!$A$3:$A$2800,$I$2)-$K5>0,OFFSET(商品出库!$H$2,MATCH($I$2,商品出库!$A$3:$A$2800,0)+$K5,1)&"",0) -> 40.4041 | F6: =IF(COUNTIF(商品出库!$A$3:$A$2800,$I$2)-$K5>0,OFFSET(商品出库!$I$2,MATCH($I$2,商品出库!$A$3:$A$2800,0)+$K5,1)&"",0) -> 29762 | G6: =IF(COUNTIF(商品出库!$A$3:$A$2800,$I$2)-$K5>0,OFFSET(商品出库!$J$2,MATCH($I$2,商品出库!$A$3:$A$2800,0)+$K5,1)&"",0) -> 1202506.8242 | K6: 1
A7: =IF(COUNTIF(商品出库!$A$3:$A$2800,$I$2)-$K6>0,OFFSET(商品出库!$D$2,MATCH($I$2,商品出库!$A$3:$A$2800,0)+$K6,0)&"",0) -> 1 | B7: =IF(COUNTIF(商品出库!$A$3:$A$2800,$I$2)-$K6>0,OFFSET(商品出库!$E$2,MATCH($I$2,商品出库!$A$3:$A$2800,0)+$K6,0)&"",0)&IF(COUNTIF(商品出库!$A$3:$A$2800,$I$2)-$K6>0,OFFSET(商品出库!$F$2,MATCH($I$2,商品出库!$A$3:$A$2800,0)+$K6,0)&"",0) -> 生产类鸭 | D7: =IF(COUNTIF(商品出库!$A$3:$A$2800,$I$2)-$K6>0,OFFSET(商品出库!$F$2,MATCH($I$2,商品出库!$A$3:$A$2800,0)+$K6,1)&"",0) -> A | E7: =IF(COUNTIF(商品出库!$A$3:$A$2800,$I$2)-$K6>0,OFFSET(商品出库!$H$2,MATCH($I$2,商品出库!$A$3:$A$2800,0)+$K6,1)&"",0) -> 41.4041 | F7: =IF(COUNTIF(商品出库!$A$3:$A$2800,$I$2)-$K6>0,OFFSET(商品出库!$I$2,MATCH($I$2,商品出库!$A$3:$A$2800,0)+$K6,1)&"",0) -> 29762 | G7: =IF(COUNTIF(商品出库!$A$3:$A$2800,$I$2)-$K6>0,OFFSET(商品出库!$J$2,MATCH($I$2,商品出库!$A$3:$A$2800,0)+$K6,1)&"",0) -> 1232268.8242 | K7: 2
A8: =IF(COUNTIF(商品出库!$A$3:$A$2800,$I$2)-$K7>0,OFFSET(商品出库!$D$2,MATCH($I$2,商品出库!$A$3:$A$2800,0)+$K7,0)&"",0) | B8: =IF(COUNTIF(商品出库!$A$3:$A$2800,$I$2)-$K7>0,OFFSET(商品出库!$E$2,MATCH($I$2,商品出库!$A$3:$A$2800,0)+$K7,0)&"",0)&IF(COUNTIF(商品出库!$A$3:$A$2800,$I$2)-$K7>0,OFFSET(商品出库!$F$2,MATCH($I$2,商品出库!$A$3:$A$2800,0)+$K7,0)&"",0) | D8: =IF(COUNTIF(商品出库!$A$3:$A$2800,$I$2)-$K7>0,OFFSET(商品出库!$F$2,MATCH($I$2,商品出库!$A$3:$A$2800,0)+$K7,1)&"",0) | E8: =IF(COUNTIF(商品出库!$A$3:$A$2800,$I$2)-$K7>0,OFFSET(商品出库!$H$2,MATCH($I$2,商品出库!$A$3:$A$2800,0)+$K7,1)&"",0) -> 42.4041 | F8: =IF(COUNTIF(商品出库!$A$3:$A$2800,$I$2)-$K7>0,OFFSET(商品出库!$I$2,MATCH($I$2,商品出库!$A$3:$A$2800,0)+$K7,1)&"",0) -> 29762 | G8: =IF(COUNTIF(商品出库!$A$3:$A$2800,$I$2)-$K7>0,OFFSET(商品出库!$J$2,MATCH($I$2,商品出库!$A$3:$A$2800,0)+$K7,1)&"",0) -> 1262030.8242 | K8: 3
A9: =IF(COUNTIF(商品出库!$A$3:$A$2800,$I$2)-$K8>0,OFFSET(商品出库!$D$2,MATCH($I$2,商品出库!$A$3:$A$2800,0)+$K8,0)&"",0) | B9: =IF(COUNTIF(商品出库!$A$3:$A$2800,$I$2)-$K8>0,OFFSET(商品出库!$E$2,MATCH($I$2,商品出库!$A$3:$A$2800,0)+$K8,0)&"",0)&IF(COUNTIF(商品出库!$A$3:$A$2800,$I$2)-$K8>0,OFFSET(商品出库!$F$2,MATCH($I$2,商品出库!$A$3:$A$2800,0)+$K8,0)&"",0) | D9: =IF(COUNTIF(商品出库!$A$3:$A$2800,$I$2)-$K8>0,OFFSET(商品出库!$F$2,MATCH($I$2,商品出库!$A$3:$A$2800,0)+$K8,1)&"",0) | E9: =IF(COUNTIF(商品出库!$A$3:$A$2800,$I$2)-$K8>0,OFFSET(商品出库!$H$2,MATCH($I$2,商品出库!$A$3:$A$2800,0)+$K8,1)&"",0) -> 43.4041 | F9: =IF(COUNTIF(商品出库!$A$3:$A$2800,$I$2)-$K8>0,OFFSET(商品出库!$I$2,MATCH($I$2,商品出库!$A$3:$A$2800,0)+$K8,1)&"",0) -> 29762 | G9: =IF(COUNTIF(商品出库!$A$3:$A$2800,$I$2)-$K8>0,OFFSET(商品出库!$J$2,MATCH($I$2,商品出库!$A$3:$A$2800,0)+$K8,1)&"",0) -> 1291792.8242 | K9: 4
A10: =IF(COUNTIF(商品出库!$A$3:$A$2800,$I$2)-$K9>0,OFFSET(商品出库!$D$2,MATCH($I$2,商品出库!$A$3:$A$2800,0)+$K9,0)&"",0) | B10: =IF(COUNTIF(商品出库!$A$3:$A$2800,$I$2)-$K9>0,OFFSET(商品出库!$E$2,MATCH($I$2,商品出库!$A$3:$A$2800,0)+$K9,0)&"",0)&IF(COUNTIF(商品出库!$A$3:$A$2800,$I$2)-$K9>0,OFFSET(商品出库!$F$2,MATCH($I$2,商品出库!$A$3:$A$2800,0)+$K9,0)&"",0) | D10: =IF(COUNTIF(商品出库!$A$3:$A$2800,$I$2)-$K9>0,OFFSET(商品出库!$F$2,MATCH($I$2,商品出库!$A$3:$A$2800,0)+$K9,1)&"",0) | E10: =IF(COUNTIF(商品出库!$A$3:$A$2800,$I$2)-$K9>0,OFFSET(商品出库!$H$2,MATCH($I$2,商品出库!$A$3:$A$2800,0)+$K9,1)&"",0) -> 44.4041 | F10: =IF(COUNTIF(商品出库!$A$3:$A$2800,$I$2)-$K9>0,OFFSET(商品出库!$I$2,MATCH($I$2,商品出库!$A$3:$A$2800,0)+$K9,1)&"",0) -> 29762 | G10: =IF(COUNTIF(商品出库!$A$3:$A$2800,$I$2)-$K9>0,OFFSET(商品出库!$J$2,MATCH($I$2,商品出库!$A$3:$A$2800,0)+$K9,1)&"",0) -> 1321554.8242 | K10: 5
A11: =IF(COUNTIF(商品出库!$A$3:$A$2800,$I$2)-$K10>0,OFFSET(商品出库!$D$2,MATCH($I$2,商品出库!$A$3:$A$2800,0)+$K10,0)&"",0) -> 0 | B11: =IF(COUNTIF(商品出库!$A$3:$A$2800,$I$2)-$K10>0,OFFSET(商品出库!$E$2,MATCH($I$2,商品出库!$A$3:$A$2800,0)+$K10,0)&"",0)&IF(COUNTIF(商品出库!$A$3:$A$2800,$I$2)-$K10>0,OFFSET(商品出库!$F$2,MATCH($I$2,商品出库!$A$3:$A$2800,0)+$K10,0)&"",0) -> 00 | D11: =IF(COUNTIF(商品出库!$A$3:$A$2800,$I$2)-$K10>0,OFFSET(商品出库!$F$2,MATCH($I$2,商品出库!$A$3:$A$2800,0)+$K10,1)&"",0) -> 0 | E11: =IF(COUNTIF(商品出库!$A$3:$A$2800,$I$2)-$K10>0,OFFSET(商品出库!$H$2,MATCH($I$2,商品出库!$A$3:$A$2800,0)+$K10,1)&"",0) -> 0 | F11: =IF(COUNTIF(商品出库!$A$3:$A$2800,$I$2)-$K10>0,OFFSET(商品出库!$I$2,MATCH($I$2,商品出库!$A$3:$A$2800,0)+$K10,1)&"",0) -> 0 | G11: =IF(COUNTIF(商品出库!$A$3:$A$2800,$I$2)-$K10>0,OFFSET(商品出库!$J$2,MATCH($I$2,商品出库!$A$3:$A$2800,0)+$K10,1)&"",0) -> 0 | K11: 6
B12: 合 计 | G12: =SUMIF(商品出库!A:A,领料单打印!I2,商品出库!K:K) -> 6310154.1
A14: 复核 | C14: 领用人 | F14: 财会 | H14: 制表

Sheet 库存表
A1: =首页!E5 -> 43739 | S1: 返回首页<<
A2: 商品类别 | B2: 编 码 | C2: 商品名称 | D2: 型号 | E2: 单位 | F2: 期初库存 | I2: 本月入库 | L2: 本月出库 | O2: 期未库存 | R2: 备注
F3: 数量 | G3: 单价 | H3: 金额 | I3: 数量 | J3: 单价 | K3: 金额 | L3: 数量 | M3: 单价 | N3: 金额 | O3: 数量 | P3: 单价 | Q3: 金额
A4: =IF(B4="","",VLOOKUP(B4,产品资料!A:E,5,0)) -> 生产类 | B4: 1 | C4: =IF(B4="","",VLOOKUP(B4,产品资料!A:E,2,0)) -> 鸭 | D4: =IF(B4="","",VLOOKUP(B4,产品资料!A:E,3,0)) -> A | E4: =IF(B4="","",VLOOKUP(B4,产品资料!A:E,4,0)) -> 只 | F4: 3290 | G4: 40 | H4: =F4*G4 -> 131600 | I4: =IF(B4="","",SUMIF(商品入库!$C$3:$C$29,B4,商品入库!$G$3:$G$31)) -> 100 | J4: =IF(I4="","",IF(I4=0,"",K4/I4)) -> 40.4041 | K4: =IF(I4="","",SUMIF(商品入库!$C$3:$C$29,B4,商品入库!$I$3:$I$31)) -> 4040.41 | L4: =IF(B4="","",SUMIF(商品出库!D:D,B4,商品出库!J:J)) -> 59524 | M4: =IF(L4="","",IF(L4=0,"",N4/L4)) -> 40.9041 | N4: =IF(L4="","",SUMIF(商品出库!$D$3:$D$31,B4,商品出库!$K$3:$K$31)) -> 2434775.6 | O4: =F4+I4-L4 -> -56134 | P4: =IF(O4="","",Q4/O4) -> 40.95798 | Q4: =H4+K4-N4 -> -2299135.2 | R4: 库存数少517支20163元
A5: =IF(B5="","",VLOOKUP(B5,产品资料!A:E,5,0)) -> 生产类 | B5: 2 | C5: =IF(B5="","",VLOOKUP(B5,产品资料!A:E,2,0)) -> 鹅 | D5: =IF(B5="","",VLOOKUP(B5,产品资料!A:E,3,0)) -> A | E5: =IF(B5="","",VLOOKUP(B5,产品资料!A:E,4,0)) -> 只 | F5: 31 | G5: 40 | H5: =F5*G5 -> 1240 | I5: =IF(B5="","",SUMIF(商品入库!$C$3:$C$29,B5,商品入库!$G$3:$G$31)) -> 200 | J5: =IF(I5="","",IF(I5=0,"",K5/I5)) -> 40.4041 | K5: =IF(I5="","",SUMIF(商品入库!$C$3:$C$29,B5,商品入库!$I$3:$I$31)) -> 8080.82 | L5: =IF(B5="","",SUMIF(商品出库!D:D,B5,商品出库!J:J)) -> 0 | M5: =IF(L5="","",IF(L5=0,"",N5/L5)) | N5: =IF(L5="","",SUMIF(商品出库!$D$3:$D$31,B5,商品出库!$K$3:$K$31)) -> 0 | O5: =F5+I5-L5 -> 231 | P5: =IF(O5="","",Q5/O5) -> 40.34987 | Q5: =H5+K5-N5 -> 9320.82
A6: =IF(B6="","",VLOOKUP(B6,产品资料!A:E,5,0)) -> 0 | B6: 3 | C6: =IF(B6="","",VLOOKUP(B6,产品资料!A:E,2,0)) -> 0 | D6: =IF(B6="","",VLOOKUP(B6,产品资料!A:E,3,0)) -> 0 | E6: =IF(B6="","",VLOOKUP(B6,产品资料!A:E,4,0)) -> 0 | F6: 32 | G6: 40 | H6: =F6*G6 -> 1280 | I6: =IF(B6="","",SUMIF(商品入库!$C$3:$C$29,B6,商品入库!$G$3:$G$31)) -> 0 | J6: =IF(I6="","",IF(I6=0,"",K6/I6)) | K6: =IF(I6="","",SUMIF(商品入库!$C$3:$C$29,B6,商品入库!$I$3:$I$31)) -> 0 | L6: =IF(B6="","",SUMIF(商品出库!D:D,B6,商品出库!J:J)) -> 0 | M6: =IF(L6="","",IF(L6=0,"",N6/L6)) | N6: =IF(L6="","",SUMIF(商品出库!$D$3:$D$31,B6,商品出库!$K$3:$K$31)) -> 0 | O6: =F6+I6-L6 -> 32 | P6: =IF(O6="","",Q6/O6) -> 40 | Q6: =H6+K6-N6 -> 1280
A7: =IF(B7="","",VLOOKUP(B7,产品资料!A:E,5,0)) -> 0 | B7: 4 | C7: =IF(B7="","",VLOOKUP(B7,产品资料!A:E,2,0)) -> 0 | D7: =IF(B7="","",VLOOKUP(B7,产品资料!A:E,3,0)) -> 0 | E7: =IF(B7="","",VLOOKUP(B7,产品资料!A:E,4,0)) -> 0 | F7: 33 | G7: 40 | H7: =F7*G7 -> 1320 | I7: =IF(B7="","",SUMIF(商品入库!$C$3:$C$29,B7,商品入库!$G$3:$G$31)) -> 0 | J7: =IF(I7="","",IF(I7=0,"",K7/I7)) | K7: =IF(I7="","",SUMIF(商品入库!$C$3:$C$29,B7,商品入库!$I$3:$I$31)) -> 0 | L7: =IF(B7="","",SUMIF(商品出库!D:D,B7,商品出库!J:J)) -> 0 | M7: =IF(L7="","",IF(L7=0,"",N7/L7)) | N7: =IF(L7="","",SUMIF(商品出库!$D$3:$D$31,B7,商品出库!$K$3:$K$31)) -> 0 | O7: =F7+I7-L7 -> 33 | P7: =IF(O7="","",Q7/O7) -> 40 | Q7: =H7+K7-N7 -> 1320
A8: =IF(B8="","",VLOOKUP(B8,产品资料!A:E,5,0)) -> 0 | B8: 5 | C8: =IF(B8="","",VLOOKUP(B8,产品资料!A:E,2,0)) -> 0 | D8: =IF(B8="","",VLOOKUP(B8,产品资料!A:E,3,0)) -> 0 | E8: =IF(B8="","",VLOOKUP(B8,产品资料!A:E,4,0)) -> 0 | F8: 34 | G8: 40 | H8: =F8*G8 -> 1360 | I8: =IF(B8="","",SUMIF(商品入库!$C$3:$C$29,B8,商品入库!$G$3:$G$31)) -> 300 | J8: =IF(I8="","",IF(I8=0,"",K8/I8)) -> 40.4041 | K8: =IF(I8="","",SUMIF(商品入库!$C$3:$C$29,B8,商品入库!$I$3:$I$31)) -> 12121.23 | L8: =IF(B8="","",SUMIF(商品出库!D:D,B8,商品出库!J:J)) -> 0 | M8: =IF(L8="","",IF(L8=0,"",N8/L8)) | N8: =IF(L8="","",SUMIF(商品出库!$D$3:$D$31,B8,商品出库!$K$3:$K$31)) -> 0 | O8: =F8+I8-L8 -> 334 | P8: =IF(O8="","",Q8/O8) -> 40.362964 | Q8: =H8+K8-N8 -> 13481.23
A9: =IF(B9="","",VLOOKUP(B9,产品资料!A:E,5,0)) -> 0 | B9: 6 | C9: =IF(B9="","",VLOOKUP(B9,产品资料!A:E,2,0)) -> 0 | D9: =IF(B9="","",VLOOKUP(B9,产品资料!A:E,3,0)) -> 0 | E9: =IF(B9="","",VLOOKUP(B9,产品资料!A:E,4,0)) -> 0 | F9: 35 | G9: 41 | H9: =F9*G9 -> 1435 | I9: =IF(B9="","",SUMIF(商品入库!$C$3:$C$29,B9,商品入库!$G$3:$G$31)) -> 0 | J9: =IF(I9="","",IF(I9=0,"",K9/I9)) | K9: =IF(I9="","",SUMIF(商品入库!$C$3:$C$29,B9,商品入库!$I$3:$I$31)) -> 0 | L9: =IF(B9="","",SUMIF(商品出库!D:D,B9,商品出库!J:J)) -> 0 | M9: =IF(L9="","",IF(L9=0,"",N9/L9)) | N9: =IF(L9="","",SUMIF(商品出库!$D$3:$D$31,B9,商品出库!$K$3:$K$31)) -> 0 | O9: =F9+I9-L9 -> 35 | P9: =IF(O9="","",Q9/O9) -> 41 | Q9: =H9+K9-N9 -> 1435
A10: =IF(B10="","",VLOOKUP(B10,产品资料!A:E,5,0)) -> 0 | B10: 7 | C10: =IF(B10="","",VLOOKUP(B10,产品资料!A:E,2,0)) -> 0 | D10: =IF(B10="","",VLOOKUP(B10,产品资料!A:E,3,0)) -> 0 | E10: =IF(B10="","",VLOOKUP(B10,产品资料!A:E,4,0)) -> 0 | F10: 36 | G10: 42 | H10: =F10*G10 -> 1512 | I10: =IF(B10="","",SUMIF(商品入库!$C$3:$C$29,B10,商品入库!$G$3:$G$31)) -> 0 | J10: =IF(I10="","",IF(I10=0,"",K10/I10)) | K10: =IF(I10="","",SUMIF(商品入库!$C$3:$C$29,B10,商品入库!$I$3:$I$31)) -> 0 | L10: =IF(B10="","",SUMIF(商品出库!D:D,B10,商品出库!J:J)) -> 0 | M10: =IF(L10="","",IF(L10=0,"",N10/L10)) | N10: =IF(L10="","",SUMIF(商品出库!$D$3:$D$31,B10,商品出库!$K$3:$K$31)) -> 0 | O10: =F10+I10-L10 -> 36 | P10: =IF(O10="","",Q10/O10) -> 42 | Q10: =H10+K10-N10 -> 1512
A11: =IF(B11="","",VLOOKUP(B11,产品资料!A:E,5,0)) -> 0 | B11: 8 | C11: =IF(B11="","",VLOOKUP(B11,产品资料!A:E,2,0)) -> 0 | D11: =IF(B11="","",VLOOKUP(B11,产品资料!A:E,3,0)) -> 0 | E11: =IF(B11="","",VLOOKUP(B11,产品资料!A:E,4,0)) -> 0 | F11: 37 | G11: 43 | H11: =F11*G11 -> 1591 | I11: =IF(B11="","",SUMIF(商品入库!$C$3:$C$29,B11,商品入库!$G$3:$G$31)) -> 0 | J11: =IF(I11="","",IF(I11=0,"",K11/I11)) | K11: =IF(I11="","",SUMIF(商品入库!$C$3:$C$29,B11,商品入库!$I$3:$I$31)) -> 0 | L11: =IF(B11="","",SUMIF(商品出库!D:D,B11,商品出库!J:J)) -> 0 | M11: =IF(L11="","",IF(L11=0,"",N11/L11)) | N11: =IF(L11="","",SUMIF(商品出库!$D$3:$D$31,B11,商品出库!$K$3:$K$31)) -> 0 | O11: =F11+I11-L11 -> 37 | P11: =IF(O11="","",Q11/O11) -> 43 | Q11: =H11+K11-N11 -> 1591
A12: =IF(B12="","",VLOOKUP(B12,产品资料!A:E,5,0)) -> 0 | B12: 9 | C12: =IF(B12="","",VLOOKUP(B12,产品资料!A:E,2,0)) -> 0 | D12: =IF(B12="","",VLOOKUP(B12,产品资料!A:E,3,0)) -> 0 | E12: =IF(B12="","",VLOOKUP(B12,产品资料!A:E,4,0)) -> 0 | F12: 38 | G12: 44 | H12: =F12*G12 -> 1672 | I12: =IF(B12="","",SUMIF(商品入库!$C$3:$C$29,B12,商品入库!$G$3:$G$31)) -> 0 | J12: =IF(I12="","",IF(I12=0,"",K12/I12)) | K12: =IF(I12="","",SUMIF(商品入库!$C$3:$C$29,B12,商品入库!$I$3:$I$31)) -> 0 | L12: =IF(B12="","",SUMIF(商品出库!D:D,B12,商品出库!J:J)) -> 0 | M12: =IF(L12="","",IF(L12=0,"",N12/L12)) | N12: =IF(L12="","",SUMIF(商品出库!$D$3:$D$31,B12,商品出库!$K$3:$K$31)) -> 0 | O12: =F12+I12-L12 -> 38 | P12: =IF(O12="","",Q12/O12) -> 44 | Q12: =H12+K12-N12 -> 1672
A13: =IF(B13="","",VLOOKUP(B13,产品资料!A:E,5,0)) -> 0 | B13: 10 | C13: =IF(B13="","",VLOOKUP(B13,产品资料!A:E,2,0)) -> 0 | D13: =IF(B13="","",VLOOKUP(B13,产品资料!A:E,3,0)) -> 0 | E13: =IF(B13="","",VLOOKUP(B13,产品资料!A:E,4,0)) -> 0 | I13: =IF(B13="","",SUMIF(商品入库!$C$3:$C$29,B13,商品入库!$G$3:$G$31)) -> 0 | K13: =IF(I13="","",SUMIF(商品入库!$C$3:$C$29,B13,商品入库!$I$3:$I$31)) -> 0 | L13: =IF(B13="","",SUMIF(商品出库!D:D,B13,商品出库!J:J)) -> 0 | M13: =IF(L13="","",IF(L13=0,"",N13/L13)) | N13: =IF(L13="","",SUMIF(商品出库!$D$3:$D$31,B13,商品出库!$K$3:$K$31)) -> 0
A14: =IF(B14="","",VLOOKUP(B14,产品资料!A:E,5,0)) -> 0 | B14: 11 | C14: =IF(B14="","",VLOOKUP(B14,产品资料!A:E,2,0)) -> 0 | D14: =IF(B14="","",VLOOKUP(B14,产品资料!A:E,3,0)) -> 0 | E14: =IF(B14="","",VLOOKUP(B14,产品资料!A:E,4,0)) -> 0 | I14: =IF(B14="","",SUMIF(商品入库!$C$3:$C$29,B14,商品入库!$G$3:$G$31)) -> 0 | K14: =IF(I14="","",SUMIF(商品入库!$C$3:$C$29,B14,商品入库!$I$3:$I$31)) -> 0 | L14: =IF(B14="","",SUMIF(商品出库!D:D,B14,商品出库!J:J)) -> 0 | M14: =IF(L14="","",IF(L14=0,"",N14/L14)) | N14: =IF(L14="","",SUMIF(商品出库!$D$3:$D$31,B14,商品出库!$K$3:$K$31)) -> 0
A15: =IF(B15="","",VLOOKUP(B15,产品资料!A:E,5,0)) -> 0 | B15: 12 | C15: =IF(B15="","",VLOOKUP(B15,产品资料!A:E,2,0)) -> 0 | D15: =IF(B15="","",VLOOKUP(B15,产品资料!A:E,3,0)) -> 0 | E15: =IF(B15="","",VLOOKUP(B15,产品资料!A:E,4,0)) -> 0 | I15: =IF(B15="","",SUMIF(商品入库!$C$3:$C$29,B15,商品入库!$G$3:$G$31)) -> 0 | K15: =IF(I15="","",SUMIF(商品入库!$C$3:$C$29,B15,商品入库!$I$3:$I$31)) -> 0 | L15: =IF(B15="","",SUMIF(商品出库!D:D,B15,商品出库!J:J)) -> 0 | M15: =IF(L15="","",IF(L15=0,"",N15/L15)) | N15: =IF(L15="","",SUMIF(商品出库!$D$3:$D$31,B15,商品出库!$K$3:$K$31)) -> 0
A16: =IF(B16="","",VLOOKUP(B16,产品资料!A:E,5,0)) | C16: =IF(B16="","",VLOOKUP(B16,产品资料!A:E,2,0)) | D16: =IF(B16="","",VLOOKUP(B16,产品资料!A:E,3,0)) | E16: =IF(B16="","",VLOOKUP(B16,产品资料!A:E,4,0)) | I16: =IF(B16="","",SUMIF(商品入库!$C$3:$C$29,B16,商品入库!$G$3:$G$31)) | K16: =IF(I16="","",SUMIF(商品入库!$C$3:$C$29,B16,商品入库!$I$3:$I$31)) | L16: =IF(B16="","",SUMIF(商品出库!D:D,B16,商品出库!J:J)) | M16: =IF(L16="","",IF(L16=0,"",N16/L16)) | N16: =IF(L16="","",SUMIF(商品出库!$D$3:$D$31,B16,商品出库!$K$3:$K$31))
A17: =IF(B17="","",VLOOKUP(B17,产品资料!A:E,5,0)) | C17: =IF(B17="","",VLOOKUP(B17,产品资料!A:E,2,0)) | D17: =IF(B17="","",VLOOKUP(B17,产品资料!A:E,3,0)) | E17: =IF(B17="","",VLOOKUP(B17,产品资料!A:E,4,0)) | I17: =IF(B17="","",SUMIF(商品入库!$C$3:$C$29,B17,商品入库!$G$3:$G$31)) | K17: =IF(I17="","",SUMIF(商品入库!$C$3:$C$29,B17,商品入库!$I$3:$I$31)) | L17: =IF(B17="","",SUMIF(商品出库!D:D,B17,商品出库!J:J)) | M17: =IF(L17="","",IF(L17=0,"",N17/L17)) | N17: =IF(L17="","",SUMIF(商品出库!$D$3:$D$31,B17,商品出库!$K$3:$K$31))
A18: =IF(B18="","",VLOOKUP(B18,产品资料!A:E,5,0)) | C18: =IF(B18="","",VLOOKUP(B18,产品资料!A:E,2,0)) | D18: =IF(B18="","",VLOOKUP(B18,产品资料!A:E,3,0)) | E18: =IF(B18="","",VLOOKUP(B18,产品资料!A:E,4,0)) | I18: =IF(B18="","",SUMIF(商品入库!$C$3:$C$29,B18,商品入库!$G$3:$G$31)) | K18: =IF(I18="","",SUMIF(商品入库!$C$3:$C$29,B18,商品入库!$I$3:$I$31)) | L18: =IF(B18="","",SUMIF(商品出库!D:D,B18,商品出库!J:J)) | M18: =IF(L18="","",IF(L18=0,"",N18/L18)) | N18: =IF(L18="","",SUMIF(商品出库!$D$3:$D$31,B18,商品出库!$K$3:$K$31))
A19: =IF(B19="","",VLOOKUP(B19,产品资料!A:E,5,0)) | C19: =IF(B19="","",VLOOKUP(B19,产品资料!A:E,2,0)) | D19: =IF(B19="","",VLOOKUP(B19,产品资料!A:E,3,0)) | E19: =IF(B19="","",VLOOKUP(B19,产品资料!A:E,4,0)) | I19: =IF(B19="","",SUMIF(商品入库!$C$3:$C$29,B19,商品入库!$G$3:$G$31)) | K19: =IF(I19="","",SUMIF(商品入库!$C$3:$C$29,B19,商品入库!$I$3:$I$31)) | L19: =IF(B19="","",SUMIF(商品出库!D:D,B19,商品出库!J:J)) | M19: =IF(L19="","",IF(L19=0,"",N19/L19)) | N19: =IF(L19="","",SUMIF(商品出库!$D$3:$D$31,B19,商品出库!$K$3:$K$31)) | Q19: =IF(I19="","",I19-L19)
A20: =IF(B20="","",VLOOKUP(B20,产品资料!A:E,5,0)) | C20: =IF(B20="","",VLOOKUP(B20,产品资料!A:E,2,0)) | D20: =IF(B20="","",VLOOKUP(B20,产品资料!A:E,3,0)) | E20: =IF(B20="","",VLOOKUP(B20,产品资料!A:E,4,0)) | I20: =IF(B20="","",SUMIF(商品入库!$C$3:$C$29,B20,商品入库!$G$3:$G$31)) | K20: =IF(I20="","",SUMIF(商品入库!$C$3:$C$29,B20,商品入库!$I$3:$I$31)) | L20: =IF(B20="","",SUMIF(商品出库!D:D,B20,商品出库!J:J)) | M20: =IF(L20="","",IF(L20=0,"",N20/L20)) | N20: =IF(L20="","",SUMIF(商品出库!$D$3:$D$31,B20,商品出库!$K$3:$K$31)) | Q20: =IF(I20="","",I20-L20)
A21: =IF(B21="","",VLOOKUP(B21,产品资料!A:E,5,0)) | C21: =IF(B21="","",VLOOKUP(B21,产品资料!A:E,2,0)) | D21: =IF(B21="","",VLOOKUP(B21,产品资料!A:E,3,0)) | E21: =IF(B21="","",VLOOKUP(B21,产品资料!A:E,4,0)) | I21: =IF(B21="","",SUMIF(商品入库!$C$3:$C$29,B21,商品入库!$G$3:$G$31)) | K21: =IF(I21="","",SUMIF(商品入库!$C$3:$C$29,B21,商品入库!$I$3:$I$31)) | L21: =IF(B21="","",SUMIF(商品出库!D:D,B21,商品出库!J:J)) | M21: =IF(L21="","",IF(L21=0,"",N21/L21)) | N21: =IF(L21="","",SUMIF(商品出库!$D$3:$D$31,B21,商品出库!$K$3:$K$31)) | Q21: =IF(I21="","",I21-L21)
A22: =IF(B22="","",VLOOKUP(B22,产品资料!A:E,5,0)) | C22: =IF(B22="","",VLOOKUP(B22,产品资料!A:E,2,0)) | D22: =IF(B22="","",VLOOKUP(B22,产品资料!A:E,3,0)) | E22: =IF(B22="","",VLOOKUP(B22,产品资料!A:E,4,0)) | I22: =IF(B22="","",SUMIF(商品入库!$C$3:$C$29,B22,商品入库!$G$3:$G$31)) | K22: =IF(I22="","",SUMIF(商品入库!$C$3:$C$29,B22,商品入库!$I$3:$I$31)) | L22: =IF(B22="","",SUMIF(商品出库!D:D,B22,商品出库!J:J)) | M22: =IF(L22="","",IF(L22=0,"",N22/L22)) | N22: =IF(L22="","",SUMIF(商品出库!$D$3:$D$31,B22,商品出库!$K$3:$K$31)) | Q22: =IF(I22="","",I22-L22)
A23: =IF(B23="","",VLOOKUP(B23,产品资料!A:E,5,0)) | C23: =IF(B23="","",VLOOKUP(B23,产品资料!A:E,2,0)) | D23: =IF(B23="","",VLOOKUP(B23,产品资料!A:E,3,0)) | E23: =IF(B23="","",VLOOKUP(B23,产品资料!A:E,4,0)) | I23: =IF(B23="","",SUMIF(商品入库!$C$3:$C$29,B23,商品入库!$G$3:$G$31)) | K23: =IF(I23="","",SUMIF(商品入库!$C$3:$C$29,B23,商品入库!$I$3:$I$31)) | L23: =IF(B23="","",SUMIF(商品出库!D:D,B23,商品出库!J:J)) | M23: =IF(L23="","",IF(L23=0,"",N23/L23)) | N23: =IF(L23="","",SUMIF(商品出库!$D$3:$D$31,B23,商品出库!$K$3:$K$31)) | Q23: =IF(I23="","",I23-L23)
A24: =IF(B24="","",VLOOKUP(B24,产品资料!A:E,5,0)) | C24: =IF(B24="","",VLOOKUP(B24,产品资料!A:E,2,0)) | D24: =IF(B24="","",VLOOKUP(B24,产品资料!A:E,3,0)) | E24: =IF(B24="","",VLOOKUP(B24,产品资料!A:E,4,0)) | I24: =IF(B24="","",SUMIF(商品入库!$C$3:$C$29,B24,商品入库!$G$3:$G$31)) | K24: =IF(I24="","",SUMIF(商品入库!$C$3:$C$29,B24,商品入库!$I$3:$I$31)) | L24: =IF(B24="","",SUMIF(商品出库!D:D,B24,商品出库!J:J)) | M24: =IF(L24="","",IF(L24=0,"",N24/L24)) | N24: =IF(L24="","",SUMIF(商品出库!$D$3:$D$31,B24,商品出库!$K$3:$K$31)) | Q24: =IF(I24="","",I24-L24)
A25: =IF(B25="","",VLOOKUP(B25,产品资料!A:E,5,0)) | C25: =IF(B25="","",VLOOKUP(B25,产品资料!A:E,2,0)) | D25: =IF(B25="","",VLOOKUP(B25,产品资料!A:E,3,0)) | E25: =IF(B25="","",VLOOKUP(B25,产品资料!A:E,4,0)) | I25: =IF(B25="","",SUMIF(商品入库!$C$3:$C$29,B25,商品入库!$G$3:$G$31)) | K25: =IF(I25="","",SUMIF(商品入库!$C$3:$C$29,B25,商品入库!$I$3:$I$31)) | L25: =IF(B25="","",SUMIF(商品出库!D:D,B25,商品出库!J:J)) | M25: =IF(L25="","",IF(L25=0,"",N25/L25)) | N25: =IF(L25="","",SUMIF(商品出库!$D$3:$D$31,B25,商品出库!$K$3:$K$31)) | Q25: =IF(I25="","",I25-L25)
A26: =IF(B26="","",VLOOKUP(B26,产品资料!A:E,5,0)) | C26: =IF(B26="","",VLOOKUP(B26,产品资料!A:E,2,0)) | D26: =IF(B26="","",VLOOKUP(B26,产品资料!A:E,3,0)) | E26: =IF(B26="","",VLOOKUP(B26,产品资料!A:E,4,0)) | I26: =IF(B26="","",SUMIF(商品入库!$C$3:$C$29,B26,商品入库!$G$3:$G$31)) | K26: =IF(I26="","",SUMIF(商品入库!$C$3:$C$29,B26,商品入库!$I$3:$I$31)) | L26: =IF(B26="","",SUMIF(商品出库!D:D,B26,商品出库!J:J)) | M26: =IF(L26="","",IF(L26=0,"",N26/L26)) | N26: =IF(L26="","",SUMIF(商品出库!$D$3:$D$31,B26,商品出库!$K$3:$K$31)) | Q26: =IF(I26="","",I26-L26)

Sheet 月报表
A1: ＸＸＸＸ有限公司仓库器材购进及出库月报表 | O1: 返回首页<<
F3: 月份 | G3: =首页!E5 -> 43739
A4: 类别 | B4: 品名规格 | C4: 上月金额 | E4: 本月入库 | H4: 本月出库 | L4: 本月结存 | M4: 备注 | O4: 本表不用操作，只要打印就行
C5: 数量 | D5: 金额 | E5: 购进(验收) | F5: 其他 | G5: 小计 | H5: 领用 | I5: 其他 | J5: 报损 | K5: 小计
E6: 金额 | F6: 金额 | G6: 金额 | H6: 金额 | I6: 金额 | J6: 金额 | K6: 金额 | L6: 金 额
A7: 1 | B7: 放大器类 | C7: =SUMIF(库存表!A:A,月报表!B7,库存表!F:F) -> 0 | D7: =SUMIF(库存表!A:A,月报表!B7,库存表!H:H) -> 0 | E7: =SUMIF(库存表!A:A,月报表!B7,库存表!I:I) -> 0 | G7: =SUMIF(库存表!A:A,月报表!B7,库存表!K:K) -> 0 | H7: =SUMIF(库存表!A:A,月报表!B7,库存表!L:L) -> 0 | K7: =SUMIF(库存表!A:A,月报表!B7,库存表!N:N) -> 0 | L7: =SUMIF(库存表!A:A,月报表!B7,库存表!Q:Q) -> 0
A8: 2 | B8: 器件类 | C8: =SUMIF(库存表!A:A,月报表!B8,库存表!F:F) -> 0 | D8: =SUMIF(库存表!A:A,月报表!B8,库存表!H:H) -> 0 | E8: =SUMIF(库存表!A:A,月报表!B8,库存表!I:I) -> 0 | G8: =SUMIF(库存表!A:A,月报表!B8,库存表!K:K) -> 0 | H8: =SUMIF(库存表!A:A,月报表!B8,库存表!L:L) -> 0 | K8: =SUMIF(库存表!A:A,月报表!B8,库存表!N:N) -> 0 | L8: =SUMIF(库存表!A:A,月报表!B8,库存表!Q:Q) -> 0
A9: 3 | B9: 分支器类 | C9: =SUMIF(库存表!A:A,月报表!B9,库存表!F:F) -> 0 | D9: =SUMIF(库存表!A:A,月报表!B9,库存表!H:H) -> 0 | E9: =SUMIF(库存表!A:A,月报表!B9,库存表!I:I) -> 0 | G9: =SUMIF(库存表!A:A,月报表!B9,库存表!K:K) -> 0 | H9: =SUMIF(库存表!A:A,月报表!B9,库存表!L:L) -> 0 | K9: =SUMIF(库存表!A:A,月报表!B9,库存表!N:N) -> 0 | L9: =SUMIF(库存表!A:A,月报表!B9,库存表!Q:Q) -> 0
A10: 4 | B10: 线类 | C10: =SUMIF(库存表!A:A,月报表!B10,库存表!F:F) -> 0 | D10: =SUMIF(库存表!A:A,月报表!B10,库存表!H:H) -> 0 | E10: =SUMIF(库存表!A:A,月报表!B10,库存表!I:I) -> 0 | G10: =SUMIF(库存表!A:A,月报表!B10,库存表!K:K) -> 0 | H10: =SUMIF(库存表!A:A,月报表!B10,库存表!L:L) -> 0 | K10: =SUMIF(库存表!A:A,月报表!B10,库存表!N:N) -> 0 | L10: =SUMIF(库存表!A:A,月报表!B10,库存表!Q:Q) -> 0
A11: 5 | B11: 配件类 | C11: =SUMIF(库存表!A:A,月报表!B11,库存表!F:F) -> 0 | D11: =SUMIF(库存表!A:A,月报表!B11,库存表!H:H) -> 0 | E11: =SUMIF(库存表!A:A,月报表!B11,库存表!I:I) -> 0 | G11: =SUMIF(库存表!A:A,月报表!B11,库存表!K:K) -> 0 | H11: =SUMIF(库存表!A:A,月报表!B11,库存表!L:L) -> 0 | K11: =SUMIF(库存表!A:A,月报表!B11,库存表!N:N) -> 0 | L11: =SUMIF(库存表!A:A,月报表!B11,库存表!Q:Q) -> 0
A12: 6 | B12: 工具类 | C12: =SUMIF(库存表!A:A,月报表!B12,库存表!F:F) -> 0 | D12: =SUMIF(库存表!A:A,月报表!B12,库存表!H:H) -> 0 | E12: =SUMIF(库存表!A:A,月报表!B12,库存表!I:I) -> 0 | G12: =SUMIF(库存表!A:A,月报表!B12,库存表!K:K) -> 0 | H12: =SUMIF(库存表!A:A,月报表!B12,库存表!L:L) -> 0 | K12: =SUMIF(库存表!A:A,月报表!B12,库存表!N:N) -> 0 | L12: =SUMIF(库存表!A:A,月报表!B12,库存表!Q:Q) -> 0
A13: 7
A14: 8
A15: 9
A16: 10
A17: 合计 | D17: =SUM(D7:D16) -> 0 | G17: =SUM(G7:G16) -> 0 | K17: =SUM(K7:K16) -> 0 | L17: =SUM(L7:L16) -> 0
B18: 台主管领导 | E18: 施工主管 | H18: 会计 | K18: 保管 | L18: 记账

Sheet 使用说明
A1: 使用说明
