Workbook

Sheet 首页
E1: 出入库仓库管理系统

Sheet 基本设置
A1: 序号 | B1: 产品编码 | C1: 类别 | D1: 产品名称 | E1: 产品规格 | F1: 货架
A2: 1 | B2: BG-258 | C2: 电子产品 | D2: 产品1 | E2: 120*240 | F2: 1#56
A3: 2 | B3: AK-56 | C3: 食品 | D3: 产品2 | E3: 20*21 | F3: 1#48

Sheet 入库明细
A1: 序号 | B1: 日期 | C1: 产品编码 | D1: 类别 | E1: 产品名称 | F1: 产品规格 | G1: 位置 | H1: 数量 | I1: 入库人 | J1: 备注
A2: 1 | B2: 42522 | C2: BG-258 | D2: =IFERROR(VLOOKUP(C2,基本设置!B:E,2,FALSE),"") -> 电子产品 | E2: =IFERROR(VLOOKUP(C2,基本设置!B:E,3,FALSE),"") -> 产品1 | F2: =IFERROR(VLOOKUP(C2,基本设置!B:E,4,FALSE),"") -> 120*240 | G2: =IFERROR(VLOOKUP(C2,基本设置!B:F,5,FALSE),"") -> 1#56 | H2: 10 | I2: 张琳
A3: 2 | B3: 42522 | C3: BG-258 | D3: =IFERROR(VLOOKUP(C3,基本设置!B:E,2,FALSE),"") -> 电子产品 | E3: =IFERROR(VLOOKUP(C3,基本设置!B:E,3,FALSE),"") -> 产品1 | F3: =IFERROR(VLOOKUP(C3,基本设置!B:E,4,FALSE),"") -> 120*240 | G3: =IFERROR(VLOOKUP(C3,基本设置!B:F,5,FALSE),"") -> 1#56 | H3: 13 | I3: 张琳
A4: 3 | B4: 42522 | C4: BG-258 | D4: =IFERROR(VLOOKUP(C4,基本设置!B:E,2,FALSE),"") -> 电子产品 | E4: =IFERROR(VLOOKUP(C4,基本设置!B:E,3,FALSE),"") -> 产品1 | F4: =IFERROR(VLOOKUP(C4,基本设置!B:E,4,FALSE),"") -> 120*240 | G4: =IFERROR(VLOOKUP(C4,基本设置!B:F,5,FALSE),"") -> 1#56 | H4: 28 | I4: 张琳
A5: 4 | B5: 42522 | C5: BG-258 | D5: =IFERROR(VLOOKUP(C5,基本设置!B:E,2,FALSE),"") -> 电子产品 | E5: =IFERROR(VLOOKUP(C5,基本设置!B:E,3,FALSE),"") -> 产品1 | F5: =IFERROR(VLOOKUP(C5,基本设置!B:E,4,FALSE),"") -> 120*240 | G5: =IFERROR(VLOOKUP(C5,基本设置!B:F,5,FALSE),"") -> 1#56 | H5: 45 | I5: 张琳
A6: 5 | B6: 42522 | C6: BG-258 | D6: =IFERROR(VLOOKUP(C6,基本设置!B:E,2,FALSE),"") -> 电子产品 | E6: =IFERROR(VLOOKUP(C6,基本设置!B:E,3,FALSE),"") -> 产品1 | F6: =IFERROR(VLOOKUP(C6,基本设置!B:E,4,FALSE),"") -> 120*240 | G6: =IFERROR(VLOOKUP(C6,基本设置!B:F,5,FALSE),"") -> 1#56 | H6: 78 | I6: 张琳
A7: 6 | B7: 42522 | C7: BG-258 | D7: =IFERROR(VLOOKUP(C7,基本设置!B:E,2,FALSE),"") -> 电子产品 | E7: =IFERROR(VLOOKUP(C7,基本设置!B:E,3,FALSE),"") -> 产品1 | F7: =IFERROR(VLOOKUP(C7,基本设置!B:E,4,FALSE),"") -> 120*240 | G7: =IFERROR(VLOOKUP(C7,基本设置!B:F,5,FALSE),"") -> 1#56 | H7: 94 | I7: 张琳
A8: 7 | B8: 42522 | C8: BG-258 | D8: =IFERROR(VLOOKUP(C8,基本设置!B:E,2,FALSE),"") -> 电子产品 | E8: =IFERROR(VLOOKUP(C8,基本设置!B:E,3,FALSE),"") -> 产品1 | F8: =IFERROR(VLOOKUP(C8,基本设置!B:E,4,FALSE),"") -> 120*240 | G8: =IFERROR(VLOOKUP(C8,基本设置!B:F,5,FALSE),"") -> 1#56 | H8: 50 | I8: 张琳
A9: 8 | B9: 42522 | C9: BG-258 | D9: =IFERROR(VLOOKUP(C9,基本设置!B:E,2,FALSE),"") -> 电子产品 | E9: =IFERROR(VLOOKUP(C9,基本设置!B:E,3,FALSE),"") -> 产品1 | F9: =IFERROR(VLOOKUP(C9,基本设置!B:E,4,FALSE),"") -> 120*240 | G9: =IFERROR(VLOOKUP(C9,基本设置!B:F,5,FALSE),"") -> 1#56 | H9: 198 | I9: 张琳
A10: 9 | B10: 42522 | C10: BG-258 | D10: =IFERROR(VLOOKUP(C10,基本设置!B:E,2,FALSE),"") -> 电子产品 | E10: =IFERROR(VLOOKUP(C10,基本设置!B:E,3,FALSE),"") -> 产品1 | F10: =IFERROR(VLOOKUP(C10,基本设置!B:E,4,FALSE),"") -> 120*240 | G10: =IFERROR(VLOOKUP(C10,基本设置!B:F,5,FALSE),"") -> 1#56 | H10: 47 | I10: 张琳
A11: 10 | B11: 42522 | C11: AK-56 | D11: =IFERROR(VLOOKUP(C11,基本设置!B:E,2,FALSE),"") -> 食品 | E11: =IFERROR(VLOOKUP(C11,基本设置!B:E,3,FALSE),"") -> 产品2 | F11: =IFERROR(VLOOKUP(C11,基本设置!B:E,4,FALSE),"") -> 20*21 | G11: =IFERROR(VLOOKUP(C11,基本设置!B:F,5,FALSE),"") -> 1#48 | H11: 41 | I11: 张琳
A12: 11 | B12: 42523 | C12: AK-56 | D12: =IFERROR(VLOOKUP(C12,基本设置!B:E,2,FALSE),"") -> 食品 | E12: =IFERROR(VLOOKUP(C12,基本设置!B:E,3,FALSE),"") -> 产品2 | F12: =IFERROR(VLOOKUP(C12,基本设置!B:E,4,FALSE),"") -> 20*21 | G12: =IFERROR(VLOOKUP(C12,基本设置!B:F,5,FALSE),"") -> 1#48 | H12: 93 | I12: 张琳
A13: 12 | B13: 42523 | C13: AK-56 | D13: =IFERROR(VLOOKUP(C13,基本设置!B:E,2,FALSE),"") -> 食品 | E13: =IFERROR(VLOOKUP(C13,基本设置!B:E,3,FALSE),"") -> 产品2 | F13: =IFERROR(VLOOKUP(C13,基本设置!B:E,4,FALSE),"") -> 20*21 | G13: =IFERROR(VLOOKUP(C13,基本设置!B:F,5,FALSE),"") -> 1#48 | H13: 235 | I13: 张琳
... A21: 20 | B21: 42523 | C21: AK-56 | D21: =IFERROR(VLOOKUP(C21,基本设置!B:E,2,FALSE),"") -> 食品 | E21: =IFERROR(VLOOKUP(C21,基本设置!B:E,3,FALSE),"") -> 产品2 | F21: =IFERROR(VLOOKUP(C21,基本设置!B:E,4,FALSE),"") -> 20*21 | G21: =IFERROR(VLOOKUP(C21,基本设置!B:F,5,FALSE),"") -> 1#48 | H21: 40 | I21: 张琳
D48: =IFERROR(VLOOKUP(C48,基本设置!B:E,2,FALSE),"") | E48: =IFERROR(VLOOKUP(C48,基本设置!B:E,3,FALSE),"") | F48: =IFERROR(VLOOKUP(C48,基本设置!B:E,4,FALSE),"") | G48: =IFERROR(VLOOKUP(C48,基本设置!B:F,5,FALSE),"")
D49: =IFERROR(VLOOKUP(C49,基本设置!B:E,2,FALSE),"") | E49: =IFERROR(VLOOKUP(C49,基本设置!B:E,3,FALSE),"") | F49: =IFERROR(VLOOKUP(C49,基本设置!B:E,4,FALSE),"") | G49: =IFERROR(VLOOKUP(C49,基本设置!B:F,5,FALSE),"")
D50: =IFERROR(VLOOKUP(C50,基本设置!B:E,2,FALSE),"") | E50: =IFERROR(VLOOKUP(C50,基本设置!B:E,3,FALSE),"") | F50: =IFERROR(VLOOKUP(C50,基本设置!B:E,4,FALSE),"") | G50: =IFERROR(VLOOKUP(C50,基本设置!B:F,5,FALSE),"")
D51: =IFERROR(VLOOKUP(C51,基本设置!B:E,2,FALSE),"") | E51: =IFERROR(VLOOKUP(C51,基本设置!B:E,3,FALSE),"") | F51: =IFERROR(VLOOKUP(C51,基本设置!B:E,4,FALSE),"") | G51: =IFERROR(VLOOKUP(C51,基本设置!B:F,5,FALSE),"")
D52: =IFERROR(VLOOKUP(C52,基本设置!B:E,2,FALSE),"") | E52: =IFERROR(VLOOKUP(C52,基本设置!B:E,3,FALSE),"") | F52: =IFERROR(VLOOKUP(C52,基本设置!B:E,4,FALSE),"") | G52: =IFERROR(VLOOKUP(C52,基本设置!B:F,5,FALSE),"")
D53: =IFERROR(VLOOKUP(C53,基本设置!B:E,2,FALSE),"") | E53: =IFERROR(VLOOKUP(C53,基本设置!B:E,3,FALSE),"") | F53: =IFERROR(VLOOKUP(C53,基本设置!B:E,4,FALSE),"") | G53: =IFERROR(VLOOKUP(C53,基本设置!B:F,5,FALSE),"")
D54: =IFERROR(VLOOKUP(C54,基本设置!B:E,2,FALSE),"") | E54: =IFERROR(VLOOKUP(C54,基本设置!B:E,3,FALSE),"") | F54: =IFERROR(VLOOKUP(C54,基本设置!B:E,4,FALSE),"") | G54: =IFERROR(VLOOKUP(C54,基本设置!B:F,5,FALSE),"")
D55: =IFERROR(VLOOKUP(C55,基本设置!B:E,2,FALSE),"") | E55: =IFERROR(VLOOKUP(C55,基本设置!B:E,3,FALSE),"") | F55: =IFERROR(VLOOKUP(C55,基本设置!B:E,4,FALSE),"") | G55: =IFERROR(VLOOKUP(C55,基本设置!B:F,5,FALSE),"")
D56: =IFERROR(VLOOKUP(C56,基本设置!B:E,2,FALSE),"") | E56: =IFERROR(VLOOKUP(C56,基本设置!B:E,3,FALSE),"") | F56: =IFERROR(VLOOKUP(C56,基本设置!B:E,4,FALSE),"") | G56: =IFERROR(VLOOKUP(C56,基本设置!B:F,5,FALSE),"")
D57: =IFERROR(VLOOKUP(C57,基本设置!B:E,2,FALSE),"") | E57: =IFERROR(VLOOKUP(C57,基本设置!B:E,3,FALSE),"") | F57: =IFERROR(VLOOKUP(C57,基本设置!B:E,4,FALSE),"") | G57: =IFERROR(VLOOKUP(C57,基本设置!B:F,5,FALSE),"")
D58: =IFERROR(VLOOKUP(C58,基本设置!B:E,2,FALSE),"") | E58: =IFERROR(VLOOKUP(C58,基本设置!B:E,3,FALSE),"") | F58: =IFERROR(VLOOKUP(C58,基本设置!B:E,4,FALSE),"") | G58: =IFERROR(VLOOKUP(C58,基本设置!B:F,5,FALSE),"")
D59: =IFERROR(VLOOKUP(C59,基本设置!B:E,2,FALSE),"") | E59: =IFERROR(VLOOKUP(C59,基本设置!B:E,3,FALSE),"") | F59: =IFERROR(VLOOKUP(C59,基本设置!B:E,4,FALSE),"") | G59: =IFERROR(VLOOKUP(C59,基本设置!B:F,5,FALSE),"")
... D714: =IFERROR(VLOOKUP(C714,基本设置!B:E,2,FALSE),"") | E714: =IFERROR(VLOOKUP(C714,基本设置!B:E,3,FALSE),"") | F714: =IFERROR(VLOOKUP(C714,基本设置!B:E,4,FALSE),"") | G714: =IFERROR(VLOOKUP(C714,基本设置!B:F,5,FALSE),"")

Sheet 出库明细
A1: 序号 | B1: 日期 | C1: 产品编码 | D1: 类别 | E1: 产品名称 | F1: 产品规格 | G1: 位置 | H1: 数量 | I1: 出库人 | J1: 备注
A2: 1 | B2: 42522 | C2: BG-258 | D2: =IFERROR(VLOOKUP(C2,基本设置!B:E,2,FALSE),"") -> 电子产品 | E2: =IFERROR(VLOOKUP(C2,基本设置!B:E,3,FALSE),"") -> 产品1 | F2: =IFERROR(VLOOKUP(C2,基本设置!B:E,4,FALSE),"") -> 120*240 | G2: =IFERROR(VLOOKUP(C2,基本设置!B:F,5,FALSE),"") -> 1#56 | H2: 13 | I2: 张琳
A3: 2 | B3: 42522 | C3: BG-258 | D3: =IFERROR(VLOOKUP(C3,基本设置!B:E,2,FALSE),"") -> 电子产品 | E3: =IFERROR(VLOOKUP(C3,基本设置!B:E,3,FALSE),"") -> 产品1 | F3: =IFERROR(VLOOKUP(C3,基本设置!B:E,4,FALSE),"") -> 120*240 | G3: =IFERROR(VLOOKUP(C3,基本设置!B:F,5,FALSE),"") -> 1#56 | H3: 19 | I3: 张琳
A4: 3 | B4: 42522 | C4: BG-258 | D4: =IFERROR(VLOOKUP(C4,基本设置!B:E,2,FALSE),"") -> 电子产品 | E4: =IFERROR(VLOOKUP(C4,基本设置!B:E,3,FALSE),"") -> 产品1 | F4: =IFERROR(VLOOKUP(C4,基本设置!B:E,4,FALSE),"") -> 120*240 | G4: =IFERROR(VLOOKUP(C4,基本设置!B:F,5,FALSE),"") -> 1#56 | H4: 18 | I4: 张琳
A5: 4 | B5: 42522 | C5: BG-258 | D5: =IFERROR(VLOOKUP(C5,基本设置!B:E,2,FALSE),"") -> 电子产品 | E5: =IFERROR(VLOOKUP(C5,基本设置!B:E,3,FALSE),"") -> 产品1 | F5: =IFERROR(VLOOKUP(C5,基本设置!B:E,4,FALSE),"") -> 120*240 | G5: =IFERROR(VLOOKUP(C5,基本设置!B:F,5,FALSE),"") -> 1#56 | H5: 11 | I5: 张琳
A6: 5 | B6: 42522 | C6: AK-56 | D6: =IFERROR(VLOOKUP(C6,基本设置!B:E,2,FALSE),"") -> 食品 | E6: =IFERROR(VLOOKUP(C6,基本设置!B:E,3,FALSE),"") -> 产品2 | F6: =IFERROR(VLOOKUP(C6,基本设置!B:E,4,FALSE),"") -> 20*21 | G6: =IFERROR(VLOOKUP(C6,基本设置!B:F,5,FALSE),"") -> 1#48 | H6: 16 | I6: 张琳
A7: 6 | B7: 42522 | C7: AK-56 | D7: =IFERROR(VLOOKUP(C7,基本设置!B:E,2,FALSE),"") -> 食品 | E7: =IFERROR(VLOOKUP(C7,基本设置!B:E,3,FALSE),"") -> 产品2 | F7: =IFERROR(VLOOKUP(C7,基本设置!B:E,4,FALSE),"") -> 20*21 | G7: =IFERROR(VLOOKUP(C7,基本设置!B:F,5,FALSE),"") -> 1#48 | H7: 15 | I7: 张琳
A8: 7 | B8: 42522 | C8: AK-56 | D8: =IFERROR(VLOOKUP(C8,基本设置!B:E,2,FALSE),"") -> 食品 | E8: =IFERROR(VLOOKUP(C8,基本设置!B:E,3,FALSE),"") -> 产品2 | F8: =IFERROR(VLOOKUP(C8,基本设置!B:E,4,FALSE),"") -> 20*21 | G8: =IFERROR(VLOOKUP(C8,基本设置!B:F,5,FALSE),"") -> 1#48 | H8: 19 | I8: 张琳
A9: 8 | B9: 42523 | C9: AK-56 | D9: =IFERROR(VLOOKUP(C9,基本设置!B:E,2,FALSE),"") -> 食品 | E9: =IFERROR(VLOOKUP(C9,基本设置!B:E,3,FALSE),"") -> 产品2 | F9: =IFERROR(VLOOKUP(C9,基本设置!B:E,4,FALSE),"") -> 20*21 | G9: =IFERROR(VLOOKUP(C9,基本设置!B:F,5,FALSE),"") -> 1#48 | H9: 14 | I9: 张琳
A10: 9 | B10: 42523 | C10: AK-56 | D10: =IFERROR(VLOOKUP(C10,基本设置!B:E,2,FALSE),"") -> 食品 | E10: =IFERROR(VLOOKUP(C10,基本设置!B:E,3,FALSE),"") -> 产品2 | F10: =IFERROR(VLOOKUP(C10,基本设置!B:E,4,FALSE),"") -> 20*21 | G10: =IFERROR(VLOOKUP(C10,基本设置!B:F,5,FALSE),"") -> 1#48 | H10: 19 | I10: 张琳
A11: 10 | B11: 42523 | C11: AK-56 | D11: =IFERROR(VLOOKUP(C11,基本设置!B:E,2,FALSE),"") -> 食品 | E11: =IFERROR(VLOOKUP(C11,基本设置!B:E,3,FALSE),"") -> 产品2 | F11: =IFERROR(VLOOKUP(C11,基本设置!B:E,4,FALSE),"") -> 20*21 | G11: =IFERROR(VLOOKUP(C11,基本设置!B:F,5,FALSE),"") -> 1#48 | H11: 16 | I11: 张琳
A12: 11 | B12: 42523 | C12: AK-56 | D12: =IFERROR(VLOOKUP(C12,基本设置!B:E,2,FALSE),"") -> 食品 | E12: =IFERROR(VLOOKUP(C12,基本设置!B:E,3,FALSE),"") -> 产品2 | F12: =IFERROR(VLOOKUP(C12,基本设置!B:E,4,FALSE),"") -> 20*21 | G12: =IFERROR(VLOOKUP(C12,基本设置!B:F,5,FALSE),"") -> 1#48 | H12: 13 | I12: 张琳
A13: 12 | B13: 42523 | C13: AK-56 | D13: =IFERROR(VLOOKUP(C13,基本设置!B:E,2,FALSE),"") -> 食品 | E13: =IFERROR(VLOOKUP(C13,基本设置!B:E,3,FALSE),"") -> 产品2 | F13: =IFERROR(VLOOKUP(C13,基本设置!B:E,4,FALSE),"") -> 20*21 | G13: =IFERROR(VLOOKUP(C13,基本设置!B:F,5,FALSE),"") -> 1#48 | H13: 11 | I13: 张琳
... A15: 14 | B15: 42523 | C15: AK-56 | D15: =IFERROR(VLOOKUP(C15,基本设置!B:E,2,FALSE),"") -> 食品 | E15: =IFERROR(VLOOKUP(C15,基本设置!B:E,3,FALSE),"") -> 产品2 | F15: =IFERROR(VLOOKUP(C15,基本设置!B:E,4,FALSE),"") -> 20*21 | G15: =IFERROR(VLOOKUP(C15,基本设置!B:F,5,FALSE),"") -> 1#48 | H15: 11 | I15: 张琳
D16: =IFERROR(VLOOKUP(C16,基本设置!B:E,2,FALSE),"") | E16: =IFERROR(VLOOKUP(C16,基本设置!B:E,3,FALSE),"") | F16: =IFERROR(VLOOKUP(C16,基本设置!B:E,4,FALSE),"") | G16: =IFERROR(VLOOKUP(C16,基本设置!B:F,5,FALSE),"")
D17: =IFERROR(VLOOKUP(C17,基本设置!B:E,2,FALSE),"") | E17: =IFERROR(VLOOKUP(C17,基本设置!B:E,3,FALSE),"") | F17: =IFERROR(VLOOKUP(C17,基本设置!B:E,4,FALSE),"") | G17: =IFERROR(VLOOKUP(C17,基本设置!B:F,5,FALSE),"")
D18: =IFERROR(VLOOKUP(C18,基本设置!B:E,2,FALSE),"") | E18: =IFERROR(VLOOKUP(C18,基本设置!B:E,3,FALSE),"") | F18: =IFERROR(VLOOKUP(C18,基本设置!B:E,4,FALSE),"") | G18: =IFERROR(VLOOKUP(C18,基本设置!B:F,5,FALSE),"")
D19: =IFERROR(VLOOKUP(C19,基本设置!B:E,2,FALSE),"") | E19: =IFERROR(VLOOKUP(C19,基本设置!B:E,3,FALSE),"") | F19: =IFERROR(VLOOKUP(C19,基本设置!B:E,4,FALSE),"") | G19: =IFERROR(VLOOKUP(C19,基本设置!B:F,5,FALSE),"")
D20: =IFERROR(VLOOKUP(C20,基本设置!B:E,2,FALSE),"") | E20: =IFERROR(VLOOKUP(C20,基本设置!B:E,3,FALSE),"") | F20: =IFERROR(VLOOKUP(C20,基本设置!B:E,4,FALSE),"") | G20: =IFERROR(VLOOKUP(C20,基本设置!B:F,5,FALSE),"")
D21: =IFERROR(VLOOKUP(C21,基本设置!B:E,2,FALSE),"") | E21: =IFERROR(VLOOKUP(C21,基本设置!B:E,3,FALSE),"") | F21: =IFERROR(VLOOKUP(C21,基本设置!B:E,4,FALSE),"") | G21: =IFERROR(VLOOKUP(C21,基本设置!B:F,5,FALSE),"")
D22: =IFERROR(VLOOKUP(C22,基本设置!B:E,2,FALSE),"") | E22: =IFERROR(VLOOKUP(C22,基本设置!B:E,3,FALSE),"") | F22: =IFERROR(VLOOKUP(C22,基本设置!B:E,4,FALSE),"") | G22: =IFERROR(VLOOKUP(C22,基本设置!B:F,5,FALSE),"")
D23: =IFERROR(VLOOKUP(C23,基本设置!B:E,2,FALSE),"") | E23: =IFERROR(VLOOKUP(C23,基本设置!B:E,3,FALSE),"") | F23: =IFERROR(VLOOKUP(C23,基本设置!B:E,4,FALSE),"") | G23: =IFERROR(VLOOKUP(C23,基本设置!B:F,5,FALSE),"")
D24: =IFERROR(VLOOKUP(C24,基本设置!B:E,2,FALSE),"") | E24: =IFERROR(VLOOKUP(C24,基本设置!B:E,3,FALSE),"") | F24: =IFERROR(VLOOKUP(C24,基本设置!B:E,4,FALSE),"") | G24: =IFERROR(VLOOKUP(C24,基本设置!B:F,5,FALSE),"")
D25: =IFERROR(VLOOKUP(C25,基本设置!B:E,2,FALSE),"") | E25: =IFERROR(VLOOKUP(C25,基本设置!B:E,3,FALSE),"") | F25: =IFERROR(VLOOKUP(C25,基本设置!B:E,4,FALSE),"") | G25: =IFERROR(VLOOKUP(C25,基本设置!B:F,5,FALSE),"")
D26: =IFERROR(VLOOKUP(C26,基本设置!B:E,2,FALSE),"") | E26: =IFERROR(VLOOKUP(C26,基本设置!B:E,3,FALSE),"") | F26: =IFERROR(VLOOKUP(C26,基本设置!B:E,4,FALSE),"") | G26: =IFERROR(VLOOKUP(C26,基本设置!B:F,5,FALSE),"")
D27: =IFERROR(VLOOKUP(C27,基本设置!B:E,2,FALSE),"") | E27: =IFERROR(VLOOKUP(C27,基本设置!B:E,3,FALSE),"") | F27: =IFERROR(VLOOKUP(C27,基本设置!B:E,4,FALSE),"") | G27: =IFERROR(VLOOKUP(C27,基本设置!B:F,5,FALSE),"")
... D30405: =IFERROR(VLOOKUP(C30405,基本设置!B:E,2,FALSE),"") | E30405: =IFERROR(VLOOKUP(C30405,基本设置!B:E,3,FALSE),"") | F30405: =IFERROR(VLOOKUP(C30405,基本设置!B:E,4,FALSE),"") | G30405: =IFERROR(VLOOKUP(C30405,基本设置!B:F,5,FALSE),"")

Sheet 产品库存
A1: 产品编码 | B1: 类别 | C1: 产品名称 | D1: 产品规格 | E1: 位置 | F1: 期初库存 | G1: 入库数量 | H1: 出库数量 | I1: 库存数量 | J1: 备注
A2: =基本设置!B2 -> BG-258 | B2: =IFERROR(VLOOKUP(A2,基本设置!B:E,2,FALSE),"") -> 电子产品 | C2: =IFERROR(VLOOKUP(A2,基本设置!B:E,3,FALSE),"") -> 产品1 | D2: =IFERROR(VLOOKUP(A2,基本设置!B:E,4,FALSE),"") -> 120*240 | E2: =IFERROR(VLOOKUP(A2,基本设置!B:F,5,FALSE),"") -> 1#56 | F2: 80 | G2: =SUMIFS(入库明细!H:H,入库明细!C:C,A2) -> 563 | H2: =SUMIFS(出库明细!H:H,出库明细!C:C,A2) -> 61 | I2: =F2+G2-H2 -> 582
A3: =基本设置!B3 -> AK-56 | B3: =IFERROR(VLOOKUP(A3,基本设置!B:E,2,FALSE),"") -> 食品 | C3: =IFERROR(VLOOKUP(A3,基本设置!B:E,3,FALSE),"") -> 产品2 | D3: =IFERROR(VLOOKUP(A3,基本设置!B:E,4,FALSE),"") -> 20*21 | E3: =IFERROR(VLOOKUP(A3,基本设置!B:F,5,FALSE),"") -> 1#48 | F3: 52 | G3: =SUMIFS(入库明细!H:H,入库明细!C:C,A3) -> 1210 | H3: =SUMIFS(出库明细!H:H,出库明细!C:C,A3) -> 150 | I3: =F3+G3-H3 -> 1112
A4: =基本设置!B4 -> 0 | B4: =IFERROR(VLOOKUP(A4,基本设置!B:E,2,FALSE),"") | C4: =IFERROR(VLOOKUP(A4,基本设置!B:E,3,FALSE),"") | D4: =IFERROR(VLOOKUP(A4,基本设置!B:E,4,FALSE),"") | E4: =IFERROR(VLOOKUP(A4,基本设置!B:F,5,FALSE),"") | G4: =SUMIFS(入库明细!H:H,入库明细!C:C,A4) -> 0 | H4: =SUMIFS(出库明细!H:H,出库明细!C:C,A4) -> 0 | I4: =F4+G4-H4 -> 0
A5: =基本设置!B5 -> 0 | B5: =IFERROR(VLOOKUP(A5,基本设置!B:E,2,FALSE),"") | C5: =IFERROR(VLOOKUP(A5,基本设置!B:E,3,FALSE),"") | D5: =IFERROR(VLOOKUP(A5,基本设置!B:E,4,FALSE),"") | E5: =IFERROR(VLOOKUP(A5,基本设置!B:F,5,FALSE),"") | G5: =SUMIFS(入库明细!H:H,入库明细!C:C,A5) -> 0 | H5: =SUMIFS(出库明细!H:H,出库明细!C:C,A5) -> 0 | I5: =F5+G5-H5 -> 0
A6: =基本设置!B6 -> 0 | B6: =IFERROR(VLOOKUP(A6,基本设置!B:E,2,FALSE),"") | C6: =IFERROR(VLOOKUP(A6,基本设置!B:E,3,FALSE),"") | D6: =IFERROR(VLOOKUP(A6,基本设置!B:E,4,FALSE),"") | E6: =IFERROR(VLOOKUP(A6,基本设置!B:F,5,FALSE),"") | G6: =SUMIFS(入库明细!H:H,入库明细!C:C,A6) -> 0 | H6: =SUMIFS(出库明细!H:H,出库明细!C:C,A6) -> 0 | I6: =F6+G6-H6 -> 0
A7: =基本设置!B7 -> 0 | B7: =IFERROR(VLOOKUP(A7,基本设置!B:E,2,FALSE),"") | C7: =IFERROR(VLOOKUP(A7,基本设置!B:E,3,FALSE),"") | D7: =IFERROR(VLOOKUP(A7,基本设置!B:E,4,FALSE),"") | E7: =IFERROR(VLOOKUP(A7,基本设置!B:F,5,FALSE),"") | G7: =SUMIFS(入库明细!H:H,入库明细!C:C,A7) -> 0 | H7: =SUMIFS(出库明细!H:H,出库明细!C:C,A7) -> 0 | I7: =F7+G7-H7 -> 0
A8: =基本设置!B8 -> 0 | B8: =IFERROR(VLOOKUP(A8,基本设置!B:E,2,FALSE),"") | C8: =IFERROR(VLOOKUP(A8,基本设置!B:E,3,FALSE),"") | D8: =IFERROR(VLOOKUP(A8,基本设置!B:E,4,FALSE),"") | E8: =IFERROR(VLOOKUP(A8,基本设置!B:F,5,FALSE),"") | G8: =SUMIFS(入库明细!H:H,入库明细!C:C,A8) -> 0 | H8: =SUMIFS(出库明细!H:H,出库明细!C:C,A8) -> 0 | I8: =F8+G8-H8 -> 0
A9: =基本设置!B9 -> 0 | B9: =IFERROR(VLOOKUP(A9,基本设置!B:E,2,FALSE),"") | C9: =IFERROR(VLOOKUP(A9,基本设置!B:E,3,FALSE),"") | D9: =IFERROR(VLOOKUP(A9,基本设置!B:E,4,FALSE),"") | E9: =IFERROR(VLOOKUP(A9,基本设置!B:F,5,FALSE),"") | G9: =SUMIFS(入库明细!H:H,入库明细!C:C,A9) -> 0 | H9: =SUMIFS(出库明细!H:H,出库明细!C:C,A9) -> 0 | I9: =F9+G9-H9 -> 0
A10: =基本设置!B10 -> 0 | B10: =IFERROR(VLOOKUP(A10,基本设置!B:E,2,FALSE),"") | C10: =IFERROR(VLOOKUP(A10,基本设置!B:E,3,FALSE),"") | D10: =IFERROR(VLOOKUP(A10,基本设置!B:E,4,FALSE),"") | E10: =IFERROR(VLOOKUP(A10,基本设置!B:F,5,FALSE),"") | G10: =SUMIFS(入库明细!H:H,入库明细!C:C,A10) -> 0 | H10: =SUMIFS(出库明细!H:H,出库明细!C:C,A10) -> 0 | I10: =F10+G10-H10 -> 0
A11: =基本设置!B11 -> 0 | B11: =IFERROR(VLOOKUP(A11,基本设置!B:E,2,FALSE),"") | C11: =IFERROR(VLOOKUP(A11,基本设置!B:E,3,FALSE),"") | D11: =IFERROR(VLOOKUP(A11,基本设置!B:E,4,FALSE),"") | E11: =IFERROR(VLOOKUP(A11,基本设置!B:F,5,FALSE),"") | G11: =SUMIFS(入库明细!H:H,入库明细!C:C,A11) -> 0 | H11: =SUMIFS(出库明细!H:H,出库明细!C:C,A11) -> 0 | I11: =F11+G11-H11 -> 0
A12: =基本设置!B12 -> 0 | B12: =IFERROR(VLOOKUP(A12,基本设置!B:E,2,FALSE),"") | C12: =IFERROR(VLOOKUP(A12,基本设置!B:E,3,FALSE),"") | D12: =IFERROR(VLOOKUP(A12,基本设置!B:E,4,FALSE),"") | E12: =IFERROR(VLOOKUP(A12,基本设置!B:F,5,FALSE),"") | G12: =SUMIFS(入库明细!H:H,入库明细!C:C,A12) -> 0 | H12: =SUMIFS(出库明细!H:H,出库明细!C:C,A12) -> 0 | I12: =F12+G12-H12 -> 0
A13: =基本设置!B13 -> 0 | B13: =IFERROR(VLOOKUP(A13,基本设置!B:E,2,FALSE),"") | C13: =IFERROR(VLOOKUP(A13,基本设置!B:E,3,FALSE),"") | D13: =IFERROR(VLOOKUP(A13,基本设置!B:E,4,FALSE),"") | E13: =IFERROR(VLOOKUP(A13,基本设置!B:F,5,FALSE),"") | G13: =SUMIFS(入库明细!H:H,入库明细!C:C,A13) -> 0 | H13: =SUMIFS(出库明细!H:H,出库明细!C:C,A13) -> 0 | I13: =F13+G13-H13 -> 0
A14: =基本设置!B14 -> 0 | B14: =IFERROR(VLOOKUP(A14,基本设置!B:E,2,FALSE),"") | C14: =IFERROR(VLOOKUP(A14,基本设置!B:E,3,FALSE),"") | D14: =IFERROR(VLOOKUP(A14,基本设置!B:E,4,FALSE),"") | E14: =IFERROR(VLOOKUP(A14,基本设置!B:F,5,FALSE),"") | G14: =SUMIFS(入库明细!H:H,入库明细!C:C,A14) -> 0 | H14: =SUMIFS(出库明细!H:H,出库明细!C:C,A14) -> 0 | I14: =F14+G14-H14 -> 0
A15: =基本设置!B15 -> 0 | B15: =IFERROR(VLOOKUP(A15,基本设置!B:E,2,FALSE),"") | C15: =IFERROR(VLOOKUP(A15,基本设置!B:E,3,FALSE),"") | D15: =IFERROR(VLOOKUP(A15,基本设置!B:E,4,FALSE),"") | E15: =IFERROR(VLOOKUP(A15,基本设置!B:F,5,FALSE),"") | G15: =SUMIFS(入库明细!H:H,入库明细!C:C,A15) -> 0 | H15: =SUMIFS(出库明细!H:H,出库明细!C:C,A15) -> 0 | I15: =F15+G15-H15 -> 0
... A300: =基本设置!B300 -> 0 | B300: =IFERROR(VLOOKUP(A300,基本设置!B:E,2,FALSE),"") | C300: =IFERROR(VLOOKUP(A300,基本设置!B:E,3,FALSE),"") | D300: =IFERROR(VLOOKUP(A300,基本设置!B:E,4,FALSE),"") | E300: =IFERROR(VLOOKUP(A300,基本设置!B:F,5,FALSE),"") | G300: =SUMIFS(入库明细!H:H,入库明细!C:C,A300) -> 0 | H300: =SUMIFS(出库明细!H:H,出库明细!C:C,A300) -> 0 | I300: =F300+G300-H300 -> 0

Sheet 产品查询
A2: 请在B2单元格输入产品编码： （来自基本设置表B列） | B2: BG-258
A4: 产品名称 | B4: 类别 | C4: 产品规格 | D4: 位置
A5: =IF(B2="","",VLOOKUP(B2,产品库存!A:I,2,FALSE)) -> 电子产品 | B5: =IF(B2="","",VLOOKUP(B2,产品库存!A:I,3,FALSE)) -> 产品1 | C5: =IF(B2="","",VLOOKUP(B2,产品库存!A:I,4,FALSE)) -> 120*240 | D5: =IF(B2="","",VLOOKUP(B2,产品库存!A:I,5,FALSE)) -> 1#56
A7: 入库数量 | B7: 出库数量 | C7: 库存数量
A8: =IF(B2="","",VLOOKUP(B2,产品库存!A:I,7,FALSE)) -> 563 | B8: =IF(B2="","",VLOOKUP(B2,产品库存!A:I,8,FALSE)) -> 61 | C8: =IF(B2="","",VLOOKUP(B2,产品库存!A:I,9,FALSE)) -> 582

Sheet 使用帮助
B1: 使用帮助
B2: 第一：请必须在基本设置表中，事先设置好录入各种产品的编码、名称、规格以及对应的货架
B3: 第二：请在入库明细表中录入日期，产品编码，数量，入库人，其他列公式自动生成显示，无需手动录入
B4: 第三：请在出库明细表中录入日期，产品编码，数量，入库人，其他列公式自动生成显示，无需手动录入
B5: 第四：请产品库存表中，列出基本设置表中所有的产品编码，并手动填入期初库存。其他列入库数量、出库数量及库存数量公式自动生成显示，无需手动录入
B6: 第五：如需查询，请在产品查询表中输入产品编码即可，其他公式自动生成显示，无需手动录入
B7: 第六：表中公式为了防止卡顿只设置到300行，如需更多行请直接将公式往下填充即可
