Workbook
Name grwp: gr[物品名称]
Name wpqd: OFFSET(辅助!$A$2,,,COUNT(辅助!$B:$B),1)

Sheet 首页

Sheet 购入明细
A1: 购入明细清单
A2: 进货日期 | B2: 物品名称 | C2: 规格 | D2: 单价 | E2: 数量 | F2: 金额
A3: 43342 | B3: 苹果 | C3: 斤 | D3: 10 | E3: 100 | F3: {=IFERROR(IF(OR(D3="",E3=""),"",D3*E3),"")} -> 1000
A4: 43340 | B4: 葡萄 | C4: 斤 | D4: 15 | E4: 200 | F4: {=IFERROR(IF(OR(D4="",E4=""),"",D4*E4),"")} -> 3000
A5: 43340 | B5: 苹果 | C5: 斤 | D5: 7 | E5: 500 | F5: {=IFERROR(IF(OR(D5="",E5=""),"",D5*E5),"")} -> 3500
F6: {=IFERROR(IF(OR(D6="",E6=""),"",D6*E6),"")}
F7: {=IFERROR(IF(OR(D7="",E7=""),"",D7*E7),"")}
F8: {=IFERROR(IF(OR(D8="",E8=""),"",D8*E8),"")}
F9: {=IFERROR(IF(OR(D9="",E9=""),"",D9*E9),"")}
F10: {=IFERROR(IF(OR(D10="",E10=""),"",D10*E10),"")}
F11: {=IFERROR(IF(OR(D11="",E11=""),"",D11*E11),"")}
F12: {=IFERROR(IF(OR(D12="",E12=""),"",D12*E12),"")}
F13: {=IFERROR(IF(OR(D13="",E13=""),"",D13*E13),"")}
F14: {=IFERROR(IF(OR(D14="",E14=""),"",D14*E14),"")}
F15: {=IFERROR(IF(OR(D15="",E15=""),"",D15*E15),"")}
F16: {=IFERROR(IF(OR(D16="",E16=""),"",D16*E16),"")}
F17: {=IFERROR(IF(OR(D17="",E17=""),"",D17*E17),"")}
... F30: {=IFERROR(IF(OR(D30="",E30=""),"",D30*E30),"")}

Sheet 售出明细
A1: 售出明细清单
A2: 售货日期 | B2: 物品名称 | C2: 规格 | D2: 单价 | E2: 数量 | F2: 金额
A3: 43343 | B3: 苹果 | C3: 斤 | D3: 12 | E3: 5 | F3: =IFERROR(IF(OR(D3="",E3=""),"",D3*E3),"") -> 60
A4: 43343 | B4: 葡萄 | C4: 斤 | D4: 18 | E4: 20 | F4: =IFERROR(IF(OR(D4="",E4=""),"",D4*E4),"") -> 360
F5: =IFERROR(IF(OR(D5="",E5=""),"",D5*E5),"")
F6: =IFERROR(IF(OR(D6="",E6=""),"",D6*E6),"")
F7: =IFERROR(IF(OR(D7="",E7=""),"",D7*E7),"")
F8: =IFERROR(IF(OR(D8="",E8=""),"",D8*E8),"")
F9: =IFERROR(IF(OR(D9="",E9=""),"",D9*E9),"")
F10: =IFERROR(IF(OR(D10="",E10=""),"",D10*E10),"")
F11: =IFERROR(IF(OR(D11="",E11=""),"",D11*E11),"")
F12: =IFERROR(IF(OR(D12="",E12=""),"",D12*E12),"")
F13: =IFERROR(IF(OR(D13="",E13=""),"",D13*E13),"")
F14: =IFERROR(IF(OR(D14="",E14=""),"",D14*E14),"")
F15: =IFERROR(IF(OR(D15="",E15=""),"",D15*E15),"")
F16: =IFERROR(IF(OR(D16="",E16=""),"",D16*E16),"")
... F30: =IFERROR(IF(OR(D30="",E30=""),"",D30*E30),"")

Sheet 库存明细
A1: 库存明细清单
A2: 物品名称 | B2: 规格 | C2: 单价 | D2: 数量 | E2: 金额
A3: {=IFERROR(IF(INDEX(grwp,MATCH(0,COUNTIF($A$2:A2,grwp),0))=0,"",INDEX(grwp,MATCH(0,COUNTIF($A$2:A2,grwp),0))),"")} -> 苹果 | B3: 斤 | C3: 10 | D3: =IFERROR(SUMPRODUCT((购入明细!$B$3:$B$100=A3)*1,购入明细!$E$3:$E$100)-SUMPRODUCT((售出明细!$B$3:$B$100=A3)*1,售出明细!$E$3:$E$100),"") -> 595 | E3: =IFERROR(IF(OR(D3="",C3=""),"",D3*C3),"") -> 5950
A4: {=IFERROR(IF(INDEX(grwp,MATCH(0,COUNTIF($A$2:A3,grwp),0))=0,"",INDEX(grwp,MATCH(0,COUNTIF($A$2:A3,grwp),0))),"")} -> 葡萄 | B4: 斤 | C4: 15 | D4: =IFERROR(SUMPRODUCT((购入明细!$B$3:$B$100=A4)*1,购入明细!$E$3:$E$100)-SUMPRODUCT((售出明细!$B$3:$B$100=A4)*1,售出明细!$E$3:$E$100),"") -> 180 | E4: =IFERROR(IF(OR(D4="",C4=""),"",D4*C4),"") -> 2700
A5: {=IFERROR(IF(INDEX(grwp,MATCH(0,COUNTIF($A$2:A4,grwp),0))=0,"",INDEX(grwp,MATCH(0,COUNTIF($A$2:A4,grwp),0))),"")} | D5: =IFERROR(IF(A5<>"",SUMPRODUCT((购入明细!$B$3:$B$100=A5)*1,购入明细!$E$3:$E$100)-SUMPRODUCT((售出明细!$B$3:$B$100=A5)*1,售出明细!$E$3:$E$100),""),"") | E5: =IFERROR(IF(OR(D5="",C5=""),"",D5*C5),"")
A6: {=IFERROR(IF(INDEX(grwp,MATCH(0,COUNTIF($A$2:A5,grwp),0))=0,"",INDEX(grwp,MATCH(0,COUNTIF($A$2:A5,grwp),0))),"")} | D6: =IFERROR(IF(A6<>"",SUMPRODUCT((购入明细!$B$3:$B$100=A6)*1,购入明细!$E$3:$E$100)-SUMPRODUCT((售出明细!$B$3:$B$100=A6)*1,售出明细!$E$3:$E$100),""),"") | E6: =IFERROR(IF(OR(D6="",C6=""),"",D6*C6),"")
A7: {=IFERROR(IF(INDEX(grwp,MATCH(0,COUNTIF($A$2:A6,grwp),0))=0,"",INDEX(grwp,MATCH(0,COUNTIF($A$2:A6,grwp),0))),"")} | D7: =IFERROR(IF(A7<>"",SUMPRODUCT((购入明细!$B$3:$B$100=A7)*1,购入明细!$E$3:$E$100)-SUMPRODUCT((售出明细!$B$3:$B$100=A7)*1,售出明细!$E$3:$E$100),""),"") | E7: =IFERROR(IF(OR(D7="",C7=""),"",D7*C7),"")
A8: {=IFERROR(IF(INDEX(grwp,MATCH(0,COUNTIF($A$2:A7,grwp),0))=0,"",INDEX(grwp,MATCH(0,COUNTIF($A$2:A7,grwp),0))),"")} | D8: =IFERROR(IF(A8<>"",SUMPRODUCT((购入明细!$B$3:$B$100=A8)*1,购入明细!$E$3:$E$100)-SUMPRODUCT((售出明细!$B$3:$B$100=A8)*1,售出明细!$E$3:$E$100),""),"") | E8: =IFERROR(IF(OR(D8="",C8=""),"",D8*C8),"")
A9: {=IFERROR(IF(INDEX(grwp,MATCH(0,COUNTIF($A$2:A8,grwp),0))=0,"",INDEX(grwp,MATCH(0,COUNTIF($A$2:A8,grwp),0))),"")} | D9: =IFERROR(IF(A9<>"",SUMPRODUCT((购入明细!$B$3:$B$100=A9)*1,购入明细!$E$3:$E$100)-SUMPRODUCT((售出明细!$B$3:$B$100=A9)*1,售出明细!$E$3:$E$100),""),"") | E9: =IFERROR(IF(OR(D9="",C9=""),"",D9*C9),"")
A10: {=IFERROR(IF(INDEX(grwp,MATCH(0,COUNTIF($A$2:A9,grwp),0))=0,"",INDEX(grwp,MATCH(0,COUNTIF($A$2:A9,grwp),0))),"")} | D10: =IFERROR(IF(A10<>"",SUMPRODUCT((购入明细!$B$3:$B$100=A10)*1,购入明细!$E$3:$E$100)-SUMPRODUCT((售出明细!$B$3:$B$100=A10)*1,售出明细!$E$3:$E$100),""),"") | E10: =IFERROR(IF(OR(D10="",C10=""),"",D10*C10),"")
A11: {=IFERROR(IF(INDEX(grwp,MATCH(0,COUNTIF($A$2:A10,grwp),0))=0,"",INDEX(grwp,MATCH(0,COUNTIF($A$2:A10,grwp),0))),"")} | D11: =IFERROR(IF(A11<>"",SUMPRODUCT((购入明细!$B$3:$B$100=A11)*1,购入明细!$E$3:$E$100)-SUMPRODUCT((售出明细!$B$3:$B$100=A11)*1,售出明细!$E$3:$E$100),""),"") | E11: =IFERROR(IF(OR(D11="",C11=""),"",D11*C11),"")
A12: {=IFERROR(IF(INDEX(grwp,MATCH(0,COUNTIF($A$2:A11,grwp),0))=0,"",INDEX(grwp,MATCH(0,COUNTIF($A$2:A11,grwp),0))),"")} | D12: =IFERROR(IF(A12<>"",SUMPRODUCT((购入明细!$B$3:$B$100=A12)*1,购入明细!$E$3:$E$100)-SUMPRODUCT((售出明细!$B$3:$B$100=A12)*1,售出明细!$E$3:$E$100),""),"") | E12: =IFERROR(IF(OR(D12="",C12=""),"",D12*C12),"")
A13: {=IFERROR(IF(INDEX(grwp,MATCH(0,COUNTIF($A$2:A12,grwp),0))=0,"",INDEX(grwp,MATCH(0,COUNTIF($A$2:A12,grwp),0))),"")} | D13: =IFERROR(IF(A13<>"",SUMPRODUCT((购入明细!$B$3:$B$100=A13)*1,购入明细!$E$3:$E$100)-SUMPRODUCT((售出明细!$B$3:$B$100=A13)*1,售出明细!$E$3:$E$100),""),"") | E13: =IFERROR(IF(OR(D13="",C13=""),"",D13*C13),"")
A14: {=IFERROR(IF(INDEX(grwp,MATCH(0,COUNTIF($A$2:A13,grwp),0))=0,"",INDEX(grwp,MATCH(0,COUNTIF($A$2:A13,grwp),0))),"")} | D14: =IFERROR(IF(A14<>"",SUMPRODUCT((购入明细!$B$3:$B$100=A14)*1,购入明细!$E$3:$E$100)-SUMPRODUCT((售出明细!$B$3:$B$100=A14)*1,售出明细!$E$3:$E$100),""),"") | E14: =IFERROR(IF(OR(D14="",C14=""),"",D14*C14),"")
A15: {=IFERROR(IF(INDEX(grwp,MATCH(0,COUNTIF($A$2:A14,grwp),0))=0,"",INDEX(grwp,MATCH(0,COUNTIF($A$2:A14,grwp),0))),"")} | D15: =IFERROR(IF(A15<>"",SUMPRODUCT((购入明细!$B$3:$B$100=A15)*1,购入明细!$E$3:$E$100)-SUMPRODUCT((售出明细!$B$3:$B$100=A15)*1,售出明细!$E$3:$E$100),""),"") | E15: =IFERROR(IF(OR(D15="",C15=""),"",D15*C15),"")
A16: {=IFERROR(IF(INDEX(grwp,MATCH(0,COUNTIF($A$2:A15,grwp),0))=0,"",INDEX(grwp,MATCH(0,COUNTIF($A$2:A15,grwp),0))),"")} | D16: =IFERROR(IF(A16<>"",SUMPRODUCT((购入明细!$B$3:$B$100=A16)*1,购入明细!$E$3:$E$100)-SUMPRODUCT((售出明细!$B$3:$B$100=A16)*1,售出明细!$E$3:$E$100),""),"") | E16: =IFERROR(IF(OR(D16="",C16=""),"",D16*C16),"")
... A30: {=IFERROR(IF(INDEX(grwp,MATCH(0,COUNTIF($A$2:A29,grwp),0))=0,"",INDEX(grwp,MATCH(0,COUNTIF($A$2:A29,grwp),0))),"")} | D30: =IFERROR(IF(A30<>"",SUMPRODUCT((购入明细!$B$3:$B$100=A30)*1,购入明细!$E$3:$E$100)-SUMPRODUCT((售出明细!$B$3:$B$100=A30)*1,售出明细!$E$3:$E$100),""),"") | E30: =IFERROR(IF(OR(D30="",C30=""),"",D30*C30),"")

Sheet 使用说明
A1: 使用说明：
B2: 1、该系统购入明细清单录入购货明细，售出明细清单录入售出货物明细。
B3: 2、库存明细清单已设置公式自动计算目前库存明细。

Sheet 辅助
A1: 购货清单 | B1: rownum
A2: {=IFERROR(IF(INDEX(grwp,MATCH(0,COUNTIF($A$1:A1,grwp),0))=0,"",INDEX(grwp,MATCH(0,COUNTIF($A$1:A1,grwp),0))),"")} -> 苹果 | B2: =IF(A2<>"",ROW(),"") -> 2
A3: {=IFERROR(IF(INDEX(grwp,MATCH(0,COUNTIF($A$1:A2,grwp),0))=0,"",INDEX(grwp,MATCH(0,COUNTIF($A$1:A2,grwp),0))),"")} -> 葡萄 | B3: =IF(A3<>"",ROW(),"") -> 3
A4: {=IFERROR(IF(INDEX(grwp,MATCH(0,COUNTIF($A$1:A3,grwp),0))=0,"",INDEX(grwp,MATCH(0,COUNTIF($A$1:A3,grwp),0))),"")} | B4: =IF(A4<>"",ROW(),"")
A5: {=IFERROR(IF(INDEX(grwp,MATCH(0,COUNTIF($A$1:A4,grwp),0))=0,"",INDEX(grwp,MATCH(0,COUNTIF($A$1:A4,grwp),0))),"")} | B5: =IF(A5<>"",ROW(),"")
A6: {=IFERROR(IF(INDEX(grwp,MATCH(0,COUNTIF($A$1:A5,grwp),0))=0,"",INDEX(grwp,MATCH(0,COUNTIF($A$1:A5,grwp),0))),"")} | B6: =IF(A6<>"",ROW(),"")
A7: {=IFERROR(IF(INDEX(grwp,MATCH(0,COUNTIF($A$1:A6,grwp),0))=0,"",INDEX(grwp,MATCH(0,COUNTIF($A$1:A6,grwp),0))),"")} | B7: =IF(A7<>"",ROW(),"")
A8: {=IFERROR(IF(INDEX(grwp,MATCH(0,COUNTIF($A$1:A7,grwp),0))=0,"",INDEX(grwp,MATCH(0,COUNTIF($A$1:A7,grwp),0))),"")} | B8: =IF(A8<>"",ROW(),"")
A9: {=IFERROR(IF(INDEX(grwp,MATCH(0,COUNTIF($A$1:A8,grwp),0))=0,"",INDEX(grwp,MATCH(0,COUNTIF($A$1:A8,grwp),0))),"")} | B9: =IF(A9<>"",ROW(),"")
A10: {=IFERROR(IF(INDEX(grwp,MATCH(0,COUNTIF($A$1:A9,grwp),0))=0,"",INDEX(grwp,MATCH(0,COUNTIF($A$1:A9,grwp),0))),"")} | B10: =IF(A10<>"",ROW(),"")
A11: {=IFERROR(IF(INDEX(grwp,MATCH(0,COUNTIF($A$1:A10,grwp),0))=0,"",INDEX(grwp,MATCH(0,COUNTIF($A$1:A10,grwp),0))),"")} | B11: =IF(A11<>"",ROW(),"")
A12: {=IFERROR(IF(INDEX(grwp,MATCH(0,COUNTIF($A$1:A11,grwp),0))=0,"",INDEX(grwp,MATCH(0,COUNTIF($A$1:A11,grwp),0))),"")} | B12: =IF(A12<>"",ROW(),"")
A13: {=IFERROR(IF(INDEX(grwp,MATCH(0,COUNTIF($A$1:A12,grwp),0))=0,"",INDEX(grwp,MATCH(0,COUNTIF($A$1:A12,grwp),0))),"")} | B13: =IF(A13<>"",ROW(),"")
... A100: {=IFERROR(IF(INDEX(grwp,MATCH(0,COUNTIF($A$1:A99,grwp),0))=0,"",INDEX(grwp,MATCH(0,COUNTIF($A$1:A99,grwp),0))),"")} | B100: =IF(A100<>"",ROW(),"")
