Workbook

Sheet 目录
B1: 计件工资管理系统 （含合格率、工作量分析）

Sheet 工序记录明细表
C1: 工序记录明细表
C3: 日期 | D3: 员工编号 | E3: 员工姓名 | F3: 班组 | G3: 工序名称 | H3: 单价 | I3: 数量 | J3: 合计金额
A4: =IF(AND(C4<=员工工序明细查询!$I$3,C4>=员工工序明细查询!$F$3,OR(D4=员工工序明细查询!$F$2,员工工序明细查询!$F$2=""),OR(G4=员工工序明细查询!$I$2,员工工序明细查询!$I$2="")),ROW()&"","") -> 4 | C4: 43041 | D4: N001 | E4: =IFERROR(VLOOKUP(D4,员工信息表!B:D,2,0),"") -> 张1 | F4: =IFERROR(VLOOKUP(D4,员工信息表!B:D,3,0),"") -> 甲 | G4: 切割 | H4: =IFERROR(VLOOKUP(G4,工序对照表!B:C,2,0),"") -> 0.8 | I4: 264 | J4: =H4*I4 -> 211.2
A5: =IF(AND(C5<=员工工序明细查询!$I$3,C5>=员工工序明细查询!$F$3,OR(D5=员工工序明细查询!$F$2,员工工序明细查询!$F$2=""),OR(G5=员工工序明细查询!$I$2,员工工序明细查询!$I$2="")),ROW()&"","") | C5: 43041 | D5: N002 | E5: =IFERROR(VLOOKUP(D5,员工信息表!B:D,2,0),"") -> 张2 | F5: =IFERROR(VLOOKUP(D5,员工信息表!B:D,3,0),"") -> 甲 | G5: 抛光 | H5: =IFERROR(VLOOKUP(G5,工序对照表!B:C,2,0),"") -> 1.2 | I5: 483 | J5: =H5*I5 -> 579.6
A6: =IF(AND(C6<=员工工序明细查询!$I$3,C6>=员工工序明细查询!$F$3,OR(D6=员工工序明细查询!$F$2,员工工序明细查询!$F$2=""),OR(G6=员工工序明细查询!$I$2,员工工序明细查询!$I$2="")),ROW()&"","") | C6: 43041 | D6: N003 | E6: =IFERROR(VLOOKUP(D6,员工信息表!B:D,2,0),"") -> 张3 | F6: =IFERROR(VLOOKUP(D6,员工信息表!B:D,3,0),"") -> 乙 | G6: 组合 | H6: =IFERROR(VLOOKUP(G6,工序对照表!B:C,2,0),"") -> 0.9 | I6: 394 | J6: =H6*I6 -> 354.6
A7: =IF(AND(C7<=员工工序明细查询!$I$3,C7>=员工工序明细查询!$F$3,OR(D7=员工工序明细查询!$F$2,员工工序明细查询!$F$2=""),OR(G7=员工工序明细查询!$I$2,员工工序明细查询!$I$2="")),ROW()&"","") | C7: 43041 | D7: N004 | E7: =IFERROR(VLOOKUP(D7,员工信息表!B:D,2,0),"") -> 张4 | F7: =IFERROR(VLOOKUP(D7,员工信息表!B:D,3,0),"") -> 乙 | G7: 测量 | H7: =IFERROR(VLOOKUP(G7,工序对照表!B:C,2,0),"") -> 0.5 | I7: 296 | J7: =H7*I7 -> 148
A8: =IF(AND(C8<=员工工序明细查询!$I$3,C8>=员工工序明细查询!$F$3,OR(D8=员工工序明细查询!$F$2,员工工序明细查询!$F$2=""),OR(G8=员工工序明细查询!$I$2,员工工序明细查询!$I$2="")),ROW()&"","") | C8: 43041 | D8: N005 | E8: =IFERROR(VLOOKUP(D8,员工信息表!B:D,2,0),"") -> 张5 | F8: =IFERROR(VLOOKUP(D8,员工信息表!B:D,3,0),"") -> 丙 | G8: 包装 | H8: =IFERROR(VLOOKUP(G8,工序对照表!B:C,2,0),"") -> 0.6 | I8: 353 | J8: =H8*I8 -> 211.8
A9: =IF(AND(C9<=员工工序明细查询!$I$3,C9>=员工工序明细查询!$F$3,OR(D9=员工工序明细查询!$F$2,员工工序明细查询!$F$2=""),OR(G9=员工工序明细查询!$I$2,员工工序明细查询!$I$2="")),ROW()&"","") | C9: 43041 | D9: N006 | E9: =IFERROR(VLOOKUP(D9,员工信息表!B:D,2,0),"") -> 张6 | F9: =IFERROR(VLOOKUP(D9,员工信息表!B:D,3,0),"") -> 丙 | G9: 切割 | H9: =IFERROR(VLOOKUP(G9,工序对照表!B:C,2,0),"") -> 0.8 | I9: 459 | J9: =H9*I9 -> 367.2
A10: =IF(AND(C10<=员工工序明细查询!$I$3,C10>=员工工序明细查询!$F$3,OR(D10=员工工序明细查询!$F$2,员工工序明细查询!$F$2=""),OR(G10=员工工序明细查询!$I$2,员工工序明细查询!$I$2="")),ROW()&"","") -> 10 | C10: 43042 | D10: N001 | E10: =IFERROR(VLOOKUP(D10,员工信息表!B:D,2,0),"") -> 张1 | F10: =IFERROR(VLOOKUP(D10,员工信息表!B:D,3,0),"") -> 甲 | G10: 抛光 | H10: =IFERROR(VLOOKUP(G10,工序对照表!B:C,2,0),"") -> 1.2 | I10: 283 | J10: =H10*I10 -> 339.6
A11: =IF(AND(C11<=员工工序明细查询!$I$3,C11>=员工工序明细查询!$F$3,OR(D11=员工工序明细查询!$F$2,员工工序明细查询!$F$2=""),OR(G11=员工工序明细查询!$I$2,员工工序明细查询!$I$2="")),ROW()&"","") | C11: 43042 | D11: N002 | E11: =IFERROR(VLOOKUP(D11,员工信息表!B:D,2,0),"") -> 张2 | F11: =IFERROR(VLOOKUP(D11,员工信息表!B:D,3,0),"") -> 甲 | G11: 组合 | H11: =IFERROR(VLOOKUP(G11,工序对照表!B:C,2,0),"") -> 0.9 | I11: 281 | J11: =H11*I11 -> 252.9
A12: =IF(AND(C12<=员工工序明细查询!$I$3,C12>=员工工序明细查询!$F$3,OR(D12=员工工序明细查询!$F$2,员工工序明细查询!$F$2=""),OR(G12=员工工序明细查询!$I$2,员工工序明细查询!$I$2="")),ROW()&"","") | C12: 43042 | D12: N003 | E12: =IFERROR(VLOOKUP(D12,员工信息表!B:D,2,0),"") -> 张3 | F12: =IFERROR(VLOOKUP(D12,员工信息表!B:D,3,0),"") -> 乙 | G12: 测量 | H12: =IFERROR(VLOOKUP(G12,工序对照表!B:C,2,0),"") -> 0.5 | I12: 442 | J12: =H12*I12 -> 221
A13: =IF(AND(C13<=员工工序明细查询!$I$3,C13>=员工工序明细查询!$F$3,OR(D13=员工工序明细查询!$F$2,员工工序明细查询!$F$2=""),OR(G13=员工工序明细查询!$I$2,员工工序明细查询!$I$2="")),ROW()&"","") | C13: 43042 | D13: N004 | E13: =IFERROR(VLOOKUP(D13,员工信息表!B:D,2,0),"") -> 张4 | F13: =IFERROR(VLOOKUP(D13,员工信息表!B:D,3,0),"") -> 乙 | G13: 包装 | H13: =IFERROR(VLOOKUP(G13,工序对照表!B:C,2,0),"") -> 0.6 | I13: 460 | J13: =H13*I13 -> 276
A14: =IF(AND(C14<=员工工序明细查询!$I$3,C14>=员工工序明细查询!$F$3,OR(D14=员工工序明细查询!$F$2,员工工序明细查询!$F$2=""),OR(G14=员工工序明细查询!$I$2,员工工序明细查询!$I$2="")),ROW()&"","") | C14: 43042 | D14: N005 | E14: =IFERROR(VLOOKUP(D14,员工信息表!B:D,2,0),"") -> 张5 | F14: =IFERROR(VLOOKUP(D14,员工信息表!B:D,3,0),"") -> 丙 | G14: 切割 | H14: =IFERROR(VLOOKUP(G14,工序对照表!B:C,2,0),"") -> 0.8 | I14: 208 | J14: =H14*I14 -> 166.4
A15: =IF(AND(C15<=员工工序明细查询!$I$3,C15>=员工工序明细查询!$F$3,OR(D15=员工工序明细查询!$F$2,员工工序明细查询!$F$2=""),OR(G15=员工工序明细查询!$I$2,员工工序明细查询!$I$2="")),ROW()&"","") | C15: 43042 | D15: N006 | E15: =IFERROR(VLOOKUP(D15,员工信息表!B:D,2,0),"") -> 张6 | F15: =IFERROR(VLOOKUP(D15,员工信息表!B:D,3,0),"") -> 丙 | G15: 抛光 | H15: =IFERROR(VLOOKUP(G15,工序对照表!B:C,2,0),"") -> 1.2 | I15: 260 | J15: =H15*I15 -> 312
... A23: =IF(AND(C23<=员工工序明细查询!$I$3,C23>=员工工序明细查询!$F$3,OR(D23=员工工序明细查询!$F$2,员工工序明细查询!$F$2=""),OR(G23=员工工序明细查询!$I$2,员工工序明细查询!$I$2="")),ROW()&"","") -> 23 | C23: 43043 | D23: N001 | E23: =IFERROR(VLOOKUP(D23,员工信息表!B:D,2,0),"") -> 张1 | F23: =IFERROR(VLOOKUP(D23,员工信息表!B:D,3,0),"") -> 甲 | G23: 包装 | H23: =IFERROR(VLOOKUP(G23,工序对照表!B:C,2,0),"") -> 0.6 | I23: 323 | J23: =H23*I23 -> 193.8
A24: =IF(AND(C24<=员工工序明细查询!$I$3,C24>=员工工序明细查询!$F$3,OR(D24=员工工序明细查询!$F$2,员工工序明细查询!$F$2=""),OR(G24=员工工序明细查询!$I$2,员工工序明细查询!$I$2="")),ROW()&"","") | E24: =IFERROR(VLOOKUP(D24,员工信息表!B:D,2,0),"") | F24: =IFERROR(VLOOKUP(D24,员工信息表!B:D,3,0),"") | H24: =IFERROR(VLOOKUP(G24,工序对照表!B:C,2,0),"")
A25: =IF(AND(C25<=员工工序明细查询!$I$3,C25>=员工工序明细查询!$F$3,OR(D25=员工工序明细查询!$F$2,员工工序明细查询!$F$2=""),OR(G25=员工工序明细查询!$I$2,员工工序明细查询!$I$2="")),ROW()&"","") | E25: =IFERROR(VLOOKUP(D25,员工信息表!B:D,2,0),"") | F25: =IFERROR(VLOOKUP(D25,员工信息表!B:D,3,0),"") | H25: =IFERROR(VLOOKUP(G25,工序对照表!B:C,2,0),"")
A26: =IF(AND(C26<=员工工序明细查询!$I$3,C26>=员工工序明细查询!$F$3,OR(D26=员工工序明细查询!$F$2,员工工序明细查询!$F$2=""),OR(G26=员工工序明细查询!$I$2,员工工序明细查询!$I$2="")),ROW()&"","") | E26: =IFERROR(VLOOKUP(D26,员工信息表!B:D,2,0),"") | F26: =IFERROR(VLOOKUP(D26,员工信息表!B:D,3,0),"") | H26: =IFERROR(VLOOKUP(G26,工序对照表!B:C,2,0),"")
A27: =IF(AND(C27<=员工工序明细查询!$I$3,C27>=员工工序明细查询!$F$3,OR(D27=员工工序明细查询!$F$2,员工工序明细查询!$F$2=""),OR(G27=员工工序明细查询!$I$2,员工工序明细查询!$I$2="")),ROW()&"","") | E27: =IFERROR(VLOOKUP(D27,员工信息表!B:D,2,0),"") | F27: =IFERROR(VLOOKUP(D27,员工信息表!B:D,3,0),"") | H27: =IFERROR(VLOOKUP(G27,工序对照表!B:C,2,0),"")
A28: =IF(AND(C28<=员工工序明细查询!$I$3,C28>=员工工序明细查询!$F$3,OR(D28=员工工序明细查询!$F$2,员工工序明细查询!$F$2=""),OR(G28=员工工序明细查询!$I$2,员工工序明细查询!$I$2="")),ROW()&"","") | E28: =IFERROR(VLOOKUP(D28,员工信息表!B:D,2,0),"") | F28: =IFERROR(VLOOKUP(D28,员工信息表!B:D,3,0),"") | H28: =IFERROR(VLOOKUP(G28,工序对照表!B:C,2,0),"")
A29: =IF(AND(C29<=员工工序明细查询!$I$3,C29>=员工工序明细查询!$F$3,OR(D29=员工工序明细查询!$F$2,员工工序明细查询!$F$2=""),OR(G29=员工工序明细查询!$I$2,员工工序明细查询!$I$2="")),ROW()&"","") | E29: =IFERROR(VLOOKUP(D29,员工信息表!B:D,2,0),"") | F29: =IFERROR(VLOOKUP(D29,员工信息表!B:D,3,0),"") | H29: =IFERROR(VLOOKUP(G29,工序对照表!B:C,2,0),"")
A30: =IF(AND(C30<=员工工序明细查询!$I$3,C30>=员工工序明细查询!$F$3,OR(D30=员工工序明细查询!$F$2,员工工序明细查询!$F$2=""),OR(G30=员工工序明细查询!$I$2,员工工序明细查询!$I$2="")),ROW()&"","") | E30: =IFERROR(VLOOKUP(D30,员工信息表!B:D,2,0),"") | F30: =IFERROR(VLOOKUP(D30,员工信息表!B:D,3,0),"") | H30: =IFERROR(VLOOKUP(G30,工序对照表!B:C,2,0),"")
A31: =IF(AND(C31<=员工工序明细查询!$I$3,C31>=员工工序明细查询!$F$3,OR(D31=员工工序明细查询!$F$2,员工工序明细查询!$F$2=""),OR(G31=员工工序明细查询!$I$2,员工工序明细查询!$I$2="")),ROW()&"","") | E31: =IFERROR(VLOOKUP(D31,员工信息表!B:D,2,0),"") | F31: =IFERROR(VLOOKUP(D31,员工信息表!B:D,3,0),"") | H31: =IFERROR(VLOOKUP(G31,工序对照表!B:C,2,0),"")
A32: =IF(AND(C32<=员工工序明细查询!$I$3,C32>=员工工序明细查询!$F$3,OR(D32=员工工序明细查询!$F$2,员工工序明细查询!$F$2=""),OR(G32=员工工序明细查询!$I$2,员工工序明细查询!$I$2="")),ROW()&"","") | E32: =IFERROR(VLOOKUP(D32,员工信息表!B:D,2,0),"") | F32: =IFERROR(VLOOKUP(D32,员工信息表!B:D,3,0),"") | H32: =IFERROR(VLOOKUP(G32,工序对照表!B:C,2,0),"")
A33: =IF(AND(C33<=员工工序明细查询!$I$3,C33>=员工工序明细查询!$F$3,OR(D33=员工工序明细查询!$F$2,员工工序明细查询!$F$2=""),OR(G33=员工工序明细查询!$I$2,员工工序明细查询!$I$2="")),ROW()&"","") | E33: =IFERROR(VLOOKUP(D33,员工信息表!B:D,2,0),"") | F33: =IFERROR(VLOOKUP(D33,员工信息表!B:D,3,0),"") | H33: =IFERROR(VLOOKUP(G33,工序对照表!B:C,2,0),"")
A34: =IF(AND(C34<=员工工序明细查询!$I$3,C34>=员工工序明细查询!$F$3,OR(D34=员工工序明细查询!$F$2,员工工序明细查询!$F$2=""),OR(G34=员工工序明细查询!$I$2,员工工序明细查询!$I$2="")),ROW()&"","") | E34: =IFERROR(VLOOKUP(D34,员工信息表!B:D,2,0),"") | F34: =IFERROR(VLOOKUP(D34,员工信息表!B:D,3,0),"") | H34: =IFERROR(VLOOKUP(G34,工序对照表!B:C,2,0),"")
A35: =IF(AND(C35<=员工工序明细查询!$I$3,C35>=员工工序明细查询!$F$3,OR(D35=员工工序明细查询!$F$2,员工工序明细查询!$F$2=""),OR(G35=员工工序明细查询!$I$2,员工工序明细查询!$I$2="")),ROW()&"","") | E35: =IFERROR(VLOOKUP(D35,员工信息表!B:D,2,0),"") | F35: =IFERROR(VLOOKUP(D35,员工信息表!B:D,3,0),"") | H35: =IFERROR(VLOOKUP(G35,工序对照表!B:C,2,0),"")
... A10000: =IF(AND(C10000<=员工工序明细查询!$I$3,C10000>=员工工序明细查询!$F$3,OR(D10000=员工工序明细查询!$F$2,员工工序明细查询!$F$2=""),OR(G10000=员工工序明细查询!$I$2,员工工序明细查询!$I$2="")),ROW()&"","") | E10000: =IFERROR(VLOOKUP(D10000,员工信息表!B:D,2,0),"") | F10000: =IFERROR(VLOOKUP(D10000,员工信息表!B:D,3,0),"") | H10000: =IFERROR(VLOOKUP(G10000,工序对照表!B:C,2,0),"")

Sheet 不合格明细表
B1: 不合格记录表
B2: 日期 | C2: 员工编号 | D2: 员工姓名 | E2: 班组 | F2: 工序名称 | G2: 数量
B3: 43041 | C3: N001 | D3: =IFERROR(VLOOKUP(C3,员工信息表!B:D,2,0),"") -> 张1 | E3: =IFERROR(VLOOKUP(C3,员工信息表!B:D,3,0),"") -> 甲 | F3: 切割 | G3: 12
B4: 43041 | C4: N003 | D4: =IFERROR(VLOOKUP(C4,员工信息表!B:D,2,0),"") -> 张3 | E4: =IFERROR(VLOOKUP(C4,员工信息表!B:D,3,0),"") -> 乙 | F4: 组合 | G4: 13
B5: 43041 | C5: N005 | D5: =IFERROR(VLOOKUP(C5,员工信息表!B:D,2,0),"") -> 张5 | E5: =IFERROR(VLOOKUP(C5,员工信息表!B:D,3,0),"") -> 丙 | F5: 包装 | G5: 12
B6: 43041 | C6: N006 | D6: =IFERROR(VLOOKUP(C6,员工信息表!B:D,2,0),"") -> 张6 | E6: =IFERROR(VLOOKUP(C6,员工信息表!B:D,3,0),"") -> 丙 | F6: 切割 | G6: 21
B7: 43042 | C7: N002 | D7: =IFERROR(VLOOKUP(C7,员工信息表!B:D,2,0),"") -> 张2 | E7: =IFERROR(VLOOKUP(C7,员工信息表!B:D,3,0),"") -> 甲 | F7: 组合 | G7: 28
B8: 43042 | C8: N004 | D8: =IFERROR(VLOOKUP(C8,员工信息表!B:D,2,0),"") -> 张4 | E8: =IFERROR(VLOOKUP(C8,员工信息表!B:D,3,0),"") -> 乙 | F8: 包装 | G8: 16
B9: 43043 | C9: N001 | D9: =IFERROR(VLOOKUP(C9,员工信息表!B:D,2,0),"") -> 张1 | E9: =IFERROR(VLOOKUP(C9,员工信息表!B:D,3,0),"") -> 甲 | F9: 包装 | G9: 15

Sheet 合格率（不合格统计表）
G2: 11 | H2: 月不合格率统计表 | T2: 11 | U2: 月不合格数统计表
B4: 工序\不合格率\员工 | C4: 合计 | D4: 张1 | E4: 张2 | F4: 张3 | G4: 张4 | H4: 张5 | I4: 张6 | P4: 工序\不合格数\员工 | Q4: 合计 | R4: 张1 | S4: 张2 | T4: 张3 | U4: 张4 | V4: 张5 | W4: 张6
B5: 切割 | C5: =IFERROR(SUMPRODUCT((MONTH(不合格明细表!$B$3:$B$10000)='合格率（不合格统计表）'!$G$2)*(不合格明细表!$F$3:$F$10000='合格率（不合格统计表）'!$B5)*不合格明细表!$G$3:$G$10000)/SUMPRODUCT((MONTH(工序记录明细表!$C$4:$C$10000)='合格率（不合格统计表）'!$G$2)*(工序记录明细表!$G$4:$G$10000='合格率（不合格统计表）'!$B5),工序记录明细表!$I$4:$I$10000),"") -> 0.026634383 | D5: =IFERROR(SUMPRODUCT((MONTH(不合格明细表!$B$3:$B$10000)='合格率（不合格统计表）'!$G$2)*(不合格明细表!$F$3:$F$10000='合格率（不合格统计表）'!$B5)*(不合格明细表!$D$3:$D$10000='合格率（不合格统计表）'!D$4),不合格明细表!$G$3:$G$10000)/SUMPRODUCT((MONTH(工序记录明细表!$C$4:$C$10000)='合格率（不合格统计表）'!$G$2)*(工序记录明细表!$G$4:$G$10000='合格率（不合格统计表）'!$B5)*(工序记录明细表!$E$4:$E$10000='合格率（不合格统计表）'!D$4),工序记录明细表!$I$4:$I$10000),"") -> 0.045454545 | E5: =IFERROR(SUMPRODUCT((MONTH(不合格明细表!$B$3:$B$10000)='合格率（不合格统计表）'!$G$2)*(不合格明细表!$F$3:$F$10000='合格率（不合格统计表）'!$B5)*(不合格明细表!$D$3:$D$10000='合格率（不合格统计表）'!E$4),不合格明细表!$G$3:$G$10000)/SUMPRODUCT((MONTH(工序记录明细表!$C$4:$C$10000)='合格率（不合格统计表）'!$G$2)*(工序记录明细表!$G$4:$G$10000='合格率（不合格统计表）'!$B5)*(工序记录明细表!$E$4:$E$10000='合格率（不合格统计表）'!E$4),工序记录明细表!$I$4:$I$10000),"") | F5: =IFERROR(SUMPRODUCT((MONTH(不合格明细表!$B$3:$B$10000)='合格率（不合格统计表）'!$G$2)*(不合格明细表!$F$3:$F$10000='合格率（不合格统计表）'!$B5)*(不合格明细表!$D$3:$D$10000='合格率（不合格统计表）'!F$4),不合格明细表!$G$3:$G$10000)/SUMPRODUCT((MONTH(工序记录明细表!$C$4:$C$10000)='合格率（不合格统计表）'!$G$2)*(工序记录明细表!$G$4:$G$10000='合格率（不合格统计表）'!$B5)*(工序记录明细表!$E$4:$E$10000='合格率（不合格统计表）'!F$4),工序记录明细表!$I$4:$I$10000),"") | G5: =IFERROR(SUMPRODUCT((MONTH(不合格明细表!$B$3:$B$10000)='合格率（不合格统计表）'!$G$2)*(不合格明细表!$F$3:$F$10000='合格率（不合格统计表）'!$B5)*(不合格明细表!$D$3:$D$10000='合格率（不合格统计表）'!G$4),不合格明细表!$G$3:$G$10000)/SUMPRODUCT((MONTH(工序记录明细表!$C$4:$C$10000)='合格率（不合格统计表）'!$G$2)*(工序记录明细表!$G$4:$G$10000='合格率（不合格统计表）'!$B5)*(工序记录明细表!$E$4:$E$10000='合格率（不合格统计表）'!G$4),工序记录明细表!$I$4:$I$10000),"") -> 0 | H5: =IFERROR(SUMPRODUCT((MONTH(不合格明细表!$B$3:$B$10000)='合格率（不合格统计表）'!$G$2)*(不合格明细表!$F$3:$F$10000='合格率（不合格统计表）'!$B5)*(不合格明细表!$D$3:$D$10000='合格率（不合格统计表）'!H$4),不合格明细表!$G$3:$G$10000)/SUMPRODUCT((MONTH(工序记录明细表!$C$4:$C$10000)='合格率（不合格统计表）'!$G$2)*(工序记录明细表!$G$4:$G$10000='合格率（不合格统计表）'!$B5)*(工序记录明细表!$E$4:$E$10000='合格率（不合格统计表）'!H$4),工序记录明细表!$I$4:$I$10000),"") -> 0 | I5: =IFERROR(SUMPRODUCT((MONTH(不合格明细表!$B$3:$B$10000)='合格率（不合格统计表）'!$G$2)*(不合格明细表!$F$3:$F$10000='合格率（不合格统计表）'!$B5)*(不合格明细表!$D$3:$D$10000='合格率（不合格统计表）'!I$4),不合格明细表!$G$3:$G$10000)/SUMPRODUCT((MONTH(工序记录明细表!$C$4:$C$10000)='合格率（不合格统计表）'!$G$2)*(工序记录明细表!$G$4:$G$10000='合格率（不合格统计表）'!$B5)*(工序记录明细表!$E$4:$E$10000='合格率（不合格统计表）'!I$4),工序记录明细表!$I$4:$I$10000),"") -> 0.045751634 | J5: =IFERROR(SUMPRODUCT((MONTH(不合格明细表!$B$3:$B$10000)='合格率（不合格统计表）'!$G$2)*(不合格明细表!$F$3:$F$10000='合格率（不合格统计表）'!$B5)*(不合格明细表!$D$3:$D$10000='合格率（不合格统计表）'!J$4),不合格明细表!$G$3:$G$10000)/SUMPRODUCT((MONTH(工序记录明细表!$C$4:$C$10000)='合格率（不合格统计表）'!$G$2)*(工序记录明细表!$G$4:$G$10000='合格率（不合格统计表）'!$B5)*(工序记录明细表!$E$4:$E$10000='合格率（不合格统计表）'!J$4),工序记录明细表!$I$4:$I$10000),"") | K5: =IFERROR(SUMPRODUCT((MONTH(不合格明细表!$B$3:$B$10000)='合格率（不合格统计表）'!$G$2)*(不合格明细表!$F$3:$F$10000='合格率（不合格统计表）'!$B5)*(不合格明细表!$D$3:$D$10000='合格率（不合格统计表）'!K$4),不合格明细表!$G$3:$G$10000)/SUMPRODUCT((MONTH(工序记录明细表!$C$4:$C$10000)='合格率（不合格统计表）'!$G$2)*(工序记录明细表!$G$4:$G$10000='合格率（不合格统计表）'!$B5)*(工序记录明细表!$E$4:$E$10000='合格率（不合格统计表）'!K$4),工序记录明细表!$I$4:$I$10000),"") | ... M5: =IFERROR(SUMPRODUCT((MONTH(不合格明细表!$B$3:$B$10000)='合格率（不合格统计表）'!$G$2)*(不合格明细表!$F$3:$F$10000='合格率（不合格统计表）'!$B5)*(不合格明细表!$D$3:$D$10000='合格率（不合格统计表）'!M$4),不合格明细表!$G$3:$G$10000)/SUMPRODUCT((MONTH(工序记录明细表!$C$4:$C$10000)='合格率（不合格统计表）'!$G$2)*(工序记录明细表!$G$4:$G$10000='合格率（不合格统计表）'!$B5)*(工序记录明细表!$E$4:$E$10000='合格率（不合格统计表）'!M$4),工序记录明细表!$I$4:$I$10000),"") | P5: 切割 | Q5: =SUM(R5:AA5) -> 33 | R5: =SUMPRODUCT((MONTH(不合格明细表!$B$3:$B$10000)='合格率（不合格统计表）'!$T$2)*(不合格明细表!$F$3:$F$10000='合格率（不合格统计表）'!$P5)*(不合格明细表!$D$3:$D$10000='合格率（不合格统计表）'!R$4),不合格明细表!$G$3:$G$10000) -> 12 | S5: =SUMPRODUCT((MONTH(不合格明细表!$B$3:$B$10000)='合格率（不合格统计表）'!$T$2)*(不合格明细表!$F$3:$F$10000='合格率（不合格统计表）'!$P5)*(不合格明细表!$D$3:$D$10000='合格率（不合格统计表）'!S$4),不合格明细表!$G$3:$G$10000) -> 0 | T5: =SUMPRODUCT((MONTH(不合格明细表!$B$3:$B$10000)='合格率（不合格统计表）'!$T$2)*(不合格明细表!$F$3:$F$10000='合格率（不合格统计表）'!$P5)*(不合格明细表!$D$3:$D$10000='合格率（不合格统计表）'!T$4),不合格明细表!$G$3:$G$10000) -> 0 | U5: =SUMPRODUCT((MONTH(不合格明细表!$B$3:$B$10000)='合格率（不合格统计表）'!$T$2)*(不合格明细表!$F$3:$F$10000='合格率（不合格统计表）'!$P5)*(不合格明细表!$D$3:$D$10000='合格率（不合格统计表）'!U$4),不合格明细表!$G$3:$G$10000) -> 0 | V5: =SUMPRODUCT((MONTH(不合格明细表!$B$3:$B$10000)='合格率（不合格统计表）'!$T$2)*(不合格明细表!$F$3:$F$10000='合格率（不合格统计表）'!$P5)*(不合格明细表!$D$3:$D$10000='合格率（不合格统计表）'!V$4),不合格明细表!$G$3:$G$10000) -> 0 | W5: =SUMPRODUCT((MONTH(不合格明细表!$B$3:$B$10000)='合格率（不合格统计表）'!$T$2)*(不合格明细表!$F$3:$F$10000='合格率（不合格统计表）'!$P5)*(不合格明细表!$D$3:$D$10000='合格率（不合格统计表）'!W$4),不合格明细表!$G$3:$G$10000) -> 21 | X5: =SUMPRODUCT((MONTH(不合格明细表!$B$3:$B$10000)='合格率（不合格统计表）'!$T$2)*(不合格明细表!$F$3:$F$10000='合格率（不合格统计表）'!$P5)*(不合格明细表!$D$3:$D$10000='合格率（不合格统计表）'!X$4),不合格明细表!$G$3:$G$10000) -> 0 | Y5: =SUMPRODUCT((MONTH(不合格明细表!$B$3:$B$10000)='合格率（不合格统计表）'!$T$2)*(不合格明细表!$F$3:$F$10000='合格率（不合格统计表）'!$P5)*(不合格明细表!$D$3:$D$10000='合格率（不合格统计表）'!Y$4),不合格明细表!$G$3:$G$10000) -> 0 | ... AA5: =SUMPRODUCT((MONTH(不合格明细表!$B$3:$B$10000)='合格率（不合格统计表）'!$T$2)*(不合格明细表!$F$3:$F$10000='合格率（不合格统计表）'!$P5)*(不合格明细表!$D$3:$D$10000='合格率（不合格统计表）'!AA$4),不合格明细表!$G$3:$G$10000) -> 0
B6: 抛光 | C6: =IFERROR(SUMPRODUCT((MONTH(不合格明细表!$B$3:$B$10000)='合格率（不合格统计表）'!$G$2)*(不合格明细表!$F$3:$F$10000='合格率（不合格统计表）'!$B6)*不合格明细表!$G$3:$G$10000)/SUMPRODUCT((MONTH(工序记录明细表!$C$4:$C$10000)='合格率（不合格统计表）'!$G$2)*(工序记录明细表!$G$4:$G$10000='合格率（不合格统计表）'!$B6),工序记录明细表!$I$4:$I$10000),"") -> 0 | D6: =IFERROR(SUMPRODUCT((MONTH(不合格明细表!$B$3:$B$10000)='合格率（不合格统计表）'!$G$2)*(不合格明细表!$F$3:$F$10000='合格率（不合格统计表）'!$B6)*(不合格明细表!$D$3:$D$10000='合格率（不合格统计表）'!D$4),不合格明细表!$G$3:$G$10000)/SUMPRODUCT((MONTH(工序记录明细表!$C$4:$C$10000)='合格率（不合格统计表）'!$G$2)*(工序记录明细表!$G$4:$G$10000='合格率（不合格统计表）'!$B6)*(工序记录明细表!$E$4:$E$10000='合格率（不合格统计表）'!D$4),工序记录明细表!$I$4:$I$10000),"") -> 0 | E6: =IFERROR(SUMPRODUCT((MONTH(不合格明细表!$B$3:$B$10000)='合格率（不合格统计表）'!$G$2)*(不合格明细表!$F$3:$F$10000='合格率（不合格统计表）'!$B6)*(不合格明细表!$D$3:$D$10000='合格率（不合格统计表）'!E$4),不合格明细表!$G$3:$G$10000)/SUMPRODUCT((MONTH(工序记录明细表!$C$4:$C$10000)='合格率（不合格统计表）'!$G$2)*(工序记录明细表!$G$4:$G$10000='合格率（不合格统计表）'!$B6)*(工序记录明细表!$E$4:$E$10000='合格率（不合格统计表）'!E$4),工序记录明细表!$I$4:$I$10000),"") -> 0 | F6: =IFERROR(SUMPRODUCT((MONTH(不合格明细表!$B$3:$B$10000)='合格率（不合格统计表）'!$G$2)*(不合格明细表!$F$3:$F$10000='合格率（不合格统计表）'!$B6)*(不合格明细表!$D$3:$D$10000='合格率（不合格统计表）'!F$4),不合格明细表!$G$3:$G$10000)/SUMPRODUCT((MONTH(工序记录明细表!$C$4:$C$10000)='合格率（不合格统计表）'!$G$2)*(工序记录明细表!$G$4:$G$10000='合格率（不合格统计表）'!$B6)*(工序记录明细表!$E$4:$E$10000='合格率（不合格统计表）'!F$4),工序记录明细表!$I$4:$I$10000),"") | G6: =IFERROR(SUMPRODUCT((MONTH(不合格明细表!$B$3:$B$10000)='合格率（不合格统计表）'!$G$2)*(不合格明细表!$F$3:$F$10000='合格率（不合格统计表）'!$B6)*(不合格明细表!$D$3:$D$10000='合格率（不合格统计表）'!G$4),不合格明细表!$G$3:$G$10000)/SUMPRODUCT((MONTH(工序记录明细表!$C$4:$C$10000)='合格率（不合格统计表）'!$G$2)*(工序记录明细表!$G$4:$G$10000='合格率（不合格统计表）'!$B6)*(工序记录明细表!$E$4:$E$10000='合格率（不合格统计表）'!G$4),工序记录明细表!$I$4:$I$10000),"") | H6: =IFERROR(SUMPRODUCT((MONTH(不合格明细表!$B$3:$B$10000)='合格率（不合格统计表）'!$G$2)*(不合格明细表!$F$3:$F$10000='合格率（不合格统计表）'!$B6)*(不合格明细表!$D$3:$D$10000='合格率（不合格统计表）'!H$4),不合格明细表!$G$3:$G$10000)/SUMPRODUCT((MONTH(工序记录明细表!$C$4:$C$10000)='合格率（不合格统计表）'!$G$2)*(工序记录明细表!$G$4:$G$10000='合格率（不合格统计表）'!$B6)*(工序记录明细表!$E$4:$E$10000='合格率（不合格统计表）'!H$4),工序记录明细表!$I$4:$I$10000),"") -> 0 | I6: =IFERROR(SUMPRODUCT((MONTH(不合格明细表!$B$3:$B$10000)='合格率（不合格统计表）'!$G$2)*(不合格明细表!$F$3:$F$10000='合格率（不合格统计表）'!$B6)*(不合格明细表!$D$3:$D$10000='合格率（不合格统计表）'!I$4),不合格明细表!$G$3:$G$10000)/SUMPRODUCT((MONTH(工序记录明细表!$C$4:$C$10000)='合格率（不合格统计表）'!$G$2)*(工序记录明细表!$G$4:$G$10000='合格率（不合格统计表）'!$B6)*(工序记录明细表!$E$4:$E$10000='合格率（不合格统计表）'!I$4),工序记录明细表!$I$4:$I$10000),"") -> 0 | J6: =IFERROR(SUMPRODUCT((MONTH(不合格明细表!$B$3:$B$10000)='合格率（不合格统计表）'!$G$2)*(不合格明细表!$F$3:$F$10000='合格率（不合格统计表）'!$B6)*(不合格明细表!$D$3:$D$10000='合格率（不合格统计表）'!J$4),不合格明细表!$G$3:$G$10000)/SUMPRODUCT((MONTH(工序记录明细表!$C$4:$C$10000)='合格率（不合格统计表）'!$G$2)*(工序记录明细表!$G$4:$G$10000='合格率（不合格统计表）'!$B6)*(工序记录明细表!$E$4:$E$10000='合格率（不合格统计表）'!J$4),工序记录明细表!$I$4:$I$10000),"") | K6: =IFERROR(SUMPRODUCT((MONTH(不合格明细表!$B$3:$B$10000)='合格率（不合格统计表）'!$G$2)*(不合格明细表!$F$3:$F$10000='合格率（不合格统计表）'!$B6)*(不合格明细表!$D$3:$D$10000='合格率（不合格统计表）'!K$4),不合格明细表!$G$3:$G$10000)/SUMPRODUCT((MONTH(工序记录明细表!$C$4:$C$10000)='合格率（不合格统计表）'!$G$2)*(工序记录明细表!$G$4:$G$10000='合格率（不合格统计表）'!$B6)*(工序记录明细表!$E$4:$E$10000='合格率（不合格统计表）'!K$4),工序记录明细表!$I$4:$I$10000),"") | ... M6: =IFERROR(SUMPRODUCT((MONTH(不合格明细表!$B$3:$B$10000)='合格率（不合格统计表）'!$G$2)*(不合格明细表!$F$3:$F$10000='合格率（不合格统计表）'!$B6)*(不合格明细表!$D$3:$D$10000='合格率（不合格统计表）'!M$4),不合格明细表!$G$3:$G$10000)/SUMPRODUCT((MONTH(工序记录明细表!$C$4:$C$10000)='合格率（不合格统计表）'!$G$2)*(工序记录明细表!$G$4:$G$10000='合格率（不合格统计表）'!$B6)*(工序记录明细表!$E$4:$E$10000='合格率（不合格统计表）'!M$4),工序记录明细表!$I$4:$I$10000),"") | P6: 抛光 | Q6: =SUM(R6:AA6) -> 0 | R6: =SUMPRODUCT((MONTH(不合格明细表!$B$3:$B$10000)='合格率（不合格统计表）'!$T$2)*(不合格明细表!$F$3:$F$10000='合格率（不合格统计表）'!$P6)*(不合格明细表!$D$3:$D$10000='合格率（不合格统计表）'!R$4),不合格明细表!$G$3:$G$10000) -> 0 | S6: =SUMPRODUCT((MONTH(不合格明细表!$B$3:$B$10000)='合格率（不合格统计表）'!$T$2)*(不合格明细表!$F$3:$F$10000='合格率（不合格统计表）'!$P6)*(不合格明细表!$D$3:$D$10000='合格率（不合格统计表）'!S$4),不合格明细表!$G$3:$G$10000) -> 0 | T6: =SUMPRODUCT((MONTH(不合格明细表!$B$3:$B$10000)='合格率（不合格统计表）'!$T$2)*(不合格明细表!$F$3:$F$10000='合格率（不合格统计表）'!$P6)*(不合格明细表!$D$3:$D$10000='合格率（不合格统计表）'!T$4),不合格明细表!$G$3:$G$10000) -> 0 | U6: =SUMPRODUCT((MONTH(不合格明细表!$B$3:$B$10000)='合格率（不合格统计表）'!$T$2)*(不合格明细表!$F$3:$F$10000='合格率（不合格统计表）'!$P6)*(不合格明细表!$D$3:$D$10000='合格率（不合格统计表）'!U$4),不合格明细表!$G$3:$G$10000) -> 0 | V6: =SUMPRODUCT((MONTH(不合格明细表!$B$3:$B$10000)='合格率（不合格统计表）'!$T$2)*(不合格明细表!$F$3:$F$10000='合格率（不合格统计表）'!$P6)*(不合格明细表!$D$3:$D$10000='合格率（不合格统计表）'!V$4),不合格明细表!$G$3:$G$10000) -> 0 | W6: =SUMPRODUCT((MONTH(不合格明细表!$B$3:$B$10000)='合格率（不合格统计表）'!$T$2)*(不合格明细表!$F$3:$F$10000='合格率（不合格统计表）'!$P6)*(不合格明细表!$D$3:$D$10000='合格率（不合格统计表）'!W$4),不合格明细表!$G$3:$G$10000) -> 0 | X6: =SUMPRODUCT((MONTH(不合格明细表!$B$3:$B$10000)='合格率（不合格统计表）'!$T$2)*(不合格明细表!$F$3:$F$10000='合格率（不合格统计表）'!$P6)*(不合格明细表!$D$3:$D$10000='合格率（不合格统计表）'!X$4),不合格明细表!$G$3:$G$10000) -> 0 | Y6: =SUMPRODUCT((MONTH(不合格明细表!$B$3:$B$10000)='合格率（不合格统计表）'!$T$2)*(不合格明细表!$F$3:$F$10000='合格率（不合格统计表）'!$P6)*(不合格明细表!$D$3:$D$10000='合格率（不合格统计表）'!Y$4),不合格明细表!$G$3:$G$10000) -> 0 | ... AA6: =SUMPRODUCT((MONTH(不合格明细表!$B$3:$B$10000)='合格率（不合格统计表）'!$T$2)*(不合格明细表!$F$3:$F$10000='合格率（不合格统计表）'!$P6)*(不合格明细表!$D$3:$D$10000='合格率（不合格统计表）'!AA$4),不合格明细表!$G$3:$G$10000) -> 0
B7: 组合 | C7: =IFERROR(SUMPRODUCT((MONTH(不合格明细表!$B$3:$B$10000)='合格率（不合格统计表）'!$G$2)*(不合格明细表!$F$3:$F$10000='合格率（不合格统计表）'!$B7)*不合格明细表!$G$3:$G$10000)/SUMPRODUCT((MONTH(工序记录明细表!$C$4:$C$10000)='合格率（不合格统计表）'!$G$2)*(工序记录明细表!$G$4:$G$10000='合格率（不合格统计表）'!$B7),工序记录明细表!$I$4:$I$10000),"") -> 0.03003663 | D7: =IFERROR(SUMPRODUCT((MONTH(不合格明细表!$B$3:$B$10000)='合格率（不合格统计表）'!$G$2)*(不合格明细表!$F$3:$F$10000='合格率（不合格统计表）'!$B7)*(不合格明细表!$D$3:$D$10000='合格率（不合格统计表）'!D$4),不合格明细表!$G$3:$G$10000)/SUMPRODUCT((MONTH(工序记录明细表!$C$4:$C$10000)='合格率（不合格统计表）'!$G$2)*(工序记录明细表!$G$4:$G$10000='合格率（不合格统计表）'!$B7)*(工序记录明细表!$E$4:$E$10000='合格率（不合格统计表）'!D$4),工序记录明细表!$I$4:$I$10000),"") -> 0 | E7: =IFERROR(SUMPRODUCT((MONTH(不合格明细表!$B$3:$B$10000)='合格率（不合格统计表）'!$G$2)*(不合格明细表!$F$3:$F$10000='合格率（不合格统计表）'!$B7)*(不合格明细表!$D$3:$D$10000='合格率（不合格统计表）'!E$4),不合格明细表!$G$3:$G$10000)/SUMPRODUCT((MONTH(工序记录明细表!$C$4:$C$10000)='合格率（不合格统计表）'!$G$2)*(工序记录明细表!$G$4:$G$10000='合格率（不合格统计表）'!$B7)*(工序记录明细表!$E$4:$E$10000='合格率（不合格统计表）'!E$4),工序记录明细表!$I$4:$I$10000),"") -> 0.099644128 | F7: =IFERROR(SUMPRODUCT((MONTH(不合格明细表!$B$3:$B$10000)='合格率（不合格统计表）'!$G$2)*(不合格明细表!$F$3:$F$10000='合格率（不合格统计表）'!$B7)*(不合格明细表!$D$3:$D$10000='合格率（不合格统计表）'!F$4),不合格明细表!$G$3:$G$10000)/SUMPRODUCT((MONTH(工序记录明细表!$C$4:$C$10000)='合格率（不合格统计表）'!$G$2)*(工序记录明细表!$G$4:$G$10000='合格率（不合格统计表）'!$B7)*(工序记录明细表!$E$4:$E$10000='合格率（不合格统计表）'!F$4),工序记录明细表!$I$4:$I$10000),"") -> 0.032994924 | G7: =IFERROR(SUMPRODUCT((MONTH(不合格明细表!$B$3:$B$10000)='合格率（不合格统计表）'!$G$2)*(不合格明细表!$F$3:$F$10000='合格率（不合格统计表）'!$B7)*(不合格明细表!$D$3:$D$10000='合格率（不合格统计表）'!G$4),不合格明细表!$G$3:$G$10000)/SUMPRODUCT((MONTH(工序记录明细表!$C$4:$C$10000)='合格率（不合格统计表）'!$G$2)*(工序记录明细表!$G$4:$G$10000='合格率（不合格统计表）'!$B7)*(工序记录明细表!$E$4:$E$10000='合格率（不合格统计表）'!G$4),工序记录明细表!$I$4:$I$10000),"") | H7: =IFERROR(SUMPRODUCT((MONTH(不合格明细表!$B$3:$B$10000)='合格率（不合格统计表）'!$G$2)*(不合格明细表!$F$3:$F$10000='合格率（不合格统计表）'!$B7)*(不合格明细表!$D$3:$D$10000='合格率（不合格统计表）'!H$4),不合格明细表!$G$3:$G$10000)/SUMPRODUCT((MONTH(工序记录明细表!$C$4:$C$10000)='合格率（不合格统计表）'!$G$2)*(工序记录明细表!$G$4:$G$10000='合格率（不合格统计表）'!$B7)*(工序记录明细表!$E$4:$E$10000='合格率（不合格统计表）'!H$4),工序记录明细表!$I$4:$I$10000),"") | I7: =IFERROR(SUMPRODUCT((MONTH(不合格明细表!$B$3:$B$10000)='合格率（不合格统计表）'!$G$2)*(不合格明细表!$F$3:$F$10000='合格率（不合格统计表）'!$B7)*(不合格明细表!$D$3:$D$10000='合格率（不合格统计表）'!I$4),不合格明细表!$G$3:$G$10000)/SUMPRODUCT((MONTH(工序记录明细表!$C$4:$C$10000)='合格率（不合格统计表）'!$G$2)*(工序记录明细表!$G$4:$G$10000='合格率（不合格统计表）'!$B7)*(工序记录明细表!$E$4:$E$10000='合格率（不合格统计表）'!I$4),工序记录明细表!$I$4:$I$10000),"") -> 0 | J7: =IFERROR(SUMPRODUCT((MONTH(不合格明细表!$B$3:$B$10000)='合格率（不合格统计表）'!$G$2)*(不合格明细表!$F$3:$F$10000='合格率（不合格统计表）'!$B7)*(不合格明细表!$D$3:$D$10000='合格率（不合格统计表）'!J$4),不合格明细表!$G$3:$G$10000)/SUMPRODUCT((MONTH(工序记录明细表!$C$4:$C$10000)='合格率（不合格统计表）'!$G$2)*(工序记录明细表!$G$4:$G$10000='合格率（不合格统计表）'!$B7)*(工序记录明细表!$E$4:$E$10000='合格率（不合格统计表）'!J$4),工序记录明细表!$I$4:$I$10000),"") | K7: =IFERROR(SUMPRODUCT((MONTH(不合格明细表!$B$3:$B$10000)='合格率（不合格统计表）'!$G$2)*(不合格明细表!$F$3:$F$10000='合格率（不合格统计表）'!$B7)*(不合格明细表!$D$3:$D$10000='合格率（不合格统计表）'!K$4),不合格明细表!$G$3:$G$10000)/SUMPRODUCT((MONTH(工序记录明细表!$C$4:$C$10000)='合格率（不合格统计表）'!$G$2)*(工序记录明细表!$G$4:$G$10000='合格率（不合格统计表）'!$B7)*(工序记录明细表!$E$4:$E$10000='合格率（不合格统计表）'!K$4),工序记录明细表!$I$4:$I$10000),"") | ... M7: =IFERROR(SUMPRODUCT((MONTH(不合格明细表!$B$3:$B$10000)='合格率（不合格统计表）'!$G$2)*(不合格明细表!$F$3:$F$10000='合格率（不合格统计表）'!$B7)*(不合格明细表!$D$3:$D$10000='合格率（不合格统计表）'!M$4),不合格明细表!$G$3:$G$10000)/SUMPRODUCT((MONTH(工序记录明细表!$C$4:$C$10000)='合格率（不合格统计表）'!$G$2)*(工序记录明细表!$G$4:$G$10000='合格率（不合格统计表）'!$B7)*(工序记录明细表!$E$4:$E$10000='合格率（不合格统计表）'!M$4),工序记录明细表!$I$4:$I$10000),"") | P7: 组合 | Q7: =SUM(R7:AA7) -> 41 | R7: =SUMPRODUCT((MONTH(不合格明细表!$B$3:$B$10000)='合格率（不合格统计表）'!$T$2)*(不合格明细表!$F$3:$F$10000='合格率（不合格统计表）'!$P7)*(不合格明细表!$D$3:$D$10000='合格率（不合格统计表）'!R$4),不合格明细表!$G$3:$G$10000) -> 0 | S7: =SUMPRODUCT((MONTH(不合格明细表!$B$3:$B$10000)='合格率（不合格统计表）'!$T$2)*(不合格明细表!$F$3:$F$10000='合格率（不合格统计表）'!$P7)*(不合格明细表!$D$3:$D$10000='合格率（不合格统计表）'!S$4),不合格明细表!$G$3:$G$10000) -> 28 | T7: =SUMPRODUCT((MONTH(不合格明细表!$B$3:$B$10000)='合格率（不合格统计表）'!$T$2)*(不合格明细表!$F$3:$F$10000='合格率（不合格统计表）'!$P7)*(不合格明细表!$D$3:$D$10000='合格率（不合格统计表）'!T$4),不合格明细表!$G$3:$G$10000) -> 13 | U7: =SUMPRODUCT((MONTH(不合格明细表!$B$3:$B$10000)='合格率（不合格统计表）'!$T$2)*(不合格明细表!$F$3:$F$10000='合格率（不合格统计表）'!$P7)*(不合格明细表!$D$3:$D$10000='合格率（不合格统计表）'!U$4),不合格明细表!$G$3:$G$10000) -> 0 | V7: =SUMPRODUCT((MONTH(不合格明细表!$B$3:$B$10000)='合格率（不合格统计表）'!$T$2)*(不合格明细表!$F$3:$F$10000='合格率（不合格统计表）'!$P7)*(不合格明细表!$D$3:$D$10000='合格率（不合格统计表）'!V$4),不合格明细表!$G$3:$G$10000) -> 0 | W7: =SUMPRODUCT((MONTH(不合格明细表!$B$3:$B$10000)='合格率（不合格统计表）'!$T$2)*(不合格明细表!$F$3:$F$10000='合格率（不合格统计表）'!$P7)*(不合格明细表!$D$3:$D$10000='合格率（不合格统计表）'!W$4),不合格明细表!$G$3:$G$10000) -> 0 | X7: =SUMPRODUCT((MONTH(不合格明细表!$B$3:$B$10000)='合格率（不合格统计表）'!$T$2)*(不合格明细表!$F$3:$F$10000='合格率（不合格统计表）'!$P7)*(不合格明细表!$D$3:$D$10000='合格率（不合格统计表）'!X$4),不合格明细表!$G$3:$G$10000) -> 0 | Y7: =SUMPRODUCT((MONTH(不合格明细表!$B$3:$B$10000)='合格率（不合格统计表）'!$T$2)*(不合格明细表!$F$3:$F$10000='合格率（不合格统计表）'!$P7)*(不合格明细表!$D$3:$D$10000='合格率（不合格统计表）'!Y$4),不合格明细表!$G$3:$G$10000) -> 0 | ... AA7: =SUMPRODUCT((MONTH(不合格明细表!$B$3:$B$10000)='合格率（不合格统计表）'!$T$2)*(不合格明细表!$F$3:$F$10000='合格率（不合格统计表）'!$P7)*(不合格明细表!$D$3:$D$10000='合格率（不合格统计表）'!AA$4),不合格明细表!$G$3:$G$10000) -> 0
B8: 测量 | C8: =IFERROR(SUMPRODUCT((MONTH(不合格明细表!$B$3:$B$10000)='合格率（不合格统计表）'!$G$2)*(不合格明细表!$F$3:$F$10000='合格率（不合格统计表）'!$B8)*不合格明细表!$G$3:$G$10000)/SUMPRODUCT((MONTH(工序记录明细表!$C$4:$C$10000)='合格率（不合格统计表）'!$G$2)*(工序记录明细表!$G$4:$G$10000='合格率（不合格统计表）'!$B8),工序记录明细表!$I$4:$I$10000),"") -> 0 | D8: =IFERROR(SUMPRODUCT((MONTH(不合格明细表!$B$3:$B$10000)='合格率（不合格统计表）'!$G$2)*(不合格明细表!$F$3:$F$10000='合格率（不合格统计表）'!$B8)*(不合格明细表!$D$3:$D$10000='合格率（不合格统计表）'!D$4),不合格明细表!$G$3:$G$10000)/SUMPRODUCT((MONTH(工序记录明细表!$C$4:$C$10000)='合格率（不合格统计表）'!$G$2)*(工序记录明细表!$G$4:$G$10000='合格率（不合格统计表）'!$B8)*(工序记录明细表!$E$4:$E$10000='合格率（不合格统计表）'!D$4),工序记录明细表!$I$4:$I$10000),"") | E8: =IFERROR(SUMPRODUCT((MONTH(不合格明细表!$B$3:$B$10000)='合格率（不合格统计表）'!$G$2)*(不合格明细表!$F$3:$F$10000='合格率（不合格统计表）'!$B8)*(不合格明细表!$D$3:$D$10000='合格率（不合格统计表）'!E$4),不合格明细表!$G$3:$G$10000)/SUMPRODUCT((MONTH(工序记录明细表!$C$4:$C$10000)='合格率（不合格统计表）'!$G$2)*(工序记录明细表!$G$4:$G$10000='合格率（不合格统计表）'!$B8)*(工序记录明细表!$E$4:$E$10000='合格率（不合格统计表）'!E$4),工序记录明细表!$I$4:$I$10000),"") -> 0 | F8: =IFERROR(SUMPRODUCT((MONTH(不合格明细表!$B$3:$B$10000)='合格率（不合格统计表）'!$G$2)*(不合格明细表!$F$3:$F$10000='合格率（不合格统计表）'!$B8)*(不合格明细表!$D$3:$D$10000='合格率（不合格统计表）'!F$4),不合格明细表!$G$3:$G$10000)/SUMPRODUCT((MONTH(工序记录明细表!$C$4:$C$10000)='合格率（不合格统计表）'!$G$2)*(工序记录明细表!$G$4:$G$10000='合格率（不合格统计表）'!$B8)*(工序记录明细表!$E$4:$E$10000='合格率（不合格统计表）'!F$4),工序记录明细表!$I$4:$I$10000),"") -> 0 | G8: =IFERROR(SUMPRODUCT((MONTH(不合格明细表!$B$3:$B$10000)='合格率（不合格统计表）'!$G$2)*(不合格明细表!$F$3:$F$10000='合格率（不合格统计表）'!$B8)*(不合格明细表!$D$3:$D$10000='合格率（不合格统计表）'!G$4),不合格明细表!$G$3:$G$10000)/SUMPRODUCT((MONTH(工序记录明细表!$C$4:$C$10000)='合格率（不合格统计表）'!$G$2)*(工序记录明细表!$G$4:$G$10000='合格率（不合格统计表）'!$B8)*(工序记录明细表!$E$4:$E$10000='合格率（不合格统计表）'!G$4),工序记录明细表!$I$4:$I$10000),"") -> 0 | H8: =IFERROR(SUMPRODUCT((MONTH(不合格明细表!$B$3:$B$10000)='合格率（不合格统计表）'!$G$2)*(不合格明细表!$F$3:$F$10000='合格率（不合格统计表）'!$B8)*(不合格明细表!$D$3:$D$10000='合格率（不合格统计表）'!H$4),不合格明细表!$G$3:$G$10000)/SUMPRODUCT((MONTH(工序记录明细表!$C$4:$C$10000)='合格率（不合格统计表）'!$G$2)*(工序记录明细表!$G$4:$G$10000='合格率（不合格统计表）'!$B8)*(工序记录明细表!$E$4:$E$10000='合格率（不合格统计表）'!H$4),工序记录明细表!$I$4:$I$10000),"") | I8: =IFERROR(SUMPRODUCT((MONTH(不合格明细表!$B$3:$B$10000)='合格率（不合格统计表）'!$G$2)*(不合格明细表!$F$3:$F$10000='合格率（不合格统计表）'!$B8)*(不合格明细表!$D$3:$D$10000='合格率（不合格统计表）'!I$4),不合格明细表!$G$3:$G$10000)/SUMPRODUCT((MONTH(工序记录明细表!$C$4:$C$10000)='合格率（不合格统计表）'!$G$2)*(工序记录明细表!$G$4:$G$10000='合格率（不合格统计表）'!$B8)*(工序记录明细表!$E$4:$E$10000='合格率（不合格统计表）'!I$4),工序记录明细表!$I$4:$I$10000),"") | J8: =IFERROR(SUMPRODUCT((MONTH(不合格明细表!$B$3:$B$10000)='合格率（不合格统计表）'!$G$2)*(不合格明细表!$F$3:$F$10000='合格率（不合格统计表）'!$B8)*(不合格明细表!$D$3:$D$10000='合格率（不合格统计表）'!J$4),不合格明细表!$G$3:$G$10000)/SUMPRODUCT((MONTH(工序记录明细表!$C$4:$C$10000)='合格率（不合格统计表）'!$G$2)*(工序记录明细表!$G$4:$G$10000='合格率（不合格统计表）'!$B8)*(工序记录明细表!$E$4:$E$10000='合格率（不合格统计表）'!J$4),工序记录明细表!$I$4:$I$10000),"") | K8: =IFERROR(SUMPRODUCT((MONTH(不合格明细表!$B$3:$B$10000)='合格率（不合格统计表）'!$G$2)*(不合格明细表!$F$3:$F$10000='合格率（不合格统计表）'!$B8)*(不合格明细表!$D$3:$D$10000='合格率（不合格统计表）'!K$4),不合格明细表!$G$3:$G$10000)/SUMPRODUCT((MONTH(工序记录明细表!$C$4:$C$10000)='合格率（不合格统计表）'!$G$2)*(工序记录明细表!$G$4:$G$10000='合格率（不合格统计表）'!$B8)*(工序记录明细表!$E$4:$E$10000='合格率（不合格统计表）'!K$4),工序记录明细表!$I$4:$I$10000),"") | ... M8: =IFERROR(SUMPRODUCT((MONTH(不合格明细表!$B$3:$B$10000)='合格率（不合格统计表）'!$G$2)*(不合格明细表!$F$3:$F$10000='合格率（不合格统计表）'!$B8)*(不合格明细表!$D$3:$D$10000='合格率（不合格统计表）'!M$4),不合格明细表!$G$3:$G$10000)/SUMPRODUCT((MONTH(工序记录明细表!$C$4:$C$10000)='合格率（不合格统计表）'!$G$2)*(工序记录明细表!$G$4:$G$10000='合格率（不合格统计表）'!$B8)*(工序记录明细表!$E$4:$E$10000='合格率（不合格统计表）'!M$4),工序记录明细表!$I$4:$I$10000),"") | P8: 测量 | Q8: =SUM(R8:AA8) -> 0 | R8: =SUMPRODUCT((MONTH(不合格明细表!$B$3:$B$10000)='合格率（不合格统计表）'!$T$2)*(不合格明细表!$F$3:$F$10000='合格率（不合格统计表）'!$P8)*(不合格明细表!$D$3:$D$10000='合格率（不合格统计表）'!R$4),不合格明细表!$G$3:$G$10000) -> 0 | S8: =SUMPRODUCT((MONTH(不合格明细表!$B$3:$B$10000)='合格率（不合格统计表）'!$T$2)*(不合格明细表!$F$3:$F$10000='合格率（不合格统计表）'!$P8)*(不合格明细表!$D$3:$D$10000='合格率（不合格统计表）'!S$4),不合格明细表!$G$3:$G$10000) -> 0 | T8: =SUMPRODUCT((MONTH(不合格明细表!$B$3:$B$10000)='合格率（不合格统计表）'!$T$2)*(不合格明细表!$F$3:$F$10000='合格率（不合格统计表）'!$P8)*(不合格明细表!$D$3:$D$10000='合格率（不合格统计表）'!T$4),不合格明细表!$G$3:$G$10000) -> 0 | U8: =SUMPRODUCT((MONTH(不合格明细表!$B$3:$B$10000)='合格率（不合格统计表）'!$T$2)*(不合格明细表!$F$3:$F$10000='合格率（不合格统计表）'!$P8)*(不合格明细表!$D$3:$D$10000='合格率（不合格统计表）'!U$4),不合格明细表!$G$3:$G$10000) -> 0 | V8: =SUMPRODUCT((MONTH(不合格明细表!$B$3:$B$10000)='合格率（不合格统计表）'!$T$2)*(不合格明细表!$F$3:$F$10000='合格率（不合格统计表）'!$P8)*(不合格明细表!$D$3:$D$10000='合格率（不合格统计表）'!V$4),不合格明细表!$G$3:$G$10000) -> 0 | W8: =SUMPRODUCT((MONTH(不合格明细表!$B$3:$B$10000)='合格率（不合格统计表）'!$T$2)*(不合格明细表!$F$3:$F$10000='合格率（不合格统计表）'!$P8)*(不合格明细表!$D$3:$D$10000='合格率（不合格统计表）'!W$4),不合格明细表!$G$3:$G$10000) -> 0 | X8: =SUMPRODUCT((MONTH(不合格明细表!$B$3:$B$10000)='合格率（不合格统计表）'!$T$2)*(不合格明细表!$F$3:$F$10000='合格率（不合格统计表）'!$P8)*(不合格明细表!$D$3:$D$10000='合格率（不合格统计表）'!X$4),不合格明细表!$G$3:$G$10000) -> 0 | Y8: =SUMPRODUCT((MONTH(不合格明细表!$B$3:$B$10000)='合格率（不合格统计表）'!$T$2)*(不合格明细表!$F$3:$F$10000='合格率（不合格统计表）'!$P8)*(不合格明细表!$D$3:$D$10000='合格率（不合格统计表）'!Y$4),不合格明细表!$G$3:$G$10000) -> 0 | ... AA8: =SUMPRODUCT((MONTH(不合格明细表!$B$3:$B$10000)='合格率（不合格统计表）'!$T$2)*(不合格明细表!$F$3:$F$10000='合格率（不合格统计表）'!$P8)*(不合格明细表!$D$3:$D$10000='合格率（不合格统计表）'!AA$4),不合格明细表!$G$3:$G$10000) -> 0
B9: 包装 | C9: =IFERROR(SUMPRODUCT((MONTH(不合格明细表!$B$3:$B$10000)='合格率（不合格统计表）'!$G$2)*(不合格明细表!$F$3:$F$10000='合格率（不合格统计表）'!$B9)*不合格明细表!$G$3:$G$10000)/SUMPRODUCT((MONTH(工序记录明细表!$C$4:$C$10000)='合格率（不合格统计表）'!$G$2)*(工序记录明细表!$G$4:$G$10000='合格率（不合格统计表）'!$B9),工序记录明细表!$I$4:$I$10000),"") -> 0.02657602 | D9: =IFERROR(SUMPRODUCT((MONTH(不合格明细表!$B$3:$B$10000)='合格率（不合格统计表）'!$G$2)*(不合格明细表!$F$3:$F$10000='合格率（不合格统计表）'!$B9)*(不合格明细表!$D$3:$D$10000='合格率（不合格统计表）'!D$4),不合格明细表!$G$3:$G$10000)/SUMPRODUCT((MONTH(工序记录明细表!$C$4:$C$10000)='合格率（不合格统计表）'!$G$2)*(工序记录明细表!$G$4:$G$10000='合格率（不合格统计表）'!$B9)*(工序记录明细表!$E$4:$E$10000='合格率（不合格统计表）'!D$4),工序记录明细表!$I$4:$I$10000),"") -> 0.046439628 | E9: =IFERROR(SUMPRODUCT((MONTH(不合格明细表!$B$3:$B$10000)='合格率（不合格统计表）'!$G$2)*(不合格明细表!$F$3:$F$10000='合格率（不合格统计表）'!$B9)*(不合格明细表!$D$3:$D$10000='合格率（不合格统计表）'!E$4),不合格明细表!$G$3:$G$10000)/SUMPRODUCT((MONTH(工序记录明细表!$C$4:$C$10000)='合格率（不合格统计表）'!$G$2)*(工序记录明细表!$G$4:$G$10000='合格率（不合格统计表）'!$B9)*(工序记录明细表!$E$4:$E$10000='合格率（不合格统计表）'!E$4),工序记录明细表!$I$4:$I$10000),"") | F9: =IFERROR(SUMPRODUCT((MONTH(不合格明细表!$B$3:$B$10000)='合格率（不合格统计表）'!$G$2)*(不合格明细表!$F$3:$F$10000='合格率（不合格统计表）'!$B9)*(不合格明细表!$D$3:$D$10000='合格率（不合格统计表）'!F$4),不合格明细表!$G$3:$G$10000)/SUMPRODUCT((MONTH(工序记录明细表!$C$4:$C$10000)='合格率（不合格统计表）'!$G$2)*(工序记录明细表!$G$4:$G$10000='合格率（不合格统计表）'!$B9)*(工序记录明细表!$E$4:$E$10000='合格率（不合格统计表）'!F$4),工序记录明细表!$I$4:$I$10000),"") -> 0 | G9: =IFERROR(SUMPRODUCT((MONTH(不合格明细表!$B$3:$B$10000)='合格率（不合格统计表）'!$G$2)*(不合格明细表!$F$3:$F$10000='合格率（不合格统计表）'!$B9)*(不合格明细表!$D$3:$D$10000='合格率（不合格统计表）'!G$4),不合格明细表!$G$3:$G$10000)/SUMPRODUCT((MONTH(工序记录明细表!$C$4:$C$10000)='合格率（不合格统计表）'!$G$2)*(工序记录明细表!$G$4:$G$10000='合格率（不合格统计表）'!$B9)*(工序记录明细表!$E$4:$E$10000='合格率（不合格统计表）'!G$4),工序记录明细表!$I$4:$I$10000),"") -> 0.034782609 | H9: =IFERROR(SUMPRODUCT((MONTH(不合格明细表!$B$3:$B$10000)='合格率（不合格统计表）'!$G$2)*(不合格明细表!$F$3:$F$10000='合格率（不合格统计表）'!$B9)*(不合格明细表!$D$3:$D$10000='合格率（不合格统计表）'!H$4),不合格明细表!$G$3:$G$10000)/SUMPRODUCT((MONTH(工序记录明细表!$C$4:$C$10000)='合格率（不合格统计表）'!$G$2)*(工序记录明细表!$G$4:$G$10000='合格率（不合格统计表）'!$B9)*(工序记录明细表!$E$4:$E$10000='合格率（不合格统计表）'!H$4),工序记录明细表!$I$4:$I$10000),"") -> 0.033994334 | I9: =IFERROR(SUMPRODUCT((MONTH(不合格明细表!$B$3:$B$10000)='合格率（不合格统计表）'!$G$2)*(不合格明细表!$F$3:$F$10000='合格率（不合格统计表）'!$B9)*(不合格明细表!$D$3:$D$10000='合格率（不合格统计表）'!I$4),不合格明细表!$G$3:$G$10000)/SUMPRODUCT((MONTH(工序记录明细表!$C$4:$C$10000)='合格率（不合格统计表）'!$G$2)*(工序记录明细表!$G$4:$G$10000='合格率（不合格统计表）'!$B9)*(工序记录明细表!$E$4:$E$10000='合格率（不合格统计表）'!I$4),工序记录明细表!$I$4:$I$10000),"") | J9: =IFERROR(SUMPRODUCT((MONTH(不合格明细表!$B$3:$B$10000)='合格率（不合格统计表）'!$G$2)*(不合格明细表!$F$3:$F$10000='合格率（不合格统计表）'!$B9)*(不合格明细表!$D$3:$D$10000='合格率（不合格统计表）'!J$4),不合格明细表!$G$3:$G$10000)/SUMPRODUCT((MONTH(工序记录明细表!$C$4:$C$10000)='合格率（不合格统计表）'!$G$2)*(工序记录明细表!$G$4:$G$10000='合格率（不合格统计表）'!$B9)*(工序记录明细表!$E$4:$E$10000='合格率（不合格统计表）'!J$4),工序记录明细表!$I$4:$I$10000),"") | K9: =IFERROR(SUMPRODUCT((MONTH(不合格明细表!$B$3:$B$10000)='合格率（不合格统计表）'!$G$2)*(不合格明细表!$F$3:$F$10000='合格率（不合格统计表）'!$B9)*(不合格明细表!$D$3:$D$10000='合格率（不合格统计表）'!K$4),不合格明细表!$G$3:$G$10000)/SUMPRODUCT((MONTH(工序记录明细表!$C$4:$C$10000)='合格率（不合格统计表）'!$G$2)*(工序记录明细表!$G$4:$G$10000='合格率（不合格统计表）'!$B9)*(工序记录明细表!$E$4:$E$10000='合格率（不合格统计表）'!K$4),工序记录明细表!$I$4:$I$10000),"") | ... M9: =IFERROR(SUMPRODUCT((MONTH(不合格明细表!$B$3:$B$10000)='合格率（不合格统计表）'!$G$2)*(不合格明细表!$F$3:$F$10000='合格率（不合格统计表）'!$B9)*(不合格明细表!$D$3:$D$10000='合格率（不合格统计表）'!M$4),不合格明细表!$G$3:$G$10000)/SUMPRODUCT((MONTH(工序记录明细表!$C$4:$C$10000)='合格率（不合格统计表）'!$G$2)*(工序记录明细表!$G$4:$G$10000='合格率（不合格统计表）'!$B9)*(工序记录明细表!$E$4:$E$10000='合格率（不合格统计表）'!M$4),工序记录明细表!$I$4:$I$10000),"") | P9: 包装 | Q9: =SUM(R9:AA9) -> 43 | R9: =SUMPRODUCT((MONTH(不合格明细表!$B$3:$B$10000)='合格率（不合格统计表）'!$T$2)*(不合格明细表!$F$3:$F$10000='合格率（不合格统计表）'!$P9)*(不合格明细表!$D$3:$D$10000='合格率（不合格统计表）'!R$4),不合格明细表!$G$3:$G$10000) -> 15 | S9: =SUMPRODUCT((MONTH(不合格明细表!$B$3:$B$10000)='合格率（不合格统计表）'!$T$2)*(不合格明细表!$F$3:$F$10000='合格率（不合格统计表）'!$P9)*(不合格明细表!$D$3:$D$10000='合格率（不合格统计表）'!S$4),不合格明细表!$G$3:$G$10000) -> 0 | T9: =SUMPRODUCT((MONTH(不合格明细表!$B$3:$B$10000)='合格率（不合格统计表）'!$T$2)*(不合格明细表!$F$3:$F$10000='合格率（不合格统计表）'!$P9)*(不合格明细表!$D$3:$D$10000='合格率（不合格统计表）'!T$4),不合格明细表!$G$3:$G$10000) -> 0 | U9: =SUMPRODUCT((MONTH(不合格明细表!$B$3:$B$10000)='合格率（不合格统计表）'!$T$2)*(不合格明细表!$F$3:$F$10000='合格率（不合格统计表）'!$P9)*(不合格明细表!$D$3:$D$10000='合格率（不合格统计表）'!U$4),不合格明细表!$G$3:$G$10000) -> 16 | V9: =SUMPRODUCT((MONTH(不合格明细表!$B$3:$B$10000)='合格率（不合格统计表）'!$T$2)*(不合格明细表!$F$3:$F$10000='合格率（不合格统计表）'!$P9)*(不合格明细表!$D$3:$D$10000='合格率（不合格统计表）'!V$4),不合格明细表!$G$3:$G$10000) -> 12 | W9: =SUMPRODUCT((MONTH(不合格明细表!$B$3:$B$10000)='合格率（不合格统计表）'!$T$2)*(不合格明细表!$F$3:$F$10000='合格率（不合格统计表）'!$P9)*(不合格明细表!$D$3:$D$10000='合格率（不合格统计表）'!W$4),不合格明细表!$G$3:$G$10000) -> 0 | X9: =SUMPRODUCT((MONTH(不合格明细表!$B$3:$B$10000)='合格率（不合格统计表）'!$T$2)*(不合格明细表!$F$3:$F$10000='合格率（不合格统计表）'!$P9)*(不合格明细表!$D$3:$D$10000='合格率（不合格统计表）'!X$4),不合格明细表!$G$3:$G$10000) -> 0 | Y9: =SUMPRODUCT((MONTH(不合格明细表!$B$3:$B$10000)='合格率（不合格统计表）'!$T$2)*(不合格明细表!$F$3:$F$10000='合格率（不合格统计表）'!$P9)*(不合格明细表!$D$3:$D$10000='合格率（不合格统计表）'!Y$4),不合格明细表!$G$3:$G$10000) -> 0 | ... AA9: =SUMPRODUCT((MONTH(不合格明细表!$B$3:$B$10000)='合格率（不合格统计表）'!$T$2)*(不合格明细表!$F$3:$F$10000='合格率（不合格统计表）'!$P9)*(不合格明细表!$D$3:$D$10000='合格率（不合格统计表）'!AA$4),不合格明细表!$G$3:$G$10000) -> 0
C10: =IFERROR(SUMPRODUCT((MONTH(不合格明细表!$B$3:$B$10000)='合格率（不合格统计表）'!$G$2)*(不合格明细表!$F$3:$F$10000='合格率（不合格统计表）'!$B10)*不合格明细表!$G$3:$G$10000)/SUMPRODUCT((MONTH(工序记录明细表!$C$4:$C$10000)='合格率（不合格统计表）'!$G$2)*(工序记录明细表!$G$4:$G$10000='合格率（不合格统计表）'!$B10),工序记录明细表!$I$4:$I$10000),"") | D10: =IFERROR(SUMPRODUCT((MONTH(不合格明细表!$B$3:$B$10000)='合格率（不合格统计表）'!$G$2)*(不合格明细表!$F$3:$F$10000='合格率（不合格统计表）'!$B10)*(不合格明细表!$D$3:$D$10000='合格率（不合格统计表）'!D$4),不合格明细表!$G$3:$G$10000)/SUMPRODUCT((MONTH(工序记录明细表!$C$4:$C$10000)='合格率（不合格统计表）'!$G$2)*(工序记录明细表!$G$4:$G$10000='合格率（不合格统计表）'!$B10)*(工序记录明细表!$E$4:$E$10000='合格率（不合格统计表）'!D$4),工序记录明细表!$I$4:$I$10000),"") | E10: =IFERROR(SUMPRODUCT((MONTH(不合格明细表!$B$3:$B$10000)='合格率（不合格统计表）'!$G$2)*(不合格明细表!$F$3:$F$10000='合格率（不合格统计表）'!$B10)*(不合格明细表!$D$3:$D$10000='合格率（不合格统计表）'!E$4),不合格明细表!$G$3:$G$10000)/SUMPRODUCT((MONTH(工序记录明细表!$C$4:$C$10000)='合格率（不合格统计表）'!$G$2)*(工序记录明细表!$G$4:$G$10000='合格率（不合格统计表）'!$B10)*(工序记录明细表!$E$4:$E$10000='合格率（不合格统计表）'!E$4),工序记录明细表!$I$4:$I$10000),"") | F10: =IFERROR(SUMPRODUCT((MONTH(不合格明细表!$B$3:$B$10000)='合格率（不合格统计表）'!$G$2)*(不合格明细表!$F$3:$F$10000='合格率（不合格统计表）'!$B10)*(不合格明细表!$D$3:$D$10000='合格率（不合格统计表）'!F$4),不合格明细表!$G$3:$G$10000)/SUMPRODUCT((MONTH(工序记录明细表!$C$4:$C$10000)='合格率（不合格统计表）'!$G$2)*(工序记录明细表!$G$4:$G$10000='合格率（不合格统计表）'!$B10)*(工序记录明细表!$E$4:$E$10000='合格率（不合格统计表）'!F$4),工序记录明细表!$I$4:$I$10000),"") | G10: =IFERROR(SUMPRODUCT((MONTH(不合格明细表!$B$3:$B$10000)='合格率（不合格统计表）'!$G$2)*(不合格明细表!$F$3:$F$10000='合格率（不合格统计表）'!$B10)*(不合格明细表!$D$3:$D$10000='合格率（不合格统计表）'!G$4),不合格明细表!$G$3:$G$10000)/SUMPRODUCT((MONTH(工序记录明细表!$C$4:$C$10000)='合格率（不合格统计表）'!$G$2)*(工序记录明细表!$G$4:$G$10000='合格率（不合格统计表）'!$B10)*(工序记录明细表!$E$4:$E$10000='合格率（不合格统计表）'!G$4),工序记录明细表!$I$4:$I$10000),"") | H10: =IFERROR(SUMPRODUCT((MONTH(不合格明细表!$B$3:$B$10000)='合格率（不合格统计表）'!$G$2)*(不合格明细表!$F$3:$F$10000='合格率（不合格统计表）'!$B10)*(不合格明细表!$D$3:$D$10000='合格率（不合格统计表）'!H$4),不合格明细表!$G$3:$G$10000)/SUMPRODUCT((MONTH(工序记录明细表!$C$4:$C$10000)='合格率（不合格统计表）'!$G$2)*(工序记录明细表!$G$4:$G$10000='合格率（不合格统计表）'!$B10)*(工序记录明细表!$E$4:$E$10000='合格率（不合格统计表）'!H$4),工序记录明细表!$I$4:$I$10000),"") | I10: =IFERROR(SUMPRODUCT((MONTH(不合格明细表!$B$3:$B$10000)='合格率（不合格统计表）'!$G$2)*(不合格明细表!$F$3:$F$10000='合格率（不合格统计表）'!$B10)*(不合格明细表!$D$3:$D$10000='合格率（不合格统计表）'!I$4),不合格明细表!$G$3:$G$10000)/SUMPRODUCT((MONTH(工序记录明细表!$C$4:$C$10000)='合格率（不合格统计表）'!$G$2)*(工序记录明细表!$G$4:$G$10000='合格率（不合格统计表）'!$B10)*(工序记录明细表!$E$4:$E$10000='合格率（不合格统计表）'!I$4),工序记录明细表!$I$4:$I$10000),"") | J10: =IFERROR(SUMPRODUCT((MONTH(不合格明细表!$B$3:$B$10000)='合格率（不合格统计表）'!$G$2)*(不合格明细表!$F$3:$F$10000='合格率（不合格统计表）'!$B10)*(不合格明细表!$D$3:$D$10000='合格率（不合格统计表）'!J$4),不合格明细表!$G$3:$G$10000)/SUMPRODUCT((MONTH(工序记录明细表!$C$4:$C$10000)='合格率（不合格统计表）'!$G$2)*(工序记录明细表!$G$4:$G$10000='合格率（不合格统计表）'!$B10)*(工序记录明细表!$E$4:$E$10000='合格率（不合格统计表）'!J$4),工序记录明细表!$I$4:$I$10000),"") | K10: =IFERROR(SUMPRODUCT((MONTH(不合格明细表!$B$3:$B$10000)='合格率（不合格统计表）'!$G$2)*(不合格明细表!$F$3:$F$10000='合格率（不合格统计表）'!$B10)*(不合格明细表!$D$3:$D$10000='合格率（不合格统计表）'!K$4),不合格明细表!$G$3:$G$10000)/SUMPRODUCT((MONTH(工序记录明细表!$C$4:$C$10000)='合格率（不合格统计表）'!$G$2)*(工序记录明细表!$G$4:$G$10000='合格率（不合格统计表）'!$B10)*(工序记录明细表!$E$4:$E$10000='合格率（不合格统计表）'!K$4),工序记录明细表!$I$4:$I$10000),"") | ... M10: =IFERROR(SUMPRODUCT((MONTH(不合格明细表!$B$3:$B$10000)='合格率（不合格统计表）'!$G$2)*(不合格明细表!$F$3:$F$10000='合格率（不合格统计表）'!$B10)*(不合格明细表!$D$3:$D$10000='合格率（不合格统计表）'!M$4),不合格明细表!$G$3:$G$10000)/SUMPRODUCT((MONTH(工序记录明细表!$C$4:$C$10000)='合格率（不合格统计表）'!$G$2)*(工序记录明细表!$G$4:$G$10000='合格率（不合格统计表）'!$B10)*(工序记录明细表!$E$4:$E$10000='合格率（不合格统计表）'!M$4),工序记录明细表!$I$4:$I$10000),"") | Q10: =SUM(R10:AA10) -> 0 | R10: =SUMPRODUCT((MONTH(不合格明细表!$B$3:$B$10000)='合格率（不合格统计表）'!$T$2)*(不合格明细表!$F$3:$F$10000='合格率（不合格统计表）'!$P10)*(不合格明细表!$D$3:$D$10000='合格率（不合格统计表）'!R$4),不合格明细表!$G$3:$G$10000) -> 0 | S10: =SUMPRODUCT((MONTH(不合格明细表!$B$3:$B$10000)='合格率（不合格统计表）'!$T$2)*(不合格明细表!$F$3:$F$10000='合格率（不合格统计表）'!$P10)*(不合格明细表!$D$3:$D$10000='合格率（不合格统计表）'!S$4),不合格明细表!$G$3:$G$10000) -> 0 | T10: =SUMPRODUCT((MONTH(不合格明细表!$B$3:$B$10000)='合格率（不合格统计表）'!$T$2)*(不合格明细表!$F$3:$F$10000='合格率（不合格统计表）'!$P10)*(不合格明细表!$D$3:$D$10000='合格率（不合格统计表）'!T$4),不合格明细表!$G$3:$G$10000) -> 0 | U10: =SUMPRODUCT((MONTH(不合格明细表!$B$3:$B$10000)='合格率（不合格统计表）'!$T$2)*(不合格明细表!$F$3:$F$10000='合格率（不合格统计表）'!$P10)*(不合格明细表!$D$3:$D$10000='合格率（不合格统计表）'!U$4),不合格明细表!$G$3:$G$10000) -> 0 | V10: =SUMPRODUCT((MONTH(不合格明细表!$B$3:$B$10000)='合格率（不合格统计表）'!$T$2)*(不合格明细表!$F$3:$F$10000='合格率（不合格统计表）'!$P10)*(不合格明细表!$D$3:$D$10000='合格率（不合格统计表）'!V$4),不合格明细表!$G$3:$G$10000) -> 0 | W10: =SUMPRODUCT((MONTH(不合格明细表!$B$3:$B$10000)='合格率（不合格统计表）'!$T$2)*(不合格明细表!$F$3:$F$10000='合格率（不合格统计表）'!$P10)*(不合格明细表!$D$3:$D$10000='合格率（不合格统计表）'!W$4),不合格明细表!$G$3:$G$10000) -> 0 | X10: =SUMPRODUCT((MONTH(不合格明细表!$B$3:$B$10000)='合格率（不合格统计表）'!$T$2)*(不合格明细表!$F$3:$F$10000='合格率（不合格统计表）'!$P10)*(不合格明细表!$D$3:$D$10000='合格率（不合格统计表）'!X$4),不合格明细表!$G$3:$G$10000) -> 0 | Y10: =SUMPRODUCT((MONTH(不合格明细表!$B$3:$B$10000)='合格率（不合格统计表）'!$T$2)*(不合格明细表!$F$3:$F$10000='合格率（不合格统计表）'!$P10)*(不合格明细表!$D$3:$D$10000='合格率（不合格统计表）'!Y$4),不合格明细表!$G$3:$G$10000) -> 0 | ... AA10: =SUMPRODUCT((MONTH(不合格明细表!$B$3:$B$10000)='合格率（不合格统计表）'!$T$2)*(不合格明细表!$F$3:$F$10000='合格率（不合格统计表）'!$P10)*(不合格明细表!$D$3:$D$10000='合格率（不合格统计表）'!AA$4),不合格明细表!$G$3:$G$10000) -> 0
C11: =IFERROR(SUMPRODUCT((MONTH(不合格明细表!$B$3:$B$10000)='合格率（不合格统计表）'!$G$2)*(不合格明细表!$F$3:$F$10000='合格率（不合格统计表）'!$B11)*不合格明细表!$G$3:$G$10000)/SUMPRODUCT((MONTH(工序记录明细表!$C$4:$C$10000)='合格率（不合格统计表）'!$G$2)*(工序记录明细表!$G$4:$G$10000='合格率（不合格统计表）'!$B11),工序记录明细表!$I$4:$I$10000),"") | D11: =IFERROR(SUMPRODUCT((MONTH(不合格明细表!$B$3:$B$10000)='合格率（不合格统计表）'!$G$2)*(不合格明细表!$F$3:$F$10000='合格率（不合格统计表）'!$B11)*(不合格明细表!$D$3:$D$10000='合格率（不合格统计表）'!D$4),不合格明细表!$G$3:$G$10000)/SUMPRODUCT((MONTH(工序记录明细表!$C$4:$C$10000)='合格率（不合格统计表）'!$G$2)*(工序记录明细表!$G$4:$G$10000='合格率（不合格统计表）'!$B11)*(工序记录明细表!$E$4:$E$10000='合格率（不合格统计表）'!D$4),工序记录明细表!$I$4:$I$10000),"") | E11: =IFERROR(SUMPRODUCT((MONTH(不合格明细表!$B$3:$B$10000)='合格率（不合格统计表）'!$G$2)*(不合格明细表!$F$3:$F$10000='合格率（不合格统计表）'!$B11)*(不合格明细表!$D$3:$D$10000='合格率（不合格统计表）'!E$4),不合格明细表!$G$3:$G$10000)/SUMPRODUCT((MONTH(工序记录明细表!$C$4:$C$10000)='合格率（不合格统计表）'!$G$2)*(工序记录明细表!$G$4:$G$10000='合格率（不合格统计表）'!$B11)*(工序记录明细表!$E$4:$E$10000='合格率（不合格统计表）'!E$4),工序记录明细表!$I$4:$I$10000),"") | F11: =IFERROR(SUMPRODUCT((MONTH(不合格明细表!$B$3:$B$10000)='合格率（不合格统计表）'!$G$2)*(不合格明细表!$F$3:$F$10000='合格率（不合格统计表）'!$B11)*(不合格明细表!$D$3:$D$10000='合格率（不合格统计表）'!F$4),不合格明细表!$G$3:$G$10000)/SUMPRODUCT((MONTH(工序记录明细表!$C$4:$C$10000)='合格率（不合格统计表）'!$G$2)*(工序记录明细表!$G$4:$G$10000='合格率（不合格统计表）'!$B11)*(工序记录明细表!$E$4:$E$10000='合格率（不合格统计表）'!F$4),工序记录明细表!$I$4:$I$10000),"") | G11: =IFERROR(SUMPRODUCT((MONTH(不合格明细表!$B$3:$B$10000)='合格率（不合格统计表）'!$G$2)*(不合格明细表!$F$3:$F$10000='合格率（不合格统计表）'!$B11)*(不合格明细表!$D$3:$D$10000='合格率（不合格统计表）'!G$4),不合格明细表!$G$3:$G$10000)/SUMPRODUCT((MONTH(工序记录明细表!$C$4:$C$10000)='合格率（不合格统计表）'!$G$2)*(工序记录明细表!$G$4:$G$10000='合格率（不合格统计表）'!$B11)*(工序记录明细表!$E$4:$E$10000='合格率（不合格统计表）'!G$4),工序记录明细表!$I$4:$I$10000),"") | H11: =IFERROR(SUMPRODUCT((MONTH(不合格明细表!$B$3:$B$10000)='合格率（不合格统计表）'!$G$2)*(不合格明细表!$F$3:$F$10000='合格率（不合格统计表）'!$B11)*(不合格明细表!$D$3:$D$10000='合格率（不合格统计表）'!H$4),不合格明细表!$G$3:$G$10000)/SUMPRODUCT((MONTH(工序记录明细表!$C$4:$C$10000)='合格率（不合格统计表）'!$G$2)*(工序记录明细表!$G$4:$G$10000='合格率（不合格统计表）'!$B11)*(工序记录明细表!$E$4:$E$10000='合格率（不合格统计表）'!H$4),工序记录明细表!$I$4:$I$10000),"") | I11: =IFERROR(SUMPRODUCT((MONTH(不合格明细表!$B$3:$B$10000)='合格率（不合格统计表）'!$G$2)*(不合格明细表!$F$3:$F$10000='合格率（不合格统计表）'!$B11)*(不合格明细表!$D$3:$D$10000='合格率（不合格统计表）'!I$4),不合格明细表!$G$3:$G$10000)/SUMPRODUCT((MONTH(工序记录明细表!$C$4:$C$10000)='合格率（不合格统计表）'!$G$2)*(工序记录明细表!$G$4:$G$10000='合格率（不合格统计表）'!$B11)*(工序记录明细表!$E$4:$E$10000='合格率（不合格统计表）'!I$4),工序记录明细表!$I$4:$I$10000),"") | J11: =IFERROR(SUMPRODUCT((MONTH(不合格明细表!$B$3:$B$10000)='合格率（不合格统计表）'!$G$2)*(不合格明细表!$F$3:$F$10000='合格率（不合格统计表）'!$B11)*(不合格明细表!$D$3:$D$10000='合格率（不合格统计表）'!J$4),不合格明细表!$G$3:$G$10000)/SUMPRODUCT((MONTH(工序记录明细表!$C$4:$C$10000)='合格率（不合格统计表）'!$G$2)*(工序记录明细表!$G$4:$G$10000='合格率（不合格统计表）'!$B11)*(工序记录明细表!$E$4:$E$10000='合格率（不合格统计表）'!J$4),工序记录明细表!$I$4:$I$10000),"") | K11: =IFERROR(SUMPRODUCT((MONTH(不合格明细表!$B$3:$B$10000)='合格率（不合格统计表）'!$G$2)*(不合格明细表!$F$3:$F$10000='合格率（不合格统计表）'!$B11)*(不合格明细表!$D$3:$D$10000='合格率（不合格统计表）'!K$4),不合格明细表!$G$3:$G$10000)/SUMPRODUCT((MONTH(工序记录明细表!$C$4:$C$10000)='合格率（不合格统计表）'!$G$2)*(工序记录明细表!$G$4:$G$10000='合格率（不合格统计表）'!$B11)*(工序记录明细表!$E$4:$E$10000='合格率（不合格统计表）'!K$4),工序记录明细表!$I$4:$I$10000),"") | ... M11: =IFERROR(SUMPRODUCT((MONTH(不合格明细表!$B$3:$B$10000)='合格率（不合格统计表）'!$G$2)*(不合格明细表!$F$3:$F$10000='合格率（不合格统计表）'!$B11)*(不合格明细表!$D$3:$D$10000='合格率（不合格统计表）'!M$4),不合格明细表!$G$3:$G$10000)/SUMPRODUCT((MONTH(工序记录明细表!$C$4:$C$10000)='合格率（不合格统计表）'!$G$2)*(工序记录明细表!$G$4:$G$10000='合格率（不合格统计表）'!$B11)*(工序记录明细表!$E$4:$E$10000='合格率（不合格统计表）'!M$4),工序记录明细表!$I$4:$I$10000),"") | Q11: =SUM(R11:AA11) -> 0 | R11: =SUMPRODUCT((MONTH(不合格明细表!$B$3:$B$10000)='合格率（不合格统计表）'!$T$2)*(不合格明细表!$F$3:$F$10000='合格率（不合格统计表）'!$P11)*(不合格明细表!$D$3:$D$10000='合格率（不合格统计表）'!R$4),不合格明细表!$G$3:$G$10000) -> 0 | S11: =SUMPRODUCT((MONTH(不合格明细表!$B$3:$B$10000)='合格率（不合格统计表）'!$T$2)*(不合格明细表!$F$3:$F$10000='合格率（不合格统计表）'!$P11)*(不合格明细表!$D$3:$D$10000='合格率（不合格统计表）'!S$4),不合格明细表!$G$3:$G$10000) -> 0 | T11: =SUMPRODUCT((MONTH(不合格明细表!$B$3:$B$10000)='合格率（不合格统计表）'!$T$2)*(不合格明细表!$F$3:$F$10000='合格率（不合格统计表）'!$P11)*(不合格明细表!$D$3:$D$10000='合格率（不合格统计表）'!T$4),不合格明细表!$G$3:$G$10000) -> 0 | U11: =SUMPRODUCT((MONTH(不合格明细表!$B$3:$B$10000)='合格率（不合格统计表）'!$T$2)*(不合格明细表!$F$3:$F$10000='合格率（不合格统计表）'!$P11)*(不合格明细表!$D$3:$D$10000='合格率（不合格统计表）'!U$4),不合格明细表!$G$3:$G$10000) -> 0 | V11: =SUMPRODUCT((MONTH(不合格明细表!$B$3:$B$10000)='合格率（不合格统计表）'!$T$2)*(不合格明细表!$F$3:$F$10000='合格率（不合格统计表）'!$P11)*(不合格明细表!$D$3:$D$10000='合格率（不合格统计表）'!V$4),不合格明细表!$G$3:$G$10000) -> 0 | W11: =SUMPRODUCT((MONTH(不合格明细表!$B$3:$B$10000)='合格率（不合格统计表）'!$T$2)*(不合格明细表!$F$3:$F$10000='合格率（不合格统计表）'!$P11)*(不合格明细表!$D$3:$D$10000='合格率（不合格统计表）'!W$4),不合格明细表!$G$3:$G$10000) -> 0 | X11: =SUMPRODUCT((MONTH(不合格明细表!$B$3:$B$10000)='合格率（不合格统计表）'!$T$2)*(不合格明细表!$F$3:$F$10000='合格率（不合格统计表）'!$P11)*(不合格明细表!$D$3:$D$10000='合格率（不合格统计表）'!X$4),不合格明细表!$G$3:$G$10000) -> 0 | Y11: =SUMPRODUCT((MONTH(不合格明细表!$B$3:$B$10000)='合格率（不合格统计表）'!$T$2)*(不合格明细表!$F$3:$F$10000='合格率（不合格统计表）'!$P11)*(不合格明细表!$D$3:$D$10000='合格率（不合格统计表）'!Y$4),不合格明细表!$G$3:$G$10000) -> 0 | ... AA11: =SUMPRODUCT((MONTH(不合格明细表!$B$3:$B$10000)='合格率（不合格统计表）'!$T$2)*(不合格明细表!$F$3:$F$10000='合格率（不合格统计表）'!$P11)*(不合格明细表!$D$3:$D$10000='合格率（不合格统计表）'!AA$4),不合格明细表!$G$3:$G$10000) -> 0
C12: =IFERROR(SUMPRODUCT((MONTH(不合格明细表!$B$3:$B$10000)='合格率（不合格统计表）'!$G$2)*(不合格明细表!$F$3:$F$10000='合格率（不合格统计表）'!$B12)*不合格明细表!$G$3:$G$10000)/SUMPRODUCT((MONTH(工序记录明细表!$C$4:$C$10000)='合格率（不合格统计表）'!$G$2)*(工序记录明细表!$G$4:$G$10000='合格率（不合格统计表）'!$B12),工序记录明细表!$I$4:$I$10000),"") | D12: =IFERROR(SUMPRODUCT((MONTH(不合格明细表!$B$3:$B$10000)='合格率（不合格统计表）'!$G$2)*(不合格明细表!$F$3:$F$10000='合格率（不合格统计表）'!$B12)*(不合格明细表!$D$3:$D$10000='合格率（不合格统计表）'!D$4),不合格明细表!$G$3:$G$10000)/SUMPRODUCT((MONTH(工序记录明细表!$C$4:$C$10000)='合格率（不合格统计表）'!$G$2)*(工序记录明细表!$G$4:$G$10000='合格率（不合格统计表）'!$B12)*(工序记录明细表!$E$4:$E$10000='合格率（不合格统计表）'!D$4),工序记录明细表!$I$4:$I$10000),"") | E12: =IFERROR(SUMPRODUCT((MONTH(不合格明细表!$B$3:$B$10000)='合格率（不合格统计表）'!$G$2)*(不合格明细表!$F$3:$F$10000='合格率（不合格统计表）'!$B12)*(不合格明细表!$D$3:$D$10000='合格率（不合格统计表）'!E$4),不合格明细表!$G$3:$G$10000)/SUMPRODUCT((MONTH(工序记录明细表!$C$4:$C$10000)='合格率（不合格统计表）'!$G$2)*(工序记录明细表!$G$4:$G$10000='合格率（不合格统计表）'!$B12)*(工序记录明细表!$E$4:$E$10000='合格率（不合格统计表）'!E$4),工序记录明细表!$I$4:$I$10000),"") | F12: =IFERROR(SUMPRODUCT((MONTH(不合格明细表!$B$3:$B$10000)='合格率（不合格统计表）'!$G$2)*(不合格明细表!$F$3:$F$10000='合格率（不合格统计表）'!$B12)*(不合格明细表!$D$3:$D$10000='合格率（不合格统计表）'!F$4),不合格明细表!$G$3:$G$10000)/SUMPRODUCT((MONTH(工序记录明细表!$C$4:$C$10000)='合格率（不合格统计表）'!$G$2)*(工序记录明细表!$G$4:$G$10000='合格率（不合格统计表）'!$B12)*(工序记录明细表!$E$4:$E$10000='合格率（不合格统计表）'!F$4),工序记录明细表!$I$4:$I$10000),"") | G12: =IFERROR(SUMPRODUCT((MONTH(不合格明细表!$B$3:$B$10000)='合格率（不合格统计表）'!$G$2)*(不合格明细表!$F$3:$F$10000='合格率（不合格统计表）'!$B12)*(不合格明细表!$D$3:$D$10000='合格率（不合格统计表）'!G$4),不合格明细表!$G$3:$G$10000)/SUMPRODUCT((MONTH(工序记录明细表!$C$4:$C$10000)='合格率（不合格统计表）'!$G$2)*(工序记录明细表!$G$4:$G$10000='合格率（不合格统计表）'!$B12)*(工序记录明细表!$E$4:$E$10000='合格率（不合格统计表）'!G$4),工序记录明细表!$I$4:$I$10000),"") | H12: =IFERROR(SUMPRODUCT((MONTH(不合格明细表!$B$3:$B$10000)='合格率（不合格统计表）'!$G$2)*(不合格明细表!$F$3:$F$10000='合格率（不合格统计表）'!$B12)*(不合格明细表!$D$3:$D$10000='合格率（不合格统计表）'!H$4),不合格明细表!$G$3:$G$10000)/SUMPRODUCT((MONTH(工序记录明细表!$C$4:$C$10000)='合格率（不合格统计表）'!$G$2)*(工序记录明细表!$G$4:$G$10000='合格率（不合格统计表）'!$B12)*(工序记录明细表!$E$4:$E$10000='合格率（不合格统计表）'!H$4),工序记录明细表!$I$4:$I$10000),"") | I12: =IFERROR(SUMPRODUCT((MONTH(不合格明细表!$B$3:$B$10000)='合格率（不合格统计表）'!$G$2)*(不合格明细表!$F$3:$F$10000='合格率（不合格统计表）'!$B12)*(不合格明细表!$D$3:$D$10000='合格率（不合格统计表）'!I$4),不合格明细表!$G$3:$G$10000)/SUMPRODUCT((MONTH(工序记录明细表!$C$4:$C$10000)='合格率（不合格统计表）'!$G$2)*(工序记录明细表!$G$4:$G$10000='合格率（不合格统计表）'!$B12)*(工序记录明细表!$E$4:$E$10000='合格率（不合格统计表）'!I$4),工序记录明细表!$I$4:$I$10000),"") | J12: =IFERROR(SUMPRODUCT((MONTH(不合格明细表!$B$3:$B$10000)='合格率（不合格统计表）'!$G$2)*(不合格明细表!$F$3:$F$10000='合格率（不合格统计表）'!$B12)*(不合格明细表!$D$3:$D$10000='合格率（不合格统计表）'!J$4),不合格明细表!$G$3:$G$10000)/SUMPRODUCT((MONTH(工序记录明细表!$C$4:$C$10000)='合格率（不合格统计表）'!$G$2)*(工序记录明细表!$G$4:$G$10000='合格率（不合格统计表）'!$B12)*(工序记录明细表!$E$4:$E$10000='合格率（不合格统计表）'!J$4),工序记录明细表!$I$4:$I$10000),"") | K12: =IFERROR(SUMPRODUCT((MONTH(不合格明细表!$B$3:$B$10000)='合格率（不合格统计表）'!$G$2)*(不合格明细表!$F$3:$F$10000='合格率（不合格统计表）'!$B12)*(不合格明细表!$D$3:$D$10000='合格率（不合格统计表）'!K$4),不合格明细表!$G$3:$G$10000)/SUMPRODUCT((MONTH(工序记录明细表!$C$4:$C$10000)='合格率（不合格统计表）'!$G$2)*(工序记录明细表!$G$4:$G$10000='合格率（不合格统计表）'!$B12)*(工序记录明细表!$E$4:$E$10000='合格率（不合格统计表）'!K$4),工序记录明细表!$I$4:$I$10000),"") | ... M12: =IFERROR(SUMPRODUCT((MONTH(不合格明细表!$B$3:$B$10000)='合格率（不合格统计表）'!$G$2)*(不合格明细表!$F$3:$F$10000='合格率（不合格统计表）'!$B12)*(不合格明细表!$D$3:$D$10000='合格率（不合格统计表）'!M$4),不合格明细表!$G$3:$G$10000)/SUMPRODUCT((MONTH(工序记录明细表!$C$4:$C$10000)='合格率（不合格统计表）'!$G$2)*(工序记录明细表!$G$4:$G$10000='合格率（不合格统计表）'!$B12)*(工序记录明细表!$E$4:$E$10000='合格率（不合格统计表）'!M$4),工序记录明细表!$I$4:$I$10000),"") | Q12: =SUM(R12:AA12) -> 0 | R12: =SUMPRODUCT((MONTH(不合格明细表!$B$3:$B$10000)='合格率（不合格统计表）'!$T$2)*(不合格明细表!$F$3:$F$10000='合格率（不合格统计表）'!$P12)*(不合格明细表!$D$3:$D$10000='合格率（不合格统计表）'!R$4),不合格明细表!$G$3:$G$10000) -> 0 | S12: =SUMPRODUCT((MONTH(不合格明细表!$B$3:$B$10000)='合格率（不合格统计表）'!$T$2)*(不合格明细表!$F$3:$F$10000='合格率（不合格统计表）'!$P12)*(不合格明细表!$D$3:$D$10000='合格率（不合格统计表）'!S$4),不合格明细表!$G$3:$G$10000) -> 0 | T12: =SUMPRODUCT((MONTH(不合格明细表!$B$3:$B$10000)='合格率（不合格统计表）'!$T$2)*(不合格明细表!$F$3:$F$10000='合格率（不合格统计表）'!$P12)*(不合格明细表!$D$3:$D$10000='合格率（不合格统计表）'!T$4),不合格明细表!$G$3:$G$10000) -> 0 | U12: =SUMPRODUCT((MONTH(不合格明细表!$B$3:$B$10000)='合格率（不合格统计表）'!$T$2)*(不合格明细表!$F$3:$F$10000='合格率（不合格统计表）'!$P12)*(不合格明细表!$D$3:$D$10000='合格率（不合格统计表）'!U$4),不合格明细表!$G$3:$G$10000) -> 0 | V12: =SUMPRODUCT((MONTH(不合格明细表!$B$3:$B$10000)='合格率（不合格统计表）'!$T$2)*(不合格明细表!$F$3:$F$10000='合格率（不合格统计表）'!$P12)*(不合格明细表!$D$3:$D$10000='合格率（不合格统计表）'!V$4),不合格明细表!$G$3:$G$10000) -> 0 | W12: =SUMPRODUCT((MONTH(不合格明细表!$B$3:$B$10000)='合格率（不合格统计表）'!$T$2)*(不合格明细表!$F$3:$F$10000='合格率（不合格统计表）'!$P12)*(不合格明细表!$D$3:$D$10000='合格率（不合格统计表）'!W$4),不合格明细表!$G$3:$G$10000) -> 0 | X12: =SUMPRODUCT((MONTH(不合格明细表!$B$3:$B$10000)='合格率（不合格统计表）'!$T$2)*(不合格明细表!$F$3:$F$10000='合格率（不合格统计表）'!$P12)*(不合格明细表!$D$3:$D$10000='合格率（不合格统计表）'!X$4),不合格明细表!$G$3:$G$10000) -> 0 | Y12: =SUMPRODUCT((MONTH(不合格明细表!$B$3:$B$10000)='合格率（不合格统计表）'!$T$2)*(不合格明细表!$F$3:$F$10000='合格率（不合格统计表）'!$P12)*(不合格明细表!$D$3:$D$10000='合格率（不合格统计表）'!Y$4),不合格明细表!$G$3:$G$10000) -> 0 | ... AA12: =SUMPRODUCT((MONTH(不合格明细表!$B$3:$B$10000)='合格率（不合格统计表）'!$T$2)*(不合格明细表!$F$3:$F$10000='合格率（不合格统计表）'!$P12)*(不合格明细表!$D$3:$D$10000='合格率（不合格统计表）'!AA$4),不合格明细表!$G$3:$G$10000) -> 0
C13: =IFERROR(SUMPRODUCT((MONTH(不合格明细表!$B$3:$B$10000)='合格率（不合格统计表）'!$G$2)*(不合格明细表!$F$3:$F$10000='合格率（不合格统计表）'!$B13)*不合格明细表!$G$3:$G$10000)/SUMPRODUCT((MONTH(工序记录明细表!$C$4:$C$10000)='合格率（不合格统计表）'!$G$2)*(工序记录明细表!$G$4:$G$10000='合格率（不合格统计表）'!$B13),工序记录明细表!$I$4:$I$10000),"") | D13: =IFERROR(SUMPRODUCT((MONTH(不合格明细表!$B$3:$B$10000)='合格率（不合格统计表）'!$G$2)*(不合格明细表!$F$3:$F$10000='合格率（不合格统计表）'!$B13)*(不合格明细表!$D$3:$D$10000='合格率（不合格统计表）'!D$4),不合格明细表!$G$3:$G$10000)/SUMPRODUCT((MONTH(工序记录明细表!$C$4:$C$10000)='合格率（不合格统计表）'!$G$2)*(工序记录明细表!$G$4:$G$10000='合格率（不合格统计表）'!$B13)*(工序记录明细表!$E$4:$E$10000='合格率（不合格统计表）'!D$4),工序记录明细表!$I$4:$I$10000),"") | E13: =IFERROR(SUMPRODUCT((MONTH(不合格明细表!$B$3:$B$10000)='合格率（不合格统计表）'!$G$2)*(不合格明细表!$F$3:$F$10000='合格率（不合格统计表）'!$B13)*(不合格明细表!$D$3:$D$10000='合格率（不合格统计表）'!E$4),不合格明细表!$G$3:$G$10000)/SUMPRODUCT((MONTH(工序记录明细表!$C$4:$C$10000)='合格率（不合格统计表）'!$G$2)*(工序记录明细表!$G$4:$G$10000='合格率（不合格统计表）'!$B13)*(工序记录明细表!$E$4:$E$10000='合格率（不合格统计表）'!E$4),工序记录明细表!$I$4:$I$10000),"") | F13: =IFERROR(SUMPRODUCT((MONTH(不合格明细表!$B$3:$B$10000)='合格率（不合格统计表）'!$G$2)*(不合格明细表!$F$3:$F$10000='合格率（不合格统计表）'!$B13)*(不合格明细表!$D$3:$D$10000='合格率（不合格统计表）'!F$4),不合格明细表!$G$3:$G$10000)/SUMPRODUCT((MONTH(工序记录明细表!$C$4:$C$10000)='合格率（不合格统计表）'!$G$2)*(工序记录明细表!$G$4:$G$10000='合格率（不合格统计表）'!$B13)*(工序记录明细表!$E$4:$E$10000='合格率（不合格统计表）'!F$4),工序记录明细表!$I$4:$I$10000),"") | G13: =IFERROR(SUMPRODUCT((MONTH(不合格明细表!$B$3:$B$10000)='合格率（不合格统计表）'!$G$2)*(不合格明细表!$F$3:$F$10000='合格率（不合格统计表）'!$B13)*(不合格明细表!$D$3:$D$10000='合格率（不合格统计表）'!G$4),不合格明细表!$G$3:$G$10000)/SUMPRODUCT((MONTH(工序记录明细表!$C$4:$C$10000)='合格率（不合格统计表）'!$G$2)*(工序记录明细表!$G$4:$G$10000='合格率（不合格统计表）'!$B13)*(工序记录明细表!$E$4:$E$10000='合格率（不合格统计表）'!G$4),工序记录明细表!$I$4:$I$10000),"") | H13: =IFERROR(SUMPRODUCT((MONTH(不合格明细表!$B$3:$B$10000)='合格率（不合格统计表）'!$G$2)*(不合格明细表!$F$3:$F$10000='合格率（不合格统计表）'!$B13)*(不合格明细表!$D$3:$D$10000='合格率（不合格统计表）'!H$4),不合格明细表!$G$3:$G$10000)/SUMPRODUCT((MONTH(工序记录明细表!$C$4:$C$10000)='合格率（不合格统计表）'!$G$2)*(工序记录明细表!$G$4:$G$10000='合格率（不合格统计表）'!$B13)*(工序记录明细表!$E$4:$E$10000='合格率（不合格统计表）'!H$4),工序记录明细表!$I$4:$I$10000),"") | I13: =IFERROR(SUMPRODUCT((MONTH(不合格明细表!$B$3:$B$10000)='合格率（不合格统计表）'!$G$2)*(不合格明细表!$F$3:$F$10000='合格率（不合格统计表）'!$B13)*(不合格明细表!$D$3:$D$10000='合格率（不合格统计表）'!I$4),不合格明细表!$G$3:$G$10000)/SUMPRODUCT((MONTH(工序记录明细表!$C$4:$C$10000)='合格率（不合格统计表）'!$G$2)*(工序记录明细表!$G$4:$G$10000='合格率（不合格统计表）'!$B13)*(工序记录明细表!$E$4:$E$10000='合格率（不合格统计表）'!I$4),工序记录明细表!$I$4:$I$10000),"") | J13: =IFERROR(SUMPRODUCT((MONTH(不合格明细表!$B$3:$B$10000)='合格率（不合格统计表）'!$G$2)*(不合格明细表!$F$3:$F$10000='合格率（不合格统计表）'!$B13)*(不合格明细表!$D$3:$D$10000='合格率（不合格统计表）'!J$4),不合格明细表!$G$3:$G$10000)/SUMPRODUCT((MONTH(工序记录明细表!$C$4:$C$10000)='合格率（不合格统计表）'!$G$2)*(工序记录明细表!$G$4:$G$10000='合格率（不合格统计表）'!$B13)*(工序记录明细表!$E$4:$E$10000='合格率（不合格统计表）'!J$4),工序记录明细表!$I$4:$I$10000),"") | K13: =IFERROR(SUMPRODUCT((MONTH(不合格明细表!$B$3:$B$10000)='合格率（不合格统计表）'!$G$2)*(不合格明细表!$F$3:$F$10000='合格率（不合格统计表）'!$B13)*(不合格明细表!$D$3:$D$10000='合格率（不合格统计表）'!K$4),不合格明细表!$G$3:$G$10000)/SUMPRODUCT((MONTH(工序记录明细表!$C$4:$C$10000)='合格率（不合格统计表）'!$G$2)*(工序记录明细表!$G$4:$G$10000='合格率（不合格统计表）'!$B13)*(工序记录明细表!$E$4:$E$10000='合格率（不合格统计表）'!K$4),工序记录明细表!$I$4:$I$10000),"") | ... M13: =IFERROR(SUMPRODUCT((MONTH(不合格明细表!$B$3:$B$10000)='合格率（不合格统计表）'!$G$2)*(不合格明细表!$F$3:$F$10000='合格率（不合格统计表）'!$B13)*(不合格明细表!$D$3:$D$10000='合格率（不合格统计表）'!M$4),不合格明细表!$G$3:$G$10000)/SUMPRODUCT((MONTH(工序记录明细表!$C$4:$C$10000)='合格率（不合格统计表）'!$G$2)*(工序记录明细表!$G$4:$G$10000='合格率（不合格统计表）'!$B13)*(工序记录明细表!$E$4:$E$10000='合格率（不合格统计表）'!M$4),工序记录明细表!$I$4:$I$10000),"") | Q13: =SUM(R13:AA13) -> 0 | R13: =SUMPRODUCT((MONTH(不合格明细表!$B$3:$B$10000)='合格率（不合格统计表）'!$T$2)*(不合格明细表!$F$3:$F$10000='合格率（不合格统计表）'!$P13)*(不合格明细表!$D$3:$D$10000='合格率（不合格统计表）'!R$4),不合格明细表!$G$3:$G$10000) -> 0 | S13: =SUMPRODUCT((MONTH(不合格明细表!$B$3:$B$10000)='合格率（不合格统计表）'!$T$2)*(不合格明细表!$F$3:$F$10000='合格率（不合格统计表）'!$P13)*(不合格明细表!$D$3:$D$10000='合格率（不合格统计表）'!S$4),不合格明细表!$G$3:$G$10000) -> 0 | T13: =SUMPRODUCT((MONTH(不合格明细表!$B$3:$B$10000)='合格率（不合格统计表）'!$T$2)*(不合格明细表!$F$3:$F$10000='合格率（不合格统计表）'!$P13)*(不合格明细表!$D$3:$D$10000='合格率（不合格统计表）'!T$4),不合格明细表!$G$3:$G$10000) -> 0 | U13: =SUMPRODUCT((MONTH(不合格明细表!$B$3:$B$10000)='合格率（不合格统计表）'!$T$2)*(不合格明细表!$F$3:$F$10000='合格率（不合格统计表）'!$P13)*(不合格明细表!$D$3:$D$10000='合格率（不合格统计表）'!U$4),不合格明细表!$G$3:$G$10000) -> 0 | V13: =SUMPRODUCT((MONTH(不合格明细表!$B$3:$B$10000)='合格率（不合格统计表）'!$T$2)*(不合格明细表!$F$3:$F$10000='合格率（不合格统计表）'!$P13)*(不合格明细表!$D$3:$D$10000='合格率（不合格统计表）'!V$4),不合格明细表!$G$3:$G$10000) -> 0 | W13: =SUMPRODUCT((MONTH(不合格明细表!$B$3:$B$10000)='合格率（不合格统计表）'!$T$2)*(不合格明细表!$F$3:$F$10000='合格率（不合格统计表）'!$P13)*(不合格明细表!$D$3:$D$10000='合格率（不合格统计表）'!W$4),不合格明细表!$G$3:$G$10000) -> 0 | X13: =SUMPRODUCT((MONTH(不合格明细表!$B$3:$B$10000)='合格率（不合格统计表）'!$T$2)*(不合格明细表!$F$3:$F$10000='合格率（不合格统计表）'!$P13)*(不合格明细表!$D$3:$D$10000='合格率（不合格统计表）'!X$4),不合格明细表!$G$3:$G$10000) -> 0 | Y13: =SUMPRODUCT((MONTH(不合格明细表!$B$3:$B$10000)='合格率（不合格统计表）'!$T$2)*(不合格明细表!$F$3:$F$10000='合格率（不合格统计表）'!$P13)*(不合格明细表!$D$3:$D$10000='合格率（不合格统计表）'!Y$4),不合格明细表!$G$3:$G$10000) -> 0 | ... AA13: =SUMPRODUCT((MONTH(不合格明细表!$B$3:$B$10000)='合格率（不合格统计表）'!$T$2)*(不合格明细表!$F$3:$F$10000='合格率（不合格统计表）'!$P13)*(不合格明细表!$D$3:$D$10000='合格率（不合格统计表）'!AA$4),不合格明细表!$G$3:$G$10000) -> 0
