Workbook

Sheet 目录
B1: 计件工资管理系统 （含合格率、工作量分析）

Sheet 工序记录明细表
C1: 工序记录明细表
C3: 日期 | D3: 员工编号 | E3: 员工姓名 | F3: 班组 | G3: 工序名称 | H3: 单价 | I3: 数量 | J3: 合计金额
A4: =IF(AND(C4<=员工工序明细查询!$I$3,C4>=员工工序明细查询!$F$3,OR(D4=员工工序明细查询!$F$2,员工工序明细查询!$F$2=""),OR(G4=员工工序明细查询!$I$2,员工工序明细查询!$I$2="")),ROW()&"","") -> 4 | C4: 43041 | D4: N001 | E4: =IFERROR(VLOOKUP(D4,员工信息表!B:D,2,0),"") -> 张1 | F4: =IFERROR(VLOOKUP(D4,员工信息表!B:D,3,0),"") -> 甲 | G4: 切割 | H4: =IFERROR(VLOOKUP(G4,工序对照表!B:C,2,0),"") -> 0.8 | I4: 264 | J4: =H4*I4 -> 211.2
A5: =IF(AND(C5<=员工工序明细查询!$I$3,C5>=员工工序明细查询!$F$3,OR(D5=员工工序明细查询!$F$2,员工工序明细查询!$F$2=""),OR(G5=员工工序明细查询!$I$2,员工工序明细查询!$I$2="")),ROW()&"","") | C5: 43041 | D5: N002 | E5: =IFERROR(VLOOKUP(D5,员工信息表!B:D,2,0),"") -> 张2 | F5: =IFERROR(VLOOKUP(D5,员工信息表!B:D,3,0),"") -> 甲 | G5: 抛光 | H5: =IFERROR(VLOOKUP(G5,工序对照表!B:C,2,0),"") -> 1.2 | I5: 483 | J5: =H5*I5 -> 579.6
A6: =IF(AND(C6<=员工工序明细查询!$I$3,C6>=员工工序明细查询!$F$3,OR(D6=员工工序明细查询!$F$2,员工工序明细查询!$F$2=""),OR(G6=员工工序明细查询!$I$2,员工工序明细查询!$I$2="")),ROW()&"","") | C6: 43041 | D6: N003 | E6: =IFERROR(VLOOKUP(D6,员工信息表!B:D,2,0),"") -> 张3 | F6: =IFERROR(VLOOKUP(D6,员工信息表!B:D,3,0),"") -> 乙 | G6: 组合 | H6: =IFERROR(VLOOKUP(G6,工序对照表!B:C,2,0),"") -> 0.9 | I6: 394 | J6: =H6*I6 -> 354.6
A7: =IF(AND(C7<=员工工序明细查询!$I$3,C7>=员工工序明细查询!$F$3,OR(D7=员工工序明细查询!$F$2,员工工序明细查询!$F$2=""),OR(G7=员工工序明细查询!$I$2,员工工序明细查询!$I$2="")),ROW()&"","") | C7: 43041 | D7: N004 | E7: =IFERROR(VLOOKUP(D7,员工信息表!B:D,2,0),"") -> 张4 | F7: =IFERROR(VLOOKUP(D7,员工信息表!B:D,3,0),"") -> 乙 | G7: 测量 | H7: =IFERROR(VLOOKUP(G7,工序对照表!B:C,2,0),"") -> 0.5 | I7: 296 | J7: =H7*I7 -> 148
A8: =IF(AND(C8<=员工工序明细查询!$I$3,C8>=员工工序明细查询!$F$3,OR(D8=员工工序明细查询!$F$2,员工工序明细查询!$F$2=""),OR(G8=员工工序明细查询!$I$2,员工工序明细查询!$I$2="")),ROW()&"","") | C8: 43041 | D8: N005 | E8: =IFERROR(VLOOKUP(D8,员工信息表!B:D,2,0),"") -> 张5 | F8: =IFERROR(VLOOKUP(D8,员工信息表!B:D,3,0),"") -> 丙 | G8: 包装 | H8: =IFERROR(VLOOKUP(G8,工序对照表!B:C,2,0),"") -> 0.6 | I8: 353 | J8: =H8*I8 -> 211.8
A9: =IF(AND(C9<=员工工序明细查询!$I$3,C9>=员工工序明细查询!$F$3,OR(D9=员工工序明细查询!$F$2,员工工序明细查询!$F$2=""),OR(G9=员工工序明细查询!$I$2,员工工序明细查询!$I$2="")),ROW()&"","") | C9: 43041 | D9: N006 | E9: =IFERROR(VLOOKUP(D9,员工信息表!B:D,2,0),"") -> 张6 | F9: =IFERROR(VLOOKUP(D9,员工信息表!B:D,3,0),"") -> 丙 | G9: 切割 | H9: =IFERROR(VLOOKUP(G9,工序对照表!B:C,2,0),"") -> 0.8 | I9: 459 | J9: =H9*I9 -> 367.2
A10: =IF(AND(C10<=员工工序明细查询!$I$3,C10>=员工工序明细查询!$F$3,OR(D10=员工工序明细查询!$F$2,员工工序明细查询!$F$2=""),OR(G10=员工工序明细查询!$I$2,员工工序明细查询!$I$2="")),ROW()&"","") -> 10 | C10: 43042 | D10: N001 | E10: =IFERROR(VLOOKUP(D10,员工信息表!B:D,2,0),"") -> 张1 | F10: =IFERROR(VLOOKUP(D10,员工信息表!B:D,3,0),"") -> 甲 | G10: 抛光 | H10: =IFERROR(VLOOKUP(G10,工序对照表!B:C,2,0),"") -> 1.2 | I10: 283 | J10: =H10*I10 -> 339.6
A11: =IF(AND(C11<=员工工序明细查询!$I$3,C11>=员工工序明细查询!$F$3,OR(D11=员工工序明细查询!$F$2,员工工序明细查询!$F$2=""),OR(G11=员工工序明细查询!$I$2,员工工序明细查询!$I$2="")),ROW()&"","") | C11: 43042 | D11: N002 | E11: =IFERROR(VLOOKUP(D11,员工信息表!B:D,2,0),"") -> 张2 | F11: =IFERROR(VLOOKUP(D11,员工信息表!B:D,3,0),"") -> 甲 | G11: 组合 | H11: =IFERROR(VLOOKUP(G11,工序对照表!B:C,2,0),"") -> 0.9 | I11: 281 | J11: =H11*I11 -> 252.9
A12: =IF(AND(C12<=员工工序明细查询!$I$3,C12>=员工工序明细查询!$F$3,OR(D12=员工工序明细查询!$F$2,员工工序明细查询!$F$2=""),OR(G12=员工工序明细查询!$I$2,员工工序明细查询!$I$2="")),ROW()&"","") | C12: 43042 | D12: N003 | E12: =IFERROR(VLOOKUP(D12,员工信息表!B:D,2,0),"") -> 张3 | F12: =IFERROR(VLOOKUP(D12,员工信息表!B:D,3,0),"") -> 乙 | G12: 测量 | H12: =IFERROR(VLOOKUP(G12,工序对照表!B:C,2,0),"") -> 0.5 | I12: 442 | J12: =H12*I12 -> 221
A13: =IF(AND(C13<=员工工序明细查询!$I$3,C13>=员工工序明细查询!$F$3,OR(D13=员工工序明细查询!$F$2,员工工序明细查询!$F$2=""),OR(G13=员工工序明细查询!$I$2,员工工序明细查询!$I$2="")),ROW()&"","") | C13: 43042 | D13: N004 | E13: =IFERROR(VLOOKUP(D13,员工信息表!B:D,2,0),"") -> 张4 | F13: =IFERROR(VLOOKUP(D13,员工信息表!B:D,3,0),"") -> 乙 | G13: 包装 | H13: =IFERROR(VLOOKUP(G13,工序对照表!B:C,2,0),"") -> 0.6 | I13: 460 | J13: =H13*I13 -> 276
A14: =IF(AND(C14<=员工工序明细查询!$I$3,C14>=员工工序明细查询!$F$3,OR(D14=员工工序明细查询!$F$2,员工工序明细查询!$F$2=""),OR(G14=员工工序明细查询!$I$2,员工工序明细查询!$I$2="")),ROW()&"","") | C14: 43042 | D14: N005 | E14: =IFERROR(VLOOKUP(D14,员工信息表!B:D,2,0),"") -> 张5 | F14: =IFERROR(VLOOKUP(D14,员工信息表!B:D,3,0),"") -> 丙 | G14: 切割 | H14: =IFERROR(VLOOKUP(G14,工序对照表!B:C,2,0),"") -> 0.8 | I14: 208 | J14: =H14*I14 -> 166.4
A15: =IF(AND(C15<=员工工序明细查询!$I$3,C15>=员工工序明细查询!$F$3,OR(D15=员工工序明细查询!$F$2,员工工序明细查询!$F$2=""),OR(G15=员工工序明细查询!$I$2,员工工序明细查询!$I$2="")),ROW()&"","") | C15: 43042 | D15: N006 | E15: =IFERROR(VLOOKUP(D15,员工信息表!B:D,2,0),"") -> 张6 | F15: =IFERROR(VLOOKUP(D15,员工信息表!B:D,3,0),"") -> 丙 | G15: 抛光 | H15: =IFERROR(VLOOKUP(G15,工序对照表!B:C,2,0),"") -> 1.2 | I15: 260 | J15: =H15*I15 -> 312
... A23: =IF(AND(C23<=员工工序明细查询!$I$3,C23>=员工工序明细查询!$F$3,OR(D23=员工工序明细查询!$F$2,员工工序明细查询!$F$2=""),OR(G23=员工工序明细查询!$I$2,员工工序明细查询!$I$2="")),ROW()&"","") -> 23 | C23: 43043 | D23: N001 | E23: =IFERROR(VLOOKUP(D23,员工信息表!B:D,2,0),"") -> 张1 | F23: =IFERROR(VLOOKUP(D23,员工信息表!B:D,3,0),"") -> 甲 | G23: 包装 | H23: =IFERROR(VLOOKUP(G23,工序对照表!B:C,2,0),"") -> 0.6 | I23: 323 | J23: =H23*I23 -> 193.8
A24: =IF(AND(C24<=员工工序明细查询!$I$3,C24>=员工工序明细查询!$F$3,OR(D24=员工工序明细查询!$F$2,员工工序明细查询!$F$2=""),OR(G24=员工工序明细查询!$I$2,员工工序明细查询!$I$2="")),ROW()&"","") | E24: =IFERROR(VLOOKUP(D24,员工信息表!B:D,2,0),"") | F24: =IFERROR(VLOOKUP(D24,员工信息表!B:D,3,0),"") | H24: =IFERROR(VLOOKUP(G24,工序对照表!B:C,2,0),"")
A25: =IF(AND(C25<=员工工序明细查询!$I$3,C25>=员工工序明细查询!$F$3,OR(D25=员工工序明细查询!$F$2,员工工序明细查询!$F$2=""),OR(G25=员工工序明细查询!$I$2,员工工序明细查询!$I$2="")),ROW()&"","") | E25: =IFERROR(VLOOKUP(D25,员工信息表!B:D,2,0),"") | F25: =IFERROR(VLOOKUP(D25,员工信息表!B:D,3,0),"") | H25: =IFERROR(VLOOKUP(G25,工序对照表!B:C,2,0),"")
A26: =IF(AND(C26<=员工工序明细查询!$I$3,C26>=员工工序明细查询!$F$3,OR(D26=员工工序明细查询!$F$2,员工工序明细查询!$F$2=""),OR(G26=员工工序明细查询!$I$2,员工工序明细查询!$I$2="")),ROW()&"","") | E26: =IFERROR(VLOOKUP(D26,员工信息表!B:D,2,0),"") | F26: =IFERROR(VLOOKUP(D26,员工信息表!B:D,3,0),"") | H26: =IFERROR(VLOOKUP(G26,工序对照表!B:C,2,0),"")
A27: =IF(AND(C27<=员工工序明细查询!$I$3,C27>=员工工序明细查询!$F$3,OR(D27=员工工序明细查询!$F$2,员工工序明细查询!$F$2=""),OR(G27=员工工序明细查询!$I$2,员工工序明细查询!$I$2="")),ROW()&"","") | E27: =IFERROR(VLOOKUP(D27,员工信息表!B:D,2,0),"") | F27: =IFERROR(VLOOKUP(D27,员工信息表!B:D,3,0),"") | H27: =IFERROR(VLOOKUP(G27,工序对照表!B:C,2,0),"")
A28: =IF(AND(C28<=员工工序明细查询!$I$3,C28>=员工工序明细查询!$F$3,OR(D28=员工工序明细查询!$F$2,员工工序明细查询!$F$2=""),OR(G28=员工工序明细查询!$I$2,员工工序明细查询!$I$2="")),ROW()&"","") | E28: =IFERROR(VLOOKUP(D28,员工信息表!B:D,2,0),"") | F28: =IFERROR(VLOOKUP(D28,员工信息表!B:D,3,0),"") | H28: =IFERROR(VLOOKUP(G28,工序对照表!B:C,2,0),"")
A29: =IF(AND(C29<=员工工序明细查询!$I$3,C29>=员工工序明细查询!$F$3,OR(D29=员工工序明细查询!$F$2,员工工序明细查询!$F$2=""),OR(G29=员工工序明细查询!$I$2,员工工序明细查询!$I$2="")),ROW()&"","") | E29: =IFERROR(VLOOKUP(D29,员工信息表!B:D,2,0),"") | F29: =IFERROR(VLOOKUP(D29,员工信息表!B:D,3,0),"") | H29: =IFERROR(VLOOKUP(G29,工序对照表!B:C,2,0),"")
A30: =IF(AND(C30<=员工工序明细查询!$I$3,C30>=员工工序明细查询!$F$3,OR(D30=员工工序明细查询!$F$2,员工工序明细查询!$F$2=""),OR(G30=员工工序明细查询!$I$2,员工工序明细查询!$I$2="")),ROW()&"","") | E30: =IFERROR(VLOOKUP(D30,员工信息表!B:D,2,0),"") | F30: =IFERROR(VLOOKUP(D30,员工信息表!B:D,3,0),"") | H30: =IFERROR(VLOOKUP(G30,工序对照表!B:C,2,0),"")
A31: =IF(AND(C31<=员工工序明细查询!$I$3,C31>=员工工序明细查询!$F$3,OR(D31=员工工序明细查询!$F$2,员工工序明细查询!$F$2=""),OR(G31=员工工序明细查询!$I$2,员工工序明细查询!$I$2="")),ROW()&"","") | E31: =IFERROR(VLOOKUP(D31,员工信息表!B:D,2,0),"") | F31: =IFERROR(VLOOKUP(D31,员工信息表!B:D,3,0),"") | H31: =IFERROR(VLOOKUP(G31,工序对照表!B:C,2,0),"")
A32: =IF(AND(C32<=员工工序明细查询!$I$3,C32>=员工工序明细查询!$F$3,OR(D32=员工工序明细查询!$F$2,员工工序明细查询!$F$2=""),OR(G32=员工工序明细查询!$I$2,员工工序明细查询!$I$2="")),ROW()&"","") | E32: =IFERROR(VLOOKUP(D32,员工信息表!B:D,2,0),"") | F32: =IFERROR(VLOOKUP(D32,员工信息表!B:D,3,0),"") | H32: =IFERROR(VLOOKUP(G32,工序对照表!B:C,2,0),"")
A33: =IF(AND(C33<=员工工序明细查询!$I$3,C33>=员工工序明细查询!$F$3,OR(D33=员工工序明细查询!$F$2,员工工序明细查询!$F$2=""),OR(G33=员工工序明细查询!$I$2,员工工序明细查询!$I$2="")),ROW()&"","") | E33: =IFERROR(VLOOKUP(D33,员工信息表!B:D,2,0),"") | F33: =IFERROR(VLOOKUP(D33,员工信息表!B:D,3,0),"") | H33: =IFERROR(VLOOKUP(G33,工序对照表!B:C,2,0),"")
A34: =IF(AND(C34<=员工工序明细查询!$I$3,C34>=员工工序明细查询!$F$3,OR(D34=员工工序明细查询!$F$2,员工工序明细查询!$F$2=""),OR(G34=员工工序明细查询!$I$2,员工工序明细查询!$I$2="")),ROW()&"","") | E34: =IFERROR(VLOOKUP(D34,员工信息表!B:D,2,0),"") | F34: =IFERROR(VLOOKUP(D34,员工信息表!B:D,3,0),"") | H34: =IFERROR(VLOOKUP(G34,工序对照表!B:C,2,0),"")
A35: =IF(AND(C35<=员工工序明细查询!$I$3,C35>=员工工序明细查询!$F$3,OR(D35=员工工序明细查询!$F$2,员工工序明细查询!$F$2=""),OR(G35=员工工序明细查询!$I$2,员工工序明细查询!$I$2="")),ROW()&"","") | E35: =IFERROR(VLOOKUP(D35,员工信息表!B:D,2,0),"") | F35: =IFERROR(VLOOKUP(D35,员工信息表!B:D,3,0),"") | H35: =IFERROR(VLOOKUP(G35,工序对照表!B:C,2,0),"")
... A10000: =IF(AND(C10000<=员工工序明细查询!$I$3,C10000>=员工工序明细查询!$F$3,OR(D10000=员工工序明细查询!$F$2,员工工序明细查询!$F$2=""),OR(G10000=员工工序明细查询!$I$2,员工工序明细查询!$I$2="")),ROW()&"","") | E10000: =IFERROR(VLOOKUP(D10000,员工信息表!B:D,2,0),"") | F10000: =IFERROR(VLOOKUP(D10000,员工信息表!B:D,3,0),"") | H10000: =IFERROR(VLOOKUP(G10000,工序对照表!B:C,2,0),"")

Sheet 不合格明细表
B1: 不合格记录表
B2: 日期 | C2: 员工编号 | D2: 员工姓名 | E2: 班组 | F2: 工序名称 | G2: 数量
B3: 43041 | C3: N001 | D3: =IFERROR(VLOOKUP(C3,员工信息表!B:D,2,0),"") -> 张1 | E3: =IFERROR(VLOOKUP(C3,员工信息表!B:D,3,0),"") -> 甲 | F3: 切割 | G3: 12
B4: 43041 | C4: N003 | D4: =IFERROR(VLOOKUP(C4,员工信息表!B:D,2,0),"") -> 张3 | E4: =IFERROR(VLOOKUP(C4,员工信息表!B:D,3,0),"") -> 乙 | F4: 组合 | G4: 13
B5: 43041 | C5: N005 | D5: =IFERROR(VLOOKUP(C5,员工信息表!B:D,2,0),"") -> 张5 | E5: =IFERROR(VLOOKUP(C5,员工信息表!B:D,3,0),"") -> 丙 | F5: 包装 | G5: 12
B6: 43041 | C6: N006 | D6: =IFERROR(VLOOKUP(C6,员工信息表!B:D,2,0),"") -> 张6 | E6: =IFERROR(VLOOKUP(C6,员工信息表!B:D,3,0),"") -> 丙 | F6: 切割 | G6: 21
B7: 43042 | C7: N002 | D7: =IFERROR(VLOOKUP(C7,员工信息表!B:D,2,0),"") -> 张2 | E7: =IFERROR(VLOOKUP(C7,员工信息表!B:D,3,0),"") -> 甲 | F7: 组合 | G7: 28
B8: 43042 | C8: N004 | D8: =IFERROR(VLOOKUP(C8,员工信息表!B:D,2,0),"") -> 张4 | E8: =IFERROR(VLOOKUP(C8,员工信息表!B:D,3,0),"") -> 乙 | F8: 包装 | G8: 16
B9: 43043 | C9: N001 | D9: =IFERROR(VLOOKUP(C9,员工信息表!B:D,2,0),"") -> 张1 | E9: =IFERROR(VLOOKUP(C9,员工信息表!B:D,3,0),"") -> 甲 | F9: 包装 | G9: 15

Sheet 合格率（不合格统计表）
G2: 11 | H2: 月不合格率统计表 | T2: 11 | U2: 月不合格数统计表
B4: 工序\不合格率\员工 | C4: 合计 | D4: 张1 | E4: 张2 | F4: 张3 | G4: 张4 | H4: 张5 | I4: 张6 | P4: 工序\不合格数\员工 | Q4: 合计 | R4: 张1 | S4: 张2 | T4: 张3 | U4: 张4 | V4: 张5 | W4: 张6
B5: 切割 | C5: =IFERROR(SUMPRODUCT((MONTH(不合格明细表!$B$3:$B$10000)='合格率（不合格统计表）'!$G$2)*(不合格明细表!$F$3:$F$10000='合格率（不合格统计表）'!$B5)*不合格明细表!$G$3:$G$10000)/SUMPRODUCT((MONTH(工序记录明细表!$C$4:$C$10000)='合格率（不合格统计表）'!$G$2)*(工序记录明细表!$G$4:$G$10000='合格率（不合格统计表）'!$B5),工序记录明细表!$I$4:$I$10000),"") -> 0.026634383 | D5: =IFERROR(SUMPRODUCT((MONTH(不合格明细表!$B$3:$B$10000)='合格率（不合格统计表）'!$G$2)*(不合格明细表!$F$3:$F$10000='合格率（不合格统计表）'!$B5)*(不合格明细表!$D$3:$D$10000='合格率（不合格统计表）'!D$4),不合格明细表!$G$3:$G$10000)/SUMPRODUCT((MONTH(工序记录明细表!$C$4:$C$10000)='合格率（不合格统计表）'!$G$2)*(工序记录明细表!$G$4:$G$10000='合格率（不合格统计表）'!$B5)*(工序记录明细表!$E$4:$E$10000='合格率（不合格统计表）'!D$4),工序记录明细表!$I$4:$I$10000),"") -> 0.045454545 | E5: =IFERROR(SUMPRODUCT((MONTH(不合格明细表!$B$3:$B$10000)='合格率（不合格统计表）'!$G$2)*(不合格明细表!$F$3:$F$10000='合格率（不合格统计表）'!$B5)*(不合格明细表!$D$3:$D$10000='合格率（不合格统计表）'!E$4),不合格明细表!$G$3:$G$10000)/SUMPRODUCT((MONTH(工序记录明细表!$C$4:$C$10000)='合格率（不合格统计表）'!$G$2)*(工序记录明细表!$G$4:$G$10000='合格率（不合格统计表）'!$B5)*(工序记录明细表!$E$4:$E$10000='合格率（不合格统计表）'!E$4),工序记录明细表!$I$4:$I$10000),"") | F5: =IFERROR(SUMPRODUCT((MONTH(不合格明细表!$B$3:$B$10000)='合格率（不合格统计表）'!$G$2)*(不合格明细表!$F$3:$F$10000='合格率（不合格统计表）'!$B5)*(不合格明细表!$D$3:$D$10000='合格率（不合格统计表）'!F$4),不合格明细表!$G$3:$G$10000)/SUMPRODUCT((MONTH(工序记录明细表!$C$4:$C$10000)='合格率（不合格统计表）'!$G$2)*(工序记录明细表!$G$4:$G$10000='合格率（不合格统计表）'!$B5)*(工序记录明细表!$E$4:$E$10000='合格率（不合格统计表）'!F$4),工序记录明细表!$I$4:$I$10000),"") | G5: =IFERROR(SUMPRODUCT((MONTH(不合格明细表!$B$3:$B$10000)='合格率（不合格统计表）'!$G$2)*(不合格明细表!$F$3:$F$10000='合格率（不合格统计表）'!$B5)*(不合格明细表!$D$3:$D$10000='合格率（不合格统计表）'!G$4),不合格明细表!$G$3:$G$10000)/SUMPRODUCT((MONTH(工序记录明细表!$C$4:$C$10000)='合格率（不合格统计表）'!$G$2)*(工序记录明细表!$G$4:$G$10000='合格率（不合格统计表）'!$B5)*(工序记录明细表!$E$4:$E$10000='合格率（不合格统计表）'!G$4),工序记录明细表!$I$4:$I$10000),"") -> 0 | H5: =IFERROR(SUMPRODUCT((MONTH(不合格明细表!$B$3:$B$10000)='合格率（不合格统计表）'!$G$2)*(不合格明细表!$F$3:$F$10000='合格率（不合格统计表）'!$B5)*(不合格明细表!$D$3:$D$10000='合格率（不合格统计表）'!H$4),不合格明细表!$G$3:$G$10000)/SUMPRODUCT((MONTH(工序记录明细表!$C$4:$C$10000)='合格率（不合格统计表）'!$G$2)*(工序记录明细表!$G$4:$G$10000='合格率（不合格统计表）'!$B5)*(工序记录明细表!$E$4:$E$10000='合格率（不合格统计表）'!H$4),工序记录明细表!$I$4:$I$10000),"") -> 0 | I5: =IFERROR(SUMPRODUCT((MONTH(不合格明细表!$B$3:$B$10000)='合格率（不合格统计表）'!$G$2)*(不合格明细表!$F$3:$F$10000='合格率（不合格统计表）'!$B5)*(不合格明细表!$D$3:$D$10000='合格率（不合格统计表）'!I$4),不合格明细表!$G$3:$G$10000)/SUMPRODUCT((MONTH(工序记录明细表!$C$4:$C$10000)='合格率（不合格统计表）'!$G$2)*(工序记录明细表!$G$4:$G$10000='合格率（不合格统计表）'!$B5)*(工序记录明细表!$E$4:$E$10000='合格率（不合格统计表）'!I$4),工序记录明细表!$I$4:$I$10000),"") -> 0.045751634 | J5: =IFERROR(SUMPRODUCT((MONTH(不合格明细表!$B$3:$B$10000)='合格率（不合格统计表）'!$G$2)*(不合格明细表!$F$3:$F$10000='合格率（不合格统计表）'!$B5)*(不合格明细表!$D$3:$D$10000='合格率（不合格统计表）'!J$4),不合格明细表!$G$3:$G$10000)/SUMPRODUCT((MONTH(工序记录明细表!$C$4:$C$10000)='合格率（不合格统计表）'!$G$2)*(工序记录明细表!$G$4:$G$10000='合格率（不合格统计表）'!$B5)*(工序记录明细表!$E$4:$E$10000='合格率（不合格统计表）'!J$4),工序记录明细表!$I$4:$I$10000),"") | K5: =IFERROR(SUMPRODUCT((MONTH(不合格明细表!$B$3:$B$10000)='合格率（不合格统计表）'!$G$2)*(不合格明细表!$F$3:$F$10000='合格率（不合格统计表）'!$B5)*(不合格明细表!$D$3:$D$10000='合格率（不合格统计表）'!K$4),不合格明细表!$G$3:$G$10000)/SUMPRODUCT((MONTH(工序记录明细表!$C$4:$C$10000)='合格率（不合格统计表）'!$G$2)*(工序记录明细表!$G$4:$G$10000='合格率（不合格统计表）'!$B5)*(工序记录明细表!$E$4:$E$10000='合格率（不合格统计表）'!K$4),工序记录明细表!$I$4:$I$10000),"") | ... M5: =IFERROR(SUMPRODUCT((MONTH(不合格明细表!$B$3:$B$10000)='合格率（不合格统计表）'!$G$2)*(不合格明细表!$F$3:$F$10000='合格率（不合格统计表）'!$B5)*(不合格明细表!$D$3:$D$10000='合格率（不合格统计表）'!M$4),不合格明细表!$G$3:$G$10000)/SUMPRODUCT((MONTH(工序记录明细表!$C$4:$C$10000)='合格率（不合格统计表）'!$G$2)*(工序记录明细表!$G$4:$G$10000='合格率（不合格统计表）'!$B5)*(工序记录明细表!$E$4:$E$10000='合格率（不合格统计表）'!M$4),工序记录明细表!$I$4:$I$10000),"") | P5: 切割 | Q5: =SUM(R5:AA5) -> 33 | R5: =SUMPRODUCT((MONTH(不合格明细表!$B$3:$B$10000)='合格率（不合格统计表）'!$T$2)*(不合格明细表!$F$3:$F$10000='合格率（不合格统计表）'!$P5)*(不合格明细表!$D$3:$D$10000='合格率（不合格统计表）'!R$4),不合格明细表!$G$3:$G$10000) -> 12 | S5: =SUMPRODUCT((MONTH(不合格明细表!$B$3:$B$10000)='合格率（不合格统计表）'!$T$2)*(不合格明细表!$F$3:$F$10000='合格率（不合格统计表）'!$P5)*(不合格明细表!$D$3:$D$10000='合格率（不合格统计表）'!S$4),不合格明细表!$G$3:$G$10000) -> 0 | T5: =SUMPRODUCT((MONTH(不合格明细表!$B$3:$B$10000)='合格率（不合格统计表）'!$T$2)*(不合格明细表!$F$3:$F$10000='合格率（不合格统计表）'!$P5)*(不合格明细表!$D$3:$D$10000='合格率（不合格统计表）'!T$4),不合格明细表!$G$3:$G$10000) -> 0 | U5: =SUMPRODUCT((MONTH(不合格明细表!$B$3:$B$10000)='合格率（不合格统计表）'!$T$2)*(不合格明细表!$F$3:$F$10000='合格率（不合格统计表）'!$P5)*(不合格明细表!$D$3:$D$10000='合格率（不合格统计表）'!U$4),不合格明细表!$G$3:$G$10000) -> 0 | V5: =SUMPRODUCT((MONTH(不合格明细表!$B$3:$B$10000)='合格率（不合格统计表）'!$T$2)*(不合格明细表!$F$3:$F$10000='合格率（不合格统计表）'!$P5)*(不合格明细表!$D$3:$D$10000='合格率（不合格统计表）'!V$4),不合格明细表!$G$3:$G$10000) -> 0 | W5: =SUMPRODUCT((MONTH(不合格明细表!$B$3:$B$10000)='合格率（不合格统计表）'!$T$2)*(不合格明细表!$F$3:$F$10000='合格率（不合格统计表）'!$P5)*(不合格明细表!$D$3:$D$10000='合格率（不合格统计表）'!W$4),不合格明细表!$G$3:$G$10000) -> 21 | X5: =SUMPRODUCT((MONTH(不合格明细表!$B$3:$B$10000)='合格率（不合格统计表）'!$T$2)*(不合格明细表!$F$3:$F$10000='合格率（不合格统计表）'!$P5)*(不合格明细表!$D$3:$D$10000='合格率（不合格统计表）'!X$4),不合格明细表!$G$3:$G$10000) -> 0 | Y5: =SUMPRODUCT((MONTH(不合格明细表!$B$3:$B$10000)='合格率（不合格统计表）'!$T$2)*(不合格明细表!$F$3:$F$10000='合格率（不合格统计表）'!$P5)*(不合格明细表!$D$3:$D$10000='合格率（不合格统计表）'!Y$4),不合格明细表!$G$3:$G$10000) -> 0 | ... AA5: =SUMPRODUCT((MONTH(不合格明细表!$B$3:$B$10000)='合格率（不合格统计表）'!$T$2)*(不合格明细表!$F$3:$F$10000='合格率（不合格统计表）'!$P5)*(不合格明细表!$D$3:$D$10000='合格率（不合格统计表）'!AA$4),不合格明细表!$G$3:$G$10000) -> 0
B6: 抛光 | C6: =IFERROR(SUMPRODUCT((MONTH(不合格明细表!$B$3:$B$10000)='合格率（不合格统计表）'!$G$2)*(不合格明细表!$F$3:$F$10000='合格率（不合格统计表）'!$B6)*不合格明细表!$G$3:$G$10000)/SUMPRODUCT((MONTH(工序记录明细表!$C$4:$C$10000)='合格率（不合格统计表）'!$G$2)*(工序记录明细表!$G$4:$G$10000='合格率（不合格统计表）'!$B6),工序记录明细表!$I$4:$I$10000),"") -> 0 | D6: =IFERROR(SUMPRODUCT((MONTH(不合格明细表!$B$3:$B$10000)='合格率（不合格统计表）'!$G$2)*(不合格明细表!$F$3:$F$10000='合格率（不合格统计表）'!$B6)*(不合格明细表!$D$3:$D$10000='合格率（不合格统计表）'!D$4),不合格明细表!$G$3:$G$10000)/SUMPRODUCT((MONTH(工序记录明细表!$C$4:$C$10000)='合格率（不合格统计表）'!$G$2)*(工序记录明细表!$G$4:$G$10000='合格率（不合格统计表）'!$B6)*(工序记录明细表!$E$4:$E$10000='合格率（不合格统计表）'!D$4),工序记录明细表!$I$4:$I$10000),"") -> 0 | E6: =IFERROR(SUMPRODUCT((MONTH(不合格明细表!$B$3:$B$10000)='合格率（不合格统计表）'!$G$2)*(不合格明细表!$F$3:$F$10000='合格率（不合格统计表）'!$B6)*(不合格明细表!$D$3:$D$10000='合格率（不合格统计表）'!E$4),不合格明细表!$G$3:$G$10000)/SUMPRODUCT((MONTH(工序记录明细表!$C$4:$C$10000)='合格率（不合格统计表）'!$G$2)*(工序记录明细表!$G$4:$G$10000='合格率（不合格统计表）'!$B6)*(工序记录明细表!$E$4:$E$10000='合格率（不合格统计表）'!E$4),工序记录明细表!$I$4:$I$10000),"") -> 0 | F6: =IFERROR(SUMPRODUCT((MONTH(不合格明细表!$B$3:$B$10000)='合格率（不合格统计表）'!$G$2)*(不合格明细表!$F$3:$F$10000='合格率（不合格统计表）'!$B6)*(不合格明细表!$D$3:$D$10000='合格率（不合格统计表）'!F$4),不合格明细表!$G$3:$G$10000)/SUMPRODUCT((MONTH(工序记录明细表!$C$4:$C$10000)='合格率（不合格统计表）'!$G$2)*(工序记录明细表!$G$4:$G$10000='合格率（不合格统计表）'!$B6)*(工序记录明细表!$E$4:$E$10000='合格率（不合格统计表）'!F$4),工序记录明细表!$I$4:$I$10000),"") | G6: =IFERROR(SUMPRODUCT((MONTH(不合格明细表!$B$3:$B$10000)='合格率（不合格统计表）'!$G$2)*(不合格明细表!$F$3:$F$10000='合格率（不合格统计表）'!$B6)*(不合格明细表!$D$3:$D$10000='合格率（不合格统计表）'!G$4),不合格明细表!$G$3:$G$10000)/SUMPRODUCT((MONTH(工序记录明细表!$C$4:$C$10000)='合格率（不合格统计表）'!$G$2)*(工序记录明细表!$G$4:$G$10000='合格率（不合格统计表）'!$B6)*(工序记录明细表!$E$4:$E$10000='合格率（不合格统计表）'!G$4),工序记录明细表!$I$4:$I$10000),"") | H6: =IFERROR(SUMPRODUCT((MONTH(不合格明细表!$B$3:$B$10000)='合格率（不合格统计表）'!$G$2)*(不合格明细表!$F$3:$F$10000='合格率（不合格统计表）'!$B6)*(不合格明细表!$D$3:$D$10000='合格率（不合格统计表）'!H$4),不合格明细表!$G$3:$G$10000)/SUMPRODUCT((MONTH(工序记录明细表!$C$4:$C$10000)='合格率（不合格统计表）'!$G$2)*(工序记录明细表!$G$4:$G$10000='合格率（不合格统计表）'!$B6)*(工序记录明细表!$E$4:$E$10000='合格率（不合格统计表）'!H$4),工序记录明细表!$I$4:$I$10000),"") -> 0 | I6: =IFERROR(SUMPRODUCT((MONTH(不合格明细表!$B$3:$B$10000)='合格率（不合格统计表）'!$G$2)*(不合格明细表!$F$3:$F$10000='合格率（不合格统计表）'!$B6)*(不合格明细表!$D$3:$D$10000='合格率（不合格统计表）'!I$4),不合格明细表!$G$3:$G$10000)/SUMPRODUCT((MONTH(工序记录明细表!$C$4:$C$10000)='合格率（不合格统计表）'!$G$2)*(工序记录明细表!$G$4:$G$10000='合格率（不合格统计表）'!$B6)*(工序记录明细表!$E$4:$E$10000='合格率（不合格统计表）'!I$4),工序记录明细表!$I$4:$I$10000),"") -> 0 | J6: =IFERROR(SUMPRODUCT((MONTH(不合格明细表!$B$3:$B$10000)='合格率（不合格统计表）'!$G$2)*(不合格明细表!$F$3:$F$10000='合格率（不合格统计表）'!$B6)*(不合格明细表!$D$3:$D$10000='合格率（不合格统计表）'!J$4),不合格明细表!$G$3:$G$10000)/SUMPRODUCT((MONTH(工序记录明细表!$C$4:$C$10000)='合格率（不合格统计表）'!$G$2)*(工序记录明细表!$G$4:$G$10000='合格率（不合格统计表）'!$B6)*(工序记录明细表!$E$4:$E$10000='合格率（不合格统计表）'!J$4),工序记录明细表!$I$4:$I$10000),"") | K6: =IFERROR(SUMPRODUCT((MONTH(不合格明细表!$B$3:$B$10000)='合格率（不合格统计表）'!$G$2)*(不合格明细表!$F$3:$F$10000='合格率（不合格统计表）'!$B6)*(不合格明细表!$D$3:$D$10000='合格率（不合格统计表）'!K$4),不合格明细表!$G$3:$G$10000)/SUMPRODUCT((MONTH(工序记录明细表!$C$4:$C$10000)='合格率（不合格统计表）'!$G$2)*(工序记录明细表!$G$4:$G$10000='合格率（不合格统计表）'!$B6)*(工序记录明细表!$E$4:$E$10000='合格率（不合格统计表）'!K$4),工序记录明细表!$I$4:$I$10000),"") | ... M6: =IFERROR(SUMPRODUCT((MONTH(不合格明细表!$B$3:$B$10000)='合格率（不合格统计表）'!$G$2)*(不合格明细表!$F$3:$F$10000='合格率（不合格统计表）'!$B6)*(不合格明细表!$D$3:$D$10000='合格率（不合格统计表）'!M$4),不合格明细表!$G$3:$G$10000)/SUMPRODUCT((MONTH(工序记录明细表!$C$4:$C$10000)='合格率（不合格统计表）'!$G$2)*(工序记录明细表!$G$4:$G$10000='合格率（不合格统计表）'!$B6)*(工序记录明细表!$E$4:$E$10000='合格率（不合格统计表）'!M$4),工序记录明细表!$I$4:$I$10000),"") | P6: 抛光 | Q6: =SUM(R6:AA6) -> 0 | R6: =SUMPRODUCT((MONTH(不合格明细表!$B$3:$B$10000)='合格率（不合格统计表）'!$T$2)*(不合格明细表!$F$3:$F$10000='合格率（不合格统计表）'!$P6)*(不合格明细表!$D$3:$D$10000='合格率（不合格统计表）'!R$4),不合格明细表!$G$3:$G$10000) -> 0 | S6: =SUMPRODUCT((MONTH(不合格明细表!$B$3:$B$10000)='合格率（不合格统计表）'!$T$2)*(不合格明细表!$F$3:$F$10000='合格率（不合格统计表）'!$P6)*(不合格明细表!$D$3:$D$10000='合格率（不合格统计表）'!S$4),不合格明细表!$G$3:$G$10000) -> 0 | T6: =SUMPRODUCT((MONTH(不合格明细表!$B$3:$B$10000)='合格率（不合格统计表）'!$T$2)*(不合格明细表!$F$3:$F$10000='合格率（不合格统计表）'!$P6)*(不合格明细表!$D$3:$D$10000='合格率（不合格统计表）'!T$4),不合格明细表!$G$3:$G$10000) -> 0 | U6: =SUMPRODUCT((MONTH(不合格明细表!$B$3:$B$10000)='合格率（不合格统计表）'!$T$2)*(不合格明细表!$F$3:$F$10000='合格率（不合格统计表）'!$P6)*(不合格明细表!$D$3:$D$10000='合格率（不合格统计表）'!U$4),不合格明细表!$G$3:$G$10000) -> 0 | V6: =SUMPRODUCT((MONTH(不合格明细表!$B$3:$B$10000)='合格率（不合格统计表）'!$T$2)*(不合格明细表!$F$3:$F$10000='合格率（不合格统计表）'!$P6)*(不合格明细表!$D$3:$D$10000='合格率（不合格统计表）'!V$4),不合格明细表!$G$3:$G$10000) -> 0 | W6: =SUMPRODUCT((MONTH(不合格明细表!$B$3:$B$10000)='合格率（不合格统计表）'!$T$2)*(不合格明细表!$F$3:$F$10000='合格率（不合格统计表）'!$P6)*(不合格明细表!$D$3:$D$10000='合格率（不合格统计表）'!W$4),不合格明细表!$G$3:$G$10000) -> 0 | X6: =SUMPRODUCT((MONTH(不合格明细表!$B$3:$B$10000)='合格率（不合格统计表）'!$T$2)*(不合格明细表!$F$3:$F$10000='合格率（不合格统计表）'!$P6)*(不合格明细表!$D$3:$D$10000='合格率（不合格统计表）'!X$4),不合格明细表!$G$3:$G$10000) -> 0 | Y6: =SUMPRODUCT((MONTH(不合格明细表!$B$3:$B$10000)='合格率（不合格统计表）'!$T$2)*(不合格明细表!$F$3:$F$10000='合格率（不合格统计表）'!$P6)*(不合格明细表!$D$3:$D$10000='合格率（不合格统计表）'!Y$4),不合格明细表!$G$3:$G$10000) -> 0 | ... AA6: =SUMPRODUCT((MONTH(不合格明细表!$B$3:$B$10000)='合格率（不合格统计表）'!$T$2)*(不合格明细表!$F$3:$F$10000='合格率（不合格统计表）'!$P6)*(不合格明细表!$D$3:$D$10000='合格率（不合格统计表）'!AA$4),不合格明细表!$G$3:$G$10000) -> 0
B7: 组合 | C7: =IFERROR(SUMPRODUCT((MONTH(不合格明细表!$B$3:$B$10000)='合格率（不合格统计表）'!$G$2)*(不合格明细表!$F$3:$F$10000='合格率（不合格统计表）'!$B7)*不合格明细表!$G$3:$G$10000)/SUMPRODUCT((MONTH(工序记录明细表!$C$4:$C$10000)='合格率（不合格统计表）'!$G$2)*(工序记录明细表!$G$4:$G$10000='合格率（不合格统计表）'!$B7),工序记录明细表!$I$4:$I$10000),"") -> 0.03003663 | D7: =IFERROR(SUMPRODUCT((MONTH(不合格明细表!$B$3:$B$10000)='合格率（不合格统计表）'!$G$2)*(不合格明细表!$F$3:$F$10000='合格率（不合格统计表）'!$B7)*(不合格明细表!$D$3:$D$10000='合格率（不合格统计表）'!D$4),不合格明细表!$G$3:$G$10000)/SUMPRODUCT((MONTH(工序记录明细表!$C$4:$C$10000)='合格率（不合格统计表）'!$G$2)*(工序记录明细表!$G$4:$G$10000='合格率（不合格统计表）'!$B7)*(工序记录明细表!$E$4:$E$10000='合格率（不合格统计表）'!D$4),工序记录明细表!$I$4:$I$10000),"") -> 0 | E7: =IFERROR(SUMPRODUCT((MONTH(不合格明细表!$B$3:$B$10000)='合格率（不合格统计表）'!$G$2)*(不合格明细表!$F$3:$F$10000='合格率（不合格统计表）'!$B7)*(不合格明细表!$D$3:$D$10000='合格率（不合格统计表）'!E$4),不合格明细表!$G$3:$G$10000)/SUMPRODUCT((MONTH(工序记录明细表!$C$4:$C$10000)='合格率（不合格统计表）'!$G$2)*(工序记录明细表!$G$4:$G$10000='合格率（不合格统计表）'!$B7)*(工序记录明细表!$E$4:$E$10000='合格率（不合格统计表）'!E$4),工序记录明细表!$I$4:$I$10000),"") -> 0.099644128 | F7: =IFERROR(SUMPRODUCT((MONTH(不合格明细表!$B$3:$B$10000)='合格率（不合格统计表）'!$G$2)*(不合格明细表!$F$3:$F$10000='合格率（不合格统计表）'!$B7)*(不合格明细表!$D$3:$D$10000='合格率（不合格统计表）'!F$4),不合格明细表!$G$3:$G$10000)/SUMPRODUCT((MONTH(工序记录明细表!$C$4:$C$10000)='合格率（不合格统计表）'!$G$2)*(工序记录明细表!$G$4:$G$10000='合格率（不合格统计表）'!$B7)*(工序记录明细表!$E$4:$E$10000='合格率（不合格统计表）'!F$4),工序记录明细表!$I$4:$I$10000),"") -> 0.032994924 | G7: =IFERROR(SUMPRODUCT((MONTH(不合格明细表!$B$3:$B$10000)='合格率（不合格统计表）'!$G$2)*(不合格明细表!$F$3:$F$10000='合格率（不合格统计表）'!$B7)*(不合格明细表!$D$3:$D$10000='合格率（不合格统计表）'!G$4),不合格明细表!$G$3:$G$10000)/SUMPRODUCT((MONTH(工序记录明细表!$C$4:$C$10000)='合格率（不合格统计表）'!$G$2)*(工序记录明细表!$G$4:$G$10000='合格率（不合格统计表）'!$B7)*(工序记录明细表!$E$4:$E$10000='合格率（不合格统计表）'!G$4),工序记录明细表!$I$4:$I$10000),"") | H7: =IFERROR(SUMPRODUCT((MONTH(不合格明细表!$B$3:$B$10000)='合格率（不合格统计表）'!$G$2)*(不合格明细表!$F$3:$F$10000='合格率（不合格统计表）'!$B7)*(不合格明细表!$D$3:$D$10000='合格率（不合格统计表）'!H$4),不合格明细表!$G$3:$G$10000)/SUMPRODUCT((MONTH(工序记录明细表!$C$4:$C$10000)='合格率（不合格统计表）'!$G$2)*(工序记录明细表!$G$4:$G$10000='合格率（不合格统计表）'!$B7)*(工序记录明细表!$E$4:$E$10000='合格率（不合格统计表）'!H$4),工序记录明细表!$I$4:$I$10000),"") | I7: =IFERROR(SUMPRODUCT((MONTH(不合格明细表!$B$3:$B$10000)='合格率（不合格统计表）'!$G$2)*(不合格明细表!$F$3:$F$10000='合格率（不合格统计表）'!$B7)*(不合格明细表!$D$3:$D$10000='合格率（不合格统计表）'!I$4),不合格明细表!$G$3:$G$10000)/SUMPRODUCT((MONTH(工序记录明细表!$C$4:$C$10000)='合格率（不合格统计表）'!$G$2)*(工序记录明细表!$G$4:$G$10000='合格率（不合格统计表）'!$B7)*(工序记录明细表!$E$4:$E$10000='合格率（不合格统计表）'!I$4),工序记录明细表!$I$4:$I$10000),"") -> 0 | J7: =IFERROR(SUMPRODUCT((MONTH(不合格明细表!$B$3:$B$10000)='合格率（不合格统计表）'!$G$2)*(不合格明细表!$F$3:$F$10000='合格率（不合格统计表）'!$B7)*(不合格明细表!$D$3:$D$10000='合格率（不合格统计表）'!J$4),不合格明细表!$G$3:$G$10000)/SUMPRODUCT((MONTH(工序记录明细表!$C$4:$C$10000)='合格率（不合格统计表）'!$G$2)*(工序记录明细表!$G$4:$G$10000='合格率（不合格统计表）'!$B7)*(工序记录明细表!$E$4:$E$10000='合格率（不合格统计表）'!J$4),工序记录明细表!$I$4:$I$10000),"") | K7: =IFERROR(SUMPRODUCT((MONTH(不合格明细表!$B$3:$B$10000)='合格率（不合格统计表）'!$G$2)*(不合格明细表!$F$3:$F$10000='合格率（不合格统计表）'!$B7)*(不合格明细表!$D$3:$D$10000='合格率（不合格统计表）'!K$4),不合格明细表!$G$3:$G$10000)/SUMPRODUCT((MONTH(工序记录明细表!$C$4:$C$10000)='合格率（不合格统计表）'!$G$2)*(工序记录明细表!$G$4:$G$10000='合格率（不合格统计表）'!$B7)*(工序记录明细表!$E$4:$E$10000='合格率（不合格统计表）'!K$4),工序记录明细表!$I$4:$I$10000),"") | ... M7: =IFERROR(SUMPRODUCT((MONTH(不合格明细表!$B$3:$B$10000)='合格率（不合格统计表）'!$G$2)*(不合格明细表!$F$3:$F$10000='合格率（不合格统计表）'!$B7)*(不合格明细表!$D$3:$D$10000='合格率（不合格统计表）'!M$4),不合格明细表!$G$3:$G$10000)/SUMPRODUCT((MONTH(工序记录明细表!$C$4:$C$10000)='合格率（不合格统计表）'!$G$2)*(工序记录明细表!$G$4:$G$10000='合格率（不合格统计表）'!$B7)*(工序记录明细表!$E$4:$E$10000='合格率（不合格统计表）'!M$4),工序记录明细表!$I$4:$I$10000),"") | P7: 组合 | Q7: =SUM(R7:AA7) -> 41 | R7: =SUMPRODUCT((MONTH(不合格明细表!$B$3:$B$10000)='合格率（不合格统计表）'!$T$2)*(不合格明细表!$F$3:$F$10000='合格率（不合格统计表）'!$P7)*(不合格明细表!$D$3:$D$10000='合格率（不合格统计表）'!R$4),不合格明细表!$G$3:$G$10000) -> 0 | S7: =SUMPRODUCT((MONTH(不合格明细表!$B$3:$B$10000)='合格率（不合格统计表）'!$T$2)*(不合格明细表!$F$3:$F$10000='合格率（不合格统计表）'!$P7)*(不合格明细表!$D$3:$D$10000='合格率（不合格统计表）'!S$4),不合格明细表!$G$3:$G$10000) -> 28 | T7: =SUMPRODUCT((MONTH(不合格明细表!$B$3:$B$10000)='合格率（不合格统计表）'!$T$2)*(不合格明细表!$F$3:$F$10000='合格率（不合格统计表）'!$P7)*(不合格明细表!$D$3:$D$10000='合格率（不合格统计表）'!T$4),不合格明细表!$G$3:$G$10000) -> 13 | U7: =SUMPRODUCT((MONTH(不合格明细表!$B$3:$B$10000)='合格率（不合格统计表）'!$T$2)*(不合格明细表!$F$3:$F$10000='合格率（不合格统计表）'!$P7)*(不合格明细表!$D$3:$D$10000='合格率（不合格统计表）'!U$4),不合格明细表!$G$3:$G$10000) -> 0 | V7: =SUMPRODUCT((MONTH(不合格明细表!$B$3:$B$10000)='合格率（不合格统计表）'!$T$2)*(不合格明细表!$F$3:$F$10000='合格率（不合格统计表）'!$P7)*(不合格明细表!$D$3:$D$10000='合格率（不合格统计表）'!V$4),不合格明细表!$G$3:$G$10000) -> 0 | W7: =SUMPRODUCT((MONTH(不合格明细表!$B$3:$B$10000)='合格率（不合格统计表）'!$T$2)*(不合格明细表!$F$3:$F$10000='合格率（不合格统计表）'!$P7)*(不合格明细表!$D$3:$D$10000='合格率（不合格统计表）'!W$4),不合格明细表!$G$3:$G$10000) -> 0 | X7: =SUMPRODUCT((MONTH(不合格明细表!$B$3:$B$10000)='合格率（不合格统计表）'!$T$2)*(不合格明细表!$F$3:$F$10000='合格率（不合格统计表）'!$P7)*(不合格明细表!$D$3:$D$10000='合格率（不合格统计表）'!X$4),不合格明细表!$G$3:$G$10000) -> 0 | Y7: =SUMPRODUCT((MONTH(不合格明细表!$B$3:$B$10000)='合格率（不合格统计表）'!$T$2)*(不合格明细表!$F$3:$F$10000='合格率（不合格统计表）'!$P7)*(不合格明细表!$D$3:$D$10000='合格率（不合格统计表）'!Y$4),不合格明细表!$G$3:$G$10000) -> 0 | ... AA7: =SUMPRODUCT((MONTH(不合格明细表!$B$3:$B$10000)='合格率（不合格统计表）'!$T$2)*(不合格明细表!$F$3:$F$10000='合格率（不合格统计表）'!$P7)*(不合格明细表!$D$3:$D$10000='合格率（不合格统计表）'!AA$4),不合格明细表!$G$3:$G$10000) -> 0
B8: 测量 | C8: =IFERROR(SUMPRODUCT((MONTH(不合格明细表!$B$3:$B$10000)='合格率（不合格统计表）'!$G$2)*(不合格明细表!$F$3:$F$10000='合格率（不合格统计表）'!$B8)*不合格明细表!$G$3:$G$10000)/SUMPRODUCT((MONTH(工序记录明细表!$C$4:$C$10000)='合格率（不合格统计表）'!$G$2)*(工序记录明细表!$G$4:$G$10000='合格率（不合格统计表）'!$B8),工序记录明细表!$I$4:$I$10000),"") -> 0 | D8: =IFERROR(SUMPRODUCT((MONTH(不合格明细表!$B$3:$B$10000)='合格率（不合格统计表）'!$G$2)*(不合格明细表!$F$3:$F$10000='合格率（不合格统计表）'!$B8)*(不合格明细表!$D$3:$D$10000='合格率（不合格统计表）'!D$4),不合格明细表!$G$3:$G$10000)/SUMPRODUCT((MONTH(工序记录明细表!$C$4:$C$10000)='合格率（不合格统计表）'!$G$2)*(工序记录明细表!$G$4:$G$10000='合格率（不合格统计表）'!$B8)*(工序记录明细表!$E$4:$E$10000='合格率（不合格统计表）'!D$4),工序记录明细表!$I$4:$I$10000),"") | E8: =IFERROR(SUMPRODUCT((MONTH(不合格明细表!$B$3:$B$10000)='合格率（不合格统计表）'!$G$2)*(不合格明细表!$F$3:$F$10000='合格率（不合格统计表）'!$B8)*(不合格明细表!$D$3:$D$10000='合格率（不合格统计表）'!E$4),不合格明细表!$G$3:$G$10000)/SUMPRODUCT((MONTH(工序记录明细表!$C$4:$C$10000)='合格率（不合格统计表）'!$G$2)*(工序记录明细表!$G$4:$G$10000='合格率（不合格统计表）'!$B8)*(工序记录明细表!$E$4:$E$10000='合格率（不合格统计表）'!E$4),工序记录明细表!$I$4:$I$10000),"") -> 0 | F8: =IFERROR(SUMPRODUCT((MONTH(不合格明细表!$B$3:$B$10000)='合格率（不合格统计表）'!$G$2)*(不合格明细表!$F$3:$F$10000='合格率（不合格统计表）'!$B8)*(不合格明细表!$D$3:$D$10000='合格率（不合格统计表）'!F$4),不合格明细表!$G$3:$G$10000)/SUMPRODUCT((MONTH(工序记录明细表!$C$4:$C$10000)='合格率（不合格统计表）'!$G$2)*(工序记录明细表!$G$4:$G$10000='合格率（不合格统计表）'!$B8)*(工序记录明细表!$E$4:$E$10000='合格率（不合格统计表）'!F$4),工序记录明细表!$I$4:$I$10000),"") -> 0 | G8: =IFERROR(SUMPRODUCT((MONTH(不合格明细表!$B$3:$B$10000)='合格率（不合格统计表）'!$G$2)*(不合格明细表!$F$3:$F$10000='合格率（不合格统计表）'!$B8)*(不合格明细表!$D$3:$D$10000='合格率（不合格统计表）'!G$4),不合格明细表!$G$3:$G$10000)/SUMPRODUCT((MONTH(工序记录明细表!$C$4:$C$10000)='合格率（不合格统计表）'!$G$2)*(工序记录明细表!$G$4:$G$10000='合格率（不合格统计表）'!$B8)*(工序记录明细表!$E$4:$E$10000='合格率（不合格统计表）'!G$4),工序记录明细表!$I$4:$I$10000),"") -> 0 | H8: =IFERROR(SUMPRODUCT((MONTH(不合格明细表!$B$3:$B$10000)='合格率（不合格统计表）'!$G$2)*(不合格明细表!$F$3:$F$10000='合格率（不合格统计表）'!$B8)*(不合格明细表!$D$3:$D$10000='合格率（不合格统计表）'!H$4),不合格明细表!$G$3:$G$10000)/SUMPRODUCT((MONTH(工序记录明细表!$C$4:$C$10000)='合格率（不合格统计表）'!$G$2)*(工序记录明细表!$G$4:$G$10000='合格率（不合格统计表）'!$B8)*(工序记录明细表!$E$4:$E$10000='合格率（不合格统计表）'!H$4),工序记录明细表!$I$4:$I$10000),"") | I8: =IFERROR(SUMPRODUCT((MONTH(不合格明细表!$B$3:$B$10000)='合格率（不合格统计表）'!$G$2)*(不合格明细表!$F$3:$F$10000='合格率（不合格统计表）'!$B8)*(不合格明细表!$D$3:$D$10000='合格率（不合格统计表）'!I$4),不合格明细表!$G$3:$G$10000)/SUMPRODUCT((MONTH(工序记录明细表!$C$4:$C$10000)='合格率（不合格统计表）'!$G$2)*(工序记录明细表!$G$4:$G$10000='合格率（不合格统计表）'!$B8)*(工序记录明细表!$E$4:$E$10000='合格率（不合格统计表）'!I$4),工序记录明细表!$I$4:$I$10000),"") | J8: =IFERROR(SUMPRODUCT((MONTH(不合格明细表!$B$3:$B$10000)='合格率（不合格统计表）'!$G$2)*(不合格明细表!$F$3:$F$10000='合格率（不合格统计表）'!$B8)*(不合格明细表!$D$3:$D$10000='合格率（不合格统计表）'!J$4),不合格明细表!$G$3:$G$10000)/SUMPRODUCT((MONTH(工序记录明细表!$C$4:$C$10000)='合格率（不合格统计表）'!$G$2)*(工序记录明细表!$G$4:$G$10000='合格率（不合格统计表）'!$B8)*(工序记录明细表!$E$4:$E$10000='合格率（不合格统计表）'!J$4),工序记录明细表!$I$4:$I$10000),"") | K8: =IFERROR(SUMPRODUCT((MONTH(不合格明细表!$B$3:$B$10000)='合格率（不合格统计表）'!$G$2)*(不合格明细表!$F$3:$F$10000='合格率（不合格统计表）'!$B8)*(不合格明细表!$D$3:$D$10000='合格率（不合格统计表）'!K$4),不合格明细表!$G$3:$G$10000)/SUMPRODUCT((MONTH(工序记录明细表!$C$4:$C$10000)='合格率（不合格统计表）'!$G$2)*(工序记录明细表!$G$4:$G$10000='合格率（不合格统计表）'!$B8)*(工序记录明细表!$E$4:$E$10000='合格率（不合格统计表）'!K$4),工序记录明细表!$I$4:$I$10000),"") | ... M8: =IFERROR(SUMPRODUCT((MONTH(不合格明细表!$B$3:$B$10000)='合格率（不合格统计表）'!$G$2)*(不合格明细表!$F$3:$F$10000='合格率（不合格统计表）'!$B8)*(不合格明细表!$D$3:$D$10000='合格率（不合格统计表）'!M$4),不合格明细表!$G$3:$G$10000)/SUMPRODUCT((MONTH(工序记录明细表!$C$4:$C$10000)='合格率（不合格统计表）'!$G$2)*(工序记录明细表!$G$4:$G$10000='合格率（不合格统计表）'!$B8)*(工序记录明细表!$E$4:$E$10000='合格率（不合格统计表）'!M$4),工序记录明细表!$I$4:$I$10000),"") | P8: 测量 | Q8: =SUM(R8:AA8) -> 0 | R8: =SUMPRODUCT((MONTH(不合格明细表!$B$3:$B$10000)='合格率（不合格统计表）'!$T$2)*(不合格明细表!$F$3:$F$10000='合格率（不合格统计表）'!$P8)*(不合格明细表!$D$3:$D$10000='合格率（不合格统计表）'!R$4),不合格明细表!$G$3:$G$10000) -> 0 | S8: =SUMPRODUCT((MONTH(不合格明细表!$B$3:$B$10000)='合格率（不合格统计表）'!$T$2)*(不合格明细表!$F$3:$F$10000='合格率（不合格统计表）'!$P8)*(不合格明细表!$D$3:$D$10000='合格率（不合格统计表）'!S$4),不合格明细表!$G$3:$G$10000) -> 0 | T8: =SUMPRODUCT((MONTH(不合格明细表!$B$3:$B$10000)='合格率（不合格统计表）'!$T$2)*(不合格明细表!$F$3:$F$10000='合格率（不合格统计表）'!$P8)*(不合格明细表!$D$3:$D$10000='合格率（不合格统计表）'!T$4),不合格明细表!$G$3:$G$10000) -> 0 | U8: =SUMPRODUCT((MONTH(不合格明细表!$B$3:$B$10000)='合格率（不合格统计表）'!$T$2)*(不合格明细表!$F$3:$F$10000='合格率（不合格统计表）'!$P8)*(不合格明细表!$D$3:$D$10000='合格率（不合格统计表）'!U$4),不合格明细表!$G$3:$G$10000) -> 0 | V8: =SUMPRODUCT((MONTH(不合格明细表!$B$3:$B$10000)='合格率（不合格统计表）'!$T$2)*(不合格明细表!$F$3:$F$10000='合格率（不合格统计表）'!$P8)*(不合格明细表!$D$3:$D$10000='合格率（不合格统计表）'!V$4),不合格明细表!$G$3:$G$10000) -> 0 | W8: =SUMPRODUCT((MONTH(不合格明细表!$B$3:$B$10000)='合格率（不合格统计表）'!$T$2)*(不合格明细表!$F$3:$F$10000='合格率（不合格统计表）'!$P8)*(不合格明细表!$D$3:$D$10000='合格率（不合格统计表）'!W$4),不合格明细表!$G$3:$G$10000) -> 0 | X8: =SUMPRODUCT((MONTH(不合格明细表!$B$3:$B$10000)='合格率（不合格统计表）'!$T$2)*(不合格明细表!$F$3:$F$10000='合格率（不合格统计表）'!$P8)*(不合格明细表!$D$3:$D$10000='合格率（不合格统计表）'!X$4),不合格明细表!$G$3:$G$10000) -> 0 | Y8: =SUMPRODUCT((MONTH(不合格明细表!$B$3:$B$10000)='合格率（不合格统计表）'!$T$2)*(不合格明细表!$F$3:$F$10000='合格率（不合格统计表）'!$P8)*(不合格明细表!$D$3:$D$10000='合格率（不合格统计表）'!Y$4),不合格明细表!$G$3:$G$10000) -> 0 | ... AA8: =SUMPRODUCT((MONTH(不合格明细表!$B$3:$B$10000)='合格率（不合格统计表）'!$T$2)*(不合格明细表!$F$3:$F$10000='合格率（不合格统计表）'!$P8)*(不合格明细表!$D$3:$D$10000='合格率（不合格统计表）'!AA$4),不合格明细表!$G$3:$G$10000) -> 0
B9: 包装 | C9: =IFERROR(SUMPRODUCT((MONTH(不合格明细表!$B$3:$B$10000)='合格率（不合格统计表）'!$G$2)*(不合格明细表!$F$3:$F$10000='合格率（不合格统计表）'!$B9)*不合格明细表!$G$3:$G$10000)/SUMPRODUCT((MONTH(工序记录明细表!$C$4:$C$10000)='合格率（不合格统计表）'!$G$2)*(工序记录明细表!$G$4:$G$10000='合格率（不合格统计表）'!$B9),工序记录明细表!$I$4:$I$10000),"") -> 0.02657602 | D9: =IFERROR(SUMPRODUCT((MONTH(不合格明细表!$B$3:$B$10000)='合格率（不合格统计表）'!$G$2)*(不合格明细表!$F$3:$F$10000='合格率（不合格统计表）'!$B9)*(不合格明细表!$D$3:$D$10000='合格率（不合格统计表）'!D$4),不合格明细表!$G$3:$G$10000)/SUMPRODUCT((MONTH(工序记录明细表!$C$4:$C$10000)='合格率（不合格统计表）'!$G$2)*(工序记录明细表!$G$4:$G$10000='合格率（不合格统计表）'!$B9)*(工序记录明细表!$E$4:$E$10000='合格率（不合格统计表）'!D$4),工序记录明细表!$I$4:$I$10000),"") -> 0.046439628 | E9: =IFERROR(SUMPRODUCT((MONTH(不合格明细表!$B$3:$B$10000)='合格率（不合格统计表）'!$G$2)*(不合格明细表!$F$3:$F$10000='合格率（不合格统计表）'!$B9)*(不合格明细表!$D$3:$D$10000='合格率（不合格统计表）'!E$4),不合格明细表!$G$3:$G$10000)/SUMPRODUCT((MONTH(工序记录明细表!$C$4:$C$10000)='合格率（不合格统计表）'!$G$2)*(工序记录明细表!$G$4:$G$10000='合格率（不合格统计表）'!$B9)*(工序记录明细表!$E$4:$E$10000='合格率（不合格统计表）'!E$4),工序记录明细表!$I$4:$I$10000),"") | F9: =IFERROR(SUMPRODUCT((MONTH(不合格明细表!$B$3:$B$10000)='合格率（不合格统计表）'!$G$2)*(不合格明细表!$F$3:$F$10000='合格率（不合格统计表）'!$B9)*(不合格明细表!$D$3:$D$10000='合格率（不合格统计表）'!F$4),不合格明细表!$G$3:$G$10000)/SUMPRODUCT((MONTH(工序记录明细表!$C$4:$C$10000)='合格率（不合格统计表）'!$G$2)*(工序记录明细表!$G$4:$G$10000='合格率（不合格统计表）'!$B9)*(工序记录明细表!$E$4:$E$10000='合格率（不合格统计表）'!F$4),工序记录明细表!$I$4:$I$10000),"") -> 0 | G9: =IFERROR(SUMPRODUCT((MONTH(不合格明细表!$B$3:$B$10000)='合格率（不合格统计表）'!$G$2)*(不合格明细表!$F$3:$F$10000='合格率（不合格统计表）'!$B9)*(不合格明细表!$D$3:$D$10000='合格率（不合格统计表）'!G$4),不合格明细表!$G$3:$G$10000)/SUMPRODUCT((MONTH(工序记录明细表!$C$4:$C$10000)='合格率（不合格统计表）'!$G$2)*(工序记录明细表!$G$4:$G$10000='合格率（不合格统计表）'!$B9)*(工序记录明细表!$E$4:$E$10000='合格率（不合格统计表）'!G$4),工序记录明细表!$I$4:$I$10000),"") -> 0.034782609 | H9: =IFERROR(SUMPRODUCT((MONTH(不合格明细表!$B$3:$B$10000)='合格率（不合格统计表）'!$G$2)*(不合格明细表!$F$3:$F$10000='合格率（不合格统计表）'!$B9)*(不合格明细表!$D$3:$D$10000='合格率（不合格统计表）'!H$4),不合格明细表!$G$3:$G$10000)/SUMPRODUCT((MONTH(工序记录明细表!$C$4:$C$10000)='合格率（不合格统计表）'!$G$2)*(工序记录明细表!$G$4:$G$10000='合格率（不合格统计表）'!$B9)*(工序记录明细表!$E$4:$E$10000='合格率（不合格统计表）'!H$4),工序记录明细表!$I$4:$I$10000),"") -> 0.033994334 | I9: =IFERROR(SUMPRODUCT((MONTH(不合格明细表!$B$3:$B$10000)='合格率（不合格统计表）'!$G$2)*(不合格明细表!$F$3:$F$10000='合格率（不合格统计表）'!$B9)*(不合格明细表!$D$3:$D$10000='合格率（不合格统计表）'!I$4),不合格明细表!$G$3:$G$10000)/SUMPRODUCT((MONTH(工序记录明细表!$C$4:$C$10000)='合格率（不合格统计表）'!$G$2)*(工序记录明细表!$G$4:$G$10000='合格率（不合格统计表）'!$B9)*(工序记录明细表!$E$4:$E$10000='合格率（不合格统计表）'!I$4),工序记录明细表!$I$4:$I$10000),"") | J9: =IFERROR(SUMPRODUCT((MONTH(不合格明细表!$B$3:$B$10000)='合格率（不合格统计表）'!$G$2)*(不合格明细表!$F$3:$F$10000='合格率（不合格统计表）'!$B9)*(不合格明细表!$D$3:$D$10000='合格率（不合格统计表）'!J$4),不合格明细表!$G$3:$G$10000)/SUMPRODUCT((MONTH(工序记录明细表!$C$4:$C$10000)='合格率（不合格统计表）'!$G$2)*(工序记录明细表!$G$4:$G$10000='合格率（不合格统计表）'!$B9)*(工序记录明细表!$E$4:$E$10000='合格率（不合格统计表）'!J$4),工序记录明细表!$I$4:$I$10000),"") | K9: =IFERROR(SUMPRODUCT((MONTH(不合格明细表!$B$3:$B$10000)='合格率（不合格统计表）'!$G$2)*(不合格明细表!$F$3:$F$10000='合格率（不合格统计表）'!$B9)*(不合格明细表!$D$3:$D$10000='合格率（不合格统计表）'!K$4),不合格明细表!$G$3:$G$10000)/SUMPRODUCT((MONTH(工序记录明细表!$C$4:$C$10000)='合格率（不合格统计表）'!$G$2)*(工序记录明细表!$G$4:$G$10000='合格率（不合格统计表）'!$B9)*(工序记录明细表!$E$4:$E$10000='合格率（不合格统计表）'!K$4),工序记录明细表!$I$4:$I$10000),"") | ... M9: =IFERROR(SUMPRODUCT((MONTH(不合格明细表!$B$3:$B$10000)='合格率（不合格统计表）'!$G$2)*(不合格明细表!$F$3:$F$10000='合格率（不合格统计表）'!$B9)*(不合格明细表!$D$3:$D$10000='合格率（不合格统计表）'!M$4),不合格明细表!$G$3:$G$10000)/SUMPRODUCT((MONTH(工序记录明细表!$C$4:$C$10000)='合格率（不合格统计表）'!$G$2)*(工序记录明细表!$G$4:$G$10000='合格率（不合格统计表）'!$B9)*(工序记录明细表!$E$4:$E$10000='合格率（不合格统计表）'!M$4),工序记录明细表!$I$4:$I$10000),"") | P9: 包装 | Q9: =SUM(R9:AA9) -> 43 | R9: =SUMPRODUCT((MONTH(不合格明细表!$B$3:$B$10000)='合格率（不合格统计表）'!$T$2)*(不合格明细表!$F$3:$F$10000='合格率（不合格统计表）'!$P9)*(不合格明细表!$D$3:$D$10000='合格率（不合格统计表）'!R$4),不合格明细表!$G$3:$G$10000) -> 15 | S9: =SUMPRODUCT((MONTH(不合格明细表!$B$3:$B$10000)='合格率（不合格统计表）'!$T$2)*(不合格明细表!$F$3:$F$10000='合格率（不合格统计表）'!$P9)*(不合格明细表!$D$3:$D$10000='合格率（不合格统计表）'!S$4),不合格明细表!$G$3:$G$10000) -> 0 | T9: =SUMPRODUCT((MONTH(不合格明细表!$B$3:$B$10000)='合格率（不合格统计表）'!$T$2)*(不合格明细表!$F$3:$F$10000='合格率（不合格统计表）'!$P9)*(不合格明细表!$D$3:$D$10000='合格率（不合格统计表）'!T$4),不合格明细表!$G$3:$G$10000) -> 0 | U9: =SUMPRODUCT((MONTH(不合格明细表!$B$3:$B$10000)='合格率（不合格统计表）'!$T$2)*(不合格明细表!$F$3:$F$10000='合格率（不合格统计表）'!$P9)*(不合格明细表!$D$3:$D$10000='合格率（不合格统计表）'!U$4),不合格明细表!$G$3:$G$10000) -> 16 | V9: =SUMPRODUCT((MONTH(不合格明细表!$B$3:$B$10000)='合格率（不合格统计表）'!$T$2)*(不合格明细表!$F$3:$F$10000='合格率（不合格统计表）'!$P9)*(不合格明细表!$D$3:$D$10000='合格率（不合格统计表）'!V$4),不合格明细表!$G$3:$G$10000) -> 12 | W9: =SUMPRODUCT((MONTH(不合格明细表!$B$3:$B$10000)='合格率（不合格统计表）'!$T$2)*(不合格明细表!$F$3:$F$10000='合格率（不合格统计表）'!$P9)*(不合格明细表!$D$3:$D$10000='合格率（不合格统计表）'!W$4),不合格明细表!$G$3:$G$10000) -> 0 | X9: =SUMPRODUCT((MONTH(不合格明细表!$B$3:$B$10000)='合格率（不合格统计表）'!$T$2)*(不合格明细表!$F$3:$F$10000='合格率（不合格统计表）'!$P9)*(不合格明细表!$D$3:$D$10000='合格率（不合格统计表）'!X$4),不合格明细表!$G$3:$G$10000) -> 0 | Y9: =SUMPRODUCT((MONTH(不合格明细表!$B$3:$B$10000)='合格率（不合格统计表）'!$T$2)*(不合格明细表!$F$3:$F$10000='合格率（不合格统计表）'!$P9)*(不合格明细表!$D$3:$D$10000='合格率（不合格统计表）'!Y$4),不合格明细表!$G$3:$G$10000) -> 0 | ... AA9: =SUMPRODUCT((MONTH(不合格明细表!$B$3:$B$10000)='合格率（不合格统计表）'!$T$2)*(不合格明细表!$F$3:$F$10000='合格率（不合格统计表）'!$P9)*(不合格明细表!$D$3:$D$10000='合格率（不合格统计表）'!AA$4),不合格明细表!$G$3:$G$10000) -> 0
C10: =IFERROR(SUMPRODUCT((MONTH(不合格明细表!$B$3:$B$10000)='合格率（不合格统计表）'!$G$2)*(不合格明细表!$F$3:$F$10000='合格率（不合格统计表）'!$B10)*不合格明细表!$G$3:$G$10000)/SUMPRODUCT((MONTH(工序记录明细表!$C$4:$C$10000)='合格率（不合格统计表）'!$G$2)*(工序记录明细表!$G$4:$G$10000='合格率（不合格统计表）'!$B10),工序记录明细表!$I$4:$I$10000),"") | D10: =IFERROR(SUMPRODUCT((MONTH(不合格明细表!$B$3:$B$10000)='合格率（不合格统计表）'!$G$2)*(不合格明细表!$F$3:$F$10000='合格率（不合格统计表）'!$B10)*(不合格明细表!$D$3:$D$10000='合格率（不合格统计表）'!D$4),不合格明细表!$G$3:$G$10000)/SUMPRODUCT((MONTH(工序记录明细表!$C$4:$C$10000)='合格率（不合格统计表）'!$G$2)*(工序记录明细表!$G$4:$G$10000='合格率（不合格统计表）'!$B10)*(工序记录明细表!$E$4:$E$10000='合格率（不合格统计表）'!D$4),工序记录明细表!$I$4:$I$10000),"") | E10: =IFERROR(SUMPRODUCT((MONTH(不合格明细表!$B$3:$B$10000)='合格率（不合格统计表）'!$G$2)*(不合格明细表!$F$3:$F$10000='合格率（不合格统计表）'!$B10)*(不合格明细表!$D$3:$D$10000='合格率（不合格统计表）'!E$4),不合格明细表!$G$3:$G$10000)/SUMPRODUCT((MONTH(工序记录明细表!$C$4:$C$10000)='合格率（不合格统计表）'!$G$2)*(工序记录明细表!$G$4:$G$10000='合格率（不合格统计表）'!$B10)*(工序记录明细表!$E$4:$E$10000='合格率（不合格统计表）'!E$4),工序记录明细表!$I$4:$I$10000),"") | F10: =IFERROR(SUMPRODUCT((MONTH(不合格明细表!$B$3:$B$10000)='合格率（不合格统计表）'!$G$2)*(不合格明细表!$F$3:$F$10000='合格率（不合格统计表）'!$B10)*(不合格明细表!$D$3:$D$10000='合格率（不合格统计表）'!F$4),不合格明细表!$G$3:$G$10000)/SUMPRODUCT((MONTH(工序记录明细表!$C$4:$C$10000)='合格率（不合格统计表）'!$G$2)*(工序记录明细表!$G$4:$G$10000='合格率（不合格统计表）'!$B10)*(工序记录明细表!$E$4:$E$10000='合格率（不合格统计表）'!F$4),工序记录明细表!$I$4:$I$10000),"") | G10: =IFERROR(SUMPRODUCT((MONTH(不合格明细表!$B$3:$B$10000)='合格率（不合格统计表）'!$G$2)*(不合格明细表!$F$3:$F$10000='合格率（不合格统计表）'!$B10)*(不合格明细表!$D$3:$D$10000='合格率（不合格统计表）'!G$4),不合格明细表!$G$3:$G$10000)/SUMPRODUCT((MONTH(工序记录明细表!$C$4:$C$10000)='合格率（不合格统计表）'!$G$2)*(工序记录明细表!$G$4:$G$10000='合格率（不合格统计表）'!$B10)*(工序记录明细表!$E$4:$E$10000='合格率（不合格统计表）'!G$4),工序记录明细表!$I$4:$I$10000),"") | H10: =IFERROR(SUMPRODUCT((MONTH(不合格明细表!$B$3:$B$10000)='合格率（不合格统计表）'!$G$2)*(不合格明细表!$F$3:$F$10000='合格率（不合格统计表）'!$B10)*(不合格明细表!$D$3:$D$10000='合格率（不合格统计表）'!H$4),不合格明细表!$G$3:$G$10000)/SUMPRODUCT((MONTH(工序记录明细表!$C$4:$C$10000)='合格率（不合格统计表）'!$G$2)*(工序记录明细表!$G$4:$G$10000='合格率（不合格统计表）'!$B10)*(工序记录明细表!$E$4:$E$10000='合格率（不合格统计表）'!H$4),工序记录明细表!$I$4:$I$10000),"") | I10: =IFERROR(SUMPRODUCT((MONTH(不合格明细表!$B$3:$B$10000)='合格率（不合格统计表）'!$G$2)*(不合格明细表!$F$3:$F$10000='合格率（不合格统计表）'!$B10)*(不合格明细表!$D$3:$D$10000='合格率（不合格统计表）'!I$4),不合格明细表!$G$3:$G$10000)/SUMPRODUCT((MONTH(工序记录明细表!$C$4:$C$10000)='合格率（不合格统计表）'!$G$2)*(工序记录明细表!$G$4:$G$10000='合格率（不合格统计表）'!$B10)*(工序记录明细表!$E$4:$E$10000='合格率（不合格统计表）'!I$4),工序记录明细表!$I$4:$I$10000),"") | J10: =IFERROR(SUMPRODUCT((MONTH(不合格明细表!$B$3:$B$10000)='合格率（不合格统计表）'!$G$2)*(不合格明细表!$F$3:$F$10000='合格率（不合格统计表）'!$B10)*(不合格明细表!$D$3:$D$10000='合格率（不合格统计表）'!J$4),不合格明细表!$G$3:$G$10000)/SUMPRODUCT((MONTH(工序记录明细表!$C$4:$C$10000)='合格率（不合格统计表）'!$G$2)*(工序记录明细表!$G$4:$G$10000='合格率（不合格统计表）'!$B10)*(工序记录明细表!$E$4:$E$10000='合格率（不合格统计表）'!J$4),工序记录明细表!$I$4:$I$10000),"") | K10: =IFERROR(SUMPRODUCT((MONTH(不合格明细表!$B$3:$B$10000)='合格率（不合格统计表）'!$G$2)*(不合格明细表!$F$3:$F$10000='合格率（不合格统计表）'!$B10)*(不合格明细表!$D$3:$D$10000='合格率（不合格统计表）'!K$4),不合格明细表!$G$3:$G$10000)/SUMPRODUCT((MONTH(工序记录明细表!$C$4:$C$10000)='合格率（不合格统计表）'!$G$2)*(工序记录明细表!$G$4:$G$10000='合格率（不合格统计表）'!$B10)*(工序记录明细表!$E$4:$E$10000='合格率（不合格统计表）'!K$4),工序记录明细表!$I$4:$I$10000),"") | ... M10: =IFERROR(SUMPRODUCT((MONTH(不合格明细表!$B$3:$B$10000)='合格率（不合格统计表）'!$G$2)*(不合格明细表!$F$3:$F$10000='合格率（不合格统计表）'!$B10)*(不合格明细表!$D$3:$D$10000='合格率（不合格统计表）'!M$4),不合格明细表!$G$3:$G$10000)/SUMPRODUCT((MONTH(工序记录明细表!$C$4:$C$10000)='合格率（不合格统计表）'!$G$2)*(工序记录明细表!$G$4:$G$10000='合格率（不合格统计表）'!$B10)*(工序记录明细表!$E$4:$E$10000='合格率（不合格统计表）'!M$4),工序记录明细表!$I$4:$I$10000),"") | Q10: =SUM(R10:AA10) -> 0 | R10: =SUMPRODUCT((MONTH(不合格明细表!$B$3:$B$10000)='合格率（不合格统计表）'!$T$2)*(不合格明细表!$F$3:$F$10000='合格率（不合格统计表）'!$P10)*(不合格明细表!$D$3:$D$10000='合格率（不合格统计表）'!R$4),不合格明细表!$G$3:$G$10000) -> 0 | S10: =SUMPRODUCT((MONTH(不合格明细表!$B$3:$B$10000)='合格率（不合格统计表）'!$T$2)*(不合格明细表!$F$3:$F$10000='合格率（不合格统计表）'!$P10)*(不合格明细表!$D$3:$D$10000='合格率（不合格统计表）'!S$4),不合格明细表!$G$3:$G$10000) -> 0 | T10: =SUMPRODUCT((MONTH(不合格明细表!$B$3:$B$10000)='合格率（不合格统计表）'!$T$2)*(不合格明细表!$F$3:$F$10000='合格率（不合格统计表）'!$P10)*(不合格明细表!$D$3:$D$10000='合格率（不合格统计表）'!T$4),不合格明细表!$G$3:$G$10000) -> 0 | U10: =SUMPRODUCT((MONTH(不合格明细表!$B$3:$B$10000)='合格率（不合格统计表）'!$T$2)*(不合格明细表!$F$3:$F$10000='合格率（不合格统计表）'!$P10)*(不合格明细表!$D$3:$D$10000='合格率（不合格统计表）'!U$4),不合格明细表!$G$3:$G$10000) -> 0 | V10: =SUMPRODUCT((MONTH(不合格明细表!$B$3:$B$10000)='合格率（不合格统计表）'!$T$2)*(不合格明细表!$F$3:$F$10000='合格率（不合格统计表）'!$P10)*(不合格明细表!$D$3:$D$10000='合格率（不合格统计表）'!V$4),不合格明细表!$G$3:$G$10000) -> 0 | W10: =SUMPRODUCT((MONTH(不合格明细表!$B$3:$B$10000)='合格率（不合格统计表）'!$T$2)*(不合格明细表!$F$3:$F$10000='合格率（不合格统计表）'!$P10)*(不合格明细表!$D$3:$D$10000='合格率（不合格统计表）'!W$4),不合格明细表!$G$3:$G$10000) -> 0 | X10: =SUMPRODUCT((MONTH(不合格明细表!$B$3:$B$10000)='合格率（不合格统计表）'!$T$2)*(不合格明细表!$F$3:$F$10000='合格率（不合格统计表）'!$P10)*(不合格明细表!$D$3:$D$10000='合格率（不合格统计表）'!X$4),不合格明细表!$G$3:$G$10000) -> 0 | Y10: =SUMPRODUCT((MONTH(不合格明细表!$B$3:$B$10000)='合格率（不合格统计表）'!$T$2)*(不合格明细表!$F$3:$F$10000='合格率（不合格统计表）'!$P10)*(不合格明细表!$D$3:$D$10000='合格率（不合格统计表）'!Y$4),不合格明细表!$G$3:$G$10000) -> 0 | ... AA10: =SUMPRODUCT((MONTH(不合格明细表!$B$3:$B$10000)='合格率（不合格统计表）'!$T$2)*(不合格明细表!$F$3:$F$10000='合格率（不合格统计表）'!$P10)*(不合格明细表!$D$3:$D$10000='合格率（不合格统计表）'!AA$4),不合格明细表!$G$3:$G$10000) -> 0
C11: =IFERROR(SUMPRODUCT((MONTH(不合格明细表!$B$3:$B$10000)='合格率（不合格统计表）'!$G$2)*(不合格明细表!$F$3:$F$10000='合格率（不合格统计表）'!$B11)*不合格明细表!$G$3:$G$10000)/SUMPRODUCT((MONTH(工序记录明细表!$C$4:$C$10000)='合格率（不合格统计表）'!$G$2)*(工序记录明细表!$G$4:$G$10000='合格率（不合格统计表）'!$B11),工序记录明细表!$I$4:$I$10000),"") | D11: =IFERROR(SUMPRODUCT((MONTH(不合格明细表!$B$3:$B$10000)='合格率（不合格统计表）'!$G$2)*(不合格明细表!$F$3:$F$10000='合格率（不合格统计表）'!$B11)*(不合格明细表!$D$3:$D$10000='合格率（不合格统计表）'!D$4),不合格明细表!$G$3:$G$10000)/SUMPRODUCT((MONTH(工序记录明细表!$C$4:$C$10000)='合格率（不合格统计表）'!$G$2)*(工序记录明细表!$G$4:$G$10000='合格率（不合格统计表）'!$B11)*(工序记录明细表!$E$4:$E$10000='合格率（不合格统计表）'!D$4),工序记录明细表!$I$4:$I$10000),"") | E11: =IFERROR(SUMPRODUCT((MONTH(不合格明细表!$B$3:$B$10000)='合格率（不合格统计表）'!$G$2)*(不合格明细表!$F$3:$F$10000='合格率（不合格统计表）'!$B11)*(不合格明细表!$D$3:$D$10000='合格率（不合格统计表）'!E$4),不合格明细表!$G$3:$G$10000)/SUMPRODUCT((MONTH(工序记录明细表!$C$4:$C$10000)='合格率（不合格统计表）'!$G$2)*(工序记录明细表!$G$4:$G$10000='合格率（不合格统计表）'!$B11)*(工序记录明细表!$E$4:$E$10000='合格率（不合格统计表）'!E$4),工序记录明细表!$I$4:$I$10000),"") | F11: =IFERROR(SUMPRODUCT((MONTH(不合格明细表!$B$3:$B$10000)='合格率（不合格统计表）'!$G$2)*(不合格明细表!$F$3:$F$10000='合格率（不合格统计表）'!$B11)*(不合格明细表!$D$3:$D$10000='合格率（不合格统计表）'!F$4),不合格明细表!$G$3:$G$10000)/SUMPRODUCT((MONTH(工序记录明细表!$C$4:$C$10000)='合格率（不合格统计表）'!$G$2)*(工序记录明细表!$G$4:$G$10000='合格率（不合格统计表）'!$B11)*(工序记录明细表!$E$4:$E$10000='合格率（不合格统计表）'!F$4),工序记录明细表!$I$4:$I$10000),"") | G11: =IFERROR(SUMPRODUCT((MONTH(不合格明细表!$B$3:$B$10000)='合格率（不合格统计表）'!$G$2)*(不合格明细表!$F$3:$F$10000='合格率（不合格统计表）'!$B11)*(不合格明细表!$D$3:$D$10000='合格率（不合格统计表）'!G$4),不合格明细表!$G$3:$G$10000)/SUMPRODUCT((MONTH(工序记录明细表!$C$4:$C$10000)='合格率（不合格统计表）'!$G$2)*(工序记录明细表!$G$4:$G$10000='合格率（不合格统计表）'!$B11)*(工序记录明细表!$E$4:$E$10000='合格率（不合格统计表）'!G$4),工序记录明细表!$I$4:$I$10000),"") | H11: =IFERROR(SUMPRODUCT((MONTH(不合格明细表!$B$3:$B$10000)='合格率（不合格统计表）'!$G$2)*(不合格明细表!$F$3:$F$10000='合格率（不合格统计表）'!$B11)*(不合格明细表!$D$3:$D$10000='合格率（不合格统计表）'!H$4),不合格明细表!$G$3:$G$10000)/SUMPRODUCT((MONTH(工序记录明细表!$C$4:$C$10000)='合格率（不合格统计表）'!$G$2)*(工序记录明细表!$G$4:$G$10000='合格率（不合格统计表）'!$B11)*(工序记录明细表!$E$4:$E$10000='合格率（不合格统计表）'!H$4),工序记录明细表!$I$4:$I$10000),"") | I11: =IFERROR(SUMPRODUCT((MONTH(不合格明细表!$B$3:$B$10000)='合格率（不合格统计表）'!$G$2)*(不合格明细表!$F$3:$F$10000='合格率（不合格统计表）'!$B11)*(不合格明细表!$D$3:$D$10000='合格率（不合格统计表）'!I$4),不合格明细表!$G$3:$G$10000)/SUMPRODUCT((MONTH(工序记录明细表!$C$4:$C$10000)='合格率（不合格统计表）'!$G$2)*(工序记录明细表!$G$4:$G$10000='合格率（不合格统计表）'!$B11)*(工序记录明细表!$E$4:$E$10000='合格率（不合格统计表）'!I$4),工序记录明细表!$I$4:$I$10000),"") | J11: =IFERROR(SUMPRODUCT((MONTH(不合格明细表!$B$3:$B$10000)='合格率（不合格统计表）'!$G$2)*(不合格明细表!$F$3:$F$10000='合格率（不合格统计表）'!$B11)*(不合格明细表!$D$3:$D$10000='合格率（不合格统计表）'!J$4),不合格明细表!$G$3:$G$10000)/SUMPRODUCT((MONTH(工序记录明细表!$C$4:$C$10000)='合格率（不合格统计表）'!$G$2)*(工序记录明细表!$G$4:$G$10000='合格率（不合格统计表）'!$B11)*(工序记录明细表!$E$4:$E$10000='合格率（不合格统计表）'!J$4),工序记录明细表!$I$4:$I$10000),"") | K11: =IFERROR(SUMPRODUCT((MONTH(不合格明细表!$B$3:$B$10000)='合格率（不合格统计表）'!$G$2)*(不合格明细表!$F$3:$F$10000='合格率（不合格统计表）'!$B11)*(不合格明细表!$D$3:$D$10000='合格率（不合格统计表）'!K$4),不合格明细表!$G$3:$G$10000)/SUMPRODUCT((MONTH(工序记录明细表!$C$4:$C$10000)='合格率（不合格统计表）'!$G$2)*(工序记录明细表!$G$4:$G$10000='合格率（不合格统计表）'!$B11)*(工序记录明细表!$E$4:$E$10000='合格率（不合格统计表）'!K$4),工序记录明细表!$I$4:$I$10000),"") | ... M11: =IFERROR(SUMPRODUCT((MONTH(不合格明细表!$B$3:$B$10000)='合格率（不合格统计表）'!$G$2)*(不合格明细表!$F$3:$F$10000='合格率（不合格统计表）'!$B11)*(不合格明细表!$D$3:$D$10000='合格率（不合格统计表）'!M$4),不合格明细表!$G$3:$G$10000)/SUMPRODUCT((MONTH(工序记录明细表!$C$4:$C$10000)='合格率（不合格统计表）'!$G$2)*(工序记录明细表!$G$4:$G$10000='合格率（不合格统计表）'!$B11)*(工序记录明细表!$E$4:$E$10000='合格率（不合格统计表）'!M$4),工序记录明细表!$I$4:$I$10000),"") | Q11: =SUM(R11:AA11) -> 0 | R11: =SUMPRODUCT((MONTH(不合格明细表!$B$3:$B$10000)='合格率（不合格统计表）'!$T$2)*(不合格明细表!$F$3:$F$10000='合格率（不合格统计表）'!$P11)*(不合格明细表!$D$3:$D$10000='合格率（不合格统计表）'!R$4),不合格明细表!$G$3:$G$10000) -> 0 | S11: =SUMPRODUCT((MONTH(不合格明细表!$B$3:$B$10000)='合格率（不合格统计表）'!$T$2)*(不合格明细表!$F$3:$F$10000='合格率（不合格统计表）'!$P11)*(不合格明细表!$D$3:$D$10000='合格率（不合格统计表）'!S$4),不合格明细表!$G$3:$G$10000) -> 0 | T11: =SUMPRODUCT((MONTH(不合格明细表!$B$3:$B$10000)='合格率（不合格统计表）'!$T$2)*(不合格明细表!$F$3:$F$10000='合格率（不合格统计表）'!$P11)*(不合格明细表!$D$3:$D$10000='合格率（不合格统计表）'!T$4),不合格明细表!$G$3:$G$10000) -> 0 | U11: =SUMPRODUCT((MONTH(不合格明细表!$B$3:$B$10000)='合格率（不合格统计表）'!$T$2)*(不合格明细表!$F$3:$F$10000='合格率（不合格统计表）'!$P11)*(不合格明细表!$D$3:$D$10000='合格率（不合格统计表）'!U$4),不合格明细表!$G$3:$G$10000) -> 0 | V11: =SUMPRODUCT((MONTH(不合格明细表!$B$3:$B$10000)='合格率（不合格统计表）'!$T$2)*(不合格明细表!$F$3:$F$10000='合格率（不合格统计表）'!$P11)*(不合格明细表!$D$3:$D$10000='合格率（不合格统计表）'!V$4),不合格明细表!$G$3:$G$10000) -> 0 | W11: =SUMPRODUCT((MONTH(不合格明细表!$B$3:$B$10000)='合格率（不合格统计表）'!$T$2)*(不合格明细表!$F$3:$F$10000='合格率（不合格统计表）'!$P11)*(不合格明细表!$D$3:$D$10000='合格率（不合格统计表）'!W$4),不合格明细表!$G$3:$G$10000) -> 0 | X11: =SUMPRODUCT((MONTH(不合格明细表!$B$3:$B$10000)='合格率（不合格统计表）'!$T$2)*(不合格明细表!$F$3:$F$10000='合格率（不合格统计表）'!$P11)*(不合格明细表!$D$3:$D$10000='合格率（不合格统计表）'!X$4),不合格明细表!$G$3:$G$10000) -> 0 | Y11: =SUMPRODUCT((MONTH(不合格明细表!$B$3:$B$10000)='合格率（不合格统计表）'!$T$2)*(不合格明细表!$F$3:$F$10000='合格率（不合格统计表）'!$P11)*(不合格明细表!$D$3:$D$10000='合格率（不合格统计表）'!Y$4),不合格明细表!$G$3:$G$10000) -> 0 | ... AA11: =SUMPRODUCT((MONTH(不合格明细表!$B$3:$B$10000)='合格率（不合格统计表）'!$T$2)*(不合格明细表!$F$3:$F$10000='合格率（不合格统计表）'!$P11)*(不合格明细表!$D$3:$D$10000='合格率（不合格统计表）'!AA$4),不合格明细表!$G$3:$G$10000) -> 0
C12: =IFERROR(SUMPRODUCT((MONTH(不合格明细表!$B$3:$B$10000)='合格率（不合格统计表）'!$G$2)*(不合格明细表!$F$3:$F$10000='合格率（不合格统计表）'!$B12)*不合格明细表!$G$3:$G$10000)/SUMPRODUCT((MONTH(工序记录明细表!$C$4:$C$10000)='合格率（不合格统计表）'!$G$2)*(工序记录明细表!$G$4:$G$10000='合格率（不合格统计表）'!$B12),工序记录明细表!$I$4:$I$10000),"") | D12: =IFERROR(SUMPRODUCT((MONTH(不合格明细表!$B$3:$B$10000)='合格率（不合格统计表）'!$G$2)*(不合格明细表!$F$3:$F$10000='合格率（不合格统计表）'!$B12)*(不合格明细表!$D$3:$D$10000='合格率（不合格统计表）'!D$4),不合格明细表!$G$3:$G$10000)/SUMPRODUCT((MONTH(工序记录明细表!$C$4:$C$10000)='合格率（不合格统计表）'!$G$2)*(工序记录明细表!$G$4:$G$10000='合格率（不合格统计表）'!$B12)*(工序记录明细表!$E$4:$E$10000='合格率（不合格统计表）'!D$4),工序记录明细表!$I$4:$I$10000),"") | E12: =IFERROR(SUMPRODUCT((MONTH(不合格明细表!$B$3:$B$10000)='合格率（不合格统计表）'!$G$2)*(不合格明细表!$F$3:$F$10000='合格率（不合格统计表）'!$B12)*(不合格明细表!$D$3:$D$10000='合格率（不合格统计表）'!E$4),不合格明细表!$G$3:$G$10000)/SUMPRODUCT((MONTH(工序记录明细表!$C$4:$C$10000)='合格率（不合格统计表）'!$G$2)*(工序记录明细表!$G$4:$G$10000='合格率（不合格统计表）'!$B12)*(工序记录明细表!$E$4:$E$10000='合格率（不合格统计表）'!E$4),工序记录明细表!$I$4:$I$10000),"") | F12: =IFERROR(SUMPRODUCT((MONTH(不合格明细表!$B$3:$B$10000)='合格率（不合格统计表）'!$G$2)*(不合格明细表!$F$3:$F$10000='合格率（不合格统计表）'!$B12)*(不合格明细表!$D$3:$D$10000='合格率（不合格统计表）'!F$4),不合格明细表!$G$3:$G$10000)/SUMPRODUCT((MONTH(工序记录明细表!$C$4:$C$10000)='合格率（不合格统计表）'!$G$2)*(工序记录明细表!$G$4:$G$10000='合格率（不合格统计表）'!$B12)*(工序记录明细表!$E$4:$E$10000='合格率（不合格统计表）'!F$4),工序记录明细表!$I$4:$I$10000),"") | G12: =IFERROR(SUMPRODUCT((MONTH(不合格明细表!$B$3:$B$10000)='合格率（不合格统计表）'!$G$2)*(不合格明细表!$F$3:$F$10000='合格率（不合格统计表）'!$B12)*(不合格明细表!$D$3:$D$10000='合格率（不合格统计表）'!G$4),不合格明细表!$G$3:$G$10000)/SUMPRODUCT((MONTH(工序记录明细表!$C$4:$C$10000)='合格率（不合格统计表）'!$G$2)*(工序记录明细表!$G$4:$G$10000='合格率（不合格统计表）'!$B12)*(工序记录明细表!$E$4:$E$10000='合格率（不合格统计表）'!G$4),工序记录明细表!$I$4:$I$10000),"") | H12: =IFERROR(SUMPRODUCT((MONTH(不合格明细表!$B$3:$B$10000)='合格率（不合格统计表）'!$G$2)*(不合格明细表!$F$3:$F$10000='合格率（不合格统计表）'!$B12)*(不合格明细表!$D$3:$D$10000='合格率（不合格统计表）'!H$4),不合格明细表!$G$3:$G$10000)/SUMPRODUCT((MONTH(工序记录明细表!$C$4:$C$10000)='合格率（不合格统计表）'!$G$2)*(工序记录明细表!$G$4:$G$10000='合格率（不合格统计表）'!$B12)*(工序记录明细表!$E$4:$E$10000='合格率（不合格统计表）'!H$4),工序记录明细表!$I$4:$I$10000),"") | I12: =IFERROR(SUMPRODUCT((MONTH(不合格明细表!$B$3:$B$10000)='合格率（不合格统计表）'!$G$2)*(不合格明细表!$F$3:$F$10000='合格率（不合格统计表）'!$B12)*(不合格明细表!$D$3:$D$10000='合格率（不合格统计表）'!I$4),不合格明细表!$G$3:$G$10000)/SUMPRODUCT((MONTH(工序记录明细表!$C$4:$C$10000)='合格率（不合格统计表）'!$G$2)*(工序记录明细表!$G$4:$G$10000='合格率（不合格统计表）'!$B12)*(工序记录明细表!$E$4:$E$10000='合格率（不合格统计表）'!I$4),工序记录明细表!$I$4:$I$10000),"") | J12: =IFERROR(SUMPRODUCT((MONTH(不合格明细表!$B$3:$B$10000)='合格率（不合格统计表）'!$G$2)*(不合格明细表!$F$3:$F$10000='合格率（不合格统计表）'!$B12)*(不合格明细表!$D$3:$D$10000='合格率（不合格统计表）'!J$4),不合格明细表!$G$3:$G$10000)/SUMPRODUCT((MONTH(工序记录明细表!$C$4:$C$10000)='合格率（不合格统计表）'!$G$2)*(工序记录明细表!$G$4:$G$10000='合格率（不合格统计表）'!$B12)*(工序记录明细表!$E$4:$E$10000='合格率（不合格统计表）'!J$4),工序记录明细表!$I$4:$I$10000),"") | K12: =IFERROR(SUMPRODUCT((MONTH(不合格明细表!$B$3:$B$10000)='合格率（不合格统计表）'!$G$2)*(不合格明细表!$F$3:$F$10000='合格率（不合格统计表）'!$B12)*(不合格明细表!$D$3:$D$10000='合格率（不合格统计表）'!K$4),不合格明细表!$G$3:$G$10000)/SUMPRODUCT((MONTH(工序记录明细表!$C$4:$C$10000)='合格率（不合格统计表）'!$G$2)*(工序记录明细表!$G$4:$G$10000='合格率（不合格统计表）'!$B12)*(工序记录明细表!$E$4:$E$10000='合格率（不合格统计表）'!K$4),工序记录明细表!$I$4:$I$10000),"") | ... M12: =IFERROR(SUMPRODUCT((MONTH(不合格明细表!$B$3:$B$10000)='合格率（不合格统计表）'!$G$2)*(不合格明细表!$F$3:$F$10000='合格率（不合格统计表）'!$B12)*(不合格明细表!$D$3:$D$10000='合格率（不合格统计表）'!M$4),不合格明细表!$G$3:$G$10000)/SUMPRODUCT((MONTH(工序记录明细表!$C$4:$C$10000)='合格率（不合格统计表）'!$G$2)*(工序记录明细表!$G$4:$G$10000='合格率（不合格统计表）'!$B12)*(工序记录明细表!$E$4:$E$10000='合格率（不合格统计表）'!M$4),工序记录明细表!$I$4:$I$10000),"") | Q12: =SUM(R12:AA12) -> 0 | R12: =SUMPRODUCT((MONTH(不合格明细表!$B$3:$B$10000)='合格率（不合格统计表）'!$T$2)*(不合格明细表!$F$3:$F$10000='合格率（不合格统计表）'!$P12)*(不合格明细表!$D$3:$D$10000='合格率（不合格统计表）'!R$4),不合格明细表!$G$3:$G$10000) -> 0 | S12: =SUMPRODUCT((MONTH(不合格明细表!$B$3:$B$10000)='合格率（不合格统计表）'!$T$2)*(不合格明细表!$F$3:$F$10000='合格率（不合格统计表）'!$P12)*(不合格明细表!$D$3:$D$10000='合格率（不合格统计表）'!S$4),不合格明细表!$G$3:$G$10000) -> 0 | T12: =SUMPRODUCT((MONTH(不合格明细表!$B$3:$B$10000)='合格率（不合格统计表）'!$T$2)*(不合格明细表!$F$3:$F$10000='合格率（不合格统计表）'!$P12)*(不合格明细表!$D$3:$D$10000='合格率（不合格统计表）'!T$4),不合格明细表!$G$3:$G$10000) -> 0 | U12: =SUMPRODUCT((MONTH(不合格明细表!$B$3:$B$10000)='合格率（不合格统计表）'!$T$2)*(不合格明细表!$F$3:$F$10000='合格率（不合格统计表）'!$P12)*(不合格明细表!$D$3:$D$10000='合格率（不合格统计表）'!U$4),不合格明细表!$G$3:$G$10000) -> 0 | V12: =SUMPRODUCT((MONTH(不合格明细表!$B$3:$B$10000)='合格率（不合格统计表）'!$T$2)*(不合格明细表!$F$3:$F$10000='合格率（不合格统计表）'!$P12)*(不合格明细表!$D$3:$D$10000='合格率（不合格统计表）'!V$4),不合格明细表!$G$3:$G$10000) -> 0 | W12: =SUMPRODUCT((MONTH(不合格明细表!$B$3:$B$10000)='合格率（不合格统计表）'!$T$2)*(不合格明细表!$F$3:$F$10000='合格率（不合格统计表）'!$P12)*(不合格明细表!$D$3:$D$10000='合格率（不合格统计表）'!W$4),不合格明细表!$G$3:$G$10000) -> 0 | X12: =SUMPRODUCT((MONTH(不合格明细表!$B$3:$B$10000)='合格率（不合格统计表）'!$T$2)*(不合格明细表!$F$3:$F$10000='合格率（不合格统计表）'!$P12)*(不合格明细表!$D$3:$D$10000='合格率（不合格统计表）'!X$4),不合格明细表!$G$3:$G$10000) -> 0 | Y12: =SUMPRODUCT((MONTH(不合格明细表!$B$3:$B$10000)='合格率（不合格统计表）'!$T$2)*(不合格明细表!$F$3:$F$10000='合格率（不合格统计表）'!$P12)*(不合格明细表!$D$3:$D$10000='合格率（不合格统计表）'!Y$4),不合格明细表!$G$3:$G$10000) -> 0 | ... AA12: =SUMPRODUCT((MONTH(不合格明细表!$B$3:$B$10000)='合格率（不合格统计表）'!$T$2)*(不合格明细表!$F$3:$F$10000='合格率（不合格统计表）'!$P12)*(不合格明细表!$D$3:$D$10000='合格率（不合格统计表）'!AA$4),不合格明细表!$G$3:$G$10000) -> 0
C13: =IFERROR(SUMPRODUCT((MONTH(不合格明细表!$B$3:$B$10000)='合格率（不合格统计表）'!$G$2)*(不合格明细表!$F$3:$F$10000='合格率（不合格统计表）'!$B13)*不合格明细表!$G$3:$G$10000)/SUMPRODUCT((MONTH(工序记录明细表!$C$4:$C$10000)='合格率（不合格统计表）'!$G$2)*(工序记录明细表!$G$4:$G$10000='合格率（不合格统计表）'!$B13),工序记录明细表!$I$4:$I$10000),"") | D13: =IFERROR(SUMPRODUCT((MONTH(不合格明细表!$B$3:$B$10000)='合格率（不合格统计表）'!$G$2)*(不合格明细表!$F$3:$F$10000='合格率（不合格统计表）'!$B13)*(不合格明细表!$D$3:$D$10000='合格率（不合格统计表）'!D$4),不合格明细表!$G$3:$G$10000)/SUMPRODUCT((MONTH(工序记录明细表!$C$4:$C$10000)='合格率（不合格统计表）'!$G$2)*(工序记录明细表!$G$4:$G$10000='合格率（不合格统计表）'!$B13)*(工序记录明细表!$E$4:$E$10000='合格率（不合格统计表）'!D$4),工序记录明细表!$I$4:$I$10000),"") | E13: =IFERROR(SUMPRODUCT((MONTH(不合格明细表!$B$3:$B$10000)='合格率（不合格统计表）'!$G$2)*(不合格明细表!$F$3:$F$10000='合格率（不合格统计表）'!$B13)*(不合格明细表!$D$3:$D$10000='合格率（不合格统计表）'!E$4),不合格明细表!$G$3:$G$10000)/SUMPRODUCT((MONTH(工序记录明细表!$C$4:$C$10000)='合格率（不合格统计表）'!$G$2)*(工序记录明细表!$G$4:$G$10000='合格率（不合格统计表）'!$B13)*(工序记录明细表!$E$4:$E$10000='合格率（不合格统计表）'!E$4),工序记录明细表!$I$4:$I$10000),"") | F13: =IFERROR(SUMPRODUCT((MONTH(不合格明细表!$B$3:$B$10000)='合格率（不合格统计表）'!$G$2)*(不合格明细表!$F$3:$F$10000='合格率（不合格统计表）'!$B13)*(不合格明细表!$D$3:$D$10000='合格率（不合格统计表）'!F$4),不合格明细表!$G$3:$G$10000)/SUMPRODUCT((MONTH(工序记录明细表!$C$4:$C$10000)='合格率（不合格统计表）'!$G$2)*(工序记录明细表!$G$4:$G$10000='合格率（不合格统计表）'!$B13)*(工序记录明细表!$E$4:$E$10000='合格率（不合格统计表）'!F$4),工序记录明细表!$I$4:$I$10000),"") | G13: =IFERROR(SUMPRODUCT((MONTH(不合格明细表!$B$3:$B$10000)='合格率（不合格统计表）'!$G$2)*(不合格明细表!$F$3:$F$10000='合格率（不合格统计表）'!$B13)*(不合格明细表!$D$3:$D$10000='合格率（不合格统计表）'!G$4),不合格明细表!$G$3:$G$10000)/SUMPRODUCT((MONTH(工序记录明细表!$C$4:$C$10000)='合格率（不合格统计表）'!$G$2)*(工序记录明细表!$G$4:$G$10000='合格率（不合格统计表）'!$B13)*(工序记录明细表!$E$4:$E$10000='合格率（不合格统计表）'!G$4),工序记录明细表!$I$4:$I$10000),"") | H13: =IFERROR(SUMPRODUCT((MONTH(不合格明细表!$B$3:$B$10000)='合格率（不合格统计表）'!$G$2)*(不合格明细表!$F$3:$F$10000='合格率（不合格统计表）'!$B13)*(不合格明细表!$D$3:$D$10000='合格率（不合格统计表）'!H$4),不合格明细表!$G$3:$G$10000)/SUMPRODUCT((MONTH(工序记录明细表!$C$4:$C$10000)='合格率（不合格统计表）'!$G$2)*(工序记录明细表!$G$4:$G$10000='合格率（不合格统计表）'!$B13)*(工序记录明细表!$E$4:$E$10000='合格率（不合格统计表）'!H$4),工序记录明细表!$I$4:$I$10000),"") | I13: =IFERROR(SUMPRODUCT((MONTH(不合格明细表!$B$3:$B$10000)='合格率（不合格统计表）'!$G$2)*(不合格明细表!$F$3:$F$10000='合格率（不合格统计表）'!$B13)*(不合格明细表!$D$3:$D$10000='合格率（不合格统计表）'!I$4),不合格明细表!$G$3:$G$10000)/SUMPRODUCT((MONTH(工序记录明细表!$C$4:$C$10000)='合格率（不合格统计表）'!$G$2)*(工序记录明细表!$G$4:$G$10000='合格率（不合格统计表）'!$B13)*(工序记录明细表!$E$4:$E$10000='合格率（不合格统计表）'!I$4),工序记录明细表!$I$4:$I$10000),"") | J13: =IFERROR(SUMPRODUCT((MONTH(不合格明细表!$B$3:$B$10000)='合格率（不合格统计表）'!$G$2)*(不合格明细表!$F$3:$F$10000='合格率（不合格统计表）'!$B13)*(不合格明细表!$D$3:$D$10000='合格率（不合格统计表）'!J$4),不合格明细表!$G$3:$G$10000)/SUMPRODUCT((MONTH(工序记录明细表!$C$4:$C$10000)='合格率（不合格统计表）'!$G$2)*(工序记录明细表!$G$4:$G$10000='合格率（不合格统计表）'!$B13)*(工序记录明细表!$E$4:$E$10000='合格率（不合格统计表）'!J$4),工序记录明细表!$I$4:$I$10000),"") | K13: =IFERROR(SUMPRODUCT((MONTH(不合格明细表!$B$3:$B$10000)='合格率（不合格统计表）'!$G$2)*(不合格明细表!$F$3:$F$10000='合格率（不合格统计表）'!$B13)*(不合格明细表!$D$3:$D$10000='合格率（不合格统计表）'!K$4),不合格明细表!$G$3:$G$10000)/SUMPRODUCT((MONTH(工序记录明细表!$C$4:$C$10000)='合格率（不合格统计表）'!$G$2)*(工序记录明细表!$G$4:$G$10000='合格率（不合格统计表）'!$B13)*(工序记录明细表!$E$4:$E$10000='合格率（不合格统计表）'!K$4),工序记录明细表!$I$4:$I$10000),"") | ... M13: =IFERROR(SUMPRODUCT((MONTH(不合格明细表!$B$3:$B$10000)='合格率（不合格统计表）'!$G$2)*(不合格明细表!$F$3:$F$10000='合格率（不合格统计表）'!$B13)*(不合格明细表!$D$3:$D$10000='合格率（不合格统计表）'!M$4),不合格明细表!$G$3:$G$10000)/SUMPRODUCT((MONTH(工序记录明细表!$C$4:$C$10000)='合格率（不合格统计表）'!$G$2)*(工序记录明细表!$G$4:$G$10000='合格率（不合格统计表）'!$B13)*(工序记录明细表!$E$4:$E$10000='合格率（不合格统计表）'!M$4),工序记录明细表!$I$4:$I$10000),"") | Q13: =SUM(R13:AA13) -> 0 | R13: =SUMPRODUCT((MONTH(不合格明细表!$B$3:$B$10000)='合格率（不合格统计表）'!$T$2)*(不合格明细表!$F$3:$F$10000='合格率（不合格统计表）'!$P13)*(不合格明细表!$D$3:$D$10000='合格率（不合格统计表）'!R$4),不合格明细表!$G$3:$G$10000) -> 0 | S13: =SUMPRODUCT((MONTH(不合格明细表!$B$3:$B$10000)='合格率（不合格统计表）'!$T$2)*(不合格明细表!$F$3:$F$10000='合格率（不合格统计表）'!$P13)*(不合格明细表!$D$3:$D$10000='合格率（不合格统计表）'!S$4),不合格明细表!$G$3:$G$10000) -> 0 | T13: =SUMPRODUCT((MONTH(不合格明细表!$B$3:$B$10000)='合格率（不合格统计表）'!$T$2)*(不合格明细表!$F$3:$F$10000='合格率（不合格统计表）'!$P13)*(不合格明细表!$D$3:$D$10000='合格率（不合格统计表）'!T$4),不合格明细表!$G$3:$G$10000) -> 0 | U13: =SUMPRODUCT((MONTH(不合格明细表!$B$3:$B$10000)='合格率（不合格统计表）'!$T$2)*(不合格明细表!$F$3:$F$10000='合格率（不合格统计表）'!$P13)*(不合格明细表!$D$3:$D$10000='合格率（不合格统计表）'!U$4),不合格明细表!$G$3:$G$10000) -> 0 | V13: =SUMPRODUCT((MONTH(不合格明细表!$B$3:$B$10000)='合格率（不合格统计表）'!$T$2)*(不合格明细表!$F$3:$F$10000='合格率（不合格统计表）'!$P13)*(不合格明细表!$D$3:$D$10000='合格率（不合格统计表）'!V$4),不合格明细表!$G$3:$G$10000) -> 0 | W13: =SUMPRODUCT((MONTH(不合格明细表!$B$3:$B$10000)='合格率（不合格统计表）'!$T$2)*(不合格明细表!$F$3:$F$10000='合格率（不合格统计表）'!$P13)*(不合格明细表!$D$3:$D$10000='合格率（不合格统计表）'!W$4),不合格明细表!$G$3:$G$10000) -> 0 | X13: =SUMPRODUCT((MONTH(不合格明细表!$B$3:$B$10000)='合格率（不合格统计表）'!$T$2)*(不合格明细表!$F$3:$F$10000='合格率（不合格统计表）'!$P13)*(不合格明细表!$D$3:$D$10000='合格率（不合格统计表）'!X$4),不合格明细表!$G$3:$G$10000) -> 0 | Y13: =SUMPRODUCT((MONTH(不合格明细表!$B$3:$B$10000)='合格率（不合格统计表）'!$T$2)*(不合格明细表!$F$3:$F$10000='合格率（不合格统计表）'!$P13)*(不合格明细表!$D$3:$D$10000='合格率（不合格统计表）'!Y$4),不合格明细表!$G$3:$G$10000) -> 0 | ... AA13: =SUMPRODUCT((MONTH(不合格明细表!$B$3:$B$10000)='合格率（不合格统计表）'!$T$2)*(不合格明细表!$F$3:$F$10000='合格率（不合格统计表）'!$P13)*(不合格明细表!$D$3:$D$10000='合格率（不合格统计表）'!AA$4),不合格明细表!$G$3:$G$10000) -> 0
C14: =IFERROR(SUMPRODUCT((MONTH(不合格明细表!$B$3:$B$10000)='合格率（不合格统计表）'!$G$2)*(不合格明细表!$F$3:$F$10000='合格率（不合格统计表）'!$B14)*不合格明细表!$G$3:$G$10000)/SUMPRODUCT((MONTH(工序记录明细表!$C$4:$C$10000)='合格率（不合格统计表）'!$G$2)*(工序记录明细表!$G$4:$G$10000='合格率（不合格统计表）'!$B14),工序记录明细表!$I$4:$I$10000),"") | D14: =IFERROR(SUMPRODUCT((MONTH(不合格明细表!$B$3:$B$10000)='合格率（不合格统计表）'!$G$2)*(不合格明细表!$F$3:$F$10000='合格率（不合格统计表）'!$B14)*(不合格明细表!$D$3:$D$10000='合格率（不合格统计表）'!D$4),不合格明细表!$G$3:$G$10000)/SUMPRODUCT((MONTH(工序记录明细表!$C$4:$C$10000)='合格率（不合格统计表）'!$G$2)*(工序记录明细表!$G$4:$G$10000='合格率（不合格统计表）'!$B14)*(工序记录明细表!$E$4:$E$10000='合格率（不合格统计表）'!D$4),工序记录明细表!$I$4:$I$10000),"") | E14: =IFERROR(SUMPRODUCT((MONTH(不合格明细表!$B$3:$B$10000)='合格率（不合格统计表）'!$G$2)*(不合格明细表!$F$3:$F$10000='合格率（不合格统计表）'!$B14)*(不合格明细表!$D$3:$D$10000='合格率（不合格统计表）'!E$4),不合格明细表!$G$3:$G$10000)/SUMPRODUCT((MONTH(工序记录明细表!$C$4:$C$10000)='合格率（不合格统计表）'!$G$2)*(工序记录明细表!$G$4:$G$10000='合格率（不合格统计表）'!$B14)*(工序记录明细表!$E$4:$E$10000='合格率（不合格统计表）'!E$4),工序记录明细表!$I$4:$I$10000),"") | F14: =IFERROR(SUMPRODUCT((MONTH(不合格明细表!$B$3:$B$10000)='合格率（不合格统计表）'!$G$2)*(不合格明细表!$F$3:$F$10000='合格率（不合格统计表）'!$B14)*(不合格明细表!$D$3:$D$10000='合格率（不合格统计表）'!F$4),不合格明细表!$G$3:$G$10000)/SUMPRODUCT((MONTH(工序记录明细表!$C$4:$C$10000)='合格率（不合格统计表）'!$G$2)*(工序记录明细表!$G$4:$G$10000='合格率（不合格统计表）'!$B14)*(工序记录明细表!$E$4:$E$10000='合格率（不合格统计表）'!F$4),工序记录明细表!$I$4:$I$10000),"") | G14: =IFERROR(SUMPRODUCT((MONTH(不合格明细表!$B$3:$B$10000)='合格率（不合格统计表）'!$G$2)*(不合格明细表!$F$3:$F$10000='合格率（不合格统计表）'!$B14)*(不合格明细表!$D$3:$D$10000='合格率（不合格统计表）'!G$4),不合格明细表!$G$3:$G$10000)/SUMPRODUCT((MONTH(工序记录明细表!$C$4:$C$10000)='合格率（不合格统计表）'!$G$2)*(工序记录明细表!$G$4:$G$10000='合格率（不合格统计表）'!$B14)*(工序记录明细表!$E$4:$E$10000='合格率（不合格统计表）'!G$4),工序记录明细表!$I$4:$I$10000),"") | H14: =IFERROR(SUMPRODUCT((MONTH(不合格明细表!$B$3:$B$10000)='合格率（不合格统计表）'!$G$2)*(不合格明细表!$F$3:$F$10000='合格率（不合格统计表）'!$B14)*(不合格明细表!$D$3:$D$10000='合格率（不合格统计表）'!H$4),不合格明细表!$G$3:$G$10000)/SUMPRODUCT((MONTH(工序记录明细表!$C$4:$C$10000)='合格率（不合格统计表）'!$G$2)*(工序记录明细表!$G$4:$G$10000='合格率（不合格统计表）'!$B14)*(工序记录明细表!$E$4:$E$10000='合格率（不合格统计表）'!H$4),工序记录明细表!$I$4:$I$10000),"") | I14: =IFERROR(SUMPRODUCT((MONTH(不合格明细表!$B$3:$B$10000)='合格率（不合格统计表）'!$G$2)*(不合格明细表!$F$3:$F$10000='合格率（不合格统计表）'!$B14)*(不合格明细表!$D$3:$D$10000='合格率（不合格统计表）'!I$4),不合格明细表!$G$3:$G$10000)/SUMPRODUCT((MONTH(工序记录明细表!$C$4:$C$10000)='合格率（不合格统计表）'!$G$2)*(工序记录明细表!$G$4:$G$10000='合格率（不合格统计表）'!$B14)*(工序记录明细表!$E$4:$E$10000='合格率（不合格统计表）'!I$4),工序记录明细表!$I$4:$I$10000),"") | J14: =IFERROR(SUMPRODUCT((MONTH(不合格明细表!$B$3:$B$10000)='合格率（不合格统计表）'!$G$2)*(不合格明细表!$F$3:$F$10000='合格率（不合格统计表）'!$B14)*(不合格明细表!$D$3:$D$10000='合格率（不合格统计表）'!J$4),不合格明细表!$G$3:$G$10000)/SUMPRODUCT((MONTH(工序记录明细表!$C$4:$C$10000)='合格率（不合格统计表）'!$G$2)*(工序记录明细表!$G$4:$G$10000='合格率（不合格统计表）'!$B14)*(工序记录明细表!$E$4:$E$10000='合格率（不合格统计表）'!J$4),工序记录明细表!$I$4:$I$10000),"") | K14: =IFERROR(SUMPRODUCT((MONTH(不合格明细表!$B$3:$B$10000)='合格率（不合格统计表）'!$G$2)*(不合格明细表!$F$3:$F$10000='合格率（不合格统计表）'!$B14)*(不合格明细表!$D$3:$D$10000='合格率（不合格统计表）'!K$4),不合格明细表!$G$3:$G$10000)/SUMPRODUCT((MONTH(工序记录明细表!$C$4:$C$10000)='合格率（不合格统计表）'!$G$2)*(工序记录明细表!$G$4:$G$10000='合格率（不合格统计表）'!$B14)*(工序记录明细表!$E$4:$E$10000='合格率（不合格统计表）'!K$4),工序记录明细表!$I$4:$I$10000),"") | ... M14: =IFERROR(SUMPRODUCT((MONTH(不合格明细表!$B$3:$B$10000)='合格率（不合格统计表）'!$G$2)*(不合格明细表!$F$3:$F$10000='合格率（不合格统计表）'!$B14)*(不合格明细表!$D$3:$D$10000='合格率（不合格统计表）'!M$4),不合格明细表!$G$3:$G$10000)/SUMPRODUCT((MONTH(工序记录明细表!$C$4:$C$10000)='合格率（不合格统计表）'!$G$2)*(工序记录明细表!$G$4:$G$10000='合格率（不合格统计表）'!$B14)*(工序记录明细表!$E$4:$E$10000='合格率（不合格统计表）'!M$4),工序记录明细表!$I$4:$I$10000),"") | Q14: =SUM(R14:AA14) -> 0 | R14: =SUMPRODUCT((MONTH(不合格明细表!$B$3:$B$10000)='合格率（不合格统计表）'!$T$2)*(不合格明细表!$F$3:$F$10000='合格率（不合格统计表）'!$P14)*(不合格明细表!$D$3:$D$10000='合格率（不合格统计表）'!R$4),不合格明细表!$G$3:$G$10000) -> 0 | S14: =SUMPRODUCT((MONTH(不合格明细表!$B$3:$B$10000)='合格率（不合格统计表）'!$T$2)*(不合格明细表!$F$3:$F$10000='合格率（不合格统计表）'!$P14)*(不合格明细表!$D$3:$D$10000='合格率（不合格统计表）'!S$4),不合格明细表!$G$3:$G$10000) -> 0 | T14: =SUMPRODUCT((MONTH(不合格明细表!$B$3:$B$10000)='合格率（不合格统计表）'!$T$2)*(不合格明细表!$F$3:$F$10000='合格率（不合格统计表）'!$P14)*(不合格明细表!$D$3:$D$10000='合格率（不合格统计表）'!T$4),不合格明细表!$G$3:$G$10000) -> 0 | U14: =SUMPRODUCT((MONTH(不合格明细表!$B$3:$B$10000)='合格率（不合格统计表）'!$T$2)*(不合格明细表!$F$3:$F$10000='合格率（不合格统计表）'!$P14)*(不合格明细表!$D$3:$D$10000='合格率（不合格统计表）'!U$4),不合格明细表!$G$3:$G$10000) -> 0 | V14: =SUMPRODUCT((MONTH(不合格明细表!$B$3:$B$10000)='合格率（不合格统计表）'!$T$2)*(不合格明细表!$F$3:$F$10000='合格率（不合格统计表）'!$P14)*(不合格明细表!$D$3:$D$10000='合格率（不合格统计表）'!V$4),不合格明细表!$G$3:$G$10000) -> 0 | W14: =SUMPRODUCT((MONTH(不合格明细表!$B$3:$B$10000)='合格率（不合格统计表）'!$T$2)*(不合格明细表!$F$3:$F$10000='合格率（不合格统计表）'!$P14)*(不合格明细表!$D$3:$D$10000='合格率（不合格统计表）'!W$4),不合格明细表!$G$3:$G$10000) -> 0 | X14: =SUMPRODUCT((MONTH(不合格明细表!$B$3:$B$10000)='合格率（不合格统计表）'!$T$2)*(不合格明细表!$F$3:$F$10000='合格率（不合格统计表）'!$P14)*(不合格明细表!$D$3:$D$10000='合格率（不合格统计表）'!X$4),不合格明细表!$G$3:$G$10000) -> 0 | Y14: =SUMPRODUCT((MONTH(不合格明细表!$B$3:$B$10000)='合格率（不合格统计表）'!$T$2)*(不合格明细表!$F$3:$F$10000='合格率（不合格统计表）'!$P14)*(不合格明细表!$D$3:$D$10000='合格率（不合格统计表）'!Y$4),不合格明细表!$G$3:$G$10000) -> 0 | ... AA14: =SUMPRODUCT((MONTH(不合格明细表!$B$3:$B$10000)='合格率（不合格统计表）'!$T$2)*(不合格明细表!$F$3:$F$10000='合格率（不合格统计表）'!$P14)*(不合格明细表!$D$3:$D$10000='合格率（不合格统计表）'!AA$4),不合格明细表!$G$3:$G$10000) -> 0
C15: =IFERROR(SUMPRODUCT((MONTH(不合格明细表!$B$3:$B$10000)='合格率（不合格统计表）'!$G$2)*(不合格明细表!$F$3:$F$10000='合格率（不合格统计表）'!$B15)*不合格明细表!$G$3:$G$10000)/SUMPRODUCT((MONTH(工序记录明细表!$C$4:$C$10000)='合格率（不合格统计表）'!$G$2)*(工序记录明细表!$G$4:$G$10000='合格率（不合格统计表）'!$B15),工序记录明细表!$I$4:$I$10000),"") | D15: =IFERROR(SUMPRODUCT((MONTH(不合格明细表!$B$3:$B$10000)='合格率（不合格统计表）'!$G$2)*(不合格明细表!$F$3:$F$10000='合格率（不合格统计表）'!$B15)*(不合格明细表!$D$3:$D$10000='合格率（不合格统计表）'!D$4),不合格明细表!$G$3:$G$10000)/SUMPRODUCT((MONTH(工序记录明细表!$C$4:$C$10000)='合格率（不合格统计表）'!$G$2)*(工序记录明细表!$G$4:$G$10000='合格率（不合格统计表）'!$B15)*(工序记录明细表!$E$4:$E$10000='合格率（不合格统计表）'!D$4),工序记录明细表!$I$4:$I$10000),"") | E15: =IFERROR(SUMPRODUCT((MONTH(不合格明细表!$B$3:$B$10000)='合格率（不合格统计表）'!$G$2)*(不合格明细表!$F$3:$F$10000='合格率（不合格统计表）'!$B15)*(不合格明细表!$D$3:$D$10000='合格率（不合格统计表）'!E$4),不合格明细表!$G$3:$G$10000)/SUMPRODUCT((MONTH(工序记录明细表!$C$4:$C$10000)='合格率（不合格统计表）'!$G$2)*(工序记录明细表!$G$4:$G$10000='合格率（不合格统计表）'!$B15)*(工序记录明细表!$E$4:$E$10000='合格率（不合格统计表）'!E$4),工序记录明细表!$I$4:$I$10000),"") | F15: =IFERROR(SUMPRODUCT((MONTH(不合格明细表!$B$3:$B$10000)='合格率（不合格统计表）'!$G$2)*(不合格明细表!$F$3:$F$10000='合格率（不合格统计表）'!$B15)*(不合格明细表!$D$3:$D$10000='合格率（不合格统计表）'!F$4),不合格明细表!$G$3:$G$10000)/SUMPRODUCT((MONTH(工序记录明细表!$C$4:$C$10000)='合格率（不合格统计表）'!$G$2)*(工序记录明细表!$G$4:$G$10000='合格率（不合格统计表）'!$B15)*(工序记录明细表!$E$4:$E$10000='合格率（不合格统计表）'!F$4),工序记录明细表!$I$4:$I$10000),"") | G15: =IFERROR(SUMPRODUCT((MONTH(不合格明细表!$B$3:$B$10000)='合格率（不合格统计表）'!$G$2)*(不合格明细表!$F$3:$F$10000='合格率（不合格统计表）'!$B15)*(不合格明细表!$D$3:$D$10000='合格率（不合格统计表）'!G$4),不合格明细表!$G$3:$G$10000)/SUMPRODUCT((MONTH(工序记录明细表!$C$4:$C$10000)='合格率（不合格统计表）'!$G$2)*(工序记录明细表!$G$4:$G$10000='合格率（不合格统计表）'!$B15)*(工序记录明细表!$E$4:$E$10000='合格率（不合格统计表）'!G$4),工序记录明细表!$I$4:$I$10000),"") | H15: =IFERROR(SUMPRODUCT((MONTH(不合格明细表!$B$3:$B$10000)='合格率（不合格统计表）'!$G$2)*(不合格明细表!$F$3:$F$10000='合格率（不合格统计表）'!$B15)*(不合格明细表!$D$3:$D$10000='合格率（不合格统计表）'!H$4),不合格明细表!$G$3:$G$10000)/SUMPRODUCT((MONTH(工序记录明细表!$C$4:$C$10000)='合格率（不合格统计表）'!$G$2)*(工序记录明细表!$G$4:$G$10000='合格率（不合格统计表）'!$B15)*(工序记录明细表!$E$4:$E$10000='合格率（不合格统计表）'!H$4),工序记录明细表!$I$4:$I$10000),"") | I15: =IFERROR(SUMPRODUCT((MONTH(不合格明细表!$B$3:$B$10000)='合格率（不合格统计表）'!$G$2)*(不合格明细表!$F$3:$F$10000='合格率（不合格统计表）'!$B15)*(不合格明细表!$D$3:$D$10000='合格率（不合格统计表）'!I$4),不合格明细表!$G$3:$G$10000)/SUMPRODUCT((MONTH(工序记录明细表!$C$4:$C$10000)='合格率（不合格统计表）'!$G$2)*(工序记录明细表!$G$4:$G$10000='合格率（不合格统计表）'!$B15)*(工序记录明细表!$E$4:$E$10000='合格率（不合格统计表）'!I$4),工序记录明细表!$I$4:$I$10000),"") | J15: =IFERROR(SUMPRODUCT((MONTH(不合格明细表!$B$3:$B$10000)='合格率（不合格统计表）'!$G$2)*(不合格明细表!$F$3:$F$10000='合格率（不合格统计表）'!$B15)*(不合格明细表!$D$3:$D$10000='合格率（不合格统计表）'!J$4),不合格明细表!$G$3:$G$10000)/SUMPRODUCT((MONTH(工序记录明细表!$C$4:$C$10000)='合格率（不合格统计表）'!$G$2)*(工序记录明细表!$G$4:$G$10000='合格率（不合格统计表）'!$B15)*(工序记录明细表!$E$4:$E$10000='合格率（不合格统计表）'!J$4),工序记录明细表!$I$4:$I$10000),"") | K15: =IFERROR(SUMPRODUCT((MONTH(不合格明细表!$B$3:$B$10000)='合格率（不合格统计表）'!$G$2)*(不合格明细表!$F$3:$F$10000='合格率（不合格统计表）'!$B15)*(不合格明细表!$D$3:$D$10000='合格率（不合格统计表）'!K$4),不合格明细表!$G$3:$G$10000)/SUMPRODUCT((MONTH(工序记录明细表!$C$4:$C$10000)='合格率（不合格统计表）'!$G$2)*(工序记录明细表!$G$4:$G$10000='合格率（不合格统计表）'!$B15)*(工序记录明细表!$E$4:$E$10000='合格率（不合格统计表）'!K$4),工序记录明细表!$I$4:$I$10000),"") | ... M15: =IFERROR(SUMPRODUCT((MONTH(不合格明细表!$B$3:$B$10000)='合格率（不合格统计表）'!$G$2)*(不合格明细表!$F$3:$F$10000='合格率（不合格统计表）'!$B15)*(不合格明细表!$D$3:$D$10000='合格率（不合格统计表）'!M$4),不合格明细表!$G$3:$G$10000)/SUMPRODUCT((MONTH(工序记录明细表!$C$4:$C$10000)='合格率（不合格统计表）'!$G$2)*(工序记录明细表!$G$4:$G$10000='合格率（不合格统计表）'!$B15)*(工序记录明细表!$E$4:$E$10000='合格率（不合格统计表）'!M$4),工序记录明细表!$I$4:$I$10000),"") | Q15: =SUM(R15:AA15) -> 0 | R15: =SUMPRODUCT((MONTH(不合格明细表!$B$3:$B$10000)='合格率（不合格统计表）'!$T$2)*(不合格明细表!$F$3:$F$10000='合格率（不合格统计表）'!$P15)*(不合格明细表!$D$3:$D$10000='合格率（不合格统计表）'!R$4),不合格明细表!$G$3:$G$10000) -> 0 | S15: =SUMPRODUCT((MONTH(不合格明细表!$B$3:$B$10000)='合格率（不合格统计表）'!$T$2)*(不合格明细表!$F$3:$F$10000='合格率（不合格统计表）'!$P15)*(不合格明细表!$D$3:$D$10000='合格率（不合格统计表）'!S$4),不合格明细表!$G$3:$G$10000) -> 0 | T15: =SUMPRODUCT((MONTH(不合格明细表!$B$3:$B$10000)='合格率（不合格统计表）'!$T$2)*(不合格明细表!$F$3:$F$10000='合格率（不合格统计表）'!$P15)*(不合格明细表!$D$3:$D$10000='合格率（不合格统计表）'!T$4),不合格明细表!$G$3:$G$10000) -> 0 | U15: =SUMPRODUCT((MONTH(不合格明细表!$B$3:$B$10000)='合格率（不合格统计表）'!$T$2)*(不合格明细表!$F$3:$F$10000='合格率（不合格统计表）'!$P15)*(不合格明细表!$D$3:$D$10000='合格率（不合格统计表）'!U$4),不合格明细表!$G$3:$G$10000) -> 0 | V15: =SUMPRODUCT((MONTH(不合格明细表!$B$3:$B$10000)='合格率（不合格统计表）'!$T$2)*(不合格明细表!$F$3:$F$10000='合格率（不合格统计表）'!$P15)*(不合格明细表!$D$3:$D$10000='合格率（不合格统计表）'!V$4),不合格明细表!$G$3:$G$10000) -> 0 | W15: =SUMPRODUCT((MONTH(不合格明细表!$B$3:$B$10000)='合格率（不合格统计表）'!$T$2)*(不合格明细表!$F$3:$F$10000='合格率（不合格统计表）'!$P15)*(不合格明细表!$D$3:$D$10000='合格率（不合格统计表）'!W$4),不合格明细表!$G$3:$G$10000) -> 0 | X15: =SUMPRODUCT((MONTH(不合格明细表!$B$3:$B$10000)='合格率（不合格统计表）'!$T$2)*(不合格明细表!$F$3:$F$10000='合格率（不合格统计表）'!$P15)*(不合格明细表!$D$3:$D$10000='合格率（不合格统计表）'!X$4),不合格明细表!$G$3:$G$10000) -> 0 | Y15: =SUMPRODUCT((MONTH(不合格明细表!$B$3:$B$10000)='合格率（不合格统计表）'!$T$2)*(不合格明细表!$F$3:$F$10000='合格率（不合格统计表）'!$P15)*(不合格明细表!$D$3:$D$10000='合格率（不合格统计表）'!Y$4),不合格明细表!$G$3:$G$10000) -> 0 | ... AA15: =SUMPRODUCT((MONTH(不合格明细表!$B$3:$B$10000)='合格率（不合格统计表）'!$T$2)*(不合格明细表!$F$3:$F$10000='合格率（不合格统计表）'!$P15)*(不合格明细表!$D$3:$D$10000='合格率（不合格统计表）'!AA$4),不合格明细表!$G$3:$G$10000) -> 0
C16: =IFERROR(SUMPRODUCT((MONTH(不合格明细表!$B$3:$B$10000)='合格率（不合格统计表）'!$G$2)*(不合格明细表!$F$3:$F$10000='合格率（不合格统计表）'!$B16)*不合格明细表!$G$3:$G$10000)/SUMPRODUCT((MONTH(工序记录明细表!$C$4:$C$10000)='合格率（不合格统计表）'!$G$2)*(工序记录明细表!$G$4:$G$10000='合格率（不合格统计表）'!$B16),工序记录明细表!$I$4:$I$10000),"") | D16: =IFERROR(SUMPRODUCT((MONTH(不合格明细表!$B$3:$B$10000)='合格率（不合格统计表）'!$G$2)*(不合格明细表!$F$3:$F$10000='合格率（不合格统计表）'!$B16)*(不合格明细表!$D$3:$D$10000='合格率（不合格统计表）'!D$4),不合格明细表!$G$3:$G$10000)/SUMPRODUCT((MONTH(工序记录明细表!$C$4:$C$10000)='合格率（不合格统计表）'!$G$2)*(工序记录明细表!$G$4:$G$10000='合格率（不合格统计表）'!$B16)*(工序记录明细表!$E$4:$E$10000='合格率（不合格统计表）'!D$4),工序记录明细表!$I$4:$I$10000),"") | E16: =IFERROR(SUMPRODUCT((MONTH(不合格明细表!$B$3:$B$10000)='合格率（不合格统计表）'!$G$2)*(不合格明细表!$F$3:$F$10000='合格率（不合格统计表）'!$B16)*(不合格明细表!$D$3:$D$10000='合格率（不合格统计表）'!E$4),不合格明细表!$G$3:$G$10000)/SUMPRODUCT((MONTH(工序记录明细表!$C$4:$C$10000)='合格率（不合格统计表）'!$G$2)*(工序记录明细表!$G$4:$G$10000='合格率（不合格统计表）'!$B16)*(工序记录明细表!$E$4:$E$10000='合格率（不合格统计表）'!E$4),工序记录明细表!$I$4:$I$10000),"") | F16: =IFERROR(SUMPRODUCT((MONTH(不合格明细表!$B$3:$B$10000)='合格率（不合格统计表）'!$G$2)*(不合格明细表!$F$3:$F$10000='合格率（不合格统计表）'!$B16)*(不合格明细表!$D$3:$D$10000='合格率（不合格统计表）'!F$4),不合格明细表!$G$3:$G$10000)/SUMPRODUCT((MONTH(工序记录明细表!$C$4:$C$10000)='合格率（不合格统计表）'!$G$2)*(工序记录明细表!$G$4:$G$10000='合格率（不合格统计表）'!$B16)*(工序记录明细表!$E$4:$E$10000='合格率（不合格统计表）'!F$4),工序记录明细表!$I$4:$I$10000),"") | G16: =IFERROR(SUMPRODUCT((MONTH(不合格明细表!$B$3:$B$10000)='合格率（不合格统计表）'!$G$2)*(不合格明细表!$F$3:$F$10000='合格率（不合格统计表）'!$B16)*(不合格明细表!$D$3:$D$10000='合格率（不合格统计表）'!G$4),不合格明细表!$G$3:$G$10000)/SUMPRODUCT((MONTH(工序记录明细表!$C$4:$C$10000)='合格率（不合格统计表）'!$G$2)*(工序记录明细表!$G$4:$G$10000='合格率（不合格统计表）'!$B16)*(工序记录明细表!$E$4:$E$10000='合格率（不合格统计表）'!G$4),工序记录明细表!$I$4:$I$10000),"") | H16: =IFERROR(SUMPRODUCT((MONTH(不合格明细表!$B$3:$B$10000)='合格率（不合格统计表）'!$G$2)*(不合格明细表!$F$3:$F$10000='合格率（不合格统计表）'!$B16)*(不合格明细表!$D$3:$D$10000='合格率（不合格统计表）'!H$4),不合格明细表!$G$3:$G$10000)/SUMPRODUCT((MONTH(工序记录明细表!$C$4:$C$10000)='合格率（不合格统计表）'!$G$2)*(工序记录明细表!$G$4:$G$10000='合格率（不合格统计表）'!$B16)*(工序记录明细表!$E$4:$E$10000='合格率（不合格统计表）'!H$4),工序记录明细表!$I$4:$I$10000),"") | I16: =IFERROR(SUMPRODUCT((MONTH(不合格明细表!$B$3:$B$10000)='合格率（不合格统计表）'!$G$2)*(不合格明细表!$F$3:$F$10000='合格率（不合格统计表）'!$B16)*(不合格明细表!$D$3:$D$10000='合格率（不合格统计表）'!I$4),不合格明细表!$G$3:$G$10000)/SUMPRODUCT((MONTH(工序记录明细表!$C$4:$C$10000)='合格率（不合格统计表）'!$G$2)*(工序记录明细表!$G$4:$G$10000='合格率（不合格统计表）'!$B16)*(工序记录明细表!$E$4:$E$10000='合格率（不合格统计表）'!I$4),工序记录明细表!$I$4:$I$10000),"") | J16: =IFERROR(SUMPRODUCT((MONTH(不合格明细表!$B$3:$B$10000)='合格率（不合格统计表）'!$G$2)*(不合格明细表!$F$3:$F$10000='合格率（不合格统计表）'!$B16)*(不合格明细表!$D$3:$D$10000='合格率（不合格统计表）'!J$4),不合格明细表!$G$3:$G$10000)/SUMPRODUCT((MONTH(工序记录明细表!$C$4:$C$10000)='合格率（不合格统计表）'!$G$2)*(工序记录明细表!$G$4:$G$10000='合格率（不合格统计表）'!$B16)*(工序记录明细表!$E$4:$E$10000='合格率（不合格统计表）'!J$4),工序记录明细表!$I$4:$I$10000),"") | K16: =IFERROR(SUMPRODUCT((MONTH(不合格明细表!$B$3:$B$10000)='合格率（不合格统计表）'!$G$2)*(不合格明细表!$F$3:$F$10000='合格率（不合格统计表）'!$B16)*(不合格明细表!$D$3:$D$10000='合格率（不合格统计表）'!K$4),不合格明细表!$G$3:$G$10000)/SUMPRODUCT((MONTH(工序记录明细表!$C$4:$C$10000)='合格率（不合格统计表）'!$G$2)*(工序记录明细表!$G$4:$G$10000='合格率（不合格统计表）'!$B16)*(工序记录明细表!$E$4:$E$10000='合格率（不合格统计表）'!K$4),工序记录明细表!$I$4:$I$10000),"") | ... M16: =IFERROR(SUMPRODUCT((MONTH(不合格明细表!$B$3:$B$10000)='合格率（不合格统计表）'!$G$2)*(不合格明细表!$F$3:$F$10000='合格率（不合格统计表）'!$B16)*(不合格明细表!$D$3:$D$10000='合格率（不合格统计表）'!M$4),不合格明细表!$G$3:$G$10000)/SUMPRODUCT((MONTH(工序记录明细表!$C$4:$C$10000)='合格率（不合格统计表）'!$G$2)*(工序记录明细表!$G$4:$G$10000='合格率（不合格统计表）'!$B16)*(工序记录明细表!$E$4:$E$10000='合格率（不合格统计表）'!M$4),工序记录明细表!$I$4:$I$10000),"") | Q16: =SUM(R16:AA16) -> 0 | R16: =SUMPRODUCT((MONTH(不合格明细表!$B$3:$B$10000)='合格率（不合格统计表）'!$T$2)*(不合格明细表!$F$3:$F$10000='合格率（不合格统计表）'!$P16)*(不合格明细表!$D$3:$D$10000='合格率（不合格统计表）'!R$4),不合格明细表!$G$3:$G$10000) -> 0 | S16: =SUMPRODUCT((MONTH(不合格明细表!$B$3:$B$10000)='合格率（不合格统计表）'!$T$2)*(不合格明细表!$F$3:$F$10000='合格率（不合格统计表）'!$P16)*(不合格明细表!$D$3:$D$10000='合格率（不合格统计表）'!S$4),不合格明细表!$G$3:$G$10000) -> 0 | T16: =SUMPRODUCT((MONTH(不合格明细表!$B$3:$B$10000)='合格率（不合格统计表）'!$T$2)*(不合格明细表!$F$3:$F$10000='合格率（不合格统计表）'!$P16)*(不合格明细表!$D$3:$D$10000='合格率（不合格统计表）'!T$4),不合格明细表!$G$3:$G$10000) -> 0 | U16: =SUMPRODUCT((MONTH(不合格明细表!$B$3:$B$10000)='合格率（不合格统计表）'!$T$2)*(不合格明细表!$F$3:$F$10000='合格率（不合格统计表）'!$P16)*(不合格明细表!$D$3:$D$10000='合格率（不合格统计表）'!U$4),不合格明细表!$G$3:$G$10000) -> 0 | V16: =SUMPRODUCT((MONTH(不合格明细表!$B$3:$B$10000)='合格率（不合格统计表）'!$T$2)*(不合格明细表!$F$3:$F$10000='合格率（不合格统计表）'!$P16)*(不合格明细表!$D$3:$D$10000='合格率（不合格统计表）'!V$4),不合格明细表!$G$3:$G$10000) -> 0 | W16: =SUMPRODUCT((MONTH(不合格明细表!$B$3:$B$10000)='合格率（不合格统计表）'!$T$2)*(不合格明细表!$F$3:$F$10000='合格率（不合格统计表）'!$P16)*(不合格明细表!$D$3:$D$10000='合格率（不合格统计表）'!W$4),不合格明细表!$G$3:$G$10000) -> 0 | X16: =SUMPRODUCT((MONTH(不合格明细表!$B$3:$B$10000)='合格率（不合格统计表）'!$T$2)*(不合格明细表!$F$3:$F$10000='合格率（不合格统计表）'!$P16)*(不合格明细表!$D$3:$D$10000='合格率（不合格统计表）'!X$4),不合格明细表!$G$3:$G$10000) -> 0 | Y16: =SUMPRODUCT((MONTH(不合格明细表!$B$3:$B$10000)='合格率（不合格统计表）'!$T$2)*(不合格明细表!$F$3:$F$10000='合格率（不合格统计表）'!$P16)*(不合格明细表!$D$3:$D$10000='合格率（不合格统计表）'!Y$4),不合格明细表!$G$3:$G$10000) -> 0 | ... AA16: =SUMPRODUCT((MONTH(不合格明细表!$B$3:$B$10000)='合格率（不合格统计表）'!$T$2)*(不合格明细表!$F$3:$F$10000='合格率（不合格统计表）'!$P16)*(不合格明细表!$D$3:$D$10000='合格率（不合格统计表）'!AA$4),不合格明细表!$G$3:$G$10000) -> 0
C17: =IFERROR(SUMPRODUCT((MONTH(不合格明细表!$B$3:$B$10000)='合格率（不合格统计表）'!$G$2)*(不合格明细表!$F$3:$F$10000='合格率（不合格统计表）'!$B17)*不合格明细表!$G$3:$G$10000)/SUMPRODUCT((MONTH(工序记录明细表!$C$4:$C$10000)='合格率（不合格统计表）'!$G$2)*(工序记录明细表!$G$4:$G$10000='合格率（不合格统计表）'!$B17),工序记录明细表!$I$4:$I$10000),"") | D17: =IFERROR(SUMPRODUCT((MONTH(不合格明细表!$B$3:$B$10000)='合格率（不合格统计表）'!$G$2)*(不合格明细表!$F$3:$F$10000='合格率（不合格统计表）'!$B17)*(不合格明细表!$D$3:$D$10000='合格率（不合格统计表）'!D$4),不合格明细表!$G$3:$G$10000)/SUMPRODUCT((MONTH(工序记录明细表!$C$4:$C$10000)='合格率（不合格统计表）'!$G$2)*(工序记录明细表!$G$4:$G$10000='合格率（不合格统计表）'!$B17)*(工序记录明细表!$E$4:$E$10000='合格率（不合格统计表）'!D$4),工序记录明细表!$I$4:$I$10000),"") | E17: =IFERROR(SUMPRODUCT((MONTH(不合格明细表!$B$3:$B$10000)='合格率（不合格统计表）'!$G$2)*(不合格明细表!$F$3:$F$10000='合格率（不合格统计表）'!$B17)*(不合格明细表!$D$3:$D$10000='合格率（不合格统计表）'!E$4),不合格明细表!$G$3:$G$10000)/SUMPRODUCT((MONTH(工序记录明细表!$C$4:$C$10000)='合格率（不合格统计表）'!$G$2)*(工序记录明细表!$G$4:$G$10000='合格率（不合格统计表）'!$B17)*(工序记录明细表!$E$4:$E$10000='合格率（不合格统计表）'!E$4),工序记录明细表!$I$4:$I$10000),"") | F17: =IFERROR(SUMPRODUCT((MONTH(不合格明细表!$B$3:$B$10000)='合格率（不合格统计表）'!$G$2)*(不合格明细表!$F$3:$F$10000='合格率（不合格统计表）'!$B17)*(不合格明细表!$D$3:$D$10000='合格率（不合格统计表）'!F$4),不合格明细表!$G$3:$G$10000)/SUMPRODUCT((MONTH(工序记录明细表!$C$4:$C$10000)='合格率（不合格统计表）'!$G$2)*(工序记录明细表!$G$4:$G$10000='合格率（不合格统计表）'!$B17)*(工序记录明细表!$E$4:$E$10000='合格率（不合格统计表）'!F$4),工序记录明细表!$I$4:$I$10000),"") | G17: =IFERROR(SUMPRODUCT((MONTH(不合格明细表!$B$3:$B$10000)='合格率（不合格统计表）'!$G$2)*(不合格明细表!$F$3:$F$10000='合格率（不合格统计表）'!$B17)*(不合格明细表!$D$3:$D$10000='合格率（不合格统计表）'!G$4),不合格明细表!$G$3:$G$10000)/SUMPRODUCT((MONTH(工序记录明细表!$C$4:$C$10000)='合格率（不合格统计表）'!$G$2)*(工序记录明细表!$G$4:$G$10000='合格率（不合格统计表）'!$B17)*(工序记录明细表!$E$4:$E$10000='合格率（不合格统计表）'!G$4),工序记录明细表!$I$4:$I$10000),"") | H17: =IFERROR(SUMPRODUCT((MONTH(不合格明细表!$B$3:$B$10000)='合格率（不合格统计表）'!$G$2)*(不合格明细表!$F$3:$F$10000='合格率（不合格统计表）'!$B17)*(不合格明细表!$D$3:$D$10000='合格率（不合格统计表）'!H$4),不合格明细表!$G$3:$G$10000)/SUMPRODUCT((MONTH(工序记录明细表!$C$4:$C$10000)='合格率（不合格统计表）'!$G$2)*(工序记录明细表!$G$4:$G$10000='合格率（不合格统计表）'!$B17)*(工序记录明细表!$E$4:$E$10000='合格率（不合格统计表）'!H$4),工序记录明细表!$I$4:$I$10000),"") | I17: =IFERROR(SUMPRODUCT((MONTH(不合格明细表!$B$3:$B$10000)='合格率（不合格统计表）'!$G$2)*(不合格明细表!$F$3:$F$10000='合格率（不合格统计表）'!$B17)*(不合格明细表!$D$3:$D$10000='合格率（不合格统计表）'!I$4),不合格明细表!$G$3:$G$10000)/SUMPRODUCT((MONTH(工序记录明细表!$C$4:$C$10000)='合格率（不合格统计表）'!$G$2)*(工序记录明细表!$G$4:$G$10000='合格率（不合格统计表）'!$B17)*(工序记录明细表!$E$4:$E$10000='合格率（不合格统计表）'!I$4),工序记录明细表!$I$4:$I$10000),"") | J17: =IFERROR(SUMPRODUCT((MONTH(不合格明细表!$B$3:$B$10000)='合格率（不合格统计表）'!$G$2)*(不合格明细表!$F$3:$F$10000='合格率（不合格统计表）'!$B17)*(不合格明细表!$D$3:$D$10000='合格率（不合格统计表）'!J$4),不合格明细表!$G$3:$G$10000)/SUMPRODUCT((MONTH(工序记录明细表!$C$4:$C$10000)='合格率（不合格统计表）'!$G$2)*(工序记录明细表!$G$4:$G$10000='合格率（不合格统计表）'!$B17)*(工序记录明细表!$E$4:$E$10000='合格率（不合格统计表）'!J$4),工序记录明细表!$I$4:$I$10000),"") | K17: =IFERROR(SUMPRODUCT((MONTH(不合格明细表!$B$3:$B$10000)='合格率（不合格统计表）'!$G$2)*(不合格明细表!$F$3:$F$10000='合格率（不合格统计表）'!$B17)*(不合格明细表!$D$3:$D$10000='合格率（不合格统计表）'!K$4),不合格明细表!$G$3:$G$10000)/SUMPRODUCT((MONTH(工序记录明细表!$C$4:$C$10000)='合格率（不合格统计表）'!$G$2)*(工序记录明细表!$G$4:$G$10000='合格率（不合格统计表）'!$B17)*(工序记录明细表!$E$4:$E$10000='合格率（不合格统计表）'!K$4),工序记录明细表!$I$4:$I$10000),"") | ... M17: =IFERROR(SUMPRODUCT((MONTH(不合格明细表!$B$3:$B$10000)='合格率（不合格统计表）'!$G$2)*(不合格明细表!$F$3:$F$10000='合格率（不合格统计表）'!$B17)*(不合格明细表!$D$3:$D$10000='合格率（不合格统计表）'!M$4),不合格明细表!$G$3:$G$10000)/SUMPRODUCT((MONTH(工序记录明细表!$C$4:$C$10000)='合格率（不合格统计表）'!$G$2)*(工序记录明细表!$G$4:$G$10000='合格率（不合格统计表）'!$B17)*(工序记录明细表!$E$4:$E$10000='合格率（不合格统计表）'!M$4),工序记录明细表!$I$4:$I$10000),"") | Q17: =SUM(R17:AA17) -> 0 | R17: =SUMPRODUCT((MONTH(不合格明细表!$B$3:$B$10000)='合格率（不合格统计表）'!$T$2)*(不合格明细表!$F$3:$F$10000='合格率（不合格统计表）'!$P17)*(不合格明细表!$D$3:$D$10000='合格率（不合格统计表）'!R$4),不合格明细表!$G$3:$G$10000) -> 0 | S17: =SUMPRODUCT((MONTH(不合格明细表!$B$3:$B$10000)='合格率（不合格统计表）'!$T$2)*(不合格明细表!$F$3:$F$10000='合格率（不合格统计表）'!$P17)*(不合格明细表!$D$3:$D$10000='合格率（不合格统计表）'!S$4),不合格明细表!$G$3:$G$10000) -> 0 | T17: =SUMPRODUCT((MONTH(不合格明细表!$B$3:$B$10000)='合格率（不合格统计表）'!$T$2)*(不合格明细表!$F$3:$F$10000='合格率（不合格统计表）'!$P17)*(不合格明细表!$D$3:$D$10000='合格率（不合格统计表）'!T$4),不合格明细表!$G$3:$G$10000) -> 0 | U17: =SUMPRODUCT((MONTH(不合格明细表!$B$3:$B$10000)='合格率（不合格统计表）'!$T$2)*(不合格明细表!$F$3:$F$10000='合格率（不合格统计表）'!$P17)*(不合格明细表!$D$3:$D$10000='合格率（不合格统计表）'!U$4),不合格明细表!$G$3:$G$10000) -> 0 | V17: =SUMPRODUCT((MONTH(不合格明细表!$B$3:$B$10000)='合格率（不合格统计表）'!$T$2)*(不合格明细表!$F$3:$F$10000='合格率（不合格统计表）'!$P17)*(不合格明细表!$D$3:$D$10000='合格率（不合格统计表）'!V$4),不合格明细表!$G$3:$G$10000) -> 0 | W17: =SUMPRODUCT((MONTH(不合格明细表!$B$3:$B$10000)='合格率（不合格统计表）'!$T$2)*(不合格明细表!$F$3:$F$10000='合格率（不合格统计表）'!$P17)*(不合格明细表!$D$3:$D$10000='合格率（不合格统计表）'!W$4),不合格明细表!$G$3:$G$10000) -> 0 | X17: =SUMPRODUCT((MONTH(不合格明细表!$B$3:$B$10000)='合格率（不合格统计表）'!$T$2)*(不合格明细表!$F$3:$F$10000='合格率（不合格统计表）'!$P17)*(不合格明细表!$D$3:$D$10000='合格率（不合格统计表）'!X$4),不合格明细表!$G$3:$G$10000) -> 0 | Y17: =SUMPRODUCT((MONTH(不合格明细表!$B$3:$B$10000)='合格率（不合格统计表）'!$T$2)*(不合格明细表!$F$3:$F$10000='合格率（不合格统计表）'!$P17)*(不合格明细表!$D$3:$D$10000='合格率（不合格统计表）'!Y$4),不合格明细表!$G$3:$G$10000) -> 0 | ... AA17: =SUMPRODUCT((MONTH(不合格明细表!$B$3:$B$10000)='合格率（不合格统计表）'!$T$2)*(不合格明细表!$F$3:$F$10000='合格率（不合格统计表）'!$P17)*(不合格明细表!$D$3:$D$10000='合格率（不合格统计表）'!AA$4),不合格明细表!$G$3:$G$10000) -> 0
C18: =IFERROR(SUMPRODUCT((MONTH(不合格明细表!$B$3:$B$10000)='合格率（不合格统计表）'!$G$2)*(不合格明细表!$F$3:$F$10000='合格率（不合格统计表）'!$B18)*不合格明细表!$G$3:$G$10000)/SUMPRODUCT((MONTH(工序记录明细表!$C$4:$C$10000)='合格率（不合格统计表）'!$G$2)*(工序记录明细表!$G$4:$G$10000='合格率（不合格统计表）'!$B18),工序记录明细表!$I$4:$I$10000),"") | D18: =IFERROR(SUMPRODUCT((MONTH(不合格明细表!$B$3:$B$10000)='合格率（不合格统计表）'!$G$2)*(不合格明细表!$F$3:$F$10000='合格率（不合格统计表）'!$B18)*(不合格明细表!$D$3:$D$10000='合格率（不合格统计表）'!D$4),不合格明细表!$G$3:$G$10000)/SUMPRODUCT((MONTH(工序记录明细表!$C$4:$C$10000)='合格率（不合格统计表）'!$G$2)*(工序记录明细表!$G$4:$G$10000='合格率（不合格统计表）'!$B18)*(工序记录明细表!$E$4:$E$10000='合格率（不合格统计表）'!D$4),工序记录明细表!$I$4:$I$10000),"") | E18: =IFERROR(SUMPRODUCT((MONTH(不合格明细表!$B$3:$B$10000)='合格率（不合格统计表）'!$G$2)*(不合格明细表!$F$3:$F$10000='合格率（不合格统计表）'!$B18)*(不合格明细表!$D$3:$D$10000='合格率（不合格统计表）'!E$4),不合格明细表!$G$3:$G$10000)/SUMPRODUCT((MONTH(工序记录明细表!$C$4:$C$10000)='合格率（不合格统计表）'!$G$2)*(工序记录明细表!$G$4:$G$10000='合格率（不合格统计表）'!$B18)*(工序记录明细表!$E$4:$E$10000='合格率（不合格统计表）'!E$4),工序记录明细表!$I$4:$I$10000),"") | F18: =IFERROR(SUMPRODUCT((MONTH(不合格明细表!$B$3:$B$10000)='合格率（不合格统计表）'!$G$2)*(不合格明细表!$F$3:$F$10000='合格率（不合格统计表）'!$B18)*(不合格明细表!$D$3:$D$10000='合格率（不合格统计表）'!F$4),不合格明细表!$G$3:$G$10000)/SUMPRODUCT((MONTH(工序记录明细表!$C$4:$C$10000)='合格率（不合格统计表）'!$G$2)*(工序记录明细表!$G$4:$G$10000='合格率（不合格统计表）'!$B18)*(工序记录明细表!$E$4:$E$10000='合格率（不合格统计表）'!F$4),工序记录明细表!$I$4:$I$10000),"") | G18: =IFERROR(SUMPRODUCT((MONTH(不合格明细表!$B$3:$B$10000)='合格率（不合格统计表）'!$G$2)*(不合格明细表!$F$3:$F$10000='合格率（不合格统计表）'!$B18)*(不合格明细表!$D$3:$D$10000='合格率（不合格统计表）'!G$4),不合格明细表!$G$3:$G$10000)/SUMPRODUCT((MONTH(工序记录明细表!$C$4:$C$10000)='合格率（不合格统计表）'!$G$2)*(工序记录明细表!$G$4:$G$10000='合格率（不合格统计表）'!$B18)*(工序记录明细表!$E$4:$E$10000='合格率（不合格统计表）'!G$4),工序记录明细表!$I$4:$I$10000),"") | H18: =IFERROR(SUMPRODUCT((MONTH(不合格明细表!$B$3:$B$10000)='合格率（不合格统计表）'!$G$2)*(不合格明细表!$F$3:$F$10000='合格率（不合格统计表）'!$B18)*(不合格明细表!$D$3:$D$10000='合格率（不合格统计表）'!H$4),不合格明细表!$G$3:$G$10000)/SUMPRODUCT((MONTH(工序记录明细表!$C$4:$C$10000)='合格率（不合格统计表）'!$G$2)*(工序记录明细表!$G$4:$G$10000='合格率（不合格统计表）'!$B18)*(工序记录明细表!$E$4:$E$10000='合格率（不合格统计表）'!H$4),工序记录明细表!$I$4:$I$10000),"") | I18: =IFERROR(SUMPRODUCT((MONTH(不合格明细表!$B$3:$B$10000)='合格率（不合格统计表）'!$G$2)*(不合格明细表!$F$3:$F$10000='合格率（不合格统计表）'!$B18)*(不合格明细表!$D$3:$D$10000='合格率（不合格统计表）'!I$4),不合格明细表!$G$3:$G$10000)/SUMPRODUCT((MONTH(工序记录明细表!$C$4:$C$10000)='合格率（不合格统计表）'!$G$2)*(工序记录明细表!$G$4:$G$10000='合格率（不合格统计表）'!$B18)*(工序记录明细表!$E$4:$E$10000='合格率（不合格统计表）'!I$4),工序记录明细表!$I$4:$I$10000),"") | J18: =IFERROR(SUMPRODUCT((MONTH(不合格明细表!$B$3:$B$10000)='合格率（不合格统计表）'!$G$2)*(不合格明细表!$F$3:$F$10000='合格率（不合格统计表）'!$B18)*(不合格明细表!$D$3:$D$10000='合格率（不合格统计表）'!J$4),不合格明细表!$G$3:$G$10000)/SUMPRODUCT((MONTH(工序记录明细表!$C$4:$C$10000)='合格率（不合格统计表）'!$G$2)*(工序记录明细表!$G$4:$G$10000='合格率（不合格统计表）'!$B18)*(工序记录明细表!$E$4:$E$10000='合格率（不合格统计表）'!J$4),工序记录明细表!$I$4:$I$10000),"") | K18: =IFERROR(SUMPRODUCT((MONTH(不合格明细表!$B$3:$B$10000)='合格率（不合格统计表）'!$G$2)*(不合格明细表!$F$3:$F$10000='合格率（不合格统计表）'!$B18)*(不合格明细表!$D$3:$D$10000='合格率（不合格统计表）'!K$4),不合格明细表!$G$3:$G$10000)/SUMPRODUCT((MONTH(工序记录明细表!$C$4:$C$10000)='合格率（不合格统计表）'!$G$2)*(工序记录明细表!$G$4:$G$10000='合格率（不合格统计表）'!$B18)*(工序记录明细表!$E$4:$E$10000='合格率（不合格统计表）'!K$4),工序记录明细表!$I$4:$I$10000),"") | ... M18: =IFERROR(SUMPRODUCT((MONTH(不合格明细表!$B$3:$B$10000)='合格率（不合格统计表）'!$G$2)*(不合格明细表!$F$3:$F$10000='合格率（不合格统计表）'!$B18)*(不合格明细表!$D$3:$D$10000='合格率（不合格统计表）'!M$4),不合格明细表!$G$3:$G$10000)/SUMPRODUCT((MONTH(工序记录明细表!$C$4:$C$10000)='合格率（不合格统计表）'!$G$2)*(工序记录明细表!$G$4:$G$10000='合格率（不合格统计表）'!$B18)*(工序记录明细表!$E$4:$E$10000='合格率（不合格统计表）'!M$4),工序记录明细表!$I$4:$I$10000),"") | Q18: =SUM(R18:AA18) -> 0 | R18: =SUMPRODUCT((MONTH(不合格明细表!$B$3:$B$10000)='合格率（不合格统计表）'!$T$2)*(不合格明细表!$F$3:$F$10000='合格率（不合格统计表）'!$P18)*(不合格明细表!$D$3:$D$10000='合格率（不合格统计表）'!R$4),不合格明细表!$G$3:$G$10000) -> 0 | S18: =SUMPRODUCT((MONTH(不合格明细表!$B$3:$B$10000)='合格率（不合格统计表）'!$T$2)*(不合格明细表!$F$3:$F$10000='合格率（不合格统计表）'!$P18)*(不合格明细表!$D$3:$D$10000='合格率（不合格统计表）'!S$4),不合格明细表!$G$3:$G$10000) -> 0 | T18: =SUMPRODUCT((MONTH(不合格明细表!$B$3:$B$10000)='合格率（不合格统计表）'!$T$2)*(不合格明细表!$F$3:$F$10000='合格率（不合格统计表）'!$P18)*(不合格明细表!$D$3:$D$10000='合格率（不合格统计表）'!T$4),不合格明细表!$G$3:$G$10000) -> 0 | U18: =SUMPRODUCT((MONTH(不合格明细表!$B$3:$B$10000)='合格率（不合格统计表）'!$T$2)*(不合格明细表!$F$3:$F$10000='合格率（不合格统计表）'!$P18)*(不合格明细表!$D$3:$D$10000='合格率（不合格统计表）'!U$4),不合格明细表!$G$3:$G$10000) -> 0 | V18: =SUMPRODUCT((MONTH(不合格明细表!$B$3:$B$10000)='合格率（不合格统计表）'!$T$2)*(不合格明细表!$F$3:$F$10000='合格率（不合格统计表）'!$P18)*(不合格明细表!$D$3:$D$10000='合格率（不合格统计表）'!V$4),不合格明细表!$G$3:$G$10000) -> 0 | W18: =SUMPRODUCT((MONTH(不合格明细表!$B$3:$B$10000)='合格率（不合格统计表）'!$T$2)*(不合格明细表!$F$3:$F$10000='合格率（不合格统计表）'!$P18)*(不合格明细表!$D$3:$D$10000='合格率（不合格统计表）'!W$4),不合格明细表!$G$3:$G$10000) -> 0 | X18: =SUMPRODUCT((MONTH(不合格明细表!$B$3:$B$10000)='合格率（不合格统计表）'!$T$2)*(不合格明细表!$F$3:$F$10000='合格率（不合格统计表）'!$P18)*(不合格明细表!$D$3:$D$10000='合格率（不合格统计表）'!X$4),不合格明细表!$G$3:$G$10000) -> 0 | Y18: =SUMPRODUCT((MONTH(不合格明细表!$B$3:$B$10000)='合格率（不合格统计表）'!$T$2)*(不合格明细表!$F$3:$F$10000='合格率（不合格统计表）'!$P18)*(不合格明细表!$D$3:$D$10000='合格率（不合格统计表）'!Y$4),不合格明细表!$G$3:$G$10000) -> 0 | ... AA18: =SUMPRODUCT((MONTH(不合格明细表!$B$3:$B$10000)='合格率（不合格统计表）'!$T$2)*(不合格明细表!$F$3:$F$10000='合格率（不合格统计表）'!$P18)*(不合格明细表!$D$3:$D$10000='合格率（不合格统计表）'!AA$4),不合格明细表!$G$3:$G$10000) -> 0
C19: =IFERROR(SUMPRODUCT((MONTH(不合格明细表!$B$3:$B$10000)='合格率（不合格统计表）'!$G$2)*(不合格明细表!$F$3:$F$10000='合格率（不合格统计表）'!$B19)*不合格明细表!$G$3:$G$10000)/SUMPRODUCT((MONTH(工序记录明细表!$C$4:$C$10000)='合格率（不合格统计表）'!$G$2)*(工序记录明细表!$G$4:$G$10000='合格率（不合格统计表）'!$B19),工序记录明细表!$I$4:$I$10000),"") | D19: =IFERROR(SUMPRODUCT((MONTH(不合格明细表!$B$3:$B$10000)='合格率（不合格统计表）'!$G$2)*(不合格明细表!$F$3:$F$10000='合格率（不合格统计表）'!$B19)*(不合格明细表!$D$3:$D$10000='合格率（不合格统计表）'!D$4),不合格明细表!$G$3:$G$10000)/SUMPRODUCT((MONTH(工序记录明细表!$C$4:$C$10000)='合格率（不合格统计表）'!$G$2)*(工序记录明细表!$G$4:$G$10000='合格率（不合格统计表）'!$B19)*(工序记录明细表!$E$4:$E$10000='合格率（不合格统计表）'!D$4),工序记录明细表!$I$4:$I$10000),"") | E19: =IFERROR(SUMPRODUCT((MONTH(不合格明细表!$B$3:$B$10000)='合格率（不合格统计表）'!$G$2)*(不合格明细表!$F$3:$F$10000='合格率（不合格统计表）'!$B19)*(不合格明细表!$D$3:$D$10000='合格率（不合格统计表）'!E$4),不合格明细表!$G$3:$G$10000)/SUMPRODUCT((MONTH(工序记录明细表!$C$4:$C$10000)='合格率（不合格统计表）'!$G$2)*(工序记录明细表!$G$4:$G$10000='合格率（不合格统计表）'!$B19)*(工序记录明细表!$E$4:$E$10000='合格率（不合格统计表）'!E$4),工序记录明细表!$I$4:$I$10000),"") | F19: =IFERROR(SUMPRODUCT((MONTH(不合格明细表!$B$3:$B$10000)='合格率（不合格统计表）'!$G$2)*(不合格明细表!$F$3:$F$10000='合格率（不合格统计表）'!$B19)*(不合格明细表!$D$3:$D$10000='合格率（不合格统计表）'!F$4),不合格明细表!$G$3:$G$10000)/SUMPRODUCT((MONTH(工序记录明细表!$C$4:$C$10000)='合格率（不合格统计表）'!$G$2)*(工序记录明细表!$G$4:$G$10000='合格率（不合格统计表）'!$B19)*(工序记录明细表!$E$4:$E$10000='合格率（不合格统计表）'!F$4),工序记录明细表!$I$4:$I$10000),"") | G19: =IFERROR(SUMPRODUCT((MONTH(不合格明细表!$B$3:$B$10000)='合格率（不合格统计表）'!$G$2)*(不合格明细表!$F$3:$F$10000='合格率（不合格统计表）'!$B19)*(不合格明细表!$D$3:$D$10000='合格率（不合格统计表）'!G$4),不合格明细表!$G$3:$G$10000)/SUMPRODUCT((MONTH(工序记录明细表!$C$4:$C$10000)='合格率（不合格统计表）'!$G$2)*(工序记录明细表!$G$4:$G$10000='合格率（不合格统计表）'!$B19)*(工序记录明细表!$E$4:$E$10000='合格率（不合格统计表）'!G$4),工序记录明细表!$I$4:$I$10000),"") | H19: =IFERROR(SUMPRODUCT((MONTH(不合格明细表!$B$3:$B$10000)='合格率（不合格统计表）'!$G$2)*(不合格明细表!$F$3:$F$10000='合格率（不合格统计表）'!$B19)*(不合格明细表!$D$3:$D$10000='合格率（不合格统计表）'!H$4),不合格明细表!$G$3:$G$10000)/SUMPRODUCT((MONTH(工序记录明细表!$C$4:$C$10000)='合格率（不合格统计表）'!$G$2)*(工序记录明细表!$G$4:$G$10000='合格率（不合格统计表）'!$B19)*(工序记录明细表!$E$4:$E$10000='合格率（不合格统计表）'!H$4),工序记录明细表!$I$4:$I$10000),"") | I19: =IFERROR(SUMPRODUCT((MONTH(不合格明细表!$B$3:$B$10000)='合格率（不合格统计表）'!$G$2)*(不合格明细表!$F$3:$F$10000='合格率（不合格统计表）'!$B19)*(不合格明细表!$D$3:$D$10000='合格率（不合格统计表）'!I$4),不合格明细表!$G$3:$G$10000)/SUMPRODUCT((MONTH(工序记录明细表!$C$4:$C$10000)='合格率（不合格统计表）'!$G$2)*(工序记录明细表!$G$4:$G$10000='合格率（不合格统计表）'!$B19)*(工序记录明细表!$E$4:$E$10000='合格率（不合格统计表）'!I$4),工序记录明细表!$I$4:$I$10000),"") | J19: =IFERROR(SUMPRODUCT((MONTH(不合格明细表!$B$3:$B$10000)='合格率（不合格统计表）'!$G$2)*(不合格明细表!$F$3:$F$10000='合格率（不合格统计表）'!$B19)*(不合格明细表!$D$3:$D$10000='合格率（不合格统计表）'!J$4),不合格明细表!$G$3:$G$10000)/SUMPRODUCT((MONTH(工序记录明细表!$C$4:$C$10000)='合格率（不合格统计表）'!$G$2)*(工序记录明细表!$G$4:$G$10000='合格率（不合格统计表）'!$B19)*(工序记录明细表!$E$4:$E$10000='合格率（不合格统计表）'!J$4),工序记录明细表!$I$4:$I$10000),"") | K19: =IFERROR(SUMPRODUCT((MONTH(不合格明细表!$B$3:$B$10000)='合格率（不合格统计表）'!$G$2)*(不合格明细表!$F$3:$F$10000='合格率（不合格统计表）'!$B19)*(不合格明细表!$D$3:$D$10000='合格率（不合格统计表）'!K$4),不合格明细表!$G$3:$G$10000)/SUMPRODUCT((MONTH(工序记录明细表!$C$4:$C$10000)='合格率（不合格统计表）'!$G$2)*(工序记录明细表!$G$4:$G$10000='合格率（不合格统计表）'!$B19)*(工序记录明细表!$E$4:$E$10000='合格率（不合格统计表）'!K$4),工序记录明细表!$I$4:$I$10000),"") | ... M19: =IFERROR(SUMPRODUCT((MONTH(不合格明细表!$B$3:$B$10000)='合格率（不合格统计表）'!$G$2)*(不合格明细表!$F$3:$F$10000='合格率（不合格统计表）'!$B19)*(不合格明细表!$D$3:$D$10000='合格率（不合格统计表）'!M$4),不合格明细表!$G$3:$G$10000)/SUMPRODUCT((MONTH(工序记录明细表!$C$4:$C$10000)='合格率（不合格统计表）'!$G$2)*(工序记录明细表!$G$4:$G$10000='合格率（不合格统计表）'!$B19)*(工序记录明细表!$E$4:$E$10000='合格率（不合格统计表）'!M$4),工序记录明细表!$I$4:$I$10000),"") | Q19: =SUM(R19:AA19) -> 0 | R19: =SUMPRODUCT((MONTH(不合格明细表!$B$3:$B$10000)='合格率（不合格统计表）'!$T$2)*(不合格明细表!$F$3:$F$10000='合格率（不合格统计表）'!$P19)*(不合格明细表!$D$3:$D$10000='合格率（不合格统计表）'!R$4),不合格明细表!$G$3:$G$10000) -> 0 | S19: =SUMPRODUCT((MONTH(不合格明细表!$B$3:$B$10000)='合格率（不合格统计表）'!$T$2)*(不合格明细表!$F$3:$F$10000='合格率（不合格统计表）'!$P19)*(不合格明细表!$D$3:$D$10000='合格率（不合格统计表）'!S$4),不合格明细表!$G$3:$G$10000) -> 0 | T19: =SUMPRODUCT((MONTH(不合格明细表!$B$3:$B$10000)='合格率（不合格统计表）'!$T$2)*(不合格明细表!$F$3:$F$10000='合格率（不合格统计表）'!$P19)*(不合格明细表!$D$3:$D$10000='合格率（不合格统计表）'!T$4),不合格明细表!$G$3:$G$10000) -> 0 | U19: =SUMPRODUCT((MONTH(不合格明细表!$B$3:$B$10000)='合格率（不合格统计表）'!$T$2)*(不合格明细表!$F$3:$F$10000='合格率（不合格统计表）'!$P19)*(不合格明细表!$D$3:$D$10000='合格率（不合格统计表）'!U$4),不合格明细表!$G$3:$G$10000) -> 0 | V19: =SUMPRODUCT((MONTH(不合格明细表!$B$3:$B$10000)='合格率（不合格统计表）'!$T$2)*(不合格明细表!$F$3:$F$10000='合格率（不合格统计表）'!$P19)*(不合格明细表!$D$3:$D$10000='合格率（不合格统计表）'!V$4),不合格明细表!$G$3:$G$10000) -> 0 | W19: =SUMPRODUCT((MONTH(不合格明细表!$B$3:$B$10000)='合格率（不合格统计表）'!$T$2)*(不合格明细表!$F$3:$F$10000='合格率（不合格统计表）'!$P19)*(不合格明细表!$D$3:$D$10000='合格率（不合格统计表）'!W$4),不合格明细表!$G$3:$G$10000) -> 0 | X19: =SUMPRODUCT((MONTH(不合格明细表!$B$3:$B$10000)='合格率（不合格统计表）'!$T$2)*(不合格明细表!$F$3:$F$10000='合格率（不合格统计表）'!$P19)*(不合格明细表!$D$3:$D$10000='合格率（不合格统计表）'!X$4),不合格明细表!$G$3:$G$10000) -> 0 | Y19: =SUMPRODUCT((MONTH(不合格明细表!$B$3:$B$10000)='合格率（不合格统计表）'!$T$2)*(不合格明细表!$F$3:$F$10000='合格率（不合格统计表）'!$P19)*(不合格明细表!$D$3:$D$10000='合格率（不合格统计表）'!Y$4),不合格明细表!$G$3:$G$10000) -> 0 | ... AA19: =SUMPRODUCT((MONTH(不合格明细表!$B$3:$B$10000)='合格率（不合格统计表）'!$T$2)*(不合格明细表!$F$3:$F$10000='合格率（不合格统计表）'!$P19)*(不合格明细表!$D$3:$D$10000='合格率（不合格统计表）'!AA$4),不合格明细表!$G$3:$G$10000) -> 0
C20: =IFERROR(SUMPRODUCT((MONTH(不合格明细表!$B$3:$B$10000)='合格率（不合格统计表）'!$G$2)*(不合格明细表!$F$3:$F$10000='合格率（不合格统计表）'!$B20)*不合格明细表!$G$3:$G$10000)/SUMPRODUCT((MONTH(工序记录明细表!$C$4:$C$10000)='合格率（不合格统计表）'!$G$2)*(工序记录明细表!$G$4:$G$10000='合格率（不合格统计表）'!$B20),工序记录明细表!$I$4:$I$10000),"") | D20: =IFERROR(SUMPRODUCT((MONTH(不合格明细表!$B$3:$B$10000)='合格率（不合格统计表）'!$G$2)*(不合格明细表!$F$3:$F$10000='合格率（不合格统计表）'!$B20)*(不合格明细表!$D$3:$D$10000='合格率（不合格统计表）'!D$4),不合格明细表!$G$3:$G$10000)/SUMPRODUCT((MONTH(工序记录明细表!$C$4:$C$10000)='合格率（不合格统计表）'!$G$2)*(工序记录明细表!$G$4:$G$10000='合格率（不合格统计表）'!$B20)*(工序记录明细表!$E$4:$E$10000='合格率（不合格统计表）'!D$4),工序记录明细表!$I$4:$I$10000),"") | E20: =IFERROR(SUMPRODUCT((MONTH(不合格明细表!$B$3:$B$10000)='合格率（不合格统计表）'!$G$2)*(不合格明细表!$F$3:$F$10000='合格率（不合格统计表）'!$B20)*(不合格明细表!$D$3:$D$10000='合格率（不合格统计表）'!E$4),不合格明细表!$G$3:$G$10000)/SUMPRODUCT((MONTH(工序记录明细表!$C$4:$C$10000)='合格率（不合格统计表）'!$G$2)*(工序记录明细表!$G$4:$G$10000='合格率（不合格统计表）'!$B20)*(工序记录明细表!$E$4:$E$10000='合格率（不合格统计表）'!E$4),工序记录明细表!$I$4:$I$10000),"") | F20: =IFERROR(SUMPRODUCT((MONTH(不合格明细表!$B$3:$B$10000)='合格率（不合格统计表）'!$G$2)*(不合格明细表!$F$3:$F$10000='合格率（不合格统计表）'!$B20)*(不合格明细表!$D$3:$D$10000='合格率（不合格统计表）'!F$4),不合格明细表!$G$3:$G$10000)/SUMPRODUCT((MONTH(工序记录明细表!$C$4:$C$10000)='合格率（不合格统计表）'!$G$2)*(工序记录明细表!$G$4:$G$10000='合格率（不合格统计表）'!$B20)*(工序记录明细表!$E$4:$E$10000='合格率（不合格统计表）'!F$4),工序记录明细表!$I$4:$I$10000),"") | G20: =IFERROR(SUMPRODUCT((MONTH(不合格明细表!$B$3:$B$10000)='合格率（不合格统计表）'!$G$2)*(不合格明细表!$F$3:$F$10000='合格率（不合格统计表）'!$B20)*(不合格明细表!$D$3:$D$10000='合格率（不合格统计表）'!G$4),不合格明细表!$G$3:$G$10000)/SUMPRODUCT((MONTH(工序记录明细表!$C$4:$C$10000)='合格率（不合格统计表）'!$G$2)*(工序记录明细表!$G$4:$G$10000='合格率（不合格统计表）'!$B20)*(工序记录明细表!$E$4:$E$10000='合格率（不合格统计表）'!G$4),工序记录明细表!$I$4:$I$10000),"") | H20: =IFERROR(SUMPRODUCT((MONTH(不合格明细表!$B$3:$B$10000)='合格率（不合格统计表）'!$G$2)*(不合格明细表!$F$3:$F$10000='合格率（不合格统计表）'!$B20)*(不合格明细表!$D$3:$D$10000='合格率（不合格统计表）'!H$4),不合格明细表!$G$3:$G$10000)/SUMPRODUCT((MONTH(工序记录明细表!$C$4:$C$10000)='合格率（不合格统计表）'!$G$2)*(工序记录明细表!$G$4:$G$10000='合格率（不合格统计表）'!$B20)*(工序记录明细表!$E$4:$E$10000='合格率（不合格统计表）'!H$4),工序记录明细表!$I$4:$I$10000),"") | I20: =IFERROR(SUMPRODUCT((MONTH(不合格明细表!$B$3:$B$10000)='合格率（不合格统计表）'!$G$2)*(不合格明细表!$F$3:$F$10000='合格率（不合格统计表）'!$B20)*(不合格明细表!$D$3:$D$10000='合格率（不合格统计表）'!I$4),不合格明细表!$G$3:$G$10000)/SUMPRODUCT((MONTH(工序记录明细表!$C$4:$C$10000)='合格率（不合格统计表）'!$G$2)*(工序记录明细表!$G$4:$G$10000='合格率（不合格统计表）'!$B20)*(工序记录明细表!$E$4:$E$10000='合格率（不合格统计表）'!I$4),工序记录明细表!$I$4:$I$10000),"") | J20: =IFERROR(SUMPRODUCT((MONTH(不合格明细表!$B$3:$B$10000)='合格率（不合格统计表）'!$G$2)*(不合格明细表!$F$3:$F$10000='合格率（不合格统计表）'!$B20)*(不合格明细表!$D$3:$D$10000='合格率（不合格统计表）'!J$4),不合格明细表!$G$3:$G$10000)/SUMPRODUCT((MONTH(工序记录明细表!$C$4:$C$10000)='合格率（不合格统计表）'!$G$2)*(工序记录明细表!$G$4:$G$10000='合格率（不合格统计表）'!$B20)*(工序记录明细表!$E$4:$E$10000='合格率（不合格统计表）'!J$4),工序记录明细表!$I$4:$I$10000),"") | K20: =IFERROR(SUMPRODUCT((MONTH(不合格明细表!$B$3:$B$10000)='合格率（不合格统计表）'!$G$2)*(不合格明细表!$F$3:$F$10000='合格率（不合格统计表）'!$B20)*(不合格明细表!$D$3:$D$10000='合格率（不合格统计表）'!K$4),不合格明细表!$G$3:$G$10000)/SUMPRODUCT((MONTH(工序记录明细表!$C$4:$C$10000)='合格率（不合格统计表）'!$G$2)*(工序记录明细表!$G$4:$G$10000='合格率（不合格统计表）'!$B20)*(工序记录明细表!$E$4:$E$10000='合格率（不合格统计表）'!K$4),工序记录明细表!$I$4:$I$10000),"") | ... M20: =IFERROR(SUMPRODUCT((MONTH(不合格明细表!$B$3:$B$10000)='合格率（不合格统计表）'!$G$2)*(不合格明细表!$F$3:$F$10000='合格率（不合格统计表）'!$B20)*(不合格明细表!$D$3:$D$10000='合格率（不合格统计表）'!M$4),不合格明细表!$G$3:$G$10000)/SUMPRODUCT((MONTH(工序记录明细表!$C$4:$C$10000)='合格率（不合格统计表）'!$G$2)*(工序记录明细表!$G$4:$G$10000='合格率（不合格统计表）'!$B20)*(工序记录明细表!$E$4:$E$10000='合格率（不合格统计表）'!M$4),工序记录明细表!$I$4:$I$10000),"") | Q20: =SUM(R20:AA20) -> 0 | R20: =SUMPRODUCT((MONTH(不合格明细表!$B$3:$B$10000)='合格率（不合格统计表）'!$T$2)*(不合格明细表!$F$3:$F$10000='合格率（不合格统计表）'!$P20)*(不合格明细表!$D$3:$D$10000='合格率（不合格统计表）'!R$4),不合格明细表!$G$3:$G$10000) -> 0 | S20: =SUMPRODUCT((MONTH(不合格明细表!$B$3:$B$10000)='合格率（不合格统计表）'!$T$2)*(不合格明细表!$F$3:$F$10000='合格率（不合格统计表）'!$P20)*(不合格明细表!$D$3:$D$10000='合格率（不合格统计表）'!S$4),不合格明细表!$G$3:$G$10000) -> 0 | T20: =SUMPRODUCT((MONTH(不合格明细表!$B$3:$B$10000)='合格率（不合格统计表）'!$T$2)*(不合格明细表!$F$3:$F$10000='合格率（不合格统计表）'!$P20)*(不合格明细表!$D$3:$D$10000='合格率（不合格统计表）'!T$4),不合格明细表!$G$3:$G$10000) -> 0 | U20: =SUMPRODUCT((MONTH(不合格明细表!$B$3:$B$10000)='合格率（不合格统计表）'!$T$2)*(不合格明细表!$F$3:$F$10000='合格率（不合格统计表）'!$P20)*(不合格明细表!$D$3:$D$10000='合格率（不合格统计表）'!U$4),不合格明细表!$G$3:$G$10000) -> 0 | V20: =SUMPRODUCT((MONTH(不合格明细表!$B$3:$B$10000)='合格率（不合格统计表）'!$T$2)*(不合格明细表!$F$3:$F$10000='合格率（不合格统计表）'!$P20)*(不合格明细表!$D$3:$D$10000='合格率（不合格统计表）'!V$4),不合格明细表!$G$3:$G$10000) -> 0 | W20: =SUMPRODUCT((MONTH(不合格明细表!$B$3:$B$10000)='合格率（不合格统计表）'!$T$2)*(不合格明细表!$F$3:$F$10000='合格率（不合格统计表）'!$P20)*(不合格明细表!$D$3:$D$10000='合格率（不合格统计表）'!W$4),不合格明细表!$G$3:$G$10000) -> 0 | X20: =SUMPRODUCT((MONTH(不合格明细表!$B$3:$B$10000)='合格率（不合格统计表）'!$T$2)*(不合格明细表!$F$3:$F$10000='合格率（不合格统计表）'!$P20)*(不合格明细表!$D$3:$D$10000='合格率（不合格统计表）'!X$4),不合格明细表!$G$3:$G$10000) -> 0 | Y20: =SUMPRODUCT((MONTH(不合格明细表!$B$3:$B$10000)='合格率（不合格统计表）'!$T$2)*(不合格明细表!$F$3:$F$10000='合格率（不合格统计表）'!$P20)*(不合格明细表!$D$3:$D$10000='合格率（不合格统计表）'!Y$4),不合格明细表!$G$3:$G$10000) -> 0 | ... AA20: =SUMPRODUCT((MONTH(不合格明细表!$B$3:$B$10000)='合格率（不合格统计表）'!$T$2)*(不合格明细表!$F$3:$F$10000='合格率（不合格统计表）'!$P20)*(不合格明细表!$D$3:$D$10000='合格率（不合格统计表）'!AA$4),不合格明细表!$G$3:$G$10000) -> 0
C21: =IFERROR(SUMPRODUCT((MONTH(不合格明细表!$B$3:$B$10000)='合格率（不合格统计表）'!$G$2)*(不合格明细表!$F$3:$F$10000='合格率（不合格统计表）'!$B21)*不合格明细表!$G$3:$G$10000)/SUMPRODUCT((MONTH(工序记录明细表!$C$4:$C$10000)='合格率（不合格统计表）'!$G$2)*(工序记录明细表!$G$4:$G$10000='合格率（不合格统计表）'!$B21),工序记录明细表!$I$4:$I$10000),"") | D21: =IFERROR(SUMPRODUCT((MONTH(不合格明细表!$B$3:$B$10000)='合格率（不合格统计表）'!$G$2)*(不合格明细表!$F$3:$F$10000='合格率（不合格统计表）'!$B21)*(不合格明细表!$D$3:$D$10000='合格率（不合格统计表）'!D$4),不合格明细表!$G$3:$G$10000)/SUMPRODUCT((MONTH(工序记录明细表!$C$4:$C$10000)='合格率（不合格统计表）'!$G$2)*(工序记录明细表!$G$4:$G$10000='合格率（不合格统计表）'!$B21)*(工序记录明细表!$E$4:$E$10000='合格率（不合格统计表）'!D$4),工序记录明细表!$I$4:$I$10000),"") | E21: =IFERROR(SUMPRODUCT((MONTH(不合格明细表!$B$3:$B$10000)='合格率（不合格统计表）'!$G$2)*(不合格明细表!$F$3:$F$10000='合格率（不合格统计表）'!$B21)*(不合格明细表!$D$3:$D$10000='合格率（不合格统计表）'!E$4),不合格明细表!$G$3:$G$10000)/SUMPRODUCT((MONTH(工序记录明细表!$C$4:$C$10000)='合格率（不合格统计表）'!$G$2)*(工序记录明细表!$G$4:$G$10000='合格率（不合格统计表）'!$B21)*(工序记录明细表!$E$4:$E$10000='合格率（不合格统计表）'!E$4),工序记录明细表!$I$4:$I$10000),"") | F21: =IFERROR(SUMPRODUCT((MONTH(不合格明细表!$B$3:$B$10000)='合格率（不合格统计表）'!$G$2)*(不合格明细表!$F$3:$F$10000='合格率（不合格统计表）'!$B21)*(不合格明细表!$D$3:$D$10000='合格率（不合格统计表）'!F$4),不合格明细表!$G$3:$G$10000)/SUMPRODUCT((MONTH(工序记录明细表!$C$4:$C$10000)='合格率（不合格统计表）'!$G$2)*(工序记录明细表!$G$4:$G$10000='合格率（不合格统计表）'!$B21)*(工序记录明细表!$E$4:$E$10000='合格率（不合格统计表）'!F$4),工序记录明细表!$I$4:$I$10000),"") | G21: =IFERROR(SUMPRODUCT((MONTH(不合格明细表!$B$3:$B$10000)='合格率（不合格统计表）'!$G$2)*(不合格明细表!$F$3:$F$10000='合格率（不合格统计表）'!$B21)*(不合格明细表!$D$3:$D$10000='合格率（不合格统计表）'!G$4),不合格明细表!$G$3:$G$10000)/SUMPRODUCT((MONTH(工序记录明细表!$C$4:$C$10000)='合格率（不合格统计表）'!$G$2)*(工序记录明细表!$G$4:$G$10000='合格率（不合格统计表）'!$B21)*(工序记录明细表!$E$4:$E$10000='合格率（不合格统计表）'!G$4),工序记录明细表!$I$4:$I$10000),"") | H21: =IFERROR(SUMPRODUCT((MONTH(不合格明细表!$B$3:$B$10000)='合格率（不合格统计表）'!$G$2)*(不合格明细表!$F$3:$F$10000='合格率（不合格统计表）'!$B21)*(不合格明细表!$D$3:$D$10000='合格率（不合格统计表）'!H$4),不合格明细表!$G$3:$G$10000)/SUMPRODUCT((MONTH(工序记录明细表!$C$4:$C$10000)='合格率（不合格统计表）'!$G$2)*(工序记录明细表!$G$4:$G$10000='合格率（不合格统计表）'!$B21)*(工序记录明细表!$E$4:$E$10000='合格率（不合格统计表）'!H$4),工序记录明细表!$I$4:$I$10000),"") | I21: =IFERROR(SUMPRODUCT((MONTH(不合格明细表!$B$3:$B$10000)='合格率（不合格统计表）'!$G$2)*(不合格明细表!$F$3:$F$10000='合格率（不合格统计表）'!$B21)*(不合格明细表!$D$3:$D$10000='合格率（不合格统计表）'!I$4),不合格明细表!$G$3:$G$10000)/SUMPRODUCT((MONTH(工序记录明细表!$C$4:$C$10000)='合格率（不合格统计表）'!$G$2)*(工序记录明细表!$G$4:$G$10000='合格率（不合格统计表）'!$B21)*(工序记录明细表!$E$4:$E$10000='合格率（不合格统计表）'!I$4),工序记录明细表!$I$4:$I$10000),"") | J21: =IFERROR(SUMPRODUCT((MONTH(不合格明细表!$B$3:$B$10000)='合格率（不合格统计表）'!$G$2)*(不合格明细表!$F$3:$F$10000='合格率（不合格统计表）'!$B21)*(不合格明细表!$D$3:$D$10000='合格率（不合格统计表）'!J$4),不合格明细表!$G$3:$G$10000)/SUMPRODUCT((MONTH(工序记录明细表!$C$4:$C$10000)='合格率（不合格统计表）'!$G$2)*(工序记录明细表!$G$4:$G$10000='合格率（不合格统计表）'!$B21)*(工序记录明细表!$E$4:$E$10000='合格率（不合格统计表）'!J$4),工序记录明细表!$I$4:$I$10000),"") | K21: =IFERROR(SUMPRODUCT((MONTH(不合格明细表!$B$3:$B$10000)='合格率（不合格统计表）'!$G$2)*(不合格明细表!$F$3:$F$10000='合格率（不合格统计表）'!$B21)*(不合格明细表!$D$3:$D$10000='合格率（不合格统计表）'!K$4),不合格明细表!$G$3:$G$10000)/SUMPRODUCT((MONTH(工序记录明细表!$C$4:$C$10000)='合格率（不合格统计表）'!$G$2)*(工序记录明细表!$G$4:$G$10000='合格率（不合格统计表）'!$B21)*(工序记录明细表!$E$4:$E$10000='合格率（不合格统计表）'!K$4),工序记录明细表!$I$4:$I$10000),"") | ... M21: =IFERROR(SUMPRODUCT((MONTH(不合格明细表!$B$3:$B$10000)='合格率（不合格统计表）'!$G$2)*(不合格明细表!$F$3:$F$10000='合格率（不合格统计表）'!$B21)*(不合格明细表!$D$3:$D$10000='合格率（不合格统计表）'!M$4),不合格明细表!$G$3:$G$10000)/SUMPRODUCT((MONTH(工序记录明细表!$C$4:$C$10000)='合格率（不合格统计表）'!$G$2)*(工序记录明细表!$G$4:$G$10000='合格率（不合格统计表）'!$B21)*(工序记录明细表!$E$4:$E$10000='合格率（不合格统计表）'!M$4),工序记录明细表!$I$4:$I$10000),"") | Q21: =SUM(R21:AA21) -> 0 | R21: =SUMPRODUCT((MONTH(不合格明细表!$B$3:$B$10000)='合格率（不合格统计表）'!$T$2)*(不合格明细表!$F$3:$F$10000='合格率（不合格统计表）'!$P21)*(不合格明细表!$D$3:$D$10000='合格率（不合格统计表）'!R$4),不合格明细表!$G$3:$G$10000) -> 0 | S21: =SUMPRODUCT((MONTH(不合格明细表!$B$3:$B$10000)='合格率（不合格统计表）'!$T$2)*(不合格明细表!$F$3:$F$10000='合格率（不合格统计表）'!$P21)*(不合格明细表!$D$3:$D$10000='合格率（不合格统计表）'!S$4),不合格明细表!$G$3:$G$10000) -> 0 | T21: =SUMPRODUCT((MONTH(不合格明细表!$B$3:$B$10000)='合格率（不合格统计表）'!$T$2)*(不合格明细表!$F$3:$F$10000='合格率（不合格统计表）'!$P21)*(不合格明细表!$D$3:$D$10000='合格率（不合格统计表）'!T$4),不合格明细表!$G$3:$G$10000) -> 0 | U21: =SUMPRODUCT((MONTH(不合格明细表!$B$3:$B$10000)='合格率（不合格统计表）'!$T$2)*(不合格明细表!$F$3:$F$10000='合格率（不合格统计表）'!$P21)*(不合格明细表!$D$3:$D$10000='合格率（不合格统计表）'!U$4),不合格明细表!$G$3:$G$10000) -> 0 | V21: =SUMPRODUCT((MONTH(不合格明细表!$B$3:$B$10000)='合格率（不合格统计表）'!$T$2)*(不合格明细表!$F$3:$F$10000='合格率（不合格统计表）'!$P21)*(不合格明细表!$D$3:$D$10000='合格率（不合格统计表）'!V$4),不合格明细表!$G$3:$G$10000) -> 0 | W21: =SUMPRODUCT((MONTH(不合格明细表!$B$3:$B$10000)='合格率（不合格统计表）'!$T$2)*(不合格明细表!$F$3:$F$10000='合格率（不合格统计表）'!$P21)*(不合格明细表!$D$3:$D$10000='合格率（不合格统计表）'!W$4),不合格明细表!$G$3:$G$10000) -> 0 | X21: =SUMPRODUCT((MONTH(不合格明细表!$B$3:$B$10000)='合格率（不合格统计表）'!$T$2)*(不合格明细表!$F$3:$F$10000='合格率（不合格统计表）'!$P21)*(不合格明细表!$D$3:$D$10000='合格率（不合格统计表）'!X$4),不合格明细表!$G$3:$G$10000) -> 0 | Y21: =SUMPRODUCT((MONTH(不合格明细表!$B$3:$B$10000)='合格率（不合格统计表）'!$T$2)*(不合格明细表!$F$3:$F$10000='合格率（不合格统计表）'!$P21)*(不合格明细表!$D$3:$D$10000='合格率（不合格统计表）'!Y$4),不合格明细表!$G$3:$G$10000) -> 0 | ... AA21: =SUMPRODUCT((MONTH(不合格明细表!$B$3:$B$10000)='合格率（不合格统计表）'!$T$2)*(不合格明细表!$F$3:$F$10000='合格率（不合格统计表）'!$P21)*(不合格明细表!$D$3:$D$10000='合格率（不合格统计表）'!AA$4),不合格明细表!$G$3:$G$10000) -> 0
... C24: =IFERROR(SUMPRODUCT((MONTH(不合格明细表!$B$3:$B$10000)='合格率（不合格统计表）'!$G$2)*(不合格明细表!$F$3:$F$10000='合格率（不合格统计表）'!$B24)*不合格明细表!$G$3:$G$10000)/SUMPRODUCT((MONTH(工序记录明细表!$C$4:$C$10000)='合格率（不合格统计表）'!$G$2)*(工序记录明细表!$G$4:$G$10000='合格率（不合格统计表）'!$B24),工序记录明细表!$I$4:$I$10000),"") | D24: =IFERROR(SUMPRODUCT((MONTH(不合格明细表!$B$3:$B$10000)='合格率（不合格统计表）'!$G$2)*(不合格明细表!$F$3:$F$10000='合格率（不合格统计表）'!$B24)*(不合格明细表!$D$3:$D$10000='合格率（不合格统计表）'!D$4),不合格明细表!$G$3:$G$10000)/SUMPRODUCT((MONTH(工序记录明细表!$C$4:$C$10000)='合格率（不合格统计表）'!$G$2)*(工序记录明细表!$G$4:$G$10000='合格率（不合格统计表）'!$B24)*(工序记录明细表!$E$4:$E$10000='合格率（不合格统计表）'!D$4),工序记录明细表!$I$4:$I$10000),"") | E24: =IFERROR(SUMPRODUCT((MONTH(不合格明细表!$B$3:$B$10000)='合格率（不合格统计表）'!$G$2)*(不合格明细表!$F$3:$F$10000='合格率（不合格统计表）'!$B24)*(不合格明细表!$D$3:$D$10000='合格率（不合格统计表）'!E$4),不合格明细表!$G$3:$G$10000)/SUMPRODUCT((MONTH(工序记录明细表!$C$4:$C$10000)='合格率（不合格统计表）'!$G$2)*(工序记录明细表!$G$4:$G$10000='合格率（不合格统计表）'!$B24)*(工序记录明细表!$E$4:$E$10000='合格率（不合格统计表）'!E$4),工序记录明细表!$I$4:$I$10000),"") | F24: =IFERROR(SUMPRODUCT((MONTH(不合格明细表!$B$3:$B$10000)='合格率（不合格统计表）'!$G$2)*(不合格明细表!$F$3:$F$10000='合格率（不合格统计表）'!$B24)*(不合格明细表!$D$3:$D$10000='合格率（不合格统计表）'!F$4),不合格明细表!$G$3:$G$10000)/SUMPRODUCT((MONTH(工序记录明细表!$C$4:$C$10000)='合格率（不合格统计表）'!$G$2)*(工序记录明细表!$G$4:$G$10000='合格率（不合格统计表）'!$B24)*(工序记录明细表!$E$4:$E$10000='合格率（不合格统计表）'!F$4),工序记录明细表!$I$4:$I$10000),"") | G24: =IFERROR(SUMPRODUCT((MONTH(不合格明细表!$B$3:$B$10000)='合格率（不合格统计表）'!$G$2)*(不合格明细表!$F$3:$F$10000='合格率（不合格统计表）'!$B24)*(不合格明细表!$D$3:$D$10000='合格率（不合格统计表）'!G$4),不合格明细表!$G$3:$G$10000)/SUMPRODUCT((MONTH(工序记录明细表!$C$4:$C$10000)='合格率（不合格统计表）'!$G$2)*(工序记录明细表!$G$4:$G$10000='合格率（不合格统计表）'!$B24)*(工序记录明细表!$E$4:$E$10000='合格率（不合格统计表）'!G$4),工序记录明细表!$I$4:$I$10000),"") | H24: =IFERROR(SUMPRODUCT((MONTH(不合格明细表!$B$3:$B$10000)='合格率（不合格统计表）'!$G$2)*(不合格明细表!$F$3:$F$10000='合格率（不合格统计表）'!$B24)*(不合格明细表!$D$3:$D$10000='合格率（不合格统计表）'!H$4),不合格明细表!$G$3:$G$10000)/SUMPRODUCT((MONTH(工序记录明细表!$C$4:$C$10000)='合格率（不合格统计表）'!$G$2)*(工序记录明细表!$G$4:$G$10000='合格率（不合格统计表）'!$B24)*(工序记录明细表!$E$4:$E$10000='合格率（不合格统计表）'!H$4),工序记录明细表!$I$4:$I$10000),"") | I24: =IFERROR(SUMPRODUCT((MONTH(不合格明细表!$B$3:$B$10000)='合格率（不合格统计表）'!$G$2)*(不合格明细表!$F$3:$F$10000='合格率（不合格统计表）'!$B24)*(不合格明细表!$D$3:$D$10000='合格率（不合格统计表）'!I$4),不合格明细表!$G$3:$G$10000)/SUMPRODUCT((MONTH(工序记录明细表!$C$4:$C$10000)='合格率（不合格统计表）'!$G$2)*(工序记录明细表!$G$4:$G$10000='合格率（不合格统计表）'!$B24)*(工序记录明细表!$E$4:$E$10000='合格率（不合格统计表）'!I$4),工序记录明细表!$I$4:$I$10000),"") | J24: =IFERROR(SUMPRODUCT((MONTH(不合格明细表!$B$3:$B$10000)='合格率（不合格统计表）'!$G$2)*(不合格明细表!$F$3:$F$10000='合格率（不合格统计表）'!$B24)*(不合格明细表!$D$3:$D$10000='合格率（不合格统计表）'!J$4),不合格明细表!$G$3:$G$10000)/SUMPRODUCT((MONTH(工序记录明细表!$C$4:$C$10000)='合格率（不合格统计表）'!$G$2)*(工序记录明细表!$G$4:$G$10000='合格率（不合格统计表）'!$B24)*(工序记录明细表!$E$4:$E$10000='合格率（不合格统计表）'!J$4),工序记录明细表!$I$4:$I$10000),"") | K24: =IFERROR(SUMPRODUCT((MONTH(不合格明细表!$B$3:$B$10000)='合格率（不合格统计表）'!$G$2)*(不合格明细表!$F$3:$F$10000='合格率（不合格统计表）'!$B24)*(不合格明细表!$D$3:$D$10000='合格率（不合格统计表）'!K$4),不合格明细表!$G$3:$G$10000)/SUMPRODUCT((MONTH(工序记录明细表!$C$4:$C$10000)='合格率（不合格统计表）'!$G$2)*(工序记录明细表!$G$4:$G$10000='合格率（不合格统计表）'!$B24)*(工序记录明细表!$E$4:$E$10000='合格率（不合格统计表）'!K$4),工序记录明细表!$I$4:$I$10000),"") | ... M24: =IFERROR(SUMPRODUCT((MONTH(不合格明细表!$B$3:$B$10000)='合格率（不合格统计表）'!$G$2)*(不合格明细表!$F$3:$F$10000='合格率（不合格统计表）'!$B24)*(不合格明细表!$D$3:$D$10000='合格率（不合格统计表）'!M$4),不合格明细表!$G$3:$G$10000)/SUMPRODUCT((MONTH(工序记录明细表!$C$4:$C$10000)='合格率（不合格统计表）'!$G$2)*(工序记录明细表!$G$4:$G$10000='合格率（不合格统计表）'!$B24)*(工序记录明细表!$E$4:$E$10000='合格率（不合格统计表）'!M$4),工序记录明细表!$I$4:$I$10000),"") | Q24: =SUM(R24:AA24) -> 0 | R24: =SUMPRODUCT((MONTH(不合格明细表!$B$3:$B$10000)='合格率（不合格统计表）'!$T$2)*(不合格明细表!$F$3:$F$10000='合格率（不合格统计表）'!$P24)*(不合格明细表!$D$3:$D$10000='合格率（不合格统计表）'!R$4),不合格明细表!$G$3:$G$10000) -> 0 | S24: =SUMPRODUCT((MONTH(不合格明细表!$B$3:$B$10000)='合格率（不合格统计表）'!$T$2)*(不合格明细表!$F$3:$F$10000='合格率（不合格统计表）'!$P24)*(不合格明细表!$D$3:$D$10000='合格率（不合格统计表）'!S$4),不合格明细表!$G$3:$G$10000) -> 0 | T24: =SUMPRODUCT((MONTH(不合格明细表!$B$3:$B$10000)='合格率（不合格统计表）'!$T$2)*(不合格明细表!$F$3:$F$10000='合格率（不合格统计表）'!$P24)*(不合格明细表!$D$3:$D$10000='合格率（不合格统计表）'!T$4),不合格明细表!$G$3:$G$10000) -> 0 | U24: =SUMPRODUCT((MONTH(不合格明细表!$B$3:$B$10000)='合格率（不合格统计表）'!$T$2)*(不合格明细表!$F$3:$F$10000='合格率（不合格统计表）'!$P24)*(不合格明细表!$D$3:$D$10000='合格率（不合格统计表）'!U$4),不合格明细表!$G$3:$G$10000) -> 0 | V24: =SUMPRODUCT((MONTH(不合格明细表!$B$3:$B$10000)='合格率（不合格统计表）'!$T$2)*(不合格明细表!$F$3:$F$10000='合格率（不合格统计表）'!$P24)*(不合格明细表!$D$3:$D$10000='合格率（不合格统计表）'!V$4),不合格明细表!$G$3:$G$10000) -> 0 | W24: =SUMPRODUCT((MONTH(不合格明细表!$B$3:$B$10000)='合格率（不合格统计表）'!$T$2)*(不合格明细表!$F$3:$F$10000='合格率（不合格统计表）'!$P24)*(不合格明细表!$D$3:$D$10000='合格率（不合格统计表）'!W$4),不合格明细表!$G$3:$G$10000) -> 0 | X24: =SUMPRODUCT((MONTH(不合格明细表!$B$3:$B$10000)='合格率（不合格统计表）'!$T$2)*(不合格明细表!$F$3:$F$10000='合格率（不合格统计表）'!$P24)*(不合格明细表!$D$3:$D$10000='合格率（不合格统计表）'!X$4),不合格明细表!$G$3:$G$10000) -> 0 | Y24: =SUMPRODUCT((MONTH(不合格明细表!$B$3:$B$10000)='合格率（不合格统计表）'!$T$2)*(不合格明细表!$F$3:$F$10000='合格率（不合格统计表）'!$P24)*(不合格明细表!$D$3:$D$10000='合格率（不合格统计表）'!Y$4),不合格明细表!$G$3:$G$10000) -> 0 | ... AA24: =SUMPRODUCT((MONTH(不合格明细表!$B$3:$B$10000)='合格率（不合格统计表）'!$T$2)*(不合格明细表!$F$3:$F$10000='合格率（不合格统计表）'!$P24)*(不合格明细表!$D$3:$D$10000='合格率（不合格统计表）'!AA$4),不合格明细表!$G$3:$G$10000) -> 0

Sheet 员工提成汇总表
C2: 11 | D2: 月份员工提成汇总表
B4: 员工编号 | C4: 员工姓名 | D4: 提成工资 | E4: 基本工资 | F4: 补贴 | G4: 工资合计
B5: N001 | C5: =IFERROR(VLOOKUP(B5,员工信息表!B:D,2,FALSE),"") -> 张1 | D5: =SUMPRODUCT((MONTH(工序记录明细表!$C$4:$C$10000)=员工提成汇总表!$C$2)*(工序记录明细表!$D$4:$D$10000=员工提成汇总表!$B5),工序记录明细表!$J$4:$J$10000) -> 1105.5 | E5: 1500 | F5: 200 | G5: =D5+E5+F5 -> 2805.5
B6: N002 | C6: =IFERROR(VLOOKUP(B6,员工信息表!B:D,2,FALSE),"") -> 张2 | D6: =SUMPRODUCT((MONTH(工序记录明细表!$C$4:$C$10000)=员工提成汇总表!$C$2)*(工序记录明细表!$D$4:$D$10000=员工提成汇总表!$B6),工序记录明细表!$J$4:$J$10000) -> 1014 | E6: 1500 | F6: 200 | G6: =D6+E6+F6 -> 2714
B7: N003 | C7: =IFERROR(VLOOKUP(B7,员工信息表!B:D,2,FALSE),"") -> 张3 | D7: =SUMPRODUCT((MONTH(工序记录明细表!$C$4:$C$10000)=员工提成汇总表!$C$2)*(工序记录明细表!$D$4:$D$10000=员工提成汇总表!$B7),工序记录明细表!$J$4:$J$10000) -> 1074.3 | E7: 1500 | F7: 200 | G7: =D7+E7+F7 -> 2774.3
B8: N004 | C8: =IFERROR(VLOOKUP(B8,员工信息表!B:D,2,FALSE),"") -> 张4 | D8: =SUMPRODUCT((MONTH(工序记录明细表!$C$4:$C$10000)=员工提成汇总表!$C$2)*(工序记录明细表!$D$4:$D$10000=员工提成汇总表!$B8),工序记录明细表!$J$4:$J$10000) -> 670.4 | E8: 1500 | F8: 200 | G8: =D8+E8+F8 -> 2370.4
B9: N005 | C9: =IFERROR(VLOOKUP(B9,员工信息表!B:D,2,FALSE),"") -> 张5 | D9: =SUMPRODUCT((MONTH(工序记录明细表!$C$4:$C$10000)=员工提成汇总表!$C$2)*(工序记录明细表!$D$4:$D$10000=员工提成汇总表!$B9),工序记录明细表!$J$4:$J$10000) -> 740.6 | E9: 1500 | F9: 200 | G9: =D9+E9+F9 -> 2440.6
B10: N006 | C10: =IFERROR(VLOOKUP(B10,员工信息表!B:D,2,FALSE),"") -> 张6 | D10: =SUMPRODUCT((MONTH(工序记录明细表!$C$4:$C$10000)=员工提成汇总表!$C$2)*(工序记录明细表!$D$4:$D$10000=员工提成汇总表!$B10),工序记录明细表!$J$4:$J$10000) -> 939.3 | E10: 1500 | F10: 200 | G10: =D10+E10+F10 -> 2639.3
B11: N007 | C11: =IFERROR(VLOOKUP(B11,员工信息表!B:D,2,FALSE),"") | D11: =SUMPRODUCT((MONTH(工序记录明细表!$C$4:$C$10000)=员工提成汇总表!$C$2)*(工序记录明细表!$D$4:$D$10000=员工提成汇总表!$B11),工序记录明细表!$J$4:$J$10000) -> 0 | E11: 1500 | F11: 200 | G11: =D11+E11+F11 -> 1700
B12: N008 | C12: =IFERROR(VLOOKUP(B12,员工信息表!B:D,2,FALSE),"") | D12: =SUMPRODUCT((MONTH(工序记录明细表!$C$4:$C$10000)=员工提成汇总表!$C$2)*(工序记录明细表!$D$4:$D$10000=员工提成汇总表!$B12),工序记录明细表!$J$4:$J$10000) -> 0 | E12: 1500 | F12: 200 | G12: =D12+E12+F12 -> 1700
B13: N009 | C13: =IFERROR(VLOOKUP(B13,员工信息表!B:D,2,FALSE),"") | D13: =SUMPRODUCT((MONTH(工序记录明细表!$C$4:$C$10000)=员工提成汇总表!$C$2)*(工序记录明细表!$D$4:$D$10000=员工提成汇总表!$B13),工序记录明细表!$J$4:$J$10000) -> 0 | E13: 1500 | F13: 200 | G13: =D13+E13+F13 -> 1700
B14: N010 | C14: =IFERROR(VLOOKUP(B14,员工信息表!B:D,2,FALSE),"") | D14: =SUMPRODUCT((MONTH(工序记录明细表!$C$4:$C$10000)=员工提成汇总表!$C$2)*(工序记录明细表!$D$4:$D$10000=员工提成汇总表!$B14),工序记录明细表!$J$4:$J$10000) -> 0 | E14: 1500 | F14: 200 | G14: =D14+E14+F14 -> 1700
B15: N011 | C15: =IFERROR(VLOOKUP(B15,员工信息表!B:D,2,FALSE),"") | D15: =SUMPRODUCT((MONTH(工序记录明细表!$C$4:$C$10000)=员工提成汇总表!$C$2)*(工序记录明细表!$D$4:$D$10000=员工提成汇总表!$B15),工序记录明细表!$J$4:$J$10000) -> 0 | E15: 1500 | F15: 200 | G15: =D15+E15+F15 -> 1700
B16: N012 | C16: =IFERROR(VLOOKUP(B16,员工信息表!B:D,2,FALSE),"") | D16: =SUMPRODUCT((MONTH(工序记录明细表!$C$4:$C$10000)=员工提成汇总表!$C$2)*(工序记录明细表!$D$4:$D$10000=员工提成汇总表!$B16),工序记录明细表!$J$4:$J$10000) -> 0 | E16: 1500 | F16: 200 | G16: =D16+E16+F16 -> 1700
C17: =IFERROR(VLOOKUP(B17,员工信息表!B:D,2,FALSE),"") | D17: =SUMPRODUCT((MONTH(工序记录明细表!$C$4:$C$10000)=员工提成汇总表!$C$2)*(工序记录明细表!$D$4:$D$10000=员工提成汇总表!$B17),工序记录明细表!$J$4:$J$10000) -> 0 | G17: =D17+E17+F17 -> 0
C18: =IFERROR(VLOOKUP(B18,员工信息表!B:D,2,FALSE),"") | D18: =SUMPRODUCT((MONTH(工序记录明细表!$C$4:$C$10000)=员工提成汇总表!$C$2)*(工序记录明细表!$D$4:$D$10000=员工提成汇总表!$B18),工序记录明细表!$J$4:$J$10000) -> 0 | G18: =D18+E18+F18 -> 0
C19: =IFERROR(VLOOKUP(B19,员工信息表!B:D,2,FALSE),"") | D19: =SUMPRODUCT((MONTH(工序记录明细表!$C$4:$C$10000)=员工提成汇总表!$C$2)*(工序记录明细表!$D$4:$D$10000=员工提成汇总表!$B19),工序记录明细表!$J$4:$J$10000) -> 0 | G19: =D19+E19+F19 -> 0
C20: =IFERROR(VLOOKUP(B20,员工信息表!B:D,2,FALSE),"") | D20: =SUMPRODUCT((MONTH(工序记录明细表!$C$4:$C$10000)=员工提成汇总表!$C$2)*(工序记录明细表!$D$4:$D$10000=员工提成汇总表!$B20),工序记录明细表!$J$4:$J$10000) -> 0 | G20: =D20+E20+F20 -> 0
C21: =IFERROR(VLOOKUP(B21,员工信息表!B:D,2,FALSE),"") | D21: =SUMPRODUCT((MONTH(工序记录明细表!$C$4:$C$10000)=员工提成汇总表!$C$2)*(工序记录明细表!$D$4:$D$10000=员工提成汇总表!$B21),工序记录明细表!$J$4:$J$10000) -> 0 | G21: =D21+E21+F21 -> 0
D22: =SUMPRODUCT((MONTH(工序记录明细表!$C$4:$C$10000)=员工提成汇总表!$C$2)*(工序记录明细表!$D$4:$D$10000=员工提成汇总表!$B22),工序记录明细表!$J$4:$J$10000) -> 0 | G22: =D22+E22+F22 -> 0
D23: =SUMPRODUCT((MONTH(工序记录明细表!$C$4:$C$10000)=员工提成汇总表!$C$2)*(工序记录明细表!$D$4:$D$10000=员工提成汇总表!$B23),工序记录明细表!$J$4:$J$10000) -> 0 | G23: =D23+E23+F23 -> 0
D24: =SUMPRODUCT((MONTH(工序记录明细表!$C$4:$C$10000)=员工提成汇总表!$C$2)*(工序记录明细表!$D$4:$D$10000=员工提成汇总表!$B24),工序记录明细表!$J$4:$J$10000) -> 0 | G24: =D24+E24+F24 -> 0
D25: =SUMPRODUCT((MONTH(工序记录明细表!$C$4:$C$10000)=员工提成汇总表!$C$2)*(工序记录明细表!$D$4:$D$10000=员工提成汇总表!$B25),工序记录明细表!$J$4:$J$10000) -> 0 | G25: =D25+E25+F25 -> 0
D26: =SUMPRODUCT((MONTH(工序记录明细表!$C$4:$C$10000)=员工提成汇总表!$C$2)*(工序记录明细表!$D$4:$D$10000=员工提成汇总表!$B26),工序记录明细表!$J$4:$J$10000) -> 0 | G26: =D26+E26+F26 -> 0
D27: =SUMPRODUCT((MONTH(工序记录明细表!$C$4:$C$10000)=员工提成汇总表!$C$2)*(工序记录明细表!$D$4:$D$10000=员工提成汇总表!$B27),工序记录明细表!$J$4:$J$10000) -> 0 | G27: =D27+E27+F27 -> 0
D28: =SUMPRODUCT((MONTH(工序记录明细表!$C$4:$C$10000)=员工提成汇总表!$C$2)*(工序记录明细表!$D$4:$D$10000=员工提成汇总表!$B28),工序记录明细表!$J$4:$J$10000) -> 0 | G28: =D28+E28+F28 -> 0
D29: =SUMPRODUCT((MONTH(工序记录明细表!$C$4:$C$10000)=员工提成汇总表!$C$2)*(工序记录明细表!$D$4:$D$10000=员工提成汇总表!$B29),工序记录明细表!$J$4:$J$10000) -> 0 | G29: =D29+E29+F29 -> 0
D30: =SUMPRODUCT((MONTH(工序记录明细表!$C$4:$C$10000)=员工提成汇总表!$C$2)*(工序记录明细表!$D$4:$D$10000=员工提成汇总表!$B30),工序记录明细表!$J$4:$J$10000) -> 0 | G30: =D30+E30+F30 -> 0
D31: =SUMPRODUCT((MONTH(工序记录明细表!$C$4:$C$10000)=员工提成汇总表!$C$2)*(工序记录明细表!$D$4:$D$10000=员工提成汇总表!$B31),工序记录明细表!$J$4:$J$10000) -> 0 | G31: =D31+E31+F31 -> 0
D32: =SUMPRODUCT((MONTH(工序记录明细表!$C$4:$C$10000)=员工提成汇总表!$C$2)*(工序记录明细表!$D$4:$D$10000=员工提成汇总表!$B32),工序记录明细表!$J$4:$J$10000) -> 0 | G32: =D32+E32+F32 -> 0
D33: =SUMPRODUCT((MONTH(工序记录明细表!$C$4:$C$10000)=员工提成汇总表!$C$2)*(工序记录明细表!$D$4:$D$10000=员工提成汇总表!$B33),工序记录明细表!$J$4:$J$10000) -> 0 | G33: =D33+E33+F33 -> 0
... D200: =SUMPRODUCT((MONTH(工序记录明细表!$C$4:$C$10000)=员工提成汇总表!$C$2)*(工序记录明细表!$D$4:$D$10000=员工提成汇总表!$B200),工序记录明细表!$J$4:$J$10000) -> 0 | G200: =D200+E200+F200 -> 0

Sheet 产量统计分析表
G1: 11 | H1: 月份统计分析
B3: 员工工序统计表 | N3: 班组工序统计表
B4: 员工\工序 | C4: 切割 | D4: 抛光 | E4: 组合 | F4: 测量 | G4: 包装 | L4: 合计 | N4: 班组\工序 | O4: 切割 | P4: 抛光 | Q4: 组合 | R4: 测量 | S4: 包装 | X4: 合计
B5: N001 | C5: =SUMPRODUCT((MONTH(工序记录明细表!$C$4:$C$10000)=产量统计分析表!$G$1)*(工序记录明细表!$D$4:$D$10000=产量统计分析表!$B5)*(工序记录明细表!$G$4:$G$10000=产量统计分析表!C$4),工序记录明细表!$I$4:$I$10000) -> 264 | D5: =SUMPRODUCT((MONTH(工序记录明细表!$C$4:$C$10000)=产量统计分析表!$G$1)*(工序记录明细表!$D$4:$D$10000=产量统计分析表!$B5)*(工序记录明细表!$G$4:$G$10000=产量统计分析表!D$4),工序记录明细表!$I$4:$I$10000) -> 283 | E5: =SUMPRODUCT((MONTH(工序记录明细表!$C$4:$C$10000)=产量统计分析表!$G$1)*(工序记录明细表!$D$4:$D$10000=产量统计分析表!$B5)*(工序记录明细表!$G$4:$G$10000=产量统计分析表!E$4),工序记录明细表!$I$4:$I$10000) -> 401 | F5: =SUMPRODUCT((MONTH(工序记录明细表!$C$4:$C$10000)=产量统计分析表!$G$1)*(工序记录明细表!$D$4:$D$10000=产量统计分析表!$B5)*(工序记录明细表!$G$4:$G$10000=产量统计分析表!F$4),工序记录明细表!$I$4:$I$10000) -> 0 | G5: =SUMPRODUCT((MONTH(工序记录明细表!$C$4:$C$10000)=产量统计分析表!$G$1)*(工序记录明细表!$D$4:$D$10000=产量统计分析表!$B5)*(工序记录明细表!$G$4:$G$10000=产量统计分析表!G$4),工序记录明细表!$I$4:$I$10000) -> 323 | H5: =SUMPRODUCT((MONTH(工序记录明细表!$C$4:$C$10000)=产量统计分析表!$G$1)*(工序记录明细表!$D$4:$D$10000=产量统计分析表!$B5)*(工序记录明细表!$G$4:$G$10000=产量统计分析表!H$4),工序记录明细表!$I$4:$I$10000) -> 0 | I5: =SUMPRODUCT((MONTH(工序记录明细表!$C$4:$C$10000)=产量统计分析表!$G$1)*(工序记录明细表!$D$4:$D$10000=产量统计分析表!$B5)*(工序记录明细表!$G$4:$G$10000=产量统计分析表!I$4),工序记录明细表!$I$4:$I$10000) -> 0 | J5: =SUMPRODUCT((MONTH(工序记录明细表!$C$4:$C$10000)=产量统计分析表!$G$1)*(工序记录明细表!$D$4:$D$10000=产量统计分析表!$B5)*(工序记录明细表!$G$4:$G$10000=产量统计分析表!J$4),工序记录明细表!$I$4:$I$10000) -> 0 | K5: =SUMPRODUCT((MONTH(工序记录明细表!$C$4:$C$10000)=产量统计分析表!$G$1)*(工序记录明细表!$D$4:$D$10000=产量统计分析表!$B5)*(工序记录明细表!$G$4:$G$10000=产量统计分析表!K$4),工序记录明细表!$I$4:$I$10000) -> 0 | L5: =SUM(C5:K5) -> 1271 | N5: 甲 | O5: =SUMPRODUCT((MONTH(工序记录明细表!$C$4:$C$10000)=产量统计分析表!$G$1)*(工序记录明细表!$F$4:$F$10000=产量统计分析表!$N5)*(工序记录明细表!$G$4:$G$10000=产量统计分析表!O$4),工序记录明细表!$I$4:$I$10000) -> 264 | P5: =SUMPRODUCT((MONTH(工序记录明细表!$C$4:$C$10000)=产量统计分析表!$G$1)*(工序记录明细表!$F$4:$F$10000=产量统计分析表!$N5)*(工序记录明细表!$G$4:$G$10000=产量统计分析表!P$4),工序记录明细表!$I$4:$I$10000) -> 766 | Q5: =SUMPRODUCT((MONTH(工序记录明细表!$C$4:$C$10000)=产量统计分析表!$G$1)*(工序记录明细表!$F$4:$F$10000=产量统计分析表!$N5)*(工序记录明细表!$G$4:$G$10000=产量统计分析表!Q$4),工序记录明细表!$I$4:$I$10000) -> 682 | R5: =SUMPRODUCT((MONTH(工序记录明细表!$C$4:$C$10000)=产量统计分析表!$G$1)*(工序记录明细表!$F$4:$F$10000=产量统计分析表!$N5)*(工序记录明细表!$G$4:$G$10000=产量统计分析表!R$4),工序记录明细表!$I$4:$I$10000) -> 363 | S5: =SUMPRODUCT((MONTH(工序记录明细表!$C$4:$C$10000)=产量统计分析表!$G$1)*(工序记录明细表!$F$4:$F$10000=产量统计分析表!$N5)*(工序记录明细表!$G$4:$G$10000=产量统计分析表!S$4),工序记录明细表!$I$4:$I$10000) -> 323 | T5: =SUMPRODUCT((MONTH(工序记录明细表!$C$4:$C$10000)=产量统计分析表!$G$1)*(工序记录明细表!$F$4:$F$10000=产量统计分析表!$N5)*(工序记录明细表!$G$4:$G$10000=产量统计分析表!T$4),工序记录明细表!$I$4:$I$10000) -> 0 | U5: =SUMPRODUCT((MONTH(工序记录明细表!$C$4:$C$10000)=产量统计分析表!$G$1)*(工序记录明细表!$F$4:$F$10000=产量统计分析表!$N5)*(工序记录明细表!$G$4:$G$10000=产量统计分析表!U$4),工序记录明细表!$I$4:$I$10000) -> 0 | V5: =SUMPRODUCT((MONTH(工序记录明细表!$C$4:$C$10000)=产量统计分析表!$G$1)*(工序记录明细表!$F$4:$F$10000=产量统计分析表!$N5)*(工序记录明细表!$G$4:$G$10000=产量统计分析表!V$4),工序记录明细表!$I$4:$I$10000) -> 0 | W5: =SUMPRODUCT((MONTH(工序记录明细表!$C$4:$C$10000)=产量统计分析表!$G$1)*(工序记录明细表!$F$4:$F$10000=产量统计分析表!$N5)*(工序记录明细表!$G$4:$G$10000=产量统计分析表!W$4),工序记录明细表!$I$4:$I$10000) -> 0 | X5: =SUM(O5:W5) -> 2398
B6: N002 | C6: =SUMPRODUCT((MONTH(工序记录明细表!$C$4:$C$10000)=产量统计分析表!$G$1)*(工序记录明细表!$D$4:$D$10000=产量统计分析表!$B6)*(工序记录明细表!$G$4:$G$10000=产量统计分析表!C$4),工序记录明细表!$I$4:$I$10000) -> 0 | D6: =SUMPRODUCT((MONTH(工序记录明细表!$C$4:$C$10000)=产量统计分析表!$G$1)*(工序记录明细表!$D$4:$D$10000=产量统计分析表!$B6)*(工序记录明细表!$G$4:$G$10000=产量统计分析表!D$4),工序记录明细表!$I$4:$I$10000) -> 483 | E6: =SUMPRODUCT((MONTH(工序记录明细表!$C$4:$C$10000)=产量统计分析表!$G$1)*(工序记录明细表!$D$4:$D$10000=产量统计分析表!$B6)*(工序记录明细表!$G$4:$G$10000=产量统计分析表!E$4),工序记录明细表!$I$4:$I$10000) -> 281 | F6: =SUMPRODUCT((MONTH(工序记录明细表!$C$4:$C$10000)=产量统计分析表!$G$1)*(工序记录明细表!$D$4:$D$10000=产量统计分析表!$B6)*(工序记录明细表!$G$4:$G$10000=产量统计分析表!F$4),工序记录明细表!$I$4:$I$10000) -> 363 | G6: =SUMPRODUCT((MONTH(工序记录明细表!$C$4:$C$10000)=产量统计分析表!$G$1)*(工序记录明细表!$D$4:$D$10000=产量统计分析表!$B6)*(工序记录明细表!$G$4:$G$10000=产量统计分析表!G$4),工序记录明细表!$I$4:$I$10000) -> 0 | H6: =SUMPRODUCT((MONTH(工序记录明细表!$C$4:$C$10000)=产量统计分析表!$G$1)*(工序记录明细表!$D$4:$D$10000=产量统计分析表!$B6)*(工序记录明细表!$G$4:$G$10000=产量统计分析表!H$4),工序记录明细表!$I$4:$I$10000) -> 0 | I6: =SUMPRODUCT((MONTH(工序记录明细表!$C$4:$C$10000)=产量统计分析表!$G$1)*(工序记录明细表!$D$4:$D$10000=产量统计分析表!$B6)*(工序记录明细表!$G$4:$G$10000=产量统计分析表!I$4),工序记录明细表!$I$4:$I$10000) -> 0 | J6: =SUMPRODUCT((MONTH(工序记录明细表!$C$4:$C$10000)=产量统计分析表!$G$1)*(工序记录明细表!$D$4:$D$10000=产量统计分析表!$B6)*(工序记录明细表!$G$4:$G$10000=产量统计分析表!J$4),工序记录明细表!$I$4:$I$10000) -> 0 | K6: =SUMPRODUCT((MONTH(工序记录明细表!$C$4:$C$10000)=产量统计分析表!$G$1)*(工序记录明细表!$D$4:$D$10000=产量统计分析表!$B6)*(工序记录明细表!$G$4:$G$10000=产量统计分析表!K$4),工序记录明细表!$I$4:$I$10000) -> 0 | L6: =SUM(C6:K6) -> 1127 | N6: 乙 | O6: =SUMPRODUCT((MONTH(工序记录明细表!$C$4:$C$10000)=产量统计分析表!$G$1)*(工序记录明细表!$F$4:$F$10000=产量统计分析表!$N6)*(工序记录明细表!$G$4:$G$10000=产量统计分析表!O$4),工序记录明细表!$I$4:$I$10000) -> 308 | P6: =SUMPRODUCT((MONTH(工序记录明细表!$C$4:$C$10000)=产量统计分析表!$G$1)*(工序记录明细表!$F$4:$F$10000=产量统计分析表!$N6)*(工序记录明细表!$G$4:$G$10000=产量统计分析表!P$4),工序记录明细表!$I$4:$I$10000) -> 0 | Q6: =SUMPRODUCT((MONTH(工序记录明细表!$C$4:$C$10000)=产量统计分析表!$G$1)*(工序记录明细表!$F$4:$F$10000=产量统计分析表!$N6)*(工序记录明细表!$G$4:$G$10000=产量统计分析表!Q$4),工序记录明细表!$I$4:$I$10000) -> 394 | R6: =SUMPRODUCT((MONTH(工序记录明细表!$C$4:$C$10000)=产量统计分析表!$G$1)*(工序记录明细表!$F$4:$F$10000=产量统计分析表!$N6)*(工序记录明细表!$G$4:$G$10000=产量统计分析表!R$4),工序记录明细表!$I$4:$I$10000) -> 1157 | S6: =SUMPRODUCT((MONTH(工序记录明细表!$C$4:$C$10000)=产量统计分析表!$G$1)*(工序记录明细表!$F$4:$F$10000=产量统计分析表!$N6)*(工序记录明细表!$G$4:$G$10000=产量统计分析表!S$4),工序记录明细表!$I$4:$I$10000) -> 942 | T6: =SUMPRODUCT((MONTH(工序记录明细表!$C$4:$C$10000)=产量统计分析表!$G$1)*(工序记录明细表!$F$4:$F$10000=产量统计分析表!$N6)*(工序记录明细表!$G$4:$G$10000=产量统计分析表!T$4),工序记录明细表!$I$4:$I$10000) -> 0 | U6: =SUMPRODUCT((MONTH(工序记录明细表!$C$4:$C$10000)=产量统计分析表!$G$1)*(工序记录明细表!$F$4:$F$10000=产量统计分析表!$N6)*(工序记录明细表!$G$4:$G$10000=产量统计分析表!U$4),工序记录明细表!$I$4:$I$10000) -> 0 | V6: =SUMPRODUCT((MONTH(工序记录明细表!$C$4:$C$10000)=产量统计分析表!$G$1)*(工序记录明细表!$F$4:$F$10000=产量统计分析表!$N6)*(工序记录明细表!$G$4:$G$10000=产量统计分析表!V$4),工序记录明细表!$I$4:$I$10000) -> 0 | W6: =SUMPRODUCT((MONTH(工序记录明细表!$C$4:$C$10000)=产量统计分析表!$G$1)*(工序记录明细表!$F$4:$F$10000=产量统计分析表!$N6)*(工序记录明细表!$G$4:$G$10000=产量统计分析表!W$4),工序记录明细表!$I$4:$I$10000) -> 0 | X6: =SUM(O6:W6) -> 2801
B7: N003 | C7: =SUMPRODUCT((MONTH(工序记录明细表!$C$4:$C$10000)=产量统计分析表!$G$1)*(工序记录明细表!$D$4:$D$10000=产量统计分析表!$B7)*(工序记录明细表!$G$4:$G$10000=产量统计分析表!C$4),工序记录明细表!$I$4:$I$10000) -> 0 | D7: =SUMPRODUCT((MONTH(工序记录明细表!$C$4:$C$10000)=产量统计分析表!$G$1)*(工序记录明细表!$D$4:$D$10000=产量统计分析表!$B7)*(工序记录明细表!$G$4:$G$10000=产量统计分析表!D$4),工序记录明细表!$I$4:$I$10000) -> 0 | E7: =SUMPRODUCT((MONTH(工序记录明细表!$C$4:$C$10000)=产量统计分析表!$G$1)*(工序记录明细表!$D$4:$D$10000=产量统计分析表!$B7)*(工序记录明细表!$G$4:$G$10000=产量统计分析表!E$4),工序记录明细表!$I$4:$I$10000) -> 394 | F7: =SUMPRODUCT((MONTH(工序记录明细表!$C$4:$C$10000)=产量统计分析表!$G$1)*(工序记录明细表!$D$4:$D$10000=产量统计分析表!$B7)*(工序记录明细表!$G$4:$G$10000=产量统计分析表!F$4),工序记录明细表!$I$4:$I$10000) -> 861 | G7: =SUMPRODUCT((MONTH(工序记录明细表!$C$4:$C$10000)=产量统计分析表!$G$1)*(工序记录明细表!$D$4:$D$10000=产量统计分析表!$B7)*(工序记录明细表!$G$4:$G$10000=产量统计分析表!G$4),工序记录明细表!$I$4:$I$10000) -> 482 | H7: =SUMPRODUCT((MONTH(工序记录明细表!$C$4:$C$10000)=产量统计分析表!$G$1)*(工序记录明细表!$D$4:$D$10000=产量统计分析表!$B7)*(工序记录明细表!$G$4:$G$10000=产量统计分析表!H$4),工序记录明细表!$I$4:$I$10000) -> 0 | I7: =SUMPRODUCT((MONTH(工序记录明细表!$C$4:$C$10000)=产量统计分析表!$G$1)*(工序记录明细表!$D$4:$D$10000=产量统计分析表!$B7)*(工序记录明细表!$G$4:$G$10000=产量统计分析表!I$4),工序记录明细表!$I$4:$I$10000) -> 0 | J7: =SUMPRODUCT((MONTH(工序记录明细表!$C$4:$C$10000)=产量统计分析表!$G$1)*(工序记录明细表!$D$4:$D$10000=产量统计分析表!$B7)*(工序记录明细表!$G$4:$G$10000=产量统计分析表!J$4),工序记录明细表!$I$4:$I$10000) -> 0 | K7: =SUMPRODUCT((MONTH(工序记录明细表!$C$4:$C$10000)=产量统计分析表!$G$1)*(工序记录明细表!$D$4:$D$10000=产量统计分析表!$B7)*(工序记录明细表!$G$4:$G$10000=产量统计分析表!K$4),工序记录明细表!$I$4:$I$10000) -> 0 | L7: =SUM(C7:K7) -> 1737 | N7: 丙 | O7: =SUMPRODUCT((MONTH(工序记录明细表!$C$4:$C$10000)=产量统计分析表!$G$1)*(工序记录明细表!$F$4:$F$10000=产量统计分析表!$N7)*(工序记录明细表!$G$4:$G$10000=产量统计分析表!O$4),工序记录明细表!$I$4:$I$10000) -> 667 | P7: =SUMPRODUCT((MONTH(工序记录明细表!$C$4:$C$10000)=产量统计分析表!$G$1)*(工序记录明细表!$F$4:$F$10000=产量统计分析表!$N7)*(工序记录明细表!$G$4:$G$10000=产量统计分析表!P$4),工序记录明细表!$I$4:$I$10000) -> 562 | Q7: =SUMPRODUCT((MONTH(工序记录明细表!$C$4:$C$10000)=产量统计分析表!$G$1)*(工序记录明细表!$F$4:$F$10000=产量统计分析表!$N7)*(工序记录明细表!$G$4:$G$10000=产量统计分析表!Q$4),工序记录明细表!$I$4:$I$10000) -> 289 | R7: =SUMPRODUCT((MONTH(工序记录明细表!$C$4:$C$10000)=产量统计分析表!$G$1)*(工序记录明细表!$F$4:$F$10000=产量统计分析表!$N7)*(工序记录明细表!$G$4:$G$10000=产量统计分析表!R$4),工序记录明细表!$I$4:$I$10000) -> 0 | S7: =SUMPRODUCT((MONTH(工序记录明细表!$C$4:$C$10000)=产量统计分析表!$G$1)*(工序记录明细表!$F$4:$F$10000=产量统计分析表!$N7)*(工序记录明细表!$G$4:$G$10000=产量统计分析表!S$4),工序记录明细表!$I$4:$I$10000) -> 353 | T7: =SUMPRODUCT((MONTH(工序记录明细表!$C$4:$C$10000)=产量统计分析表!$G$1)*(工序记录明细表!$F$4:$F$10000=产量统计分析表!$N7)*(工序记录明细表!$G$4:$G$10000=产量统计分析表!T$4),工序记录明细表!$I$4:$I$10000) -> 0 | U7: =SUMPRODUCT((MONTH(工序记录明细表!$C$4:$C$10000)=产量统计分析表!$G$1)*(工序记录明细表!$F$4:$F$10000=产量统计分析表!$N7)*(工序记录明细表!$G$4:$G$10000=产量统计分析表!U$4),工序记录明细表!$I$4:$I$10000) -> 0 | V7: =SUMPRODUCT((MONTH(工序记录明细表!$C$4:$C$10000)=产量统计分析表!$G$1)*(工序记录明细表!$F$4:$F$10000=产量统计分析表!$N7)*(工序记录明细表!$G$4:$G$10000=产量统计分析表!V$4),工序记录明细表!$I$4:$I$10000) -> 0 | W7: =SUMPRODUCT((MONTH(工序记录明细表!$C$4:$C$10000)=产量统计分析表!$G$1)*(工序记录明细表!$F$4:$F$10000=产量统计分析表!$N7)*(工序记录明细表!$G$4:$G$10000=产量统计分析表!W$4),工序记录明细表!$I$4:$I$10000) -> 0 | X7: =SUM(O7:W7) -> 1871
B8: N004 | C8: =SUMPRODUCT((MONTH(工序记录明细表!$C$4:$C$10000)=产量统计分析表!$G$1)*(工序记录明细表!$D$4:$D$10000=产量统计分析表!$B8)*(工序记录明细表!$G$4:$G$10000=产量统计分析表!C$4),工序记录明细表!$I$4:$I$10000) -> 308 | D8: =SUMPRODUCT((MONTH(工序记录明细表!$C$4:$C$10000)=产量统计分析表!$G$1)*(工序记录明细表!$D$4:$D$10000=产量统计分析表!$B8)*(工序记录明细表!$G$4:$G$10000=产量统计分析表!D$4),工序记录明细表!$I$4:$I$10000) -> 0 | E8: =SUMPRODUCT((MONTH(工序记录明细表!$C$4:$C$10000)=产量统计分析表!$G$1)*(工序记录明细表!$D$4:$D$10000=产量统计分析表!$B8)*(工序记录明细表!$G$4:$G$10000=产量统计分析表!E$4),工序记录明细表!$I$4:$I$10000) -> 0 | F8: =SUMPRODUCT((MONTH(工序记录明细表!$C$4:$C$10000)=产量统计分析表!$G$1)*(工序记录明细表!$D$4:$D$10000=产量统计分析表!$B8)*(工序记录明细表!$G$4:$G$10000=产量统计分析表!F$4),工序记录明细表!$I$4:$I$10000) -> 296 | G8: =SUMPRODUCT((MONTH(工序记录明细表!$C$4:$C$10000)=产量统计分析表!$G$1)*(工序记录明细表!$D$4:$D$10000=产量统计分析表!$B8)*(工序记录明细表!$G$4:$G$10000=产量统计分析表!G$4),工序记录明细表!$I$4:$I$10000) -> 460 | H8: =SUMPRODUCT((MONTH(工序记录明细表!$C$4:$C$10000)=产量统计分析表!$G$1)*(工序记录明细表!$D$4:$D$10000=产量统计分析表!$B8)*(工序记录明细表!$G$4:$G$10000=产量统计分析表!H$4),工序记录明细表!$I$4:$I$10000) -> 0 | I8: =SUMPRODUCT((MONTH(工序记录明细表!$C$4:$C$10000)=产量统计分析表!$G$1)*(工序记录明细表!$D$4:$D$10000=产量统计分析表!$B8)*(工序记录明细表!$G$4:$G$10000=产量统计分析表!I$4),工序记录明细表!$I$4:$I$10000) -> 0 | J8: =SUMPRODUCT((MONTH(工序记录明细表!$C$4:$C$10000)=产量统计分析表!$G$1)*(工序记录明细表!$D$4:$D$10000=产量统计分析表!$B8)*(工序记录明细表!$G$4:$G$10000=产量统计分析表!J$4),工序记录明细表!$I$4:$I$10000) -> 0 | K8: =SUMPRODUCT((MONTH(工序记录明细表!$C$4:$C$10000)=产量统计分析表!$G$1)*(工序记录明细表!$D$4:$D$10000=产量统计分析表!$B8)*(工序记录明细表!$G$4:$G$10000=产量统计分析表!K$4),工序记录明细表!$I$4:$I$10000) -> 0 | L8: =SUM(C8:K8) -> 1064 | O8: =SUMPRODUCT((MONTH(工序记录明细表!$C$4:$C$10000)=产量统计分析表!$G$1)*(工序记录明细表!$F$4:$F$10000=产量统计分析表!$N8)*(工序记录明细表!$G$4:$G$10000=产量统计分析表!O$4),工序记录明细表!$I$4:$I$10000) -> 0 | P8: =SUMPRODUCT((MONTH(工序记录明细表!$C$4:$C$10000)=产量统计分析表!$G$1)*(工序记录明细表!$F$4:$F$10000=产量统计分析表!$N8)*(工序记录明细表!$G$4:$G$10000=产量统计分析表!P$4),工序记录明细表!$I$4:$I$10000) -> 0 | Q8: =SUMPRODUCT((MONTH(工序记录明细表!$C$4:$C$10000)=产量统计分析表!$G$1)*(工序记录明细表!$F$4:$F$10000=产量统计分析表!$N8)*(工序记录明细表!$G$4:$G$10000=产量统计分析表!Q$4),工序记录明细表!$I$4:$I$10000) -> 0 | R8: =SUMPRODUCT((MONTH(工序记录明细表!$C$4:$C$10000)=产量统计分析表!$G$1)*(工序记录明细表!$F$4:$F$10000=产量统计分析表!$N8)*(工序记录明细表!$G$4:$G$10000=产量统计分析表!R$4),工序记录明细表!$I$4:$I$10000) -> 0 | S8: =SUMPRODUCT((MONTH(工序记录明细表!$C$4:$C$10000)=产量统计分析表!$G$1)*(工序记录明细表!$F$4:$F$10000=产量统计分析表!$N8)*(工序记录明细表!$G$4:$G$10000=产量统计分析表!S$4),工序记录明细表!$I$4:$I$10000) -> 0 | T8: =SUMPRODUCT((MONTH(工序记录明细表!$C$4:$C$10000)=产量统计分析表!$G$1)*(工序记录明细表!$F$4:$F$10000=产量统计分析表!$N8)*(工序记录明细表!$G$4:$G$10000=产量统计分析表!T$4),工序记录明细表!$I$4:$I$10000) -> 0 | U8: =SUMPRODUCT((MONTH(工序记录明细表!$C$4:$C$10000)=产量统计分析表!$G$1)*(工序记录明细表!$F$4:$F$10000=产量统计分析表!$N8)*(工序记录明细表!$G$4:$G$10000=产量统计分析表!U$4),工序记录明细表!$I$4:$I$10000) -> 0 | V8: =SUMPRODUCT((MONTH(工序记录明细表!$C$4:$C$10000)=产量统计分析表!$G$1)*(工序记录明细表!$F$4:$F$10000=产量统计分析表!$N8)*(工序记录明细表!$G$4:$G$10000=产量统计分析表!V$4),工序记录明细表!$I$4:$I$10000) -> 0 | W8: =SUMPRODUCT((MONTH(工序记录明细表!$C$4:$C$10000)=产量统计分析表!$G$1)*(工序记录明细表!$F$4:$F$10000=产量统计分析表!$N8)*(工序记录明细表!$G$4:$G$10000=产量统计分析表!W$4),工序记录明细表!$I$4:$I$10000) -> 0 | X8: =SUM(O8:W8) -> 0
B9: N005 | C9: =SUMPRODUCT((MONTH(工序记录明细表!$C$4:$C$10000)=产量统计分析表!$G$1)*(工序记录明细表!$D$4:$D$10000=产量统计分析表!$B9)*(工序记录明细表!$G$4:$G$10000=产量统计分析表!C$4),工序记录明细表!$I$4:$I$10000) -> 208 | D9: =SUMPRODUCT((MONTH(工序记录明细表!$C$4:$C$10000)=产量统计分析表!$G$1)*(工序记录明细表!$D$4:$D$10000=产量统计分析表!$B9)*(工序记录明细表!$G$4:$G$10000=产量统计分析表!D$4),工序记录明细表!$I$4:$I$10000) -> 302 | E9: =SUMPRODUCT((MONTH(工序记录明细表!$C$4:$C$10000)=产量统计分析表!$G$1)*(工序记录明细表!$D$4:$D$10000=产量统计分析表!$B9)*(工序记录明细表!$G$4:$G$10000=产量统计分析表!E$4),工序记录明细表!$I$4:$I$10000) -> 0 | F9: =SUMPRODUCT((MONTH(工序记录明细表!$C$4:$C$10000)=产量统计分析表!$G$1)*(工序记录明细表!$D$4:$D$10000=产量统计分析表!$B9)*(工序记录明细表!$G$4:$G$10000=产量统计分析表!F$4),工序记录明细表!$I$4:$I$10000) -> 0 | G9: =SUMPRODUCT((MONTH(工序记录明细表!$C$4:$C$10000)=产量统计分析表!$G$1)*(工序记录明细表!$D$4:$D$10000=产量统计分析表!$B9)*(工序记录明细表!$G$4:$G$10000=产量统计分析表!G$4),工序记录明细表!$I$4:$I$10000) -> 353 | H9: =SUMPRODUCT((MONTH(工序记录明细表!$C$4:$C$10000)=产量统计分析表!$G$1)*(工序记录明细表!$D$4:$D$10000=产量统计分析表!$B9)*(工序记录明细表!$G$4:$G$10000=产量统计分析表!H$4),工序记录明细表!$I$4:$I$10000) -> 0 | I9: =SUMPRODUCT((MONTH(工序记录明细表!$C$4:$C$10000)=产量统计分析表!$G$1)*(工序记录明细表!$D$4:$D$10000=产量统计分析表!$B9)*(工序记录明细表!$G$4:$G$10000=产量统计分析表!I$4),工序记录明细表!$I$4:$I$10000) -> 0 | J9: =SUMPRODUCT((MONTH(工序记录明细表!$C$4:$C$10000)=产量统计分析表!$G$1)*(工序记录明细表!$D$4:$D$10000=产量统计分析表!$B9)*(工序记录明细表!$G$4:$G$10000=产量统计分析表!J$4),工序记录明细表!$I$4:$I$10000) -> 0 | K9: =SUMPRODUCT((MONTH(工序记录明细表!$C$4:$C$10000)=产量统计分析表!$G$1)*(工序记录明细表!$D$4:$D$10000=产量统计分析表!$B9)*(工序记录明细表!$G$4:$G$10000=产量统计分析表!K$4),工序记录明细表!$I$4:$I$10000) -> 0 | L9: =SUM(C9:K9) -> 863 | O9: =SUMPRODUCT((MONTH(工序记录明细表!$C$4:$C$10000)=产量统计分析表!$G$1)*(工序记录明细表!$F$4:$F$10000=产量统计分析表!$N9)*(工序记录明细表!$G$4:$G$10000=产量统计分析表!O$4),工序记录明细表!$I$4:$I$10000) -> 0 | P9: =SUMPRODUCT((MONTH(工序记录明细表!$C$4:$C$10000)=产量统计分析表!$G$1)*(工序记录明细表!$F$4:$F$10000=产量统计分析表!$N9)*(工序记录明细表!$G$4:$G$10000=产量统计分析表!P$4),工序记录明细表!$I$4:$I$10000) -> 0 | Q9: =SUMPRODUCT((MONTH(工序记录明细表!$C$4:$C$10000)=产量统计分析表!$G$1)*(工序记录明细表!$F$4:$F$10000=产量统计分析表!$N9)*(工序记录明细表!$G$4:$G$10000=产量统计分析表!Q$4),工序记录明细表!$I$4:$I$10000) -> 0 | R9: =SUMPRODUCT((MONTH(工序记录明细表!$C$4:$C$10000)=产量统计分析表!$G$1)*(工序记录明细表!$F$4:$F$10000=产量统计分析表!$N9)*(工序记录明细表!$G$4:$G$10000=产量统计分析表!R$4),工序记录明细表!$I$4:$I$10000) -> 0 | S9: =SUMPRODUCT((MONTH(工序记录明细表!$C$4:$C$10000)=产量统计分析表!$G$1)*(工序记录明细表!$F$4:$F$10000=产量统计分析表!$N9)*(工序记录明细表!$G$4:$G$10000=产量统计分析表!S$4),工序记录明细表!$I$4:$I$10000) -> 0 | T9: =SUMPRODUCT((MONTH(工序记录明细表!$C$4:$C$10000)=产量统计分析表!$G$1)*(工序记录明细表!$F$4:$F$10000=产量统计分析表!$N9)*(工序记录明细表!$G$4:$G$10000=产量统计分析表!T$4),工序记录明细表!$I$4:$I$10000) -> 0 | U9: =SUMPRODUCT((MONTH(工序记录明细表!$C$4:$C$10000)=产量统计分析表!$G$1)*(工序记录明细表!$F$4:$F$10000=产量统计分析表!$N9)*(工序记录明细表!$G$4:$G$10000=产量统计分析表!U$4),工序记录明细表!$I$4:$I$10000) -> 0 | V9: =SUMPRODUCT((MONTH(工序记录明细表!$C$4:$C$10000)=产量统计分析表!$G$1)*(工序记录明细表!$F$4:$F$10000=产量统计分析表!$N9)*(工序记录明细表!$G$4:$G$10000=产量统计分析表!V$4),工序记录明细表!$I$4:$I$10000) -> 0 | W9: =SUMPRODUCT((MONTH(工序记录明细表!$C$4:$C$10000)=产量统计分析表!$G$1)*(工序记录明细表!$F$4:$F$10000=产量统计分析表!$N9)*(工序记录明细表!$G$4:$G$10000=产量统计分析表!W$4),工序记录明细表!$I$4:$I$10000) -> 0 | X9: =SUM(O9:W9) -> 0
B10: N006 | C10: =SUMPRODUCT((MONTH(工序记录明细表!$C$4:$C$10000)=产量统计分析表!$G$1)*(工序记录明细表!$D$4:$D$10000=产量统计分析表!$B10)*(工序记录明细表!$G$4:$G$10000=产量统计分析表!C$4),工序记录明细表!$I$4:$I$10000) -> 459 | D10: =SUMPRODUCT((MONTH(工序记录明细表!$C$4:$C$10000)=产量统计分析表!$G$1)*(工序记录明细表!$D$4:$D$10000=产量统计分析表!$B10)*(工序记录明细表!$G$4:$G$10000=产量统计分析表!D$4),工序记录明细表!$I$4:$I$10000) -> 260 | E10: =SUMPRODUCT((MONTH(工序记录明细表!$C$4:$C$10000)=产量统计分析表!$G$1)*(工序记录明细表!$D$4:$D$10000=产量统计分析表!$B10)*(工序记录明细表!$G$4:$G$10000=产量统计分析表!E$4),工序记录明细表!$I$4:$I$10000) -> 289 | F10: =SUMPRODUCT((MONTH(工序记录明细表!$C$4:$C$10000)=产量统计分析表!$G$1)*(工序记录明细表!$D$4:$D$10000=产量统计分析表!$B10)*(工序记录明细表!$G$4:$G$10000=产量统计分析表!F$4),工序记录明细表!$I$4:$I$10000) -> 0 | G10: =SUMPRODUCT((MONTH(工序记录明细表!$C$4:$C$10000)=产量统计分析表!$G$1)*(工序记录明细表!$D$4:$D$10000=产量统计分析表!$B10)*(工序记录明细表!$G$4:$G$10000=产量统计分析表!G$4),工序记录明细表!$I$4:$I$10000) -> 0 | H10: =SUMPRODUCT((MONTH(工序记录明细表!$C$4:$C$10000)=产量统计分析表!$G$1)*(工序记录明细表!$D$4:$D$10000=产量统计分析表!$B10)*(工序记录明细表!$G$4:$G$10000=产量统计分析表!H$4),工序记录明细表!$I$4:$I$10000) -> 0 | I10: =SUMPRODUCT((MONTH(工序记录明细表!$C$4:$C$10000)=产量统计分析表!$G$1)*(工序记录明细表!$D$4:$D$10000=产量统计分析表!$B10)*(工序记录明细表!$G$4:$G$10000=产量统计分析表!I$4),工序记录明细表!$I$4:$I$10000) -> 0 | J10: =SUMPRODUCT((MONTH(工序记录明细表!$C$4:$C$10000)=产量统计分析表!$G$1)*(工序记录明细表!$D$4:$D$10000=产量统计分析表!$B10)*(工序记录明细表!$G$4:$G$10000=产量统计分析表!J$4),工序记录明细表!$I$4:$I$10000) -> 0 | K10: =SUMPRODUCT((MONTH(工序记录明细表!$C$4:$C$10000)=产量统计分析表!$G$1)*(工序记录明细表!$D$4:$D$10000=产量统计分析表!$B10)*(工序记录明细表!$G$4:$G$10000=产量统计分析表!K$4),工序记录明细表!$I$4:$I$10000) -> 0 | L10: =SUM(C10:K10) -> 1008 | O10: =SUMPRODUCT((MONTH(工序记录明细表!$C$4:$C$10000)=产量统计分析表!$G$1)*(工序记录明细表!$F$4:$F$10000=产量统计分析表!$N10)*(工序记录明细表!$G$4:$G$10000=产量统计分析表!O$4),工序记录明细表!$I$4:$I$10000) -> 0 | P10: =SUMPRODUCT((MONTH(工序记录明细表!$C$4:$C$10000)=产量统计分析表!$G$1)*(工序记录明细表!$F$4:$F$10000=产量统计分析表!$N10)*(工序记录明细表!$G$4:$G$10000=产量统计分析表!P$4),工序记录明细表!$I$4:$I$10000) -> 0 | Q10: =SUMPRODUCT((MONTH(工序记录明细表!$C$4:$C$10000)=产量统计分析表!$G$1)*(工序记录明细表!$F$4:$F$10000=产量统计分析表!$N10)*(工序记录明细表!$G$4:$G$10000=产量统计分析表!Q$4),工序记录明细表!$I$4:$I$10000) -> 0 | R10: =SUMPRODUCT((MONTH(工序记录明细表!$C$4:$C$10000)=产量统计分析表!$G$1)*(工序记录明细表!$F$4:$F$10000=产量统计分析表!$N10)*(工序记录明细表!$G$4:$G$10000=产量统计分析表!R$4),工序记录明细表!$I$4:$I$10000) -> 0 | S10: =SUMPRODUCT((MONTH(工序记录明细表!$C$4:$C$10000)=产量统计分析表!$G$1)*(工序记录明细表!$F$4:$F$10000=产量统计分析表!$N10)*(工序记录明细表!$G$4:$G$10000=产量统计分析表!S$4),工序记录明细表!$I$4:$I$10000) -> 0 | T10: =SUMPRODUCT((MONTH(工序记录明细表!$C$4:$C$10000)=产量统计分析表!$G$1)*(工序记录明细表!$F$4:$F$10000=产量统计分析表!$N10)*(工序记录明细表!$G$4:$G$10000=产量统计分析表!T$4),工序记录明细表!$I$4:$I$10000) -> 0 | U10: =SUMPRODUCT((MONTH(工序记录明细表!$C$4:$C$10000)=产量统计分析表!$G$1)*(工序记录明细表!$F$4:$F$10000=产量统计分析表!$N10)*(工序记录明细表!$G$4:$G$10000=产量统计分析表!U$4),工序记录明细表!$I$4:$I$10000) -> 0 | V10: =SUMPRODUCT((MONTH(工序记录明细表!$C$4:$C$10000)=产量统计分析表!$G$1)*(工序记录明细表!$F$4:$F$10000=产量统计分析表!$N10)*(工序记录明细表!$G$4:$G$10000=产量统计分析表!V$4),工序记录明细表!$I$4:$I$10000) -> 0 | W10: =SUMPRODUCT((MONTH(工序记录明细表!$C$4:$C$10000)=产量统计分析表!$G$1)*(工序记录明细表!$F$4:$F$10000=产量统计分析表!$N10)*(工序记录明细表!$G$4:$G$10000=产量统计分析表!W$4),工序记录明细表!$I$4:$I$10000) -> 0 | X10: =SUM(O10:W10) -> 0
B11: N007 | C11: =SUMPRODUCT((MONTH(工序记录明细表!$C$4:$C$10000)=产量统计分析表!$G$1)*(工序记录明细表!$D$4:$D$10000=产量统计分析表!$B11)*(工序记录明细表!$G$4:$G$10000=产量统计分析表!C$4),工序记录明细表!$I$4:$I$10000) -> 0 | D11: =SUMPRODUCT((MONTH(工序记录明细表!$C$4:$C$10000)=产量统计分析表!$G$1)*(工序记录明细表!$D$4:$D$10000=产量统计分析表!$B11)*(工序记录明细表!$G$4:$G$10000=产量统计分析表!D$4),工序记录明细表!$I$4:$I$10000) -> 0 | E11: =SUMPRODUCT((MONTH(工序记录明细表!$C$4:$C$10000)=产量统计分析表!$G$1)*(工序记录明细表!$D$4:$D$10000=产量统计分析表!$B11)*(工序记录明细表!$G$4:$G$10000=产量统计分析表!E$4),工序记录明细表!$I$4:$I$10000) -> 0 | F11: =SUMPRODUCT((MONTH(工序记录明细表!$C$4:$C$10000)=产量统计分析表!$G$1)*(工序记录明细表!$D$4:$D$10000=产量统计分析表!$B11)*(工序记录明细表!$G$4:$G$10000=产量统计分析表!F$4),工序记录明细表!$I$4:$I$10000) -> 0 | G11: =SUMPRODUCT((MONTH(工序记录明细表!$C$4:$C$10000)=产量统计分析表!$G$1)*(工序记录明细表!$D$4:$D$10000=产量统计分析表!$B11)*(工序记录明细表!$G$4:$G$10000=产量统计分析表!G$4),工序记录明细表!$I$4:$I$10000) -> 0 | H11: =SUMPRODUCT((MONTH(工序记录明细表!$C$4:$C$10000)=产量统计分析表!$G$1)*(工序记录明细表!$D$4:$D$10000=产量统计分析表!$B11)*(工序记录明细表!$G$4:$G$10000=产量统计分析表!H$4),工序记录明细表!$I$4:$I$10000) -> 0 | I11: =SUMPRODUCT((MONTH(工序记录明细表!$C$4:$C$10000)=产量统计分析表!$G$1)*(工序记录明细表!$D$4:$D$10000=产量统计分析表!$B11)*(工序记录明细表!$G$4:$G$10000=产量统计分析表!I$4),工序记录明细表!$I$4:$I$10000) -> 0 | J11: =SUMPRODUCT((MONTH(工序记录明细表!$C$4:$C$10000)=产量统计分析表!$G$1)*(工序记录明细表!$D$4:$D$10000=产量统计分析表!$B11)*(工序记录明细表!$G$4:$G$10000=产量统计分析表!J$4),工序记录明细表!$I$4:$I$10000) -> 0 | K11: =SUMPRODUCT((MONTH(工序记录明细表!$C$4:$C$10000)=产量统计分析表!$G$1)*(工序记录明细表!$D$4:$D$10000=产量统计分析表!$B11)*(工序记录明细表!$G$4:$G$10000=产量统计分析表!K$4),工序记录明细表!$I$4:$I$10000) -> 0 | L11: =SUM(C11:K11) -> 0 | O11: =SUMPRODUCT((MONTH(工序记录明细表!$C$4:$C$10000)=产量统计分析表!$G$1)*(工序记录明细表!$F$4:$F$10000=产量统计分析表!$N11)*(工序记录明细表!$G$4:$G$10000=产量统计分析表!O$4),工序记录明细表!$I$4:$I$10000) -> 0 | P11: =SUMPRODUCT((MONTH(工序记录明细表!$C$4:$C$10000)=产量统计分析表!$G$1)*(工序记录明细表!$F$4:$F$10000=产量统计分析表!$N11)*(工序记录明细表!$G$4:$G$10000=产量统计分析表!P$4),工序记录明细表!$I$4:$I$10000) -> 0 | Q11: =SUMPRODUCT((MONTH(工序记录明细表!$C$4:$C$10000)=产量统计分析表!$G$1)*(工序记录明细表!$F$4:$F$10000=产量统计分析表!$N11)*(工序记录明细表!$G$4:$G$10000=产量统计分析表!Q$4),工序记录明细表!$I$4:$I$10000) -> 0 | R11: =SUMPRODUCT((MONTH(工序记录明细表!$C$4:$C$10000)=产量统计分析表!$G$1)*(工序记录明细表!$F$4:$F$10000=产量统计分析表!$N11)*(工序记录明细表!$G$4:$G$10000=产量统计分析表!R$4),工序记录明细表!$I$4:$I$10000) -> 0 | S11: =SUMPRODUCT((MONTH(工序记录明细表!$C$4:$C$10000)=产量统计分析表!$G$1)*(工序记录明细表!$F$4:$F$10000=产量统计分析表!$N11)*(工序记录明细表!$G$4:$G$10000=产量统计分析表!S$4),工序记录明细表!$I$4:$I$10000) -> 0 | T11: =SUMPRODUCT((MONTH(工序记录明细表!$C$4:$C$10000)=产量统计分析表!$G$1)*(工序记录明细表!$F$4:$F$10000=产量统计分析表!$N11)*(工序记录明细表!$G$4:$G$10000=产量统计分析表!T$4),工序记录明细表!$I$4:$I$10000) -> 0 | U11: =SUMPRODUCT((MONTH(工序记录明细表!$C$4:$C$10000)=产量统计分析表!$G$1)*(工序记录明细表!$F$4:$F$10000=产量统计分析表!$N11)*(工序记录明细表!$G$4:$G$10000=产量统计分析表!U$4),工序记录明细表!$I$4:$I$10000) -> 0 | V11: =SUMPRODUCT((MONTH(工序记录明细表!$C$4:$C$10000)=产量统计分析表!$G$1)*(工序记录明细表!$F$4:$F$10000=产量统计分析表!$N11)*(工序记录明细表!$G$4:$G$10000=产量统计分析表!V$4),工序记录明细表!$I$4:$I$10000) -> 0 | W11: =SUMPRODUCT((MONTH(工序记录明细表!$C$4:$C$10000)=产量统计分析表!$G$1)*(工序记录明细表!$F$4:$F$10000=产量统计分析表!$N11)*(工序记录明细表!$G$4:$G$10000=产量统计分析表!W$4),工序记录明细表!$I$4:$I$10000) -> 0 | X11: =SUM(O11:W11) -> 0
B12: N008 | C12: =SUMPRODUCT((MONTH(工序记录明细表!$C$4:$C$10000)=产量统计分析表!$G$1)*(工序记录明细表!$D$4:$D$10000=产量统计分析表!$B12)*(工序记录明细表!$G$4:$G$10000=产量统计分析表!C$4),工序记录明细表!$I$4:$I$10000) -> 0 | D12: =SUMPRODUCT((MONTH(工序记录明细表!$C$4:$C$10000)=产量统计分析表!$G$1)*(工序记录明细表!$D$4:$D$10000=产量统计分析表!$B12)*(工序记录明细表!$G$4:$G$10000=产量统计分析表!D$4),工序记录明细表!$I$4:$I$10000) -> 0 | E12: =SUMPRODUCT((MONTH(工序记录明细表!$C$4:$C$10000)=产量统计分析表!$G$1)*(工序记录明细表!$D$4:$D$10000=产量统计分析表!$B12)*(工序记录明细表!$G$4:$G$10000=产量统计分析表!E$4),工序记录明细表!$I$4:$I$10000) -> 0 | F12: =SUMPRODUCT((MONTH(工序记录明细表!$C$4:$C$10000)=产量统计分析表!$G$1)*(工序记录明细表!$D$4:$D$10000=产量统计分析表!$B12)*(工序记录明细表!$G$4:$G$10000=产量统计分析表!F$4),工序记录明细表!$I$4:$I$10000) -> 0 | G12: =SUMPRODUCT((MONTH(工序记录明细表!$C$4:$C$10000)=产量统计分析表!$G$1)*(工序记录明细表!$D$4:$D$10000=产量统计分析表!$B12)*(工序记录明细表!$G$4:$G$10000=产量统计分析表!G$4),工序记录明细表!$I$4:$I$10000) -> 0 | H12: =SUMPRODUCT((MONTH(工序记录明细表!$C$4:$C$10000)=产量统计分析表!$G$1)*(工序记录明细表!$D$4:$D$10000=产量统计分析表!$B12)*(工序记录明细表!$G$4:$G$10000=产量统计分析表!H$4),工序记录明细表!$I$4:$I$10000) -> 0 | I12: =SUMPRODUCT((MONTH(工序记录明细表!$C$4:$C$10000)=产量统计分析表!$G$1)*(工序记录明细表!$D$4:$D$10000=产量统计分析表!$B12)*(工序记录明细表!$G$4:$G$10000=产量统计分析表!I$4),工序记录明细表!$I$4:$I$10000) -> 0 | J12: =SUMPRODUCT((MONTH(工序记录明细表!$C$4:$C$10000)=产量统计分析表!$G$1)*(工序记录明细表!$D$4:$D$10000=产量统计分析表!$B12)*(工序记录明细表!$G$4:$G$10000=产量统计分析表!J$4),工序记录明细表!$I$4:$I$10000) -> 0 | K12: =SUMPRODUCT((MONTH(工序记录明细表!$C$4:$C$10000)=产量统计分析表!$G$1)*(工序记录明细表!$D$4:$D$10000=产量统计分析表!$B12)*(工序记录明细表!$G$4:$G$10000=产量统计分析表!K$4),工序记录明细表!$I$4:$I$10000) -> 0 | L12: =SUM(C12:K12) -> 0 | N12: 合计 | O12: =SUM(O5:O11) -> 1239 | P12: =SUM(P5:P11) -> 1328 | Q12: =SUM(Q5:Q11) -> 1365 | R12: =SUM(R5:R11) -> 1520 | S12: =SUM(S5:S11) -> 1618 | T12: =SUM(T5:T11) -> 0 | U12: =SUM(U5:U11) -> 0 | V12: =SUM(V5:V11) -> 0 | ... X12: =SUM(X5:X11) -> 7070
B13: N009 | C13: =SUMPRODUCT((MONTH(工序记录明细表!$C$4:$C$10000)=产量统计分析表!$G$1)*(工序记录明细表!$D$4:$D$10000=产量统计分析表!$B13)*(工序记录明细表!$G$4:$G$10000=产量统计分析表!C$4),工序记录明细表!$I$4:$I$10000) -> 0 | D13: =SUMPRODUCT((MONTH(工序记录明细表!$C$4:$C$10000)=产量统计分析表!$G$1)*(工序记录明细表!$D$4:$D$10000=产量统计分析表!$B13)*(工序记录明细表!$G$4:$G$10000=产量统计分析表!D$4),工序记录明细表!$I$4:$I$10000) -> 0 | E13: =SUMPRODUCT((MONTH(工序记录明细表!$C$4:$C$10000)=产量统计分析表!$G$1)*(工序记录明细表!$D$4:$D$10000=产量统计分析表!$B13)*(工序记录明细表!$G$4:$G$10000=产量统计分析表!E$4),工序记录明细表!$I$4:$I$10000) -> 0 | F13: =SUMPRODUCT((MONTH(工序记录明细表!$C$4:$C$10000)=产量统计分析表!$G$1)*(工序记录明细表!$D$4:$D$10000=产量统计分析表!$B13)*(工序记录明细表!$G$4:$G$10000=产量统计分析表!F$4),工序记录明细表!$I$4:$I$10000) -> 0 | G13: =SUMPRODUCT((MONTH(工序记录明细表!$C$4:$C$10000)=产量统计分析表!$G$1)*(工序记录明细表!$D$4:$D$10000=产量统计分析表!$B13)*(工序记录明细表!$G$4:$G$10000=产量统计分析表!G$4),工序记录明细表!$I$4:$I$10000) -> 0 | H13: =SUMPRODUCT((MONTH(工序记录明细表!$C$4:$C$10000)=产量统计分析表!$G$1)*(工序记录明细表!$D$4:$D$10000=产量统计分析表!$B13)*(工序记录明细表!$G$4:$G$10000=产量统计分析表!H$4),工序记录明细表!$I$4:$I$10000) -> 0 | I13: =SUMPRODUCT((MONTH(工序记录明细表!$C$4:$C$10000)=产量统计分析表!$G$1)*(工序记录明细表!$D$4:$D$10000=产量统计分析表!$B13)*(工序记录明细表!$G$4:$G$10000=产量统计分析表!I$4),工序记录明细表!$I$4:$I$10000) -> 0 | J13: =SUMPRODUCT((MONTH(工序记录明细表!$C$4:$C$10000)=产量统计分析表!$G$1)*(工序记录明细表!$D$4:$D$10000=产量统计分析表!$B13)*(工序记录明细表!$G$4:$G$10000=产量统计分析表!J$4),工序记录明细表!$I$4:$I$10000) -> 0 | K13: =SUMPRODUCT((MONTH(工序记录明细表!$C$4:$C$10000)=产量统计分析表!$G$1)*(工序记录明细表!$D$4:$D$10000=产量统计分析表!$B13)*(工序记录明细表!$G$4:$G$10000=产量统计分析表!K$4),工序记录明细表!$I$4:$I$10000) -> 0 | L13: =SUM(C13:K13) -> 0
B14: N010 | C14: =SUMPRODUCT((MONTH(工序记录明细表!$C$4:$C$10000)=产量统计分析表!$G$1)*(工序记录明细表!$D$4:$D$10000=产量统计分析表!$B14)*(工序记录明细表!$G$4:$G$10000=产量统计分析表!C$4),工序记录明细表!$I$4:$I$10000) -> 0 | D14: =SUMPRODUCT((MONTH(工序记录明细表!$C$4:$C$10000)=产量统计分析表!$G$1)*(工序记录明细表!$D$4:$D$10000=产量统计分析表!$B14)*(工序记录明细表!$G$4:$G$10000=产量统计分析表!D$4),工序记录明细表!$I$4:$I$10000) -> 0 | E14: =SUMPRODUCT((MONTH(工序记录明细表!$C$4:$C$10000)=产量统计分析表!$G$1)*(工序记录明细表!$D$4:$D$10000=产量统计分析表!$B14)*(工序记录明细表!$G$4:$G$10000=产量统计分析表!E$4),工序记录明细表!$I$4:$I$10000) -> 0 | F14: =SUMPRODUCT((MONTH(工序记录明细表!$C$4:$C$10000)=产量统计分析表!$G$1)*(工序记录明细表!$D$4:$D$10000=产量统计分析表!$B14)*(工序记录明细表!$G$4:$G$10000=产量统计分析表!F$4),工序记录明细表!$I$4:$I$10000) -> 0 | G14: =SUMPRODUCT((MONTH(工序记录明细表!$C$4:$C$10000)=产量统计分析表!$G$1)*(工序记录明细表!$D$4:$D$10000=产量统计分析表!$B14)*(工序记录明细表!$G$4:$G$10000=产量统计分析表!G$4),工序记录明细表!$I$4:$I$10000) -> 0 | H14: =SUMPRODUCT((MONTH(工序记录明细表!$C$4:$C$10000)=产量统计分析表!$G$1)*(工序记录明细表!$D$4:$D$10000=产量统计分析表!$B14)*(工序记录明细表!$G$4:$G$10000=产量统计分析表!H$4),工序记录明细表!$I$4:$I$10000) -> 0 | I14: =SUMPRODUCT((MONTH(工序记录明细表!$C$4:$C$10000)=产量统计分析表!$G$1)*(工序记录明细表!$D$4:$D$10000=产量统计分析表!$B14)*(工序记录明细表!$G$4:$G$10000=产量统计分析表!I$4),工序记录明细表!$I$4:$I$10000) -> 0 | J14: =SUMPRODUCT((MONTH(工序记录明细表!$C$4:$C$10000)=产量统计分析表!$G$1)*(工序记录明细表!$D$4:$D$10000=产量统计分析表!$B14)*(工序记录明细表!$G$4:$G$10000=产量统计分析表!J$4),工序记录明细表!$I$4:$I$10000) -> 0 | K14: =SUMPRODUCT((MONTH(工序记录明细表!$C$4:$C$10000)=产量统计分析表!$G$1)*(工序记录明细表!$D$4:$D$10000=产量统计分析表!$B14)*(工序记录明细表!$G$4:$G$10000=产量统计分析表!K$4),工序记录明细表!$I$4:$I$10000) -> 0 | L14: =SUM(C14:K14) -> 0
B15: N011 | C15: =SUMPRODUCT((MONTH(工序记录明细表!$C$4:$C$10000)=产量统计分析表!$G$1)*(工序记录明细表!$D$4:$D$10000=产量统计分析表!$B15)*(工序记录明细表!$G$4:$G$10000=产量统计分析表!C$4),工序记录明细表!$I$4:$I$10000) -> 0 | D15: =SUMPRODUCT((MONTH(工序记录明细表!$C$4:$C$10000)=产量统计分析表!$G$1)*(工序记录明细表!$D$4:$D$10000=产量统计分析表!$B15)*(工序记录明细表!$G$4:$G$10000=产量统计分析表!D$4),工序记录明细表!$I$4:$I$10000) -> 0 | E15: =SUMPRODUCT((MONTH(工序记录明细表!$C$4:$C$10000)=产量统计分析表!$G$1)*(工序记录明细表!$D$4:$D$10000=产量统计分析表!$B15)*(工序记录明细表!$G$4:$G$10000=产量统计分析表!E$4),工序记录明细表!$I$4:$I$10000) -> 0 | F15: =SUMPRODUCT((MONTH(工序记录明细表!$C$4:$C$10000)=产量统计分析表!$G$1)*(工序记录明细表!$D$4:$D$10000=产量统计分析表!$B15)*(工序记录明细表!$G$4:$G$10000=产量统计分析表!F$4),工序记录明细表!$I$4:$I$10000) -> 0 | G15: =SUMPRODUCT((MONTH(工序记录明细表!$C$4:$C$10000)=产量统计分析表!$G$1)*(工序记录明细表!$D$4:$D$10000=产量统计分析表!$B15)*(工序记录明细表!$G$4:$G$10000=产量统计分析表!G$4),工序记录明细表!$I$4:$I$10000) -> 0 | H15: =SUMPRODUCT((MONTH(工序记录明细表!$C$4:$C$10000)=产量统计分析表!$G$1)*(工序记录明细表!$D$4:$D$10000=产量统计分析表!$B15)*(工序记录明细表!$G$4:$G$10000=产量统计分析表!H$4),工序记录明细表!$I$4:$I$10000) -> 0 | I15: =SUMPRODUCT((MONTH(工序记录明细表!$C$4:$C$10000)=产量统计分析表!$G$1)*(工序记录明细表!$D$4:$D$10000=产量统计分析表!$B15)*(工序记录明细表!$G$4:$G$10000=产量统计分析表!I$4),工序记录明细表!$I$4:$I$10000) -> 0 | J15: =SUMPRODUCT((MONTH(工序记录明细表!$C$4:$C$10000)=产量统计分析表!$G$1)*(工序记录明细表!$D$4:$D$10000=产量统计分析表!$B15)*(工序记录明细表!$G$4:$G$10000=产量统计分析表!J$4),工序记录明细表!$I$4:$I$10000) -> 0 | K15: =SUMPRODUCT((MONTH(工序记录明细表!$C$4:$C$10000)=产量统计分析表!$G$1)*(工序记录明细表!$D$4:$D$10000=产量统计分析表!$B15)*(工序记录明细表!$G$4:$G$10000=产量统计分析表!K$4),工序记录明细表!$I$4:$I$10000) -> 0 | L15: =SUM(C15:K15) -> 0
B16: N012 | C16: =SUMPRODUCT((MONTH(工序记录明细表!$C$4:$C$10000)=产量统计分析表!$G$1)*(工序记录明细表!$D$4:$D$10000=产量统计分析表!$B16)*(工序记录明细表!$G$4:$G$10000=产量统计分析表!C$4),工序记录明细表!$I$4:$I$10000) -> 0 | D16: =SUMPRODUCT((MONTH(工序记录明细表!$C$4:$C$10000)=产量统计分析表!$G$1)*(工序记录明细表!$D$4:$D$10000=产量统计分析表!$B16)*(工序记录明细表!$G$4:$G$10000=产量统计分析表!D$4),工序记录明细表!$I$4:$I$10000) -> 0 | E16: =SUMPRODUCT((MONTH(工序记录明细表!$C$4:$C$10000)=产量统计分析表!$G$1)*(工序记录明细表!$D$4:$D$10000=产量统计分析表!$B16)*(工序记录明细表!$G$4:$G$10000=产量统计分析表!E$4),工序记录明细表!$I$4:$I$10000) -> 0 | F16: =SUMPRODUCT((MONTH(工序记录明细表!$C$4:$C$10000)=产量统计分析表!$G$1)*(工序记录明细表!$D$4:$D$10000=产量统计分析表!$B16)*(工序记录明细表!$G$4:$G$10000=产量统计分析表!F$4),工序记录明细表!$I$4:$I$10000) -> 0 | G16: =SUMPRODUCT((MONTH(工序记录明细表!$C$4:$C$10000)=产量统计分析表!$G$1)*(工序记录明细表!$D$4:$D$10000=产量统计分析表!$B16)*(工序记录明细表!$G$4:$G$10000=产量统计分析表!G$4),工序记录明细表!$I$4:$I$10000) -> 0 | H16: =SUMPRODUCT((MONTH(工序记录明细表!$C$4:$C$10000)=产量统计分析表!$G$1)*(工序记录明细表!$D$4:$D$10000=产量统计分析表!$B16)*(工序记录明细表!$G$4:$G$10000=产量统计分析表!H$4),工序记录明细表!$I$4:$I$10000) -> 0 | I16: =SUMPRODUCT((MONTH(工序记录明细表!$C$4:$C$10000)=产量统计分析表!$G$1)*(工序记录明细表!$D$4:$D$10000=产量统计分析表!$B16)*(工序记录明细表!$G$4:$G$10000=产量统计分析表!I$4),工序记录明细表!$I$4:$I$10000) -> 0 | J16: =SUMPRODUCT((MONTH(工序记录明细表!$C$4:$C$10000)=产量统计分析表!$G$1)*(工序记录明细表!$D$4:$D$10000=产量统计分析表!$B16)*(工序记录明细表!$G$4:$G$10000=产量统计分析表!J$4),工序记录明细表!$I$4:$I$10000) -> 0 | K16: =SUMPRODUCT((MONTH(工序记录明细表!$C$4:$C$10000)=产量统计分析表!$G$1)*(工序记录明细表!$D$4:$D$10000=产量统计分析表!$B16)*(工序记录明细表!$G$4:$G$10000=产量统计分析表!K$4),工序记录明细表!$I$4:$I$10000) -> 0 | L16: =SUM(C16:K16) -> 0
C17: =SUMPRODUCT((MONTH(工序记录明细表!$C$4:$C$10000)=产量统计分析表!$G$1)*(工序记录明细表!$D$4:$D$10000=产量统计分析表!$B17)*(工序记录明细表!$G$4:$G$10000=产量统计分析表!C$4),工序记录明细表!$I$4:$I$10000) -> 0 | D17: =SUMPRODUCT((MONTH(工序记录明细表!$C$4:$C$10000)=产量统计分析表!$G$1)*(工序记录明细表!$D$4:$D$10000=产量统计分析表!$B17)*(工序记录明细表!$G$4:$G$10000=产量统计分析表!D$4),工序记录明细表!$I$4:$I$10000) -> 0 | E17: =SUMPRODUCT((MONTH(工序记录明细表!$C$4:$C$10000)=产量统计分析表!$G$1)*(工序记录明细表!$D$4:$D$10000=产量统计分析表!$B17)*(工序记录明细表!$G$4:$G$10000=产量统计分析表!E$4),工序记录明细表!$I$4:$I$10000) -> 0 | F17: =SUMPRODUCT((MONTH(工序记录明细表!$C$4:$C$10000)=产量统计分析表!$G$1)*(工序记录明细表!$D$4:$D$10000=产量统计分析表!$B17)*(工序记录明细表!$G$4:$G$10000=产量统计分析表!F$4),工序记录明细表!$I$4:$I$10000) -> 0 | G17: =SUMPRODUCT((MONTH(工序记录明细表!$C$4:$C$10000)=产量统计分析表!$G$1)*(工序记录明细表!$D$4:$D$10000=产量统计分析表!$B17)*(工序记录明细表!$G$4:$G$10000=产量统计分析表!G$4),工序记录明细表!$I$4:$I$10000) -> 0 | H17: =SUMPRODUCT((MONTH(工序记录明细表!$C$4:$C$10000)=产量统计分析表!$G$1)*(工序记录明细表!$D$4:$D$10000=产量统计分析表!$B17)*(工序记录明细表!$G$4:$G$10000=产量统计分析表!H$4),工序记录明细表!$I$4:$I$10000) -> 0 | I17: =SUMPRODUCT((MONTH(工序记录明细表!$C$4:$C$10000)=产量统计分析表!$G$1)*(工序记录明细表!$D$4:$D$10000=产量统计分析表!$B17)*(工序记录明细表!$G$4:$G$10000=产量统计分析表!I$4),工序记录明细表!$I$4:$I$10000) -> 0 | J17: =SUMPRODUCT((MONTH(工序记录明细表!$C$4:$C$10000)=产量统计分析表!$G$1)*(工序记录明细表!$D$4:$D$10000=产量统计分析表!$B17)*(工序记录明细表!$G$4:$G$10000=产量统计分析表!J$4),工序记录明细表!$I$4:$I$10000) -> 0 | K17: =SUMPRODUCT((MONTH(工序记录明细表!$C$4:$C$10000)=产量统计分析表!$G$1)*(工序记录明细表!$D$4:$D$10000=产量统计分析表!$B17)*(工序记录明细表!$G$4:$G$10000=产量统计分析表!K$4),工序记录明细表!$I$4:$I$10000) -> 0 | L17: =SUM(C17:K17) -> 0
C18: =SUMPRODUCT((MONTH(工序记录明细表!$C$4:$C$10000)=产量统计分析表!$G$1)*(工序记录明细表!$D$4:$D$10000=产量统计分析表!$B18)*(工序记录明细表!$G$4:$G$10000=产量统计分析表!C$4),工序记录明细表!$I$4:$I$10000) -> 0 | D18: =SUMPRODUCT((MONTH(工序记录明细表!$C$4:$C$10000)=产量统计分析表!$G$1)*(工序记录明细表!$D$4:$D$10000=产量统计分析表!$B18)*(工序记录明细表!$G$4:$G$10000=产量统计分析表!D$4),工序记录明细表!$I$4:$I$10000) -> 0 | E18: =SUMPRODUCT((MONTH(工序记录明细表!$C$4:$C$10000)=产量统计分析表!$G$1)*(工序记录明细表!$D$4:$D$10000=产量统计分析表!$B18)*(工序记录明细表!$G$4:$G$10000=产量统计分析表!E$4),工序记录明细表!$I$4:$I$10000) -> 0 | F18: =SUMPRODUCT((MONTH(工序记录明细表!$C$4:$C$10000)=产量统计分析表!$G$1)*(工序记录明细表!$D$4:$D$10000=产量统计分析表!$B18)*(工序记录明细表!$G$4:$G$10000=产量统计分析表!F$4),工序记录明细表!$I$4:$I$10000) -> 0 | G18: =SUMPRODUCT((MONTH(工序记录明细表!$C$4:$C$10000)=产量统计分析表!$G$1)*(工序记录明细表!$D$4:$D$10000=产量统计分析表!$B18)*(工序记录明细表!$G$4:$G$10000=产量统计分析表!G$4),工序记录明细表!$I$4:$I$10000) -> 0 | H18: =SUMPRODUCT((MONTH(工序记录明细表!$C$4:$C$10000)=产量统计分析表!$G$1)*(工序记录明细表!$D$4:$D$10000=产量统计分析表!$B18)*(工序记录明细表!$G$4:$G$10000=产量统计分析表!H$4),工序记录明细表!$I$4:$I$10000) -> 0 | I18: =SUMPRODUCT((MONTH(工序记录明细表!$C$4:$C$10000)=产量统计分析表!$G$1)*(工序记录明细表!$D$4:$D$10000=产量统计分析表!$B18)*(工序记录明细表!$G$4:$G$10000=产量统计分析表!I$4),工序记录明细表!$I$4:$I$10000) -> 0 | J18: =SUMPRODUCT((MONTH(工序记录明细表!$C$4:$C$10000)=产量统计分析表!$G$1)*(工序记录明细表!$D$4:$D$10000=产量统计分析表!$B18)*(工序记录明细表!$G$4:$G$10000=产量统计分析表!J$4),工序记录明细表!$I$4:$I$10000) -> 0 | K18: =SUMPRODUCT((MONTH(工序记录明细表!$C$4:$C$10000)=产量统计分析表!$G$1)*(工序记录明细表!$D$4:$D$10000=产量统计分析表!$B18)*(工序记录明细表!$G$4:$G$10000=产量统计分析表!K$4),工序记录明细表!$I$4:$I$10000) -> 0 | L18: =SUM(C18:K18) -> 0
C19: =SUMPRODUCT((MONTH(工序记录明细表!$C$4:$C$10000)=产量统计分析表!$G$1)*(工序记录明细表!$D$4:$D$10000=产量统计分析表!$B19)*(工序记录明细表!$G$4:$G$10000=产量统计分析表!C$4),工序记录明细表!$I$4:$I$10000) -> 0 | D19: =SUMPRODUCT((MONTH(工序记录明细表!$C$4:$C$10000)=产量统计分析表!$G$1)*(工序记录明细表!$D$4:$D$10000=产量统计分析表!$B19)*(工序记录明细表!$G$4:$G$10000=产量统计分析表!D$4),工序记录明细表!$I$4:$I$10000) -> 0 | E19: =SUMPRODUCT((MONTH(工序记录明细表!$C$4:$C$10000)=产量统计分析表!$G$1)*(工序记录明细表!$D$4:$D$10000=产量统计分析表!$B19)*(工序记录明细表!$G$4:$G$10000=产量统计分析表!E$4),工序记录明细表!$I$4:$I$10000) -> 0 | F19: =SUMPRODUCT((MONTH(工序记录明细表!$C$4:$C$10000)=产量统计分析表!$G$1)*(工序记录明细表!$D$4:$D$10000=产量统计分析表!$B19)*(工序记录明细表!$G$4:$G$10000=产量统计分析表!F$4),工序记录明细表!$I$4:$I$10000) -> 0 | G19: =SUMPRODUCT((MONTH(工序记录明细表!$C$4:$C$10000)=产量统计分析表!$G$1)*(工序记录明细表!$D$4:$D$10000=产量统计分析表!$B19)*(工序记录明细表!$G$4:$G$10000=产量统计分析表!G$4),工序记录明细表!$I$4:$I$10000) -> 0 | H19: =SUMPRODUCT((MONTH(工序记录明细表!$C$4:$C$10000)=产量统计分析表!$G$1)*(工序记录明细表!$D$4:$D$10000=产量统计分析表!$B19)*(工序记录明细表!$G$4:$G$10000=产量统计分析表!H$4),工序记录明细表!$I$4:$I$10000) -> 0 | I19: =SUMPRODUCT((MONTH(工序记录明细表!$C$4:$C$10000)=产量统计分析表!$G$1)*(工序记录明细表!$D$4:$D$10000=产量统计分析表!$B19)*(工序记录明细表!$G$4:$G$10000=产量统计分析表!I$4),工序记录明细表!$I$4:$I$10000) -> 0 | J19: =SUMPRODUCT((MONTH(工序记录明细表!$C$4:$C$10000)=产量统计分析表!$G$1)*(工序记录明细表!$D$4:$D$10000=产量统计分析表!$B19)*(工序记录明细表!$G$4:$G$10000=产量统计分析表!J$4),工序记录明细表!$I$4:$I$10000) -> 0 | K19: =SUMPRODUCT((MONTH(工序记录明细表!$C$4:$C$10000)=产量统计分析表!$G$1)*(工序记录明细表!$D$4:$D$10000=产量统计分析表!$B19)*(工序记录明细表!$G$4:$G$10000=产量统计分析表!K$4),工序记录明细表!$I$4:$I$10000) -> 0 | L19: =SUM(C19:K19) -> 0
C20: =SUMPRODUCT((MONTH(工序记录明细表!$C$4:$C$10000)=产量统计分析表!$G$1)*(工序记录明细表!$D$4:$D$10000=产量统计分析表!$B20)*(工序记录明细表!$G$4:$G$10000=产量统计分析表!C$4),工序记录明细表!$I$4:$I$10000) -> 0 | D20: =SUMPRODUCT((MONTH(工序记录明细表!$C$4:$C$10000)=产量统计分析表!$G$1)*(工序记录明细表!$D$4:$D$10000=产量统计分析表!$B20)*(工序记录明细表!$G$4:$G$10000=产量统计分析表!D$4),工序记录明细表!$I$4:$I$10000) -> 0 | E20: =SUMPRODUCT((MONTH(工序记录明细表!$C$4:$C$10000)=产量统计分析表!$G$1)*(工序记录明细表!$D$4:$D$10000=产量统计分析表!$B20)*(工序记录明细表!$G$4:$G$10000=产量统计分析表!E$4),工序记录明细表!$I$4:$I$10000) -> 0 | F20: =SUMPRODUCT((MONTH(工序记录明细表!$C$4:$C$10000)=产量统计分析表!$G$1)*(工序记录明细表!$D$4:$D$10000=产量统计分析表!$B20)*(工序记录明细表!$G$4:$G$10000=产量统计分析表!F$4),工序记录明细表!$I$4:$I$10000) -> 0 | G20: =SUMPRODUCT((MONTH(工序记录明细表!$C$4:$C$10000)=产量统计分析表!$G$1)*(工序记录明细表!$D$4:$D$10000=产量统计分析表!$B20)*(工序记录明细表!$G$4:$G$10000=产量统计分析表!G$4),工序记录明细表!$I$4:$I$10000) -> 0 | H20: =SUMPRODUCT((MONTH(工序记录明细表!$C$4:$C$10000)=产量统计分析表!$G$1)*(工序记录明细表!$D$4:$D$10000=产量统计分析表!$B20)*(工序记录明细表!$G$4:$G$10000=产量统计分析表!H$4),工序记录明细表!$I$4:$I$10000) -> 0 | I20: =SUMPRODUCT((MONTH(工序记录明细表!$C$4:$C$10000)=产量统计分析表!$G$1)*(工序记录明细表!$D$4:$D$10000=产量统计分析表!$B20)*(工序记录明细表!$G$4:$G$10000=产量统计分析表!I$4),工序记录明细表!$I$4:$I$10000) -> 0 | J20: =SUMPRODUCT((MONTH(工序记录明细表!$C$4:$C$10000)=产量统计分析表!$G$1)*(工序记录明细表!$D$4:$D$10000=产量统计分析表!$B20)*(工序记录明细表!$G$4:$G$10000=产量统计分析表!J$4),工序记录明细表!$I$4:$I$10000) -> 0 | K20: =SUMPRODUCT((MONTH(工序记录明细表!$C$4:$C$10000)=产量统计分析表!$G$1)*(工序记录明细表!$D$4:$D$10000=产量统计分析表!$B20)*(工序记录明细表!$G$4:$G$10000=产量统计分析表!K$4),工序记录明细表!$I$4:$I$10000) -> 0 | L20: =SUM(C20:K20) -> 0
C21: =SUMPRODUCT((MONTH(工序记录明细表!$C$4:$C$10000)=产量统计分析表!$G$1)*(工序记录明细表!$D$4:$D$10000=产量统计分析表!$B21)*(工序记录明细表!$G$4:$G$10000=产量统计分析表!C$4),工序记录明细表!$I$4:$I$10000) -> 0 | D21: =SUMPRODUCT((MONTH(工序记录明细表!$C$4:$C$10000)=产量统计分析表!$G$1)*(工序记录明细表!$D$4:$D$10000=产量统计分析表!$B21)*(工序记录明细表!$G$4:$G$10000=产量统计分析表!D$4),工序记录明细表!$I$4:$I$10000) -> 0 | E21: =SUMPRODUCT((MONTH(工序记录明细表!$C$4:$C$10000)=产量统计分析表!$G$1)*(工序记录明细表!$D$4:$D$10000=产量统计分析表!$B21)*(工序记录明细表!$G$4:$G$10000=产量统计分析表!E$4),工序记录明细表!$I$4:$I$10000) -> 0 | F21: =SUMPRODUCT((MONTH(工序记录明细表!$C$4:$C$10000)=产量统计分析表!$G$1)*(工序记录明细表!$D$4:$D$10000=产量统计分析表!$B21)*(工序记录明细表!$G$4:$G$10000=产量统计分析表!F$4),工序记录明细表!$I$4:$I$10000) -> 0 | G21: =SUMPRODUCT((MONTH(工序记录明细表!$C$4:$C$10000)=产量统计分析表!$G$1)*(工序记录明细表!$D$4:$D$10000=产量统计分析表!$B21)*(工序记录明细表!$G$4:$G$10000=产量统计分析表!G$4),工序记录明细表!$I$4:$I$10000) -> 0 | H21: =SUMPRODUCT((MONTH(工序记录明细表!$C$4:$C$10000)=产量统计分析表!$G$1)*(工序记录明细表!$D$4:$D$10000=产量统计分析表!$B21)*(工序记录明细表!$G$4:$G$10000=产量统计分析表!H$4),工序记录明细表!$I$4:$I$10000) -> 0 | I21: =SUMPRODUCT((MONTH(工序记录明细表!$C$4:$C$10000)=产量统计分析表!$G$1)*(工序记录明细表!$D$4:$D$10000=产量统计分析表!$B21)*(工序记录明细表!$G$4:$G$10000=产量统计分析表!I$4),工序记录明细表!$I$4:$I$10000) -> 0 | J21: =SUMPRODUCT((MONTH(工序记录明细表!$C$4:$C$10000)=产量统计分析表!$G$1)*(工序记录明细表!$D$4:$D$10000=产量统计分析表!$B21)*(工序记录明细表!$G$4:$G$10000=产量统计分析表!J$4),工序记录明细表!$I$4:$I$10000) -> 0 | K21: =SUMPRODUCT((MONTH(工序记录明细表!$C$4:$C$10000)=产量统计分析表!$G$1)*(工序记录明细表!$D$4:$D$10000=产量统计分析表!$B21)*(工序记录明细表!$G$4:$G$10000=产量统计分析表!K$4),工序记录明细表!$I$4:$I$10000) -> 0 | L21: =SUM(C21:K21) -> 0
C22: =SUMPRODUCT((MONTH(工序记录明细表!$C$4:$C$10000)=产量统计分析表!$G$1)*(工序记录明细表!$D$4:$D$10000=产量统计分析表!$B22)*(工序记录明细表!$G$4:$G$10000=产量统计分析表!C$4),工序记录明细表!$I$4:$I$10000) -> 0 | D22: =SUMPRODUCT((MONTH(工序记录明细表!$C$4:$C$10000)=产量统计分析表!$G$1)*(工序记录明细表!$D$4:$D$10000=产量统计分析表!$B22)*(工序记录明细表!$G$4:$G$10000=产量统计分析表!D$4),工序记录明细表!$I$4:$I$10000) -> 0 | E22: =SUMPRODUCT((MONTH(工序记录明细表!$C$4:$C$10000)=产量统计分析表!$G$1)*(工序记录明细表!$D$4:$D$10000=产量统计分析表!$B22)*(工序记录明细表!$G$4:$G$10000=产量统计分析表!E$4),工序记录明细表!$I$4:$I$10000) -> 0 | F22: =SUMPRODUCT((MONTH(工序记录明细表!$C$4:$C$10000)=产量统计分析表!$G$1)*(工序记录明细表!$D$4:$D$10000=产量统计分析表!$B22)*(工序记录明细表!$G$4:$G$10000=产量统计分析表!F$4),工序记录明细表!$I$4:$I$10000) -> 0 | G22: =SUMPRODUCT((MONTH(工序记录明细表!$C$4:$C$10000)=产量统计分析表!$G$1)*(工序记录明细表!$D$4:$D$10000=产量统计分析表!$B22)*(工序记录明细表!$G$4:$G$10000=产量统计分析表!G$4),工序记录明细表!$I$4:$I$10000) -> 0 | H22: =SUMPRODUCT((MONTH(工序记录明细表!$C$4:$C$10000)=产量统计分析表!$G$1)*(工序记录明细表!$D$4:$D$10000=产量统计分析表!$B22)*(工序记录明细表!$G$4:$G$10000=产量统计分析表!H$4),工序记录明细表!$I$4:$I$10000) -> 0 | I22: =SUMPRODUCT((MONTH(工序记录明细表!$C$4:$C$10000)=产量统计分析表!$G$1)*(工序记录明细表!$D$4:$D$10000=产量统计分析表!$B22)*(工序记录明细表!$G$4:$G$10000=产量统计分析表!I$4),工序记录明细表!$I$4:$I$10000) -> 0 | J22: =SUMPRODUCT((MONTH(工序记录明细表!$C$4:$C$10000)=产量统计分析表!$G$1)*(工序记录明细表!$D$4:$D$10000=产量统计分析表!$B22)*(工序记录明细表!$G$4:$G$10000=产量统计分析表!J$4),工序记录明细表!$I$4:$I$10000) -> 0 | K22: =SUMPRODUCT((MONTH(工序记录明细表!$C$4:$C$10000)=产量统计分析表!$G$1)*(工序记录明细表!$D$4:$D$10000=产量统计分析表!$B22)*(工序记录明细表!$G$4:$G$10000=产量统计分析表!K$4),工序记录明细表!$I$4:$I$10000) -> 0 | L22: =SUM(C22:K22) -> 0
B23: 合计 | C23: =SUM(C5:C22) -> 1239 | D23: =SUM(D5:D22) -> 1328 | E23: =SUM(E5:E22) -> 1365 | F23: =SUM(F5:F22) -> 1520 | G23: =SUM(G5:G22) -> 1618 | H23: =SUM(H5:H22) -> 0 | I23: =SUM(I5:I22) -> 0 | J23: =SUM(J5:J22) -> 0 | ... L23: =SUM(L5:L22) -> 7070

Sheet 员工工序明细查询
C1: 员工工序明细查询
E2: 员工编号 | F2: N001 | H2: 工序名称
E3: 起 | F3: 43040 | H3: 止 | I3: 43069
C5: 日期 | D5: 员工编号 | E5: 员工姓名 | F5: 班组 | G5: 工序名称 | H5: 单价 | I5: 数量 | J5: 合计金额
A6: {=INDEX(工序记录明细表!A:A,SMALL(IF(工序记录明细表!$A$4:$A$10000<>"",ROW($4:$10000),20000),ROW(员工工序明细查询!A1)))} -> 4 | C6: =IFERROR(VLOOKUP(A6,工序记录明细表!A:J,3,FALSE),"") -> 43041 | D6: =IFERROR(VLOOKUP(A6,工序记录明细表!A:J,4,FALSE),"") -> N001 | E6: =IFERROR(VLOOKUP(A6,工序记录明细表!A:J,5,FALSE),"") -> 张1 | F6: =IFERROR(VLOOKUP(A6,工序记录明细表!A:J,6,FALSE),"") -> 甲 | G6: =IFERROR(VLOOKUP(A6,工序记录明细表!A:J,7,FALSE),"") -> 切割 | H6: =IFERROR(VLOOKUP(A6,工序记录明细表!A:J,8,FALSE),"") -> 0.8 | I6: =IFERROR(VLOOKUP(A6,工序记录明细表!A:J,9,FALSE),"") -> 264 | J6: =IFERROR(VLOOKUP(A6,工序记录明细表!A:J,10,FALSE),"") -> 211.2
A7: {=INDEX(工序记录明细表!A:A,SMALL(IF(工序记录明细表!$A$4:$A$10000<>"",ROW($4:$10000),20000),ROW(员工工序明细查询!A2)))} -> 10 | C7: =IFERROR(VLOOKUP(A7,工序记录明细表!A:J,3,FALSE),"") -> 43042 | D7: =IFERROR(VLOOKUP(A7,工序记录明细表!A:J,4,FALSE),"") -> N001 | E7: =IFERROR(VLOOKUP(A7,工序记录明细表!A:J,5,FALSE),"") -> 张1 | F7: =IFERROR(VLOOKUP(A7,工序记录明细表!A:J,6,FALSE),"") -> 甲 | G7: =IFERROR(VLOOKUP(A7,工序记录明细表!A:J,7,FALSE),"") -> 抛光 | H7: =IFERROR(VLOOKUP(A7,工序记录明细表!A:J,8,FALSE),"") -> 1.2 | I7: =IFERROR(VLOOKUP(A7,工序记录明细表!A:J,9,FALSE),"") -> 283 | J7: =IFERROR(VLOOKUP(A7,工序记录明细表!A:J,10,FALSE),"") -> 339.6
A8: {=INDEX(工序记录明细表!A:A,SMALL(IF(工序记录明细表!$A$4:$A$10000<>"",ROW($4:$10000),20000),ROW(员工工序明细查询!A3)))} -> 16 | C8: =IFERROR(VLOOKUP(A8,工序记录明细表!A:J,3,FALSE),"") -> 43042 | D8: =IFERROR(VLOOKUP(A8,工序记录明细表!A:J,4,FALSE),"") -> N001 | E8: =IFERROR(VLOOKUP(A8,工序记录明细表!A:J,5,FALSE),"") -> 张1 | F8: =IFERROR(VLOOKUP(A8,工序记录明细表!A:J,6,FALSE),"") -> 甲 | G8: =IFERROR(VLOOKUP(A8,工序记录明细表!A:J,7,FALSE),"") -> 组合 | H8: =IFERROR(VLOOKUP(A8,工序记录明细表!A:J,8,FALSE),"") -> 0.9 | I8: =IFERROR(VLOOKUP(A8,工序记录明细表!A:J,9,FALSE),"") -> 401 | J8: =IFERROR(VLOOKUP(A8,工序记录明细表!A:J,10,FALSE),"") -> 360.9
A9: {=INDEX(工序记录明细表!A:A,SMALL(IF(工序记录明细表!$A$4:$A$10000<>"",ROW($4:$10000),20000),ROW(员工工序明细查询!A4)))} -> 23 | C9: =IFERROR(VLOOKUP(A9,工序记录明细表!A:J,3,FALSE),"") -> 43043 | D9: =IFERROR(VLOOKUP(A9,工序记录明细表!A:J,4,FALSE),"") -> N001 | E9: =IFERROR(VLOOKUP(A9,工序记录明细表!A:J,5,FALSE),"") -> 张1 | F9: =IFERROR(VLOOKUP(A9,工序记录明细表!A:J,6,FALSE),"") -> 甲 | G9: =IFERROR(VLOOKUP(A9,工序记录明细表!A:J,7,FALSE),"") -> 包装 | H9: =IFERROR(VLOOKUP(A9,工序记录明细表!A:J,8,FALSE),"") -> 0.6 | I9: =IFERROR(VLOOKUP(A9,工序记录明细表!A:J,9,FALSE),"") -> 323 | J9: =IFERROR(VLOOKUP(A9,工序记录明细表!A:J,10,FALSE),"") -> 193.8
A10: {=INDEX(工序记录明细表!A:A,SMALL(IF(工序记录明细表!$A$4:$A$10000<>"",ROW($4:$10000),20000),ROW(员工工序明细查询!A5)))} -> 0 | C10: =IFERROR(VLOOKUP(A10,工序记录明细表!A:J,3,FALSE),"") | D10: =IFERROR(VLOOKUP(A10,工序记录明细表!A:J,4,FALSE),"") | E10: =IFERROR(VLOOKUP(A10,工序记录明细表!A:J,5,FALSE),"") | F10: =IFERROR(VLOOKUP(A10,工序记录明细表!A:J,6,FALSE),"") | G10: =IFERROR(VLOOKUP(A10,工序记录明细表!A:J,7,FALSE),"") | H10: =IFERROR(VLOOKUP(A10,工序记录明细表!A:J,8,FALSE),"") | I10: =IFERROR(VLOOKUP(A10,工序记录明细表!A:J,9,FALSE),"") | J10: =IFERROR(VLOOKUP(A10,工序记录明细表!A:J,10,FALSE),"")
A11: {=INDEX(工序记录明细表!A:A,SMALL(IF(工序记录明细表!$A$4:$A$10000<>"",ROW($4:$10000),20000),ROW(员工工序明细查询!A6)))} -> 0 | C11: =IFERROR(VLOOKUP(A11,工序记录明细表!A:J,3,FALSE),"") | D11: =IFERROR(VLOOKUP(A11,工序记录明细表!A:J,4,FALSE),"") | E11: =IFERROR(VLOOKUP(A11,工序记录明细表!A:J,5,FALSE),"") | F11: =IFERROR(VLOOKUP(A11,工序记录明细表!A:J,6,FALSE),"") | G11: =IFERROR(VLOOKUP(A11,工序记录明细表!A:J,7,FALSE),"") | H11: =IFERROR(VLOOKUP(A11,工序记录明细表!A:J,8,FALSE),"") | I11: =IFERROR(VLOOKUP(A11,工序记录明细表!A:J,9,FALSE),"") | J11: =IFERROR(VLOOKUP(A11,工序记录明细表!A:J,10,FALSE),"")
A12: {=INDEX(工序记录明细表!A:A,SMALL(IF(工序记录明细表!$A$4:$A$10000<>"",ROW($4:$10000),20000),ROW(员工工序明细查询!A7)))} -> 0 | C12: =IFERROR(VLOOKUP(A12,工序记录明细表!A:J,3,FALSE),"") | D12: =IFERROR(VLOOKUP(A12,工序记录明细表!A:J,4,FALSE),"") | E12: =IFERROR(VLOOKUP(A12,工序记录明细表!A:J,5,FALSE),"") | F12: =IFERROR(VLOOKUP(A12,工序记录明细表!A:J,6,FALSE),"") | G12: =IFERROR(VLOOKUP(A12,工序记录明细表!A:J,7,FALSE),"") | H12: =IFERROR(VLOOKUP(A12,工序记录明细表!A:J,8,FALSE),"") | I12: =IFERROR(VLOOKUP(A12,工序记录明细表!A:J,9,FALSE),"") | J12: =IFERROR(VLOOKUP(A12,工序记录明细表!A:J,10,FALSE),"")
A13: {=INDEX(工序记录明细表!A:A,SMALL(IF(工序记录明细表!$A$4:$A$10000<>"",ROW($4:$10000),20000),ROW(员工工序明细查询!A8)))} -> 0 | C13: =IFERROR(VLOOKUP(A13,工序记录明细表!A:J,3,FALSE),"") | D13: =IFERROR(VLOOKUP(A13,工序记录明细表!A:J,4,FALSE),"") | E13: =IFERROR(VLOOKUP(A13,工序记录明细表!A:J,5,FALSE),"") | F13: =IFERROR(VLOOKUP(A13,工序记录明细表!A:J,6,FALSE),"") | G13: =IFERROR(VLOOKUP(A13,工序记录明细表!A:J,7,FALSE),"") | H13: =IFERROR(VLOOKUP(A13,工序记录明细表!A:J,8,FALSE),"") | I13: =IFERROR(VLOOKUP(A13,工序记录明细表!A:J,9,FALSE),"") | J13: =IFERROR(VLOOKUP(A13,工序记录明细表!A:J,10,FALSE),"")
A14: {=INDEX(工序记录明细表!A:A,SMALL(IF(工序记录明细表!$A$4:$A$10000<>"",ROW($4:$10000),20000),ROW(员工工序明细查询!A9)))} -> 0 | C14: =IFERROR(VLOOKUP(A14,工序记录明细表!A:J,3,FALSE),"") | D14: =IFERROR(VLOOKUP(A14,工序记录明细表!A:J,4,FALSE),"") | E14: =IFERROR(VLOOKUP(A14,工序记录明细表!A:J,5,FALSE),"") | F14: =IFERROR(VLOOKUP(A14,工序记录明细表!A:J,6,FALSE),"") | G14: =IFERROR(VLOOKUP(A14,工序记录明细表!A:J,7,FALSE),"") | H14: =IFERROR(VLOOKUP(A14,工序记录明细表!A:J,8,FALSE),"") | I14: =IFERROR(VLOOKUP(A14,工序记录明细表!A:J,9,FALSE),"") | J14: =IFERROR(VLOOKUP(A14,工序记录明细表!A:J,10,FALSE),"")
A15: {=INDEX(工序记录明细表!A:A,SMALL(IF(工序记录明细表!$A$4:$A$10000<>"",ROW($4:$10000),20000),ROW(员工工序明细查询!A10)))} -> 0 | C15: =IFERROR(VLOOKUP(A15,工序记录明细表!A:J,3,FALSE),"") | D15: =IFERROR(VLOOKUP(A15,工序记录明细表!A:J,4,FALSE),"") | E15: =IFERROR(VLOOKUP(A15,工序记录明细表!A:J,5,FALSE),"") | F15: =IFERROR(VLOOKUP(A15,工序记录明细表!A:J,6,FALSE),"") | G15: =IFERROR(VLOOKUP(A15,工序记录明细表!A:J,7,FALSE),"") | H15: =IFERROR(VLOOKUP(A15,工序记录明细表!A:J,8,FALSE),"") | I15: =IFERROR(VLOOKUP(A15,工序记录明细表!A:J,9,FALSE),"") | J15: =IFERROR(VLOOKUP(A15,工序记录明细表!A:J,10,FALSE),"")
A16: {=INDEX(工序记录明细表!A:A,SMALL(IF(工序记录明细表!$A$4:$A$10000<>"",ROW($4:$10000),20000),ROW(员工工序明细查询!A11)))} -> 0 | C16: =IFERROR(VLOOKUP(A16,工序记录明细表!A:J,3,FALSE),"") | D16: =IFERROR(VLOOKUP(A16,工序记录明细表!A:J,4,FALSE),"") | E16: =IFERROR(VLOOKUP(A16,工序记录明细表!A:J,5,FALSE),"") | F16: =IFERROR(VLOOKUP(A16,工序记录明细表!A:J,6,FALSE),"") | G16: =IFERROR(VLOOKUP(A16,工序记录明细表!A:J,7,FALSE),"") | H16: =IFERROR(VLOOKUP(A16,工序记录明细表!A:J,8,FALSE),"") | I16: =IFERROR(VLOOKUP(A16,工序记录明细表!A:J,9,FALSE),"") | J16: =IFERROR(VLOOKUP(A16,工序记录明细表!A:J,10,FALSE),"")
A17: {=INDEX(工序记录明细表!A:A,SMALL(IF(工序记录明细表!$A$4:$A$10000<>"",ROW($4:$10000),20000),ROW(员工工序明细查询!A12)))} -> 0 | C17: =IFERROR(VLOOKUP(A17,工序记录明细表!A:J,3,FALSE),"") | D17: =IFERROR(VLOOKUP(A17,工序记录明细表!A:J,4,FALSE),"") | E17: =IFERROR(VLOOKUP(A17,工序记录明细表!A:J,5,FALSE),"") | F17: =IFERROR(VLOOKUP(A17,工序记录明细表!A:J,6,FALSE),"") | G17: =IFERROR(VLOOKUP(A17,工序记录明细表!A:J,7,FALSE),"") | H17: =IFERROR(VLOOKUP(A17,工序记录明细表!A:J,8,FALSE),"") | I17: =IFERROR(VLOOKUP(A17,工序记录明细表!A:J,9,FALSE),"") | J17: =IFERROR(VLOOKUP(A17,工序记录明细表!A:J,10,FALSE),"")
... A91: {=INDEX(工序记录明细表!A:A,SMALL(IF(工序记录明细表!$A$4:$A$10000<>"",ROW($4:$10000),20000),ROW(员工工序明细查询!A86)))} -> 0 | C91: =IFERROR(VLOOKUP(A91,工序记录明细表!A:J,3,FALSE),"") | D91: =IFERROR(VLOOKUP(A91,工序记录明细表!A:J,4,FALSE),"") | E91: =IFERROR(VLOOKUP(A91,工序记录明细表!A:J,5,FALSE),"") | F91: =IFERROR(VLOOKUP(A91,工序记录明细表!A:J,6,FALSE),"") | G91: =IFERROR(VLOOKUP(A91,工序记录明细表!A:J,7,FALSE),"") | H91: =IFERROR(VLOOKUP(A91,工序记录明细表!A:J,8,FALSE),"") | I91: =IFERROR(VLOOKUP(A91,工序记录明细表!A:J,9,FALSE),"") | J91: =IFERROR(VLOOKUP(A91,工序记录明细表!A:J,10,FALSE),"")

Sheet 员工信息表
B2: 员工信息表
B3: 员工编号 | C3: 姓名 | D3: 班组
B4: N001 | C4: 张1 | D4: 甲
B5: N002 | C5: 张2 | D5: 甲
B6: N003 | C6: 张3 | D6: 乙
B7: N004 | C7: 张4 | D7: 乙
B8: N005 | C8: 张5 | D8: 丙
B9: N006 | C9: 张6 | D9: 丙

Sheet 工序对照表
B2: 工序价格表
B3: 工序名称 | C3: 单价/元
B4: 切割 | C4: 0.8
B5: 抛光 | C5: 1.2
B6: 组合 | C6: 0.9
B7: 测量 | C7: 0.5
B8: 包装 | C8: 0.6

Sheet 使用说明
B1: 使用说明
B2: 1、首先在【员工信息表】中登记员工信息，其次在【工序对照表】中登记工序信息
B3: 2、每天在【工序记录明细表】记录每日生产详细信息，姓名、班组、单价、金额可以自动生成，不须录入
B4: 3、在【不合明细表】中登记不合格的详细信息，姓名、班组可以自动生成
B5: 4、【员工提层汇总表】第一次使用前需要录入员工编号，以后再次查询只需录入月份就可以查出详细信息，如果没有基本工资和补助可以不录
B6: 5、【统计分析表】首次使用时把标题栏的内容修改成用户真实的员工编号及工序名称，并输入需要统计的月份即可
B7: 6、【合格率（不合格统计表）】首次使用时把标题栏的内容修改成用户真实的员工姓名及工序名称，并输入需要统计的月份即可
B8: 7、【员工工序明细查询】只要录入起止及员工编码或者工序名称就可以查询出相应的明细
