Workbook
Name bianma: 库存!$B$2:$B$11
Name 部门: 基础!$V$3:$V$6
Name 供应商: 基础!$Y$3:$Y$8

Sheet 主页

Sheet 入库
A1: 序号 | B1: 单据编号 | C1: 日期 | D1: 供应商 | E1: 物料编码 | F1: 物料名称 | G1: 规格及型号 | H1: 单位 | I1: 入库单价 | J1: 入库数量 | K1: 入库金额
A2: 1 | B2: RK201308001 | C2: 41494 | D2: 伟杰 | E2: YC1001 | F2: =IF(ISERROR(INDEX(库存!$C:$C,MATCH(E2,库存!$B:$B,)))," ",INDEX(库存!$C:$C,MATCH(E2,库存!$B:$B,))) -> 螺母 | G2: =IF(ISERROR(INDEX(库存!$D:$D,MATCH(E2,库存!$B:$B,)))," ",INDEX(库存!$D:$D,MATCH(E2,库存!$B:$B,))) -> M5 | H2: =IF(ISERROR(INDEX(库存!$E:$E,MATCH(E2,库存!$B:$B,)))," ",INDEX(库存!$E:$E,MATCH(E2,库存!$B:$B,))) -> 只 | I2: =IF(ISERROR(INDEX(库存!$F:$F,MATCH(E2,库存!$B:$B,)))," ",INDEX(库存!$F:$F,MATCH(E2,库存!$B:$B,))) -> 0.2 | J2: 100 | K2: =J2*I2 -> 20
A3: 2 | B3: RK201308001 | C3: 41494 | D3: 伟杰 | E3: YC1002 | F3: =IF(ISERROR(INDEX(库存!$C:$C,MATCH(E3,库存!$B:$B,)))," ",INDEX(库存!$C:$C,MATCH(E3,库存!$B:$B,))) -> 螺母 | G3: =IF(ISERROR(INDEX(库存!$D:$D,MATCH(E3,库存!$B:$B,)))," ",INDEX(库存!$D:$D,MATCH(E3,库存!$B:$B,))) -> M6 | H3: =IF(ISERROR(INDEX(库存!$E:$E,MATCH(E3,库存!$B:$B,)))," ",INDEX(库存!$E:$E,MATCH(E3,库存!$B:$B,))) -> 只 | I3: =IF(ISERROR(INDEX(库存!$F:$F,MATCH(E3,库存!$B:$B,)))," ",INDEX(库存!$F:$F,MATCH(E3,库存!$B:$B,))) -> 0.2 | J3: 100 | K3: =J3*I3 -> 20
A4: 3 | B4: RK201308001 | C4: 41494 | D4: 伟杰 | E4: YC1003 | F4: =IF(ISERROR(INDEX(库存!$C:$C,MATCH(E4,库存!$B:$B,)))," ",INDEX(库存!$C:$C,MATCH(E4,库存!$B:$B,))) -> 螺母 | G4: =IF(ISERROR(INDEX(库存!$D:$D,MATCH(E4,库存!$B:$B,)))," ",INDEX(库存!$D:$D,MATCH(E4,库存!$B:$B,))) -> M8 | H4: =IF(ISERROR(INDEX(库存!$E:$E,MATCH(E4,库存!$B:$B,)))," ",INDEX(库存!$E:$E,MATCH(E4,库存!$B:$B,))) -> 只 | I4: =IF(ISERROR(INDEX(库存!$F:$F,MATCH(E4,库存!$B:$B,)))," ",INDEX(库存!$F:$F,MATCH(E4,库存!$B:$B,))) -> 0.21 | J4: 100 | K4: =J4*I4 -> 21
A5: 4 | B5: RK201308001 | C5: 41494 | D5: 林翔 | E5: YC1004 | F5: =IF(ISERROR(INDEX(库存!$C:$C,MATCH(E5,库存!$B:$B,)))," ",INDEX(库存!$C:$C,MATCH(E5,库存!$B:$B,))) -> 螺母 | G5: =IF(ISERROR(INDEX(库存!$D:$D,MATCH(E5,库存!$B:$B,)))," ",INDEX(库存!$D:$D,MATCH(E5,库存!$B:$B,))) -> M10 | H5: =IF(ISERROR(INDEX(库存!$E:$E,MATCH(E5,库存!$B:$B,)))," ",INDEX(库存!$E:$E,MATCH(E5,库存!$B:$B,))) -> 只 | I5: =IF(ISERROR(INDEX(库存!$F:$F,MATCH(E5,库存!$B:$B,)))," ",INDEX(库存!$F:$F,MATCH(E5,库存!$B:$B,))) -> 0.25 | J5: 100 | K5: =J5*I5 -> 25
A6: 5 | B6: RK201308001 | C6: 41494 | D6: 林翔 | E6: YC1005 | F6: =IF(ISERROR(INDEX(库存!$C:$C,MATCH(E6,库存!$B:$B,)))," ",INDEX(库存!$C:$C,MATCH(E6,库存!$B:$B,))) -> 螺母 | G6: =IF(ISERROR(INDEX(库存!$D:$D,MATCH(E6,库存!$B:$B,)))," ",INDEX(库存!$D:$D,MATCH(E6,库存!$B:$B,))) -> M12 | H6: =IF(ISERROR(INDEX(库存!$E:$E,MATCH(E6,库存!$B:$B,)))," ",INDEX(库存!$E:$E,MATCH(E6,库存!$B:$B,))) -> 只 | I6: =IF(ISERROR(INDEX(库存!$F:$F,MATCH(E6,库存!$B:$B,)))," ",INDEX(库存!$F:$F,MATCH(E6,库存!$B:$B,))) -> 0.3 | J6: 100 | K6: =J6*I6 -> 30
A7: 6 | B7: RK201308002 | C7: 41494 | D7: 林翔 | E7: YC1006 | F7: =IF(ISERROR(INDEX(库存!$C:$C,MATCH(E7,库存!$B:$B,)))," ",INDEX(库存!$C:$C,MATCH(E7,库存!$B:$B,))) -> 螺母 | G7: =IF(ISERROR(INDEX(库存!$D:$D,MATCH(E7,库存!$B:$B,)))," ",INDEX(库存!$D:$D,MATCH(E7,库存!$B:$B,))) -> M14 | H7: =IF(ISERROR(INDEX(库存!$E:$E,MATCH(E7,库存!$B:$B,)))," ",INDEX(库存!$E:$E,MATCH(E7,库存!$B:$B,))) -> 只 | I7: =IF(ISERROR(INDEX(库存!$F:$F,MATCH(E7,库存!$B:$B,)))," ",INDEX(库存!$F:$F,MATCH(E7,库存!$B:$B,))) -> 0.4 | J7: 100 | K7: =J7*I7 -> 40
A8: 7 | B8: RK201308002 | C8: 41494 | D8: 林翔 | E8: YC1007 | F8: =IF(ISERROR(INDEX(库存!$C:$C,MATCH(E8,库存!$B:$B,)))," ",INDEX(库存!$C:$C,MATCH(E8,库存!$B:$B,))) -> 螺母 | G8: =IF(ISERROR(INDEX(库存!$D:$D,MATCH(E8,库存!$B:$B,)))," ",INDEX(库存!$D:$D,MATCH(E8,库存!$B:$B,))) -> M16 | H8: =IF(ISERROR(INDEX(库存!$E:$E,MATCH(E8,库存!$B:$B,)))," ",INDEX(库存!$E:$E,MATCH(E8,库存!$B:$B,))) -> 只 | I8: =IF(ISERROR(INDEX(库存!$F:$F,MATCH(E8,库存!$B:$B,)))," ",INDEX(库存!$F:$F,MATCH(E8,库存!$B:$B,))) -> 0.6 | J8: 100 | K8: =J8*I8 -> 60
A9: 8 | B9: RK201308002 | C9: 41494 | D9: 林翔 | E9: YC1008 | F9: =IF(ISERROR(INDEX(库存!$C:$C,MATCH(E9,库存!$B:$B,)))," ",INDEX(库存!$C:$C,MATCH(E9,库存!$B:$B,))) -> 螺母 | G9: =IF(ISERROR(INDEX(库存!$D:$D,MATCH(E9,库存!$B:$B,)))," ",INDEX(库存!$D:$D,MATCH(E9,库存!$B:$B,))) -> M18 | H9: =IF(ISERROR(INDEX(库存!$E:$E,MATCH(E9,库存!$B:$B,)))," ",INDEX(库存!$E:$E,MATCH(E9,库存!$B:$B,))) -> 只 | I9: =IF(ISERROR(INDEX(库存!$F:$F,MATCH(E9,库存!$B:$B,)))," ",INDEX(库存!$F:$F,MATCH(E9,库存!$B:$B,))) -> 1 | J9: 100 | K9: =J9*I9 -> 100
A10: 9 | B10: RK201308003 | C10: 41494 | D10: 科达 | E10: YC1009 | F10: =IF(ISERROR(INDEX(库存!$C:$C,MATCH(E10,库存!$B:$B,)))," ",INDEX(库存!$C:$C,MATCH(E10,库存!$B:$B,))) -> 螺母 | G10: =IF(ISERROR(INDEX(库存!$D:$D,MATCH(E10,库存!$B:$B,)))," ",INDEX(库存!$D:$D,MATCH(E10,库存!$B:$B,))) -> M20 | H10: =IF(ISERROR(INDEX(库存!$E:$E,MATCH(E10,库存!$B:$B,)))," ",INDEX(库存!$E:$E,MATCH(E10,库存!$B:$B,))) -> 只 | I10: =IF(ISERROR(INDEX(库存!$F:$F,MATCH(E10,库存!$B:$B,)))," ",INDEX(库存!$F:$F,MATCH(E10,库存!$B:$B,))) -> 1.6 | J10: 100 | K10: =J10*I10 -> 160
A11: 10 | B11: RK201308003 | C11: 41494 | D11: 科达 | E11: YC1010 | F11: =IF(ISERROR(INDEX(库存!$C:$C,MATCH(E11,库存!$B:$B,)))," ",INDEX(库存!$C:$C,MATCH(E11,库存!$B:$B,))) -> 螺母 | G11: =IF(ISERROR(INDEX(库存!$D:$D,MATCH(E11,库存!$B:$B,)))," ",INDEX(库存!$D:$D,MATCH(E11,库存!$B:$B,))) -> M22 | H11: =IF(ISERROR(INDEX(库存!$E:$E,MATCH(E11,库存!$B:$B,)))," ",INDEX(库存!$E:$E,MATCH(E11,库存!$B:$B,))) -> 只 | I11: =IF(ISERROR(INDEX(库存!$F:$F,MATCH(E11,库存!$B:$B,)))," ",INDEX(库存!$F:$F,MATCH(E11,库存!$B:$B,))) -> 2 | J11: 100 | K11: =J11*I11 -> 200
A12: 11 | B12: RK201308004 | C12: 41495 | D12: 科达 | E12: YC1002 | F12: =IF(ISERROR(INDEX(库存!$C:$C,MATCH(E12,库存!$B:$B,)))," ",INDEX(库存!$C:$C,MATCH(E12,库存!$B:$B,))) -> 螺母 | G12: =IF(ISERROR(INDEX(库存!$D:$D,MATCH(E12,库存!$B:$B,)))," ",INDEX(库存!$D:$D,MATCH(E12,库存!$B:$B,))) -> M6 | H12: =IF(ISERROR(INDEX(库存!$E:$E,MATCH(E12,库存!$B:$B,)))," ",INDEX(库存!$E:$E,MATCH(E12,库存!$B:$B,))) -> 只 | I12: =IF(ISERROR(INDEX(库存!$F:$F,MATCH(E12,库存!$B:$B,)))," ",INDEX(库存!$F:$F,MATCH(E12,库存!$B:$B,))) -> 0.2 | J12: 300 | K12: =J12*I12 -> 60
A13: 12 | B13: RK201308004 | C13: 41495 | D13: 科达 | E13: YC1004 | F13: =IF(ISERROR(INDEX(库存!$C:$C,MATCH(E13,库存!$B:$B,)))," ",INDEX(库存!$C:$C,MATCH(E13,库存!$B:$B,))) -> 螺母 | G13: =IF(ISERROR(INDEX(库存!$D:$D,MATCH(E13,库存!$B:$B,)))," ",INDEX(库存!$D:$D,MATCH(E13,库存!$B:$B,))) -> M10 | H13: =IF(ISERROR(INDEX(库存!$E:$E,MATCH(E13,库存!$B:$B,)))," ",INDEX(库存!$E:$E,MATCH(E13,库存!$B:$B,))) -> 只 | I13: =IF(ISERROR(INDEX(库存!$F:$F,MATCH(E13,库存!$B:$B,)))," ",INDEX(库存!$F:$F,MATCH(E13,库存!$B:$B,))) -> 0.25 | J13: 200 | K13: =J13*I13 -> 50
A14: 13 | F14: =IF(ISERROR(INDEX(库存!$C:$C,MATCH(E14,库存!$B:$B,)))," ",INDEX(库存!$C:$C,MATCH(E14,库存!$B:$B,))) | G14: =IF(ISERROR(INDEX(库存!$D:$D,MATCH(E14,库存!$B:$B,)))," ",INDEX(库存!$D:$D,MATCH(E14,库存!$B:$B,))) | H14: =IF(ISERROR(INDEX(库存!$E:$E,MATCH(E14,库存!$B:$B,)))," ",INDEX(库存!$E:$E,MATCH(E14,库存!$B:$B,))) | I14: =IF(ISERROR(INDEX(库存!$F:$F,MATCH(E14,库存!$B:$B,)))," ",INDEX(库存!$F:$F,MATCH(E14,库存!$B:$B,)))
A15: 14 | F15: =IF(ISERROR(INDEX(库存!$C:$C,MATCH(E15,库存!$B:$B,)))," ",INDEX(库存!$C:$C,MATCH(E15,库存!$B:$B,))) | G15: =IF(ISERROR(INDEX(库存!$D:$D,MATCH(E15,库存!$B:$B,)))," ",INDEX(库存!$D:$D,MATCH(E15,库存!$B:$B,))) | H15: =IF(ISERROR(INDEX(库存!$E:$E,MATCH(E15,库存!$B:$B,)))," ",INDEX(库存!$E:$E,MATCH(E15,库存!$B:$B,))) | I15: =IF(ISERROR(INDEX(库存!$F:$F,MATCH(E15,库存!$B:$B,)))," ",INDEX(库存!$F:$F,MATCH(E15,库存!$B:$B,)))
A16: 15 | F16: =IF(ISERROR(INDEX(库存!$C:$C,MATCH(E16,库存!$B:$B,)))," ",INDEX(库存!$C:$C,MATCH(E16,库存!$B:$B,))) | G16: =IF(ISERROR(INDEX(库存!$D:$D,MATCH(E16,库存!$B:$B,)))," ",INDEX(库存!$D:$D,MATCH(E16,库存!$B:$B,))) | H16: =IF(ISERROR(INDEX(库存!$E:$E,MATCH(E16,库存!$B:$B,)))," ",INDEX(库存!$E:$E,MATCH(E16,库存!$B:$B,))) | I16: =IF(ISERROR(INDEX(库存!$F:$F,MATCH(E16,库存!$B:$B,)))," ",INDEX(库存!$F:$F,MATCH(E16,库存!$B:$B,)))
A17: 16 | F17: =IF(ISERROR(INDEX(库存!$C:$C,MATCH(E17,库存!$B:$B,)))," ",INDEX(库存!$C:$C,MATCH(E17,库存!$B:$B,))) | G17: =IF(ISERROR(INDEX(库存!$D:$D,MATCH(E17,库存!$B:$B,)))," ",INDEX(库存!$D:$D,MATCH(E17,库存!$B:$B,))) | H17: =IF(ISERROR(INDEX(库存!$E:$E,MATCH(E17,库存!$B:$B,)))," ",INDEX(库存!$E:$E,MATCH(E17,库存!$B:$B,))) | I17: =IF(ISERROR(INDEX(库存!$F:$F,MATCH(E17,库存!$B:$B,)))," ",INDEX(库存!$F:$F,MATCH(E17,库存!$B:$B,)))
A18: 17 | F18: =IF(ISERROR(INDEX(库存!$C:$C,MATCH(E18,库存!$B:$B,)))," ",INDEX(库存!$C:$C,MATCH(E18,库存!$B:$B,))) | G18: =IF(ISERROR(INDEX(库存!$D:$D,MATCH(E18,库存!$B:$B,)))," ",INDEX(库存!$D:$D,MATCH(E18,库存!$B:$B,))) | H18: =IF(ISERROR(INDEX(库存!$E:$E,MATCH(E18,库存!$B:$B,)))," ",INDEX(库存!$E:$E,MATCH(E18,库存!$B:$B,))) | I18: =IF(ISERROR(INDEX(库存!$F:$F,MATCH(E18,库存!$B:$B,)))," ",INDEX(库存!$F:$F,MATCH(E18,库存!$B:$B,)))
A19: 18 | F19: =IF(ISERROR(INDEX(库存!$C:$C,MATCH(E19,库存!$B:$B,)))," ",INDEX(库存!$C:$C,MATCH(E19,库存!$B:$B,))) | G19: =IF(ISERROR(INDEX(库存!$D:$D,MATCH(E19,库存!$B:$B,)))," ",INDEX(库存!$D:$D,MATCH(E19,库存!$B:$B,))) | H19: =IF(ISERROR(INDEX(库存!$E:$E,MATCH(E19,库存!$B:$B,)))," ",INDEX(库存!$E:$E,MATCH(E19,库存!$B:$B,))) | I19: =IF(ISERROR(INDEX(库存!$F:$F,MATCH(E19,库存!$B:$B,)))," ",INDEX(库存!$F:$F,MATCH(E19,库存!$B:$B,)))
A20: 19 | F20: =IF(ISERROR(INDEX(库存!$C:$C,MATCH(E20,库存!$B:$B,)))," ",INDEX(库存!$C:$C,MATCH(E20,库存!$B:$B,))) | G20: =IF(ISERROR(INDEX(库存!$D:$D,MATCH(E20,库存!$B:$B,)))," ",INDEX(库存!$D:$D,MATCH(E20,库存!$B:$B,))) | H20: =IF(ISERROR(INDEX(库存!$E:$E,MATCH(E20,库存!$B:$B,)))," ",INDEX(库存!$E:$E,MATCH(E20,库存!$B:$B,))) | I20: =IF(ISERROR(INDEX(库存!$F:$F,MATCH(E20,库存!$B:$B,)))," ",INDEX(库存!$F:$F,MATCH(E20,库存!$B:$B,)))
A21: 20 | F21: =IF(ISERROR(INDEX(库存!$C:$C,MATCH(E21,库存!$B:$B,)))," ",INDEX(库存!$C:$C,MATCH(E21,库存!$B:$B,))) | G21: =IF(ISERROR(INDEX(库存!$D:$D,MATCH(E21,库存!$B:$B,)))," ",INDEX(库存!$D:$D,MATCH(E21,库存!$B:$B,))) | H21: =IF(ISERROR(INDEX(库存!$E:$E,MATCH(E21,库存!$B:$B,)))," ",INDEX(库存!$E:$E,MATCH(E21,库存!$B:$B,))) | I21: =IF(ISERROR(INDEX(库存!$F:$F,MATCH(E21,库存!$B:$B,)))," ",INDEX(库存!$F:$F,MATCH(E21,库存!$B:$B,)))
A22: 21 | F22: =IF(ISERROR(INDEX(库存!$C:$C,MATCH(E22,库存!$B:$B,)))," ",INDEX(库存!$C:$C,MATCH(E22,库存!$B:$B,))) | G22: =IF(ISERROR(INDEX(库存!$D:$D,MATCH(E22,库存!$B:$B,)))," ",INDEX(库存!$D:$D,MATCH(E22,库存!$B:$B,))) | H22: =IF(ISERROR(INDEX(库存!$E:$E,MATCH(E22,库存!$B:$B,)))," ",INDEX(库存!$E:$E,MATCH(E22,库存!$B:$B,))) | I22: =IF(ISERROR(INDEX(库存!$F:$F,MATCH(E22,库存!$B:$B,)))," ",INDEX(库存!$F:$F,MATCH(E22,库存!$B:$B,)))
A23: 22 | F23: =IF(ISERROR(INDEX(库存!$C:$C,MATCH(E23,库存!$B:$B,)))," ",INDEX(库存!$C:$C,MATCH(E23,库存!$B:$B,))) | G23: =IF(ISERROR(INDEX(库存!$D:$D,MATCH(E23,库存!$B:$B,)))," ",INDEX(库存!$D:$D,MATCH(E23,库存!$B:$B,))) | H23: =IF(ISERROR(INDEX(库存!$E:$E,MATCH(E23,库存!$B:$B,)))," ",INDEX(库存!$E:$E,MATCH(E23,库存!$B:$B,))) | I23: =IF(ISERROR(INDEX(库存!$F:$F,MATCH(E23,库存!$B:$B,)))," ",INDEX(库存!$F:$F,MATCH(E23,库存!$B:$B,)))
A24: 23 | F24: =IF(ISERROR(INDEX(库存!$C:$C,MATCH(E24,库存!$B:$B,)))," ",INDEX(库存!$C:$C,MATCH(E24,库存!$B:$B,))) | G24: =IF(ISERROR(INDEX(库存!$D:$D,MATCH(E24,库存!$B:$B,)))," ",INDEX(库存!$D:$D,MATCH(E24,库存!$B:$B,))) | H24: =IF(ISERROR(INDEX(库存!$E:$E,MATCH(E24,库存!$B:$B,)))," ",INDEX(库存!$E:$E,MATCH(E24,库存!$B:$B,))) | I24: =IF(ISERROR(INDEX(库存!$F:$F,MATCH(E24,库存!$B:$B,)))," ",INDEX(库存!$F:$F,MATCH(E24,库存!$B:$B,)))
A25: 24 | F25: =IF(ISERROR(INDEX(库存!$C:$C,MATCH(E25,库存!$B:$B,)))," ",INDEX(库存!$C:$C,MATCH(E25,库存!$B:$B,))) | G25: =IF(ISERROR(INDEX(库存!$D:$D,MATCH(E25,库存!$B:$B,)))," ",INDEX(库存!$D:$D,MATCH(E25,库存!$B:$B,))) | H25: =IF(ISERROR(INDEX(库存!$E:$E,MATCH(E25,库存!$B:$B,)))," ",INDEX(库存!$E:$E,MATCH(E25,库存!$B:$B,))) | I25: =IF(ISERROR(INDEX(库存!$F:$F,MATCH(E25,库存!$B:$B,)))," ",INDEX(库存!$F:$F,MATCH(E25,库存!$B:$B,)))
... A39: 38 | F39: =IF(ISERROR(INDEX(库存!$C:$C,MATCH(E39,库存!$B:$B,)))," ",INDEX(库存!$C:$C,MATCH(E39,库存!$B:$B,))) | G39: =IF(ISERROR(INDEX(库存!$D:$D,MATCH(E39,库存!$B:$B,)))," ",INDEX(库存!$D:$D,MATCH(E39,库存!$B:$B,))) | H39: =IF(ISERROR(INDEX(库存!$E:$E,MATCH(E39,库存!$B:$B,)))," ",INDEX(库存!$E:$E,MATCH(E39,库存!$B:$B,))) | I39: =IF(ISERROR(INDEX(库存!$F:$F,MATCH(E39,库存!$B:$B,)))," ",INDEX(库存!$F:$F,MATCH(E39,库存!$B:$B,)))

Sheet 出库
A1: 序号 | B1: 单据编号 | C1: 日期 | D1: 部门 | E1: 物料编码 | F1: 物料名称 | G1: 规格及型号 | H1: 单位 | I1: 出库单价 | J1: 出库数量 | K1: 出库金额
A2: 1 | B2: CK201308001 | C2: 41494 | D2: 工模 | E2: YC1001 | F2: =IF(ISERROR(INDEX(库存!$C:$C,MATCH(E2,库存!$B:$B,)))," ",INDEX(库存!$C:$C,MATCH(E2,库存!$B:$B,))) -> 螺母 | G2: =IF(ISERROR(INDEX(库存!$D:$D,MATCH(E2,库存!$B:$B,)))," ",INDEX(库存!$D:$D,MATCH(E2,库存!$B:$B,))) -> M5 | H2: =IF(ISERROR(INDEX(库存!$E:$E,MATCH(E2,库存!$B:$B,)))," ",INDEX(库存!$E:$E,MATCH(E2,库存!$B:$B,))) -> 只 | I2: =IF(ISERROR(INDEX(库存!$F:$F,MATCH(E2,库存!$B:$B,)))," ",INDEX(库存!$F:$F,MATCH(E2,库存!$B:$B,))) -> 0.2 | J2: 20 | K2: =I2*J2 -> 4
A3: 2 | B3: CK201308001 | C3: 41494 | D3: 工模 | E3: YC1002 | F3: =IF(ISERROR(INDEX(库存!$C:$C,MATCH(E3,库存!$B:$B,)))," ",INDEX(库存!$C:$C,MATCH(E3,库存!$B:$B,))) -> 螺母 | G3: =IF(ISERROR(INDEX(库存!$D:$D,MATCH(E3,库存!$B:$B,)))," ",INDEX(库存!$D:$D,MATCH(E3,库存!$B:$B,))) -> M6 | H3: =IF(ISERROR(INDEX(库存!$E:$E,MATCH(E3,库存!$B:$B,)))," ",INDEX(库存!$E:$E,MATCH(E3,库存!$B:$B,))) -> 只 | I3: =IF(ISERROR(INDEX(库存!$F:$F,MATCH(E3,库存!$B:$B,)))," ",INDEX(库存!$F:$F,MATCH(E3,库存!$B:$B,))) -> 0.2 | J3: 12 | K3: =I3*J3 -> 2.4
A4: 3 | B4: CK201308001 | C4: 41494 | D4: 冲压 | E4: YC1003 | F4: =IF(ISERROR(INDEX(库存!$C:$C,MATCH(E4,库存!$B:$B,)))," ",INDEX(库存!$C:$C,MATCH(E4,库存!$B:$B,))) -> 螺母 | G4: =IF(ISERROR(INDEX(库存!$D:$D,MATCH(E4,库存!$B:$B,)))," ",INDEX(库存!$D:$D,MATCH(E4,库存!$B:$B,))) -> M8 | H4: =IF(ISERROR(INDEX(库存!$E:$E,MATCH(E4,库存!$B:$B,)))," ",INDEX(库存!$E:$E,MATCH(E4,库存!$B:$B,))) -> 只 | I4: =IF(ISERROR(INDEX(库存!$F:$F,MATCH(E4,库存!$B:$B,)))," ",INDEX(库存!$F:$F,MATCH(E4,库存!$B:$B,))) -> 0.21 | J4: 56 | K4: =I4*J4 -> 11.76
A5: 4 | B5: CK201308002 | C5: 41494 | D5: 冲压 | E5: YC1004 | F5: =IF(ISERROR(INDEX(库存!$C:$C,MATCH(E5,库存!$B:$B,)))," ",INDEX(库存!$C:$C,MATCH(E5,库存!$B:$B,))) -> 螺母 | G5: =IF(ISERROR(INDEX(库存!$D:$D,MATCH(E5,库存!$B:$B,)))," ",INDEX(库存!$D:$D,MATCH(E5,库存!$B:$B,))) -> M10 | H5: =IF(ISERROR(INDEX(库存!$E:$E,MATCH(E5,库存!$B:$B,)))," ",INDEX(库存!$E:$E,MATCH(E5,库存!$B:$B,))) -> 只 | I5: =IF(ISERROR(INDEX(库存!$F:$F,MATCH(E5,库存!$B:$B,)))," ",INDEX(库存!$F:$F,MATCH(E5,库存!$B:$B,))) -> 0.25 | J5: 44 | K5: =I5*J5 -> 11
A6: 5 | B6: CK201308002 | C6: 41494 | D6: 冲压 | E6: YC1005 | F6: =IF(ISERROR(INDEX(库存!$C:$C,MATCH(E6,库存!$B:$B,)))," ",INDEX(库存!$C:$C,MATCH(E6,库存!$B:$B,))) -> 螺母 | G6: =IF(ISERROR(INDEX(库存!$D:$D,MATCH(E6,库存!$B:$B,)))," ",INDEX(库存!$D:$D,MATCH(E6,库存!$B:$B,))) -> M12 | H6: =IF(ISERROR(INDEX(库存!$E:$E,MATCH(E6,库存!$B:$B,)))," ",INDEX(库存!$E:$E,MATCH(E6,库存!$B:$B,))) -> 只 | I6: =IF(ISERROR(INDEX(库存!$F:$F,MATCH(E6,库存!$B:$B,)))," ",INDEX(库存!$F:$F,MATCH(E6,库存!$B:$B,))) -> 0.3 | J6: 54 | K6: =I6*J6 -> 16.2
A7: 6 | B7: CK201308002 | C7: 41494 | D7: 冲压 | E7: YC1006 | F7: =IF(ISERROR(INDEX(库存!$C:$C,MATCH(E7,库存!$B:$B,)))," ",INDEX(库存!$C:$C,MATCH(E7,库存!$B:$B,))) -> 螺母 | G7: =IF(ISERROR(INDEX(库存!$D:$D,MATCH(E7,库存!$B:$B,)))," ",INDEX(库存!$D:$D,MATCH(E7,库存!$B:$B,))) -> M14 | H7: =IF(ISERROR(INDEX(库存!$E:$E,MATCH(E7,库存!$B:$B,)))," ",INDEX(库存!$E:$E,MATCH(E7,库存!$B:$B,))) -> 只 | I7: =IF(ISERROR(INDEX(库存!$F:$F,MATCH(E7,库存!$B:$B,)))," ",INDEX(库存!$F:$F,MATCH(E7,库存!$B:$B,))) -> 0.4 | J7: 54 | K7: =I7*J7 -> 21.6
A8: 7 | B8: CK201308002 | C8: 41494 | D8: 冲压 | E8: YC1007 | F8: =IF(ISERROR(INDEX(库存!$C:$C,MATCH(E8,库存!$B:$B,)))," ",INDEX(库存!$C:$C,MATCH(E8,库存!$B:$B,))) -> 螺母 | G8: =IF(ISERROR(INDEX(库存!$D:$D,MATCH(E8,库存!$B:$B,)))," ",INDEX(库存!$D:$D,MATCH(E8,库存!$B:$B,))) -> M16 | H8: =IF(ISERROR(INDEX(库存!$E:$E,MATCH(E8,库存!$B:$B,)))," ",INDEX(库存!$E:$E,MATCH(E8,库存!$B:$B,))) -> 只 | I8: =IF(ISERROR(INDEX(库存!$F:$F,MATCH(E8,库存!$B:$B,)))," ",INDEX(库存!$F:$F,MATCH(E8,库存!$B:$B,))) -> 0.6 | J8: 33 | K8: =I8*J8 -> 19.8
A9: 8 | B9: CK201308003 | C9: 41494 | D9: 冲压 | E9: YC1008 | F9: =IF(ISERROR(INDEX(库存!$C:$C,MATCH(E9,库存!$B:$B,)))," ",INDEX(库存!$C:$C,MATCH(E9,库存!$B:$B,))) -> 螺母 | G9: =IF(ISERROR(INDEX(库存!$D:$D,MATCH(E9,库存!$B:$B,)))," ",INDEX(库存!$D:$D,MATCH(E9,库存!$B:$B,))) -> M18 | H9: =IF(ISERROR(INDEX(库存!$E:$E,MATCH(E9,库存!$B:$B,)))," ",INDEX(库存!$E:$E,MATCH(E9,库存!$B:$B,))) -> 只 | I9: =IF(ISERROR(INDEX(库存!$F:$F,MATCH(E9,库存!$B:$B,)))," ",INDEX(库存!$F:$F,MATCH(E9,库存!$B:$B,))) -> 1 | J9: 56 | K9: =I9*J9 -> 56
A10: 9 | B10: CK201308003 | C10: 41494 | D10: 冲压 | E10: YC1009 | F10: =IF(ISERROR(INDEX(库存!$C:$C,MATCH(E10,库存!$B:$B,)))," ",INDEX(库存!$C:$C,MATCH(E10,库存!$B:$B,))) -> 螺母 | G10: =IF(ISERROR(INDEX(库存!$D:$D,MATCH(E10,库存!$B:$B,)))," ",INDEX(库存!$D:$D,MATCH(E10,库存!$B:$B,))) -> M20 | H10: =IF(ISERROR(INDEX(库存!$E:$E,MATCH(E10,库存!$B:$B,)))," ",INDEX(库存!$E:$E,MATCH(E10,库存!$B:$B,))) -> 只 | I10: =IF(ISERROR(INDEX(库存!$F:$F,MATCH(E10,库存!$B:$B,)))," ",INDEX(库存!$F:$F,MATCH(E10,库存!$B:$B,))) -> 1.6 | J10: 23 | K10: =I10*J10 -> 36.8
A11: 10 | B11: CK201308003 | C11: 41494 | D11: 冲压 | E11: YC1010 | F11: =IF(ISERROR(INDEX(库存!$C:$C,MATCH(E11,库存!$B:$B,)))," ",INDEX(库存!$C:$C,MATCH(E11,库存!$B:$B,))) -> 螺母 | G11: =IF(ISERROR(INDEX(库存!$D:$D,MATCH(E11,库存!$B:$B,)))," ",INDEX(库存!$D:$D,MATCH(E11,库存!$B:$B,))) -> M22 | H11: =IF(ISERROR(INDEX(库存!$E:$E,MATCH(E11,库存!$B:$B,)))," ",INDEX(库存!$E:$E,MATCH(E11,库存!$B:$B,))) -> 只 | I11: =IF(ISERROR(INDEX(库存!$F:$F,MATCH(E11,库存!$B:$B,)))," ",INDEX(库存!$F:$F,MATCH(E11,库存!$B:$B,))) -> 2 | J11: 24 | K11: =I11*J11 -> 48
A12: 11 | B12: CK201308004 | C12: 41495 | D12: 工模 | E12: YC1002 | F12: =IF(ISERROR(INDEX(库存!$C:$C,MATCH(E12,库存!$B:$B,)))," ",INDEX(库存!$C:$C,MATCH(E12,库存!$B:$B,))) -> 螺母 | G12: =IF(ISERROR(INDEX(库存!$D:$D,MATCH(E12,库存!$B:$B,)))," ",INDEX(库存!$D:$D,MATCH(E12,库存!$B:$B,))) -> M6 | H12: =IF(ISERROR(INDEX(库存!$E:$E,MATCH(E12,库存!$B:$B,)))," ",INDEX(库存!$E:$E,MATCH(E12,库存!$B:$B,))) -> 只 | I12: =IF(ISERROR(INDEX(库存!$F:$F,MATCH(E12,库存!$B:$B,)))," ",INDEX(库存!$F:$F,MATCH(E12,库存!$B:$B,))) -> 0.2 | J12: 36 | K12: =I12*J12 -> 7.2
A13: 12 | B13: CK201308004 | C13: 41495 | D13: 工模 | E13: YC1004 | F13: =IF(ISERROR(INDEX(库存!$C:$C,MATCH(E13,库存!$B:$B,)))," ",INDEX(库存!$C:$C,MATCH(E13,库存!$B:$B,))) -> 螺母 | G13: =IF(ISERROR(INDEX(库存!$D:$D,MATCH(E13,库存!$B:$B,)))," ",INDEX(库存!$D:$D,MATCH(E13,库存!$B:$B,))) -> M10 | H13: =IF(ISERROR(INDEX(库存!$E:$E,MATCH(E13,库存!$B:$B,)))," ",INDEX(库存!$E:$E,MATCH(E13,库存!$B:$B,))) -> 只 | I13: =IF(ISERROR(INDEX(库存!$F:$F,MATCH(E13,库存!$B:$B,)))," ",INDEX(库存!$F:$F,MATCH(E13,库存!$B:$B,))) -> 0.25 | J13: 33 | K13: =I13*J13 -> 8.25
... A15: 14 | B15: CK201308005 | C15: 41495 | D15: 工模 | E15: YC1005 | F15: =IF(ISERROR(INDEX(库存!$C:$C,MATCH(E15,库存!$B:$B,)))," ",INDEX(库存!$C:$C,MATCH(E15,库存!$B:$B,))) -> 螺母 | G15: =IF(ISERROR(INDEX(库存!$D:$D,MATCH(E15,库存!$B:$B,)))," ",INDEX(库存!$D:$D,MATCH(E15,库存!$B:$B,))) -> M12 | H15: =IF(ISERROR(INDEX(库存!$E:$E,MATCH(E15,库存!$B:$B,)))," ",INDEX(库存!$E:$E,MATCH(E15,库存!$B:$B,))) -> 只 | I15: =IF(ISERROR(INDEX(库存!$F:$F,MATCH(E15,库存!$B:$B,)))," ",INDEX(库存!$F:$F,MATCH(E15,库存!$B:$B,))) -> 0.3 | J15: 70 | K15: =I15*J15 -> 21
A16: 15 | F16: =IF(ISERROR(INDEX(库存!$C:$C,MATCH(E16,库存!$B:$B,)))," ",INDEX(库存!$C:$C,MATCH(E16,库存!$B:$B,))) | G16: =IF(ISERROR(INDEX(库存!$D:$D,MATCH(E16,库存!$B:$B,)))," ",INDEX(库存!$D:$D,MATCH(E16,库存!$B:$B,))) | H16: =IF(ISERROR(INDEX(库存!$E:$E,MATCH(E16,库存!$B:$B,)))," ",INDEX(库存!$E:$E,MATCH(E16,库存!$B:$B,))) | I16: =IF(ISERROR(INDEX(库存!$F:$F,MATCH(E16,库存!$B:$B,)))," ",INDEX(库存!$F:$F,MATCH(E16,库存!$B:$B,)))
A17: 16 | F17: =IF(ISERROR(INDEX(库存!$C:$C,MATCH(E17,库存!$B:$B,)))," ",INDEX(库存!$C:$C,MATCH(E17,库存!$B:$B,))) | G17: =IF(ISERROR(INDEX(库存!$D:$D,MATCH(E17,库存!$B:$B,)))," ",INDEX(库存!$D:$D,MATCH(E17,库存!$B:$B,))) | H17: =IF(ISERROR(INDEX(库存!$E:$E,MATCH(E17,库存!$B:$B,)))," ",INDEX(库存!$E:$E,MATCH(E17,库存!$B:$B,))) | I17: =IF(ISERROR(INDEX(库存!$F:$F,MATCH(E17,库存!$B:$B,)))," ",INDEX(库存!$F:$F,MATCH(E17,库存!$B:$B,)))
A18: 17 | F18: =IF(ISERROR(INDEX(库存!$C:$C,MATCH(E18,库存!$B:$B,)))," ",INDEX(库存!$C:$C,MATCH(E18,库存!$B:$B,))) | G18: =IF(ISERROR(INDEX(库存!$D:$D,MATCH(E18,库存!$B:$B,)))," ",INDEX(库存!$D:$D,MATCH(E18,库存!$B:$B,))) | H18: =IF(ISERROR(INDEX(库存!$E:$E,MATCH(E18,库存!$B:$B,)))," ",INDEX(库存!$E:$E,MATCH(E18,库存!$B:$B,))) | I18: =IF(ISERROR(INDEX(库存!$F:$F,MATCH(E18,库存!$B:$B,)))," ",INDEX(库存!$F:$F,MATCH(E18,库存!$B:$B,)))
A19: 18 | F19: =IF(ISERROR(INDEX(库存!$C:$C,MATCH(E19,库存!$B:$B,)))," ",INDEX(库存!$C:$C,MATCH(E19,库存!$B:$B,))) | G19: =IF(ISERROR(INDEX(库存!$D:$D,MATCH(E19,库存!$B:$B,)))," ",INDEX(库存!$D:$D,MATCH(E19,库存!$B:$B,))) | H19: =IF(ISERROR(INDEX(库存!$E:$E,MATCH(E19,库存!$B:$B,)))," ",INDEX(库存!$E:$E,MATCH(E19,库存!$B:$B,))) | I19: =IF(ISERROR(INDEX(库存!$F:$F,MATCH(E19,库存!$B:$B,)))," ",INDEX(库存!$F:$F,MATCH(E19,库存!$B:$B,)))
A20: 19 | F20: =IF(ISERROR(INDEX(库存!$C:$C,MATCH(E20,库存!$B:$B,)))," ",INDEX(库存!$C:$C,MATCH(E20,库存!$B:$B,))) | G20: =IF(ISERROR(INDEX(库存!$D:$D,MATCH(E20,库存!$B:$B,)))," ",INDEX(库存!$D:$D,MATCH(E20,库存!$B:$B,))) | H20: =IF(ISERROR(INDEX(库存!$E:$E,MATCH(E20,库存!$B:$B,)))," ",INDEX(库存!$E:$E,MATCH(E20,库存!$B:$B,))) | I20: =IF(ISERROR(INDEX(库存!$F:$F,MATCH(E20,库存!$B:$B,)))," ",INDEX(库存!$F:$F,MATCH(E20,库存!$B:$B,)))
A21: 20 | F21: =IF(ISERROR(INDEX(库存!$C:$C,MATCH(E21,库存!$B:$B,)))," ",INDEX(库存!$C:$C,MATCH(E21,库存!$B:$B,))) | G21: =IF(ISERROR(INDEX(库存!$D:$D,MATCH(E21,库存!$B:$B,)))," ",INDEX(库存!$D:$D,MATCH(E21,库存!$B:$B,))) | H21: =IF(ISERROR(INDEX(库存!$E:$E,MATCH(E21,库存!$B:$B,)))," ",INDEX(库存!$E:$E,MATCH(E21,库存!$B:$B,))) | I21: =IF(ISERROR(INDEX(库存!$F:$F,MATCH(E21,库存!$B:$B,)))," ",INDEX(库存!$F:$F,MATCH(E21,库存!$B:$B,)))
A22: 21 | F22: =IF(ISERROR(INDEX(库存!$C:$C,MATCH(E22,库存!$B:$B,)))," ",INDEX(库存!$C:$C,MATCH(E22,库存!$B:$B,))) | G22: =IF(ISERROR(INDEX(库存!$D:$D,MATCH(E22,库存!$B:$B,)))," ",INDEX(库存!$D:$D,MATCH(E22,库存!$B:$B,))) | H22: =IF(ISERROR(INDEX(库存!$E:$E,MATCH(E22,库存!$B:$B,)))," ",INDEX(库存!$E:$E,MATCH(E22,库存!$B:$B,))) | I22: =IF(ISERROR(INDEX(库存!$F:$F,MATCH(E22,库存!$B:$B,)))," ",INDEX(库存!$F:$F,MATCH(E22,库存!$B:$B,)))
A23: 22 | F23: =IF(ISERROR(INDEX(库存!$C:$C,MATCH(E23,库存!$B:$B,)))," ",INDEX(库存!$C:$C,MATCH(E23,库存!$B:$B,))) | G23: =IF(ISERROR(INDEX(库存!$D:$D,MATCH(E23,库存!$B:$B,)))," ",INDEX(库存!$D:$D,MATCH(E23,库存!$B:$B,))) | H23: =IF(ISERROR(INDEX(库存!$E:$E,MATCH(E23,库存!$B:$B,)))," ",INDEX(库存!$E:$E,MATCH(E23,库存!$B:$B,))) | I23: =IF(ISERROR(INDEX(库存!$F:$F,MATCH(E23,库存!$B:$B,)))," ",INDEX(库存!$F:$F,MATCH(E23,库存!$B:$B,)))
A24: 23 | F24: =IF(ISERROR(INDEX(库存!$C:$C,MATCH(E24,库存!$B:$B,)))," ",INDEX(库存!$C:$C,MATCH(E24,库存!$B:$B,))) | G24: =IF(ISERROR(INDEX(库存!$D:$D,MATCH(E24,库存!$B:$B,)))," ",INDEX(库存!$D:$D,MATCH(E24,库存!$B:$B,))) | H24: =IF(ISERROR(INDEX(库存!$E:$E,MATCH(E24,库存!$B:$B,)))," ",INDEX(库存!$E:$E,MATCH(E24,库存!$B:$B,))) | I24: =IF(ISERROR(INDEX(库存!$F:$F,MATCH(E24,库存!$B:$B,)))," ",INDEX(库存!$F:$F,MATCH(E24,库存!$B:$B,)))
A25: 24 | F25: =IF(ISERROR(INDEX(库存!$C:$C,MATCH(E25,库存!$B:$B,)))," ",INDEX(库存!$C:$C,MATCH(E25,库存!$B:$B,))) | G25: =IF(ISERROR(INDEX(库存!$D:$D,MATCH(E25,库存!$B:$B,)))," ",INDEX(库存!$D:$D,MATCH(E25,库存!$B:$B,))) | H25: =IF(ISERROR(INDEX(库存!$E:$E,MATCH(E25,库存!$B:$B,)))," ",INDEX(库存!$E:$E,MATCH(E25,库存!$B:$B,))) | I25: =IF(ISERROR(INDEX(库存!$F:$F,MATCH(E25,库存!$B:$B,)))," ",INDEX(库存!$F:$F,MATCH(E25,库存!$B:$B,)))
A26: 25 | F26: =IF(ISERROR(INDEX(库存!$C:$C,MATCH(E26,库存!$B:$B,)))," ",INDEX(库存!$C:$C,MATCH(E26,库存!$B:$B,))) | G26: =IF(ISERROR(INDEX(库存!$D:$D,MATCH(E26,库存!$B:$B,)))," ",INDEX(库存!$D:$D,MATCH(E26,库存!$B:$B,))) | H26: =IF(ISERROR(INDEX(库存!$E:$E,MATCH(E26,库存!$B:$B,)))," ",INDEX(库存!$E:$E,MATCH(E26,库存!$B:$B,))) | I26: =IF(ISERROR(INDEX(库存!$F:$F,MATCH(E26,库存!$B:$B,)))," ",INDEX(库存!$F:$F,MATCH(E26,库存!$B:$B,)))
A27: 26 | F27: =IF(ISERROR(INDEX(库存!$C:$C,MATCH(E27,库存!$B:$B,)))," ",INDEX(库存!$C:$C,MATCH(E27,库存!$B:$B,))) | G27: =IF(ISERROR(INDEX(库存!$D:$D,MATCH(E27,库存!$B:$B,)))," ",INDEX(库存!$D:$D,MATCH(E27,库存!$B:$B,))) | H27: =IF(ISERROR(INDEX(库存!$E:$E,MATCH(E27,库存!$B:$B,)))," ",INDEX(库存!$E:$E,MATCH(E27,库存!$B:$B,))) | I27: =IF(ISERROR(INDEX(库存!$F:$F,MATCH(E27,库存!$B:$B,)))," ",INDEX(库存!$F:$F,MATCH(E27,库存!$B:$B,)))
... A41: 40 | F41: =IF(ISERROR(INDEX(库存!$C:$C,MATCH(E41,库存!$B:$B,)))," ",INDEX(库存!$C:$C,MATCH(E41,库存!$B:$B,))) | G41: =IF(ISERROR(INDEX(库存!$D:$D,MATCH(E41,库存!$B:$B,)))," ",INDEX(库存!$D:$D,MATCH(E41,库存!$B:$B,))) | H41: =IF(ISERROR(INDEX(库存!$E:$E,MATCH(E41,库存!$B:$B,)))," ",INDEX(库存!$E:$E,MATCH(E41,库存!$B:$B,))) | I41: =IF(ISERROR(INDEX(库存!$F:$F,MATCH(E41,库存!$B:$B,)))," ",INDEX(库存!$F:$F,MATCH(E41,库存!$B:$B,)))

Sheet 库存
A1: 序号 | B1: 物料编码 | C1: 物料名称 | D1: 规格及型号 | E1: 单位 | F1: 单价 | G1: 期初数量 | H1: 入库数量 | I1: 出库数量 | J1: 结存数量 | K1: 结存金额
A2: 1 | B2: YC1001 | C2: 螺母 | D2: M5 | E2: 只 | F2: 0.2 | G2: 50 | H2: =SUMIF(入库!$E:$E,$B2,入库!J:J) -> 100 | I2: =SUMIF(出库!$E:$E,$B2,出库!J:J) -> 20 | J2: =G2+H2-I2 -> 130 | K2: =F2*J2 -> 26
A3: 2 | B3: YC1002 | C3: 螺母 | D3: M6 | E3: 只 | F3: 0.2 | G3: 50 | H3: =SUMIF(入库!$E:$E,$B3,入库!J:J) -> 400 | I3: =SUMIF(出库!$E:$E,$B3,出库!J:J) -> 48 | J3: =G3+H3-I3 -> 402 | K3: =F3*J3 -> 80.4
A4: 3 | B4: YC1003 | C4: 螺母 | D4: M8 | E4: 只 | F4: 0.21 | G4: 50 | H4: =SUMIF(入库!$E:$E,$B4,入库!J:J) -> 100 | I4: =SUMIF(出库!$E:$E,$B4,出库!J:J) -> 136 | J4: =G4+H4-I4 -> 14 | K4: =F4*J4 -> 2.94
A5: 4 | B5: YC1004 | C5: 螺母 | D5: M10 | E5: 只 | F5: 0.25 | G5: 50 | H5: =SUMIF(入库!$E:$E,$B5,入库!J:J) -> 300 | I5: =SUMIF(出库!$E:$E,$B5,出库!J:J) -> 77 | J5: =G5+H5-I5 -> 273 | K5: =F5*J5 -> 68.25
A6: 5 | B6: YC1005 | C6: 螺母 | D6: M12 | E6: 只 | F6: 0.3 | G6: 50 | H6: =SUMIF(入库!$E:$E,$B6,入库!J:J) -> 100 | I6: =SUMIF(出库!$E:$E,$B6,出库!J:J) -> 124 | J6: =G6+H6-I6 -> 26 | K6: =F6*J6 -> 7.8
A7: 6 | B7: YC1006 | C7: 螺母 | D7: M14 | E7: 只 | F7: 0.4 | G7: 50 | H7: =SUMIF(入库!$E:$E,$B7,入库!J:J) -> 100 | I7: =SUMIF(出库!$E:$E,$B7,出库!J:J) -> 54 | J7: =G7+H7-I7 -> 96 | K7: =F7*J7 -> 38.4
A8: 7 | B8: YC1007 | C8: 螺母 | D8: M16 | E8: 只 | F8: 0.6 | G8: 50 | H8: =SUMIF(入库!$E:$E,$B8,入库!J:J) -> 100 | I8: =SUMIF(出库!$E:$E,$B8,出库!J:J) -> 33 | J8: =G8+H8-I8 -> 117 | K8: =F8*J8 -> 70.2
A9: 8 | B9: YC1008 | C9: 螺母 | D9: M18 | E9: 只 | F9: 1 | G9: 50 | H9: =SUMIF(入库!$E:$E,$B9,入库!J:J) -> 100 | I9: =SUMIF(出库!$E:$E,$B9,出库!J:J) -> 56 | J9: =G9+H9-I9 -> 94 | K9: =F9*J9 -> 94
A10: 9 | B10: YC1009 | C10: 螺母 | D10: M20 | E10: 只 | F10: 1.6 | G10: 50 | H10: =SUMIF(入库!$E:$E,$B10,入库!J:J) -> 100 | I10: =SUMIF(出库!$E:$E,$B10,出库!J:J) -> 23 | J10: =G10+H10-I10 -> 127 | K10: =F10*J10 -> 203.2
A11: 10 | B11: YC1010 | C11: 螺母 | D11: M22 | E11: 只 | F11: 2 | G11: 50 | H11: =SUMIF(入库!$E:$E,$B11,入库!J:J) -> 100 | I11: =SUMIF(出库!$E:$E,$B11,出库!J:J) -> 24 | J11: =G11+H11-I11 -> 126 | K11: =F11*J11 -> 252
A12: 11 | H12: =SUMIF(入库!$E:$E,$B12,入库!J:J) -> 0 | I12: =SUMIF(出库!$E:$E,$B12,出库!J:J) -> 0 | J12: =G12+H12-I12 -> 0 | K12: =F12*J12 -> 0
A13: 12 | H13: =SUMIF(入库!$E:$E,$B13,入库!J:J) -> 0 | I13: =SUMIF(出库!$E:$E,$B13,出库!J:J) -> 0 | J13: =G13+H13-I13 -> 0 | K13: =F13*J13 -> 0
A14: 13 | H14: =SUMIF(入库!$E:$E,$B14,入库!J:J) -> 0 | I14: =SUMIF(出库!$E:$E,$B14,出库!J:J) -> 0 | J14: =G14+H14-I14 -> 0 | K14: =F14*J14 -> 0
A15: 14 | H15: =SUMIF(入库!$E:$E,$B15,入库!J:J) -> 0 | I15: =SUMIF(出库!$E:$E,$B15,出库!J:J) -> 0 | J15: =G15+H15-I15 -> 0 | K15: =F15*J15 -> 0
A16: 15 | H16: =SUMIF(入库!$E:$E,$B16,入库!J:J) -> 0 | I16: =SUMIF(出库!$E:$E,$B16,出库!J:J) -> 0 | J16: =G16+H16-I16 -> 0 | K16: =F16*J16 -> 0
A17: 16 | H17: =SUMIF(入库!$E:$E,$B17,入库!J:J) -> 0 | I17: =SUMIF(出库!$E:$E,$B17,出库!J:J) -> 0 | J17: =G17+H17-I17 -> 0 | K17: =F17*J17 -> 0
A18: 17 | H18: =SUMIF(入库!$E:$E,$B18,入库!J:J) -> 0 | I18: =SUMIF(出库!$E:$E,$B18,出库!J:J) -> 0 | J18: =G18+H18-I18 -> 0 | K18: =F18*J18 -> 0
A19: 18 | H19: =SUMIF(入库!$E:$E,$B19,入库!J:J) -> 0 | I19: =SUMIF(出库!$E:$E,$B19,出库!J:J) -> 0 | J19: =G19+H19-I19 -> 0 | K19: =F19*J19 -> 0
A20: 19 | H20: =SUMIF(入库!$E:$E,$B20,入库!J:J) -> 0 | I20: =SUMIF(出库!$E:$E,$B20,出库!J:J) -> 0 | J20: =G20+H20-I20 -> 0 | K20: =F20*J20 -> 0
A21: 20 | H21: =SUMIF(入库!$E:$E,$B21,入库!J:J) -> 0 | I21: =SUMIF(出库!$E:$E,$B21,出库!J:J) -> 0 | J21: =G21+H21-I21 -> 0 | K21: =F21*J21 -> 0
A22: 21 | H22: =SUMIF(入库!$E:$E,$B22,入库!J:J) -> 0 | I22: =SUMIF(出库!$E:$E,$B22,出库!J:J) -> 0 | J22: =G22+H22-I22 -> 0 | K22: =F22*J22 -> 0
A23: 22 | H23: =SUMIF(入库!$E:$E,$B23,入库!J:J) -> 0 | I23: =SUMIF(出库!$E:$E,$B23,出库!J:J) -> 0 | J23: =G23+H23-I23 -> 0 | K23: =F23*J23 -> 0
A24: 23 | H24: =SUMIF(入库!$E:$E,$B24,入库!J:J) -> 0 | I24: =SUMIF(出库!$E:$E,$B24,出库!J:J) -> 0 | J24: =G24+H24-I24 -> 0 | K24: =F24*J24 -> 0

Sheet 基础
A1: 仓库信息 | D1: 部门信息 | G1: 员工资料 | K1: 货品分类 | O1: 货品单位 | R1: 出入库类别 | U1: 外协/部门 | X1: 供应商/客户
A2: ID号 | B2: 仓库名称 | D2: ID号 | E2: 部门名称 | G2: ID号 | H2: 所在部门 | I2: 员工名称 | K2: ID号 | L2: 中分类 | M2: 所属仓库 | O2: ID号 | P2: 单位名称 | R2: ID号 | S2: 类别名称 | U2: ID号 | V2: 部门名称 | X2: ID号 | Y2: 供应商名称
A3: 101 | B3: 原材仓 | D3: 201 | E3: 生产部 | G3: 301 | H3: 仓库 | I3: 张三 | K3: 401 | L3: 螺母 | M3: 原材仓 | O3: 501 | P3: 只 | R3: 601 | S3: 采购入库 | U3: 701 | V3: 工模 | X3: 801 | Y3: 合得
A4: 102 | B4: 辅料仓 | D4: 202 | E4: 仓库 | K4: 402 | L4: 螺丝 | M4: 原材仓 | O4: 502 | P4: 把 | R4: 602 | S4: 领用出库 | U4: 702 | V4: 车床 | X4: 802 | Y4: 伟杰
O5: 503 | P5: 包 | R5: 603 | S5: 废品退库 | U5: 703 | V5: 冲压 | X5: 803 | Y5: 林翔
U6: 704 | V6: 品质 | X6: 804 | Y6: 科达
X7: 805 | Y7: 裕华
X8: 806 | Y8: 昶辉
