Workbook
Name 商品名称: OFFSET(商品资料表[[#Headers],[商品名称]],1,,COUNTA(商品资料表!$C:$C)-2)
Name 商品名称: OFFSET(商品资料表[[#Headers],[商品名称]],1,,COUNTA(商品资料表!$C:$C)-2)

Sheet 首页

Sheet 说明
A4: 库存提醒天数 | B4: 365 | D4: 提前期（天） | E4: 3 | G4: 服务水平 | H4: 95 | I4: %
A5: ="注：改变'库存提醒天数'，可以改变《商品资料表》中的'保质期到期提醒'，"&B4&"指保质期还有365天即将到期时，在商品资料表中给予相应提醒。" -> 注：改变'库存提醒天数'，可以改变《商品资料表》中的'保质期到期提醒'，365指保质期还有365天即将到期时，在商品资料表中给予相应提醒。
C25: 说明
C28: 1、在《商品出入库表》和《商品资料表》中新增数据的方式，见右图：
C30: 2、《基础表》内包含的信息，如下图：
C32: 出入库分类、入库、出库、项目类型下面包含的内容
C39: 各项目下包含的商品名称
C48: 根据“顾客服务水平”查询对应的“安全系数”，用于计算“安全存量”
C62: 3、记录数据遵循步骤：
C64: 首先在《商品资料表》中，构建商品信息，“商品编号”与“生产日期”共同表示商品的唯一性。添加生产日期是方便出库商品时，按照生产日期的先后顺序出库，保证先进先出。（如右图） 如果同一商品，生产日期不同，想要对该商品进行出入库记录，必须首先在《商品资料表》中再次增加该生产日期的商品信息。
C77: 然后就可以在《商品出入库表》中针对该商品做出入库记录了，特别注意的是要核对好“生产日期”。针对每个商品，每天只记录一次出入库记录。如商品A一天出库3次，只需在当天记录商品A出库3个。
C94: 《库存预警》仅用于查看当前库存是否满足安全存量，不需要任何编辑。
C102: 《库存查询》仅用于根据“年份”、“月份”、“商品名称”查询统计商品出入库情况。
C115: 4、《商品资料表》、《商品出入库表》、《历史出库记录截取》、《库存预警》和《库存查询》内容介绍

Sheet 库存查询
D2: 统计指定年份和月份商品当月的出入库情况 | K2: 统计指定单个商品不同生产日期的当前库存状况
D4: 年份 | E4: 2019 | F4: 月份 | G4: 1 | K4: 商品 | L4: A
D6: 商品名称 | E6: 上月结余 | F6: 入库 | G6: 出库 | H6: 月末库存 | K6: 商品名称 | L6: 条形码 | M6: 生产日期 | N6: 保质期（月） | O6: 到期日 | P6: 入库 | Q6: 出库 | R6: 库存 | S6: 保质期到期提醒
D7: {=IFERROR(INDEX(商品资料表!C:C,SMALL(IF(MATCH(INDIRECT("商品资料表!$C$2:$C$"&COUNTA(商品资料表!C:C)),INDIRECT("商品资料表!$C$2:$C$"&COUNTA(商品资料表!C:C)),)=ROW(INDIRECT("$1:$"&(COUNTA(商品资料表!C:C)-1))),ROW(INDIRECT("$2:$"&COUNTA(商品资料表!C:C))),4^8),ROW(A1)))&"","")} -> A | E7: =IF(D7="","",IFERROR(SUMIFS(商品出入库表!G:G,商品出入库表!C:C,库存查询!D7,商品出入库表!E:E,库存查询!$F$6,商品出入库表!J:J,"<"&(库存查询!$E$4&TEXT(库存查询!$G$4,"00"))*1)-SUMIFS(商品出入库表!G:G,商品出入库表!C:C,库存查询!D7,商品出入库表!E:E,库存查询!$G$6,商品出入库表!J:J,"<"&(库存查询!$E$4&TEXT(库存查询!$G$4,"00"))*1),"")) -> 0 | F7: =IF(D7="","",SUMIFS(商品出入库表!G:G,商品出入库表!C:C,库存查询!D7,商品出入库表!H:H,库存查询!$E$4,商品出入库表!I:I,库存查询!$G$4,商品出入库表!E:E,库存查询!$F$6)) -> 22 | G7: =IF(D7="","",SUMIFS(商品出入库表!G:G,商品出入库表!C:C,库存查询!D7,商品出入库表!H:H,库存查询!$E$4,商品出入库表!I:I,库存查询!$G$4,商品出入库表!E:E,库存查询!$G$6)) -> 2 | H7: =IFERROR(E7+F7-G7,"") -> 20 | K7: {=IFERROR(INDEX(商品资料表!$C$1:$K$36,SMALL(IF(商品资料表!$C$1:$C$36=库存查询!$L$4,ROW(商品资料表!$C$1:$C$36)),ROW(1:1)),COLUMN(A:A)),"")} -> A | L7: {=IFERROR(INDEX(商品资料表!$C$1:$K$36,SMALL(IF(商品资料表!$C$1:$C$36=库存查询!$L$4,ROW(商品资料表!$C$1:$C$36)),ROW(1:1)),COLUMN(B:B)),"")} -> 693461310001 | M7: {=IFERROR(INDEX(商品资料表!$C$1:$K$36,SMALL(IF(商品资料表!$C$1:$C$36=库存查询!$L$4,ROW(商品资料表!$C$1:$C$36)),ROW(1:1)),COLUMN(C:C)),"")} -> 42621 | N7: {=IFERROR(INDEX(商品资料表!$C$1:$K$36,SMALL(IF(商品资料表!$C$1:$C$36=库存查询!$L$4,ROW(商品资料表!$C$1:$C$36)),ROW(1:1)),COLUMN(D:D)),"")} -> 36 | O7: {=IFERROR(INDEX(商品资料表!$C$1:$K$36,SMALL(IF(商品资料表!$C$1:$C$36=库存查询!$L$4,ROW(商品资料表!$C$1:$C$36)),ROW(1:1)),COLUMN(E:E)),"")} -> 43716 | P7: {=IFERROR(INDEX(商品资料表!$C$1:$K$36,SMALL(IF(商品资料表!$C$1:$C$36=库存查询!$L$4,ROW(商品资料表!$C$1:$C$36)),ROW(1:1)),COLUMN(F:F)),"")} -> 30 | Q7: {=IFERROR(INDEX(商品资料表!$C$1:$K$36,SMALL(IF(商品资料表!$C$1:$C$36=库存查询!$L$4,ROW(商品资料表!$C$1:$C$36)),ROW(1:1)),COLUMN(G:G)),"")} -> 16 | R7: {=IFERROR(INDEX(商品资料表!$C$1:$K$36,SMALL(IF(商品资料表!$C$1:$C$36=库存查询!$L$4,ROW(商品资料表!$C$1:$C$36)),ROW(1:1)),COLUMN(H:H)),"")} -> 14 | S7: {=IFERROR(INDEX(商品资料表!$C$1:$K$36,SMALL(IF(商品资料表!$C$1:$C$36=库存查询!$L$4,ROW(商品资料表!$C$1:$C$36)),ROW(1:1)),COLUMN(I:I)),"")} -> 还有52天到期
D8: {=IFERROR(INDEX(商品资料表!C:C,SMALL(IF(MATCH(INDIRECT("商品资料表!$C$2:$C$"&COUNTA(商品资料表!C:C)),INDIRECT("商品资料表!$C$2:$C$"&COUNTA(商品资料表!C:C)),)=ROW(INDIRECT("$1:$"&(COUNTA(商品资料表!C:C)-1))),ROW(INDIRECT("$2:$"&COUNTA(商品资料表!C:C))),4^8),ROW(A2)))&"","")} -> B | E8: =IF(D8="","",IFERROR(SUMIFS(商品出入库表!G:G,商品出入库表!C:C,库存查询!D8,商品出入库表!E:E,库存查询!$F$6,商品出入库表!J:J,"<"&(库存查询!$E$4&TEXT(库存查询!$G$4,"00"))*1)-SUMIFS(商品出入库表!G:G,商品出入库表!C:C,库存查询!D8,商品出入库表!E:E,库存查询!$G$6,商品出入库表!J:J,"<"&(库存查询!$E$4&TEXT(库存查询!$G$4,"00"))*1),"")) -> 0 | F8: =IF(D8="","",SUMIFS(商品出入库表!G:G,商品出入库表!C:C,库存查询!D8,商品出入库表!H:H,库存查询!$E$4,商品出入库表!I:I,库存查询!$G$4,商品出入库表!E:E,库存查询!$F$6)) -> 5 | G8: =IF(D8="","",SUMIFS(商品出入库表!G:G,商品出入库表!C:C,库存查询!D8,商品出入库表!H:H,库存查询!$E$4,商品出入库表!I:I,库存查询!$G$4,商品出入库表!E:E,库存查询!$G$6)) -> 4 | H8: =IFERROR(E8+F8-G8,"") -> 1 | K8: {=IFERROR(INDEX(商品资料表!$C$1:$K$36,SMALL(IF(商品资料表!$C$1:$C$36=库存查询!$L$4,ROW(商品资料表!$C$1:$C$36)),ROW(2:2)),COLUMN(A:A)),"")} -> A | L8: {=IFERROR(INDEX(商品资料表!$C$1:$K$36,SMALL(IF(商品资料表!$C$1:$C$36=库存查询!$L$4,ROW(商品资料表!$C$1:$C$36)),ROW(2:2)),COLUMN(B:B)),"")} -> 693461310001 | M8: {=IFERROR(INDEX(商品资料表!$C$1:$K$36,SMALL(IF(商品资料表!$C$1:$C$36=库存查询!$L$4,ROW(商品资料表!$C$1:$C$36)),ROW(2:2)),COLUMN(C:C)),"")} -> 43338 | N8: {=IFERROR(INDEX(商品资料表!$C$1:$K$36,SMALL(IF(商品资料表!$C$1:$C$36=库存查询!$L$4,ROW(商品资料表!$C$1:$C$36)),ROW(2:2)),COLUMN(D:D)),"")} -> 36 | O8: {=IFERROR(INDEX(商品资料表!$C$1:$K$36,SMALL(IF(商品资料表!$C$1:$C$36=库存查询!$L$4,ROW(商品资料表!$C$1:$C$36)),ROW(2:2)),COLUMN(E:E)),"")} -> 44434 | P8: {=IFERROR(INDEX(商品资料表!$C$1:$K$36,SMALL(IF(商品资料表!$C$1:$C$36=库存查询!$L$4,ROW(商品资料表!$C$1:$C$36)),ROW(2:2)),COLUMN(F:F)),"")} -> 12 | Q8: {=IFERROR(INDEX(商品资料表!$C$1:$K$36,SMALL(IF(商品资料表!$C$1:$C$36=库存查询!$L$4,ROW(商品资料表!$C$1:$C$36)),ROW(2:2)),COLUMN(G:G)),"")} -> 0 | R8: {=IFERROR(INDEX(商品资料表!$C$1:$K$36,SMALL(IF(商品资料表!$C$1:$C$36=库存查询!$L$4,ROW(商品资料表!$C$1:$C$36)),ROW(2:2)),COLUMN(H:H)),"")} -> 12 | S8: {=IFERROR(INDEX(商品资料表!$C$1:$K$36,SMALL(IF(商品资料表!$C$1:$C$36=库存查询!$L$4,ROW(商品资料表!$C$1:$C$36)),ROW(2:2)),COLUMN(I:I)),"")}
D9: {=IFERROR(INDEX(商品资料表!C:C,SMALL(IF(MATCH(INDIRECT("商品资料表!$C$2:$C$"&COUNTA(商品资料表!C:C)),INDIRECT("商品资料表!$C$2:$C$"&COUNTA(商品资料表!C:C)),)=ROW(INDIRECT("$1:$"&(COUNTA(商品资料表!C:C)-1))),ROW(INDIRECT("$2:$"&COUNTA(商品资料表!C:C))),4^8),ROW(A3)))&"","")} -> C | E9: =IF(D9="","",IFERROR(SUMIFS(商品出入库表!G:G,商品出入库表!C:C,库存查询!D9,商品出入库表!E:E,库存查询!$F$6,商品出入库表!J:J,"<"&(库存查询!$E$4&TEXT(库存查询!$G$4,"00"))*1)-SUMIFS(商品出入库表!G:G,商品出入库表!C:C,库存查询!D9,商品出入库表!E:E,库存查询!$G$6,商品出入库表!J:J,"<"&(库存查询!$E$4&TEXT(库存查询!$G$4,"00"))*1),"")) -> 0 | F9: =IF(D9="","",SUMIFS(商品出入库表!G:G,商品出入库表!C:C,库存查询!D9,商品出入库表!H:H,库存查询!$E$4,商品出入库表!I:I,库存查询!$G$4,商品出入库表!E:E,库存查询!$F$6)) -> 0 | G9: =IF(D9="","",SUMIFS(商品出入库表!G:G,商品出入库表!C:C,库存查询!D9,商品出入库表!H:H,库存查询!$E$4,商品出入库表!I:I,库存查询!$G$4,商品出入库表!E:E,库存查询!$G$6)) -> 0 | H9: =IFERROR(E9+F9-G9,"") -> 0 | K9: {=IFERROR(INDEX(商品资料表!$C$1:$K$36,SMALL(IF(商品资料表!$C$1:$C$36=库存查询!$L$4,ROW(商品资料表!$C$1:$C$36)),ROW(3:3)),COLUMN(A:A)),"")} | L9: {=IFERROR(INDEX(商品资料表!$C$1:$K$36,SMALL(IF(商品资料表!$C$1:$C$36=库存查询!$L$4,ROW(商品资料表!$C$1:$C$36)),ROW(3:3)),COLUMN(B:B)),"")} | M9: {=IFERROR(INDEX(商品资料表!$C$1:$K$36,SMALL(IF(商品资料表!$C$1:$C$36=库存查询!$L$4,ROW(商品资料表!$C$1:$C$36)),ROW(3:3)),COLUMN(C:C)),"")} | N9: {=IFERROR(INDEX(商品资料表!$C$1:$K$36,SMALL(IF(商品资料表!$C$1:$C$36=库存查询!$L$4,ROW(商品资料表!$C$1:$C$36)),ROW(3:3)),COLUMN(D:D)),"")} | O9: {=IFERROR(INDEX(商品资料表!$C$1:$K$36,SMALL(IF(商品资料表!$C$1:$C$36=库存查询!$L$4,ROW(商品资料表!$C$1:$C$36)),ROW(3:3)),COLUMN(E:E)),"")} | P9: {=IFERROR(INDEX(商品资料表!$C$1:$K$36,SMALL(IF(商品资料表!$C$1:$C$36=库存查询!$L$4,ROW(商品资料表!$C$1:$C$36)),ROW(3:3)),COLUMN(F:F)),"")} | Q9: {=IFERROR(INDEX(商品资料表!$C$1:$K$36,SMALL(IF(商品资料表!$C$1:$C$36=库存查询!$L$4,ROW(商品资料表!$C$1:$C$36)),ROW(3:3)),COLUMN(G:G)),"")} | R9: {=IFERROR(INDEX(商品资料表!$C$1:$K$36,SMALL(IF(商品资料表!$C$1:$C$36=库存查询!$L$4,ROW(商品资料表!$C$1:$C$36)),ROW(3:3)),COLUMN(H:H)),"")} | S9: {=IFERROR(INDEX(商品资料表!$C$1:$K$36,SMALL(IF(商品资料表!$C$1:$C$36=库存查询!$L$4,ROW(商品资料表!$C$1:$C$36)),ROW(3:3)),COLUMN(I:I)),"")}
D10: {=IFERROR(INDEX(商品资料表!C:C,SMALL(IF(MATCH(INDIRECT("商品资料表!$C$2:$C$"&COUNTA(商品资料表!C:C)),INDIRECT("商品资料表!$C$2:$C$"&COUNTA(商品资料表!C:C)),)=ROW(INDIRECT("$1:$"&(COUNTA(商品资料表!C:C)-1))),ROW(INDIRECT("$2:$"&COUNTA(商品资料表!C:C))),4^8),ROW(A4)))&"","")} | E10: =IF(D10="","",IFERROR(SUMIFS(商品出入库表!G:G,商品出入库表!C:C,库存查询!D10,商品出入库表!E:E,库存查询!$F$6,商品出入库表!J:J,"<"&(库存查询!$E$4&TEXT(库存查询!$G$4,"00"))*1)-SUMIFS(商品出入库表!G:G,商品出入库表!C:C,库存查询!D10,商品出入库表!E:E,库存查询!$G$6,商品出入库表!J:J,"<"&(库存查询!$E$4&TEXT(库存查询!$G$4,"00"))*1),"")) | F10: =IF(D10="","",SUMIFS(商品出入库表!G:G,商品出入库表!C:C,库存查询!D10,商品出入库表!H:H,库存查询!$E$4,商品出入库表!I:I,库存查询!$G$4,商品出入库表!E:E,库存查询!$F$6)) | G10: =IF(D10="","",SUMIFS(商品出入库表!G:G,商品出入库表!C:C,库存查询!D10,商品出入库表!H:H,库存查询!$E$4,商品出入库表!I:I,库存查询!$G$4,商品出入库表!E:E,库存查询!$G$6)) | H10: =IFERROR(E10+F10-G10,"") | K10: {=IFERROR(INDEX(商品资料表!$C$1:$K$36,SMALL(IF(商品资料表!$C$1:$C$36=库存查询!$L$4,ROW(商品资料表!$C$1:$C$36)),ROW(4:4)),COLUMN(A:A)),"")} | L10: {=IFERROR(INDEX(商品资料表!$C$1:$K$36,SMALL(IF(商品资料表!$C$1:$C$36=库存查询!$L$4,ROW(商品资料表!$C$1:$C$36)),ROW(4:4)),COLUMN(B:B)),"")} | M10: {=IFERROR(INDEX(商品资料表!$C$1:$K$36,SMALL(IF(商品资料表!$C$1:$C$36=库存查询!$L$4,ROW(商品资料表!$C$1:$C$36)),ROW(4:4)),COLUMN(C:C)),"")} | N10: {=IFERROR(INDEX(商品资料表!$C$1:$K$36,SMALL(IF(商品资料表!$C$1:$C$36=库存查询!$L$4,ROW(商品资料表!$C$1:$C$36)),ROW(4:4)),COLUMN(D:D)),"")} | O10: {=IFERROR(INDEX(商品资料表!$C$1:$K$36,SMALL(IF(商品资料表!$C$1:$C$36=库存查询!$L$4,ROW(商品资料表!$C$1:$C$36)),ROW(4:4)),COLUMN(E:E)),"")} | P10: {=IFERROR(INDEX(商品资料表!$C$1:$K$36,SMALL(IF(商品资料表!$C$1:$C$36=库存查询!$L$4,ROW(商品资料表!$C$1:$C$36)),ROW(4:4)),COLUMN(F:F)),"")} | Q10: {=IFERROR(INDEX(商品资料表!$C$1:$K$36,SMALL(IF(商品资料表!$C$1:$C$36=库存查询!$L$4,ROW(商品资料表!$C$1:$C$36)),ROW(4:4)),COLUMN(G:G)),"")} | R10: {=IFERROR(INDEX(商品资料表!$C$1:$K$36,SMALL(IF(商品资料表!$C$1:$C$36=库存查询!$L$4,ROW(商品资料表!$C$1:$C$36)),ROW(4:4)),COLUMN(H:H)),"")} | S10: {=IFERROR(INDEX(商品资料表!$C$1:$K$36,SMALL(IF(商品资料表!$C$1:$C$36=库存查询!$L$4,ROW(商品资料表!$C$1:$C$36)),ROW(4:4)),COLUMN(I:I)),"")}
D11: {=IFERROR(INDEX(商品资料表!C:C,SMALL(IF(MATCH(INDIRECT("商品资料表!$C$2:$C$"&COUNTA(商品资料表!C:C)),INDIRECT("商品资料表!$C$2:$C$"&COUNTA(商品资料表!C:C)),)=ROW(INDIRECT("$1:$"&(COUNTA(商品资料表!C:C)-1))),ROW(INDIRECT("$2:$"&COUNTA(商品资料表!C:C))),4^8),ROW(A5)))&"","")} | E11: =IF(D11="","",IFERROR(SUMIFS(商品出入库表!G:G,商品出入库表!C:C,库存查询!D11,商品出入库表!E:E,库存查询!$F$6,商品出入库表!J:J,"<"&(库存查询!$E$4&TEXT(库存查询!$G$4,"00"))*1)-SUMIFS(商品出入库表!G:G,商品出入库表!C:C,库存查询!D11,商品出入库表!E:E,库存查询!$G$6,商品出入库表!J:J,"<"&(库存查询!$E$4&TEXT(库存查询!$G$4,"00"))*1),"")) | F11: =IF(D11="","",SUMIFS(商品出入库表!G:G,商品出入库表!C:C,库存查询!D11,商品出入库表!H:H,库存查询!$E$4,商品出入库表!I:I,库存查询!$G$4,商品出入库表!E:E,库存查询!$F$6)) | G11: =IF(D11="","",SUMIFS(商品出入库表!G:G,商品出入库表!C:C,库存查询!D11,商品出入库表!H:H,库存查询!$E$4,商品出入库表!I:I,库存查询!$G$4,商品出入库表!E:E,库存查询!$G$6)) | H11: =IFERROR(E11+F11-G11,"") | K11: {=IFERROR(INDEX(商品资料表!$C$1:$K$36,SMALL(IF(商品资料表!$C$1:$C$36=库存查询!$L$4,ROW(商品资料表!$C$1:$C$36)),ROW(5:5)),COLUMN(A:A)),"")} | L11: {=IFERROR(INDEX(商品资料表!$C$1:$K$36,SMALL(IF(商品资料表!$C$1:$C$36=库存查询!$L$4,ROW(商品资料表!$C$1:$C$36)),ROW(5:5)),COLUMN(B:B)),"")} | M11: {=IFERROR(INDEX(商品资料表!$C$1:$K$36,SMALL(IF(商品资料表!$C$1:$C$36=库存查询!$L$4,ROW(商品资料表!$C$1:$C$36)),ROW(5:5)),COLUMN(C:C)),"")} | N11: {=IFERROR(INDEX(商品资料表!$C$1:$K$36,SMALL(IF(商品资料表!$C$1:$C$36=库存查询!$L$4,ROW(商品资料表!$C$1:$C$36)),ROW(5:5)),COLUMN(D:D)),"")} | O11: {=IFERROR(INDEX(商品资料表!$C$1:$K$36,SMALL(IF(商品资料表!$C$1:$C$36=库存查询!$L$4,ROW(商品资料表!$C$1:$C$36)),ROW(5:5)),COLUMN(E:E)),"")} | P11: {=IFERROR(INDEX(商品资料表!$C$1:$K$36,SMALL(IF(商品资料表!$C$1:$C$36=库存查询!$L$4,ROW(商品资料表!$C$1:$C$36)),ROW(5:5)),COLUMN(F:F)),"")} | Q11: {=IFERROR(INDEX(商品资料表!$C$1:$K$36,SMALL(IF(商品资料表!$C$1:$C$36=库存查询!$L$4,ROW(商品资料表!$C$1:$C$36)),ROW(5:5)),COLUMN(G:G)),"")} | R11: {=IFERROR(INDEX(商品资料表!$C$1:$K$36,SMALL(IF(商品资料表!$C$1:$C$36=库存查询!$L$4,ROW(商品资料表!$C$1:$C$36)),ROW(5:5)),COLUMN(H:H)),"")} | S11: {=IFERROR(INDEX(商品资料表!$C$1:$K$36,SMALL(IF(商品资料表!$C$1:$C$36=库存查询!$L$4,ROW(商品资料表!$C$1:$C$36)),ROW(5:5)),COLUMN(I:I)),"")}
D12: {=IFERROR(INDEX(商品资料表!C:C,SMALL(IF(MATCH(INDIRECT("商品资料表!$C$2:$C$"&COUNTA(商品资料表!C:C)),INDIRECT("商品资料表!$C$2:$C$"&COUNTA(商品资料表!C:C)),)=ROW(INDIRECT("$1:$"&(COUNTA(商品资料表!C:C)-1))),ROW(INDIRECT("$2:$"&COUNTA(商品资料表!C:C))),4^8),ROW(A6)))&"","")} | E12: =IF(D12="","",IFERROR(SUMIFS(商品出入库表!G:G,商品出入库表!C:C,库存查询!D12,商品出入库表!E:E,库存查询!$F$6,商品出入库表!J:J,"<"&(库存查询!$E$4&TEXT(库存查询!$G$4,"00"))*1)-SUMIFS(商品出入库表!G:G,商品出入库表!C:C,库存查询!D12,商品出入库表!E:E,库存查询!$G$6,商品出入库表!J:J,"<"&(库存查询!$E$4&TEXT(库存查询!$G$4,"00"))*1),"")) | F12: =IF(D12="","",SUMIFS(商品出入库表!G:G,商品出入库表!C:C,库存查询!D12,商品出入库表!H:H,库存查询!$E$4,商品出入库表!I:I,库存查询!$G$4,商品出入库表!E:E,库存查询!$F$6)) | G12: =IF(D12="","",SUMIFS(商品出入库表!G:G,商品出入库表!C:C,库存查询!D12,商品出入库表!H:H,库存查询!$E$4,商品出入库表!I:I,库存查询!$G$4,商品出入库表!E:E,库存查询!$G$6)) | H12: =IFERROR(E12+F12-G12,"") | K12: {=IFERROR(INDEX(商品资料表!$C$1:$K$36,SMALL(IF(商品资料表!$C$1:$C$36=库存查询!$L$4,ROW(商品资料表!$C$1:$C$36)),ROW(6:6)),COLUMN(A:A)),"")} | L12: {=IFERROR(INDEX(商品资料表!$C$1:$K$36,SMALL(IF(商品资料表!$C$1:$C$36=库存查询!$L$4,ROW(商品资料表!$C$1:$C$36)),ROW(6:6)),COLUMN(B:B)),"")} | M12: {=IFERROR(INDEX(商品资料表!$C$1:$K$36,SMALL(IF(商品资料表!$C$1:$C$36=库存查询!$L$4,ROW(商品资料表!$C$1:$C$36)),ROW(6:6)),COLUMN(C:C)),"")} | N12: {=IFERROR(INDEX(商品资料表!$C$1:$K$36,SMALL(IF(商品资料表!$C$1:$C$36=库存查询!$L$4,ROW(商品资料表!$C$1:$C$36)),ROW(6:6)),COLUMN(D:D)),"")} | O12: {=IFERROR(INDEX(商品资料表!$C$1:$K$36,SMALL(IF(商品资料表!$C$1:$C$36=库存查询!$L$4,ROW(商品资料表!$C$1:$C$36)),ROW(6:6)),COLUMN(E:E)),"")} | P12: {=IFERROR(INDEX(商品资料表!$C$1:$K$36,SMALL(IF(商品资料表!$C$1:$C$36=库存查询!$L$4,ROW(商品资料表!$C$1:$C$36)),ROW(6:6)),COLUMN(F:F)),"")} | Q12: {=IFERROR(INDEX(商品资料表!$C$1:$K$36,SMALL(IF(商品资料表!$C$1:$C$36=库存查询!$L$4,ROW(商品资料表!$C$1:$C$36)),ROW(6:6)),COLUMN(G:G)),"")} | R12: {=IFERROR(INDEX(商品资料表!$C$1:$K$36,SMALL(IF(商品资料表!$C$1:$C$36=库存查询!$L$4,ROW(商品资料表!$C$1:$C$36)),ROW(6:6)),COLUMN(H:H)),"")} | S12: {=IFERROR(INDEX(商品资料表!$C$1:$K$36,SMALL(IF(商品资料表!$C$1:$C$36=库存查询!$L$4,ROW(商品资料表!$C$1:$C$36)),ROW(6:6)),COLUMN(I:I)),"")}
D13: {=IFERROR(INDEX(商品资料表!C:C,SMALL(IF(MATCH(INDIRECT("商品资料表!$C$2:$C$"&COUNTA(商品资料表!C:C)),INDIRECT("商品资料表!$C$2:$C$"&COUNTA(商品资料表!C:C)),)=ROW(INDIRECT("$1:$"&(COUNTA(商品资料表!C:C)-1))),ROW(INDIRECT("$2:$"&COUNTA(商品资料表!C:C))),4^8),ROW(A7)))&"","")} | E13: =IF(D13="","",IFERROR(SUMIFS(商品出入库表!G:G,商品出入库表!C:C,库存查询!D13,商品出入库表!E:E,库存查询!$F$6,商品出入库表!J:J,"<"&(库存查询!$E$4&TEXT(库存查询!$G$4,"00"))*1)-SUMIFS(商品出入库表!G:G,商品出入库表!C:C,库存查询!D13,商品出入库表!E:E,库存查询!$G$6,商品出入库表!J:J,"<"&(库存查询!$E$4&TEXT(库存查询!$G$4,"00"))*1),"")) | F13: =IF(D13="","",SUMIFS(商品出入库表!G:G,商品出入库表!C:C,库存查询!D13,商品出入库表!H:H,库存查询!$E$4,商品出入库表!I:I,库存查询!$G$4,商品出入库表!E:E,库存查询!$F$6)) | G13: =IF(D13="","",SUMIFS(商品出入库表!G:G,商品出入库表!C:C,库存查询!D13,商品出入库表!H:H,库存查询!$E$4,商品出入库表!I:I,库存查询!$G$4,商品出入库表!E:E,库存查询!$G$6)) | H13: =IFERROR(E13+F13-G13,"") | K13: {=IFERROR(INDEX(商品资料表!$C$1:$K$36,SMALL(IF(商品资料表!$C$1:$C$36=库存查询!$L$4,ROW(商品资料表!$C$1:$C$36)),ROW(7:7)),COLUMN(A:A)),"")} | L13: {=IFERROR(INDEX(商品资料表!$C$1:$K$36,SMALL(IF(商品资料表!$C$1:$C$36=库存查询!$L$4,ROW(商品资料表!$C$1:$C$36)),ROW(7:7)),COLUMN(B:B)),"")} | M13: {=IFERROR(INDEX(商品资料表!$C$1:$K$36,SMALL(IF(商品资料表!$C$1:$C$36=库存查询!$L$4,ROW(商品资料表!$C$1:$C$36)),ROW(7:7)),COLUMN(C:C)),"")} | N13: {=IFERROR(INDEX(商品资料表!$C$1:$K$36,SMALL(IF(商品资料表!$C$1:$C$36=库存查询!$L$4,ROW(商品资料表!$C$1:$C$36)),ROW(7:7)),COLUMN(D:D)),"")} | O13: {=IFERROR(INDEX(商品资料表!$C$1:$K$36,SMALL(IF(商品资料表!$C$1:$C$36=库存查询!$L$4,ROW(商品资料表!$C$1:$C$36)),ROW(7:7)),COLUMN(E:E)),"")} | P13: {=IFERROR(INDEX(商品资料表!$C$1:$K$36,SMALL(IF(商品资料表!$C$1:$C$36=库存查询!$L$4,ROW(商品资料表!$C$1:$C$36)),ROW(7:7)),COLUMN(F:F)),"")} | Q13: {=IFERROR(INDEX(商品资料表!$C$1:$K$36,SMALL(IF(商品资料表!$C$1:$C$36=库存查询!$L$4,ROW(商品资料表!$C$1:$C$36)),ROW(7:7)),COLUMN(G:G)),"")} | R13: {=IFERROR(INDEX(商品资料表!$C$1:$K$36,SMALL(IF(商品资料表!$C$1:$C$36=库存查询!$L$4,ROW(商品资料表!$C$1:$C$36)),ROW(7:7)),COLUMN(H:H)),"")} | S13: {=IFERROR(INDEX(商品资料表!$C$1:$K$36,SMALL(IF(商品资料表!$C$1:$C$36=库存查询!$L$4,ROW(商品资料表!$C$1:$C$36)),ROW(7:7)),COLUMN(I:I)),"")}
D14: {=IFERROR(INDEX(商品资料表!C:C,SMALL(IF(MATCH(INDIRECT("商品资料表!$C$2:$C$"&COUNTA(商品资料表!C:C)),INDIRECT("商品资料表!$C$2:$C$"&COUNTA(商品资料表!C:C)),)=ROW(INDIRECT("$1:$"&(COUNTA(商品资料表!C:C)-1))),ROW(INDIRECT("$2:$"&COUNTA(商品资料表!C:C))),4^8),ROW(A8)))&"","")} | E14: =IF(D14="","",IFERROR(SUMIFS(商品出入库表!G:G,商品出入库表!C:C,库存查询!D14,商品出入库表!E:E,库存查询!$F$6,商品出入库表!J:J,"<"&(库存查询!$E$4&TEXT(库存查询!$G$4,"00"))*1)-SUMIFS(商品出入库表!G:G,商品出入库表!C:C,库存查询!D14,商品出入库表!E:E,库存查询!$G$6,商品出入库表!J:J,"<"&(库存查询!$E$4&TEXT(库存查询!$G$4,"00"))*1),"")) | F14: =IF(D14="","",SUMIFS(商品出入库表!G:G,商品出入库表!C:C,库存查询!D14,商品出入库表!H:H,库存查询!$E$4,商品出入库表!I:I,库存查询!$G$4,商品出入库表!E:E,库存查询!$F$6)) | G14: =IF(D14="","",SUMIFS(商品出入库表!G:G,商品出入库表!C:C,库存查询!D14,商品出入库表!H:H,库存查询!$E$4,商品出入库表!I:I,库存查询!$G$4,商品出入库表!E:E,库存查询!$G$6)) | H14: =IFERROR(E14+F14-G14,"") | K14: {=IFERROR(INDEX(商品资料表!$C$1:$K$36,SMALL(IF(商品资料表!$C$1:$C$36=库存查询!$L$4,ROW(商品资料表!$C$1:$C$36)),ROW(8:8)),COLUMN(A:A)),"")} | L14: {=IFERROR(INDEX(商品资料表!$C$1:$K$36,SMALL(IF(商品资料表!$C$1:$C$36=库存查询!$L$4,ROW(商品资料表!$C$1:$C$36)),ROW(8:8)),COLUMN(B:B)),"")} | M14: {=IFERROR(INDEX(商品资料表!$C$1:$K$36,SMALL(IF(商品资料表!$C$1:$C$36=库存查询!$L$4,ROW(商品资料表!$C$1:$C$36)),ROW(8:8)),COLUMN(C:C)),"")} | N14: {=IFERROR(INDEX(商品资料表!$C$1:$K$36,SMALL(IF(商品资料表!$C$1:$C$36=库存查询!$L$4,ROW(商品资料表!$C$1:$C$36)),ROW(8:8)),COLUMN(D:D)),"")} | O14: {=IFERROR(INDEX(商品资料表!$C$1:$K$36,SMALL(IF(商品资料表!$C$1:$C$36=库存查询!$L$4,ROW(商品资料表!$C$1:$C$36)),ROW(8:8)),COLUMN(E:E)),"")} | P14: {=IFERROR(INDEX(商品资料表!$C$1:$K$36,SMALL(IF(商品资料表!$C$1:$C$36=库存查询!$L$4,ROW(商品资料表!$C$1:$C$36)),ROW(8:8)),COLUMN(F:F)),"")} | Q14: {=IFERROR(INDEX(商品资料表!$C$1:$K$36,SMALL(IF(商品资料表!$C$1:$C$36=库存查询!$L$4,ROW(商品资料表!$C$1:$C$36)),ROW(8:8)),COLUMN(G:G)),"")} | R14: {=IFERROR(INDEX(商品资料表!$C$1:$K$36,SMALL(IF(商品资料表!$C$1:$C$36=库存查询!$L$4,ROW(商品资料表!$C$1:$C$36)),ROW(8:8)),COLUMN(H:H)),"")} | S14: {=IFERROR(INDEX(商品资料表!$C$1:$K$36,SMALL(IF(商品资料表!$C$1:$C$36=库存查询!$L$4,ROW(商品资料表!$C$1:$C$36)),ROW(8:8)),COLUMN(I:I)),"")}
D15: {=IFERROR(INDEX(商品资料表!C:C,SMALL(IF(MATCH(INDIRECT("商品资料表!$C$2:$C$"&COUNTA(商品资料表!C:C)),INDIRECT("商品资料表!$C$2:$C$"&COUNTA(商品资料表!C:C)),)=ROW(INDIRECT("$1:$"&(COUNTA(商品资料表!C:C)-1))),ROW(INDIRECT("$2:$"&COUNTA(商品资料表!C:C))),4^8),ROW(A9)))&"","")} | E15: =IF(D15="","",IFERROR(SUMIFS(商品出入库表!G:G,商品出入库表!C:C,库存查询!D15,商品出入库表!E:E,库存查询!$F$6,商品出入库表!J:J,"<"&(库存查询!$E$4&TEXT(库存查询!$G$4,"00"))*1)-SUMIFS(商品出入库表!G:G,商品出入库表!C:C,库存查询!D15,商品出入库表!E:E,库存查询!$G$6,商品出入库表!J:J,"<"&(库存查询!$E$4&TEXT(库存查询!$G$4,"00"))*1),"")) | F15: =IF(D15="","",SUMIFS(商品出入库表!G:G,商品出入库表!C:C,库存查询!D15,商品出入库表!H:H,库存查询!$E$4,商品出入库表!I:I,库存查询!$G$4,商品出入库表!E:E,库存查询!$F$6)) | G15: =IF(D15="","",SUMIFS(商品出入库表!G:G,商品出入库表!C:C,库存查询!D15,商品出入库表!H:H,库存查询!$E$4,商品出入库表!I:I,库存查询!$G$4,商品出入库表!E:E,库存查询!$G$6)) | H15: =IFERROR(E15+F15-G15,"") | K15: {=IFERROR(INDEX(商品资料表!$C$1:$K$36,SMALL(IF(商品资料表!$C$1:$C$36=库存查询!$L$4,ROW(商品资料表!$C$1:$C$36)),ROW(9:9)),COLUMN(A:A)),"")} | L15: {=IFERROR(INDEX(商品资料表!$C$1:$K$36,SMALL(IF(商品资料表!$C$1:$C$36=库存查询!$L$4,ROW(商品资料表!$C$1:$C$36)),ROW(9:9)),COLUMN(B:B)),"")} | M15: {=IFERROR(INDEX(商品资料表!$C$1:$K$36,SMALL(IF(商品资料表!$C$1:$C$36=库存查询!$L$4,ROW(商品资料表!$C$1:$C$36)),ROW(9:9)),COLUMN(C:C)),"")} | N15: {=IFERROR(INDEX(商品资料表!$C$1:$K$36,SMALL(IF(商品资料表!$C$1:$C$36=库存查询!$L$4,ROW(商品资料表!$C$1:$C$36)),ROW(9:9)),COLUMN(D:D)),"")} | O15: {=IFERROR(INDEX(商品资料表!$C$1:$K$36,SMALL(IF(商品资料表!$C$1:$C$36=库存查询!$L$4,ROW(商品资料表!$C$1:$C$36)),ROW(9:9)),COLUMN(E:E)),"")} | P15: {=IFERROR(INDEX(商品资料表!$C$1:$K$36,SMALL(IF(商品资料表!$C$1:$C$36=库存查询!$L$4,ROW(商品资料表!$C$1:$C$36)),ROW(9:9)),COLUMN(F:F)),"")} | Q15: {=IFERROR(INDEX(商品资料表!$C$1:$K$36,SMALL(IF(商品资料表!$C$1:$C$36=库存查询!$L$4,ROW(商品资料表!$C$1:$C$36)),ROW(9:9)),COLUMN(G:G)),"")} | R15: {=IFERROR(INDEX(商品资料表!$C$1:$K$36,SMALL(IF(商品资料表!$C$1:$C$36=库存查询!$L$4,ROW(商品资料表!$C$1:$C$36)),ROW(9:9)),COLUMN(H:H)),"")} | S15: {=IFERROR(INDEX(商品资料表!$C$1:$K$36,SMALL(IF(商品资料表!$C$1:$C$36=库存查询!$L$4,ROW(商品资料表!$C$1:$C$36)),ROW(9:9)),COLUMN(I:I)),"")}
D16: {=IFERROR(INDEX(商品资料表!C:C,SMALL(IF(MATCH(INDIRECT("商品资料表!$C$2:$C$"&COUNTA(商品资料表!C:C)),INDIRECT("商品资料表!$C$2:$C$"&COUNTA(商品资料表!C:C)),)=ROW(INDIRECT("$1:$"&(COUNTA(商品资料表!C:C)-1))),ROW(INDIRECT("$2:$"&COUNTA(商品资料表!C:C))),4^8),ROW(A10)))&"","")} | E16: =IF(D16="","",IFERROR(SUMIFS(商品出入库表!G:G,商品出入库表!C:C,库存查询!D16,商品出入库表!E:E,库存查询!$F$6,商品出入库表!J:J,"<"&(库存查询!$E$4&TEXT(库存查询!$G$4,"00"))*1)-SUMIFS(商品出入库表!G:G,商品出入库表!C:C,库存查询!D16,商品出入库表!E:E,库存查询!$G$6,商品出入库表!J:J,"<"&(库存查询!$E$4&TEXT(库存查询!$G$4,"00"))*1),"")) | F16: =IF(D16="","",SUMIFS(商品出入库表!G:G,商品出入库表!C:C,库存查询!D16,商品出入库表!H:H,库存查询!$E$4,商品出入库表!I:I,库存查询!$G$4,商品出入库表!E:E,库存查询!$F$6)) | G16: =IF(D16="","",SUMIFS(商品出入库表!G:G,商品出入库表!C:C,库存查询!D16,商品出入库表!H:H,库存查询!$E$4,商品出入库表!I:I,库存查询!$G$4,商品出入库表!E:E,库存查询!$G$6)) | H16: =IFERROR(E16+F16-G16,"") | K16: {=IFERROR(INDEX(商品资料表!$C$1:$K$36,SMALL(IF(商品资料表!$C$1:$C$36=库存查询!$L$4,ROW(商品资料表!$C$1:$C$36)),ROW(10:10)),COLUMN(A:A)),"")} | L16: {=IFERROR(INDEX(商品资料表!$C$1:$K$36,SMALL(IF(商品资料表!$C$1:$C$36=库存查询!$L$4,ROW(商品资料表!$C$1:$C$36)),ROW(10:10)),COLUMN(B:B)),"")} | M16: {=IFERROR(INDEX(商品资料表!$C$1:$K$36,SMALL(IF(商品资料表!$C$1:$C$36=库存查询!$L$4,ROW(商品资料表!$C$1:$C$36)),ROW(10:10)),COLUMN(C:C)),"")} | N16: {=IFERROR(INDEX(商品资料表!$C$1:$K$36,SMALL(IF(商品资料表!$C$1:$C$36=库存查询!$L$4,ROW(商品资料表!$C$1:$C$36)),ROW(10:10)),COLUMN(D:D)),"")} | O16: {=IFERROR(INDEX(商品资料表!$C$1:$K$36,SMALL(IF(商品资料表!$C$1:$C$36=库存查询!$L$4,ROW(商品资料表!$C$1:$C$36)),ROW(10:10)),COLUMN(E:E)),"")} | P16: {=IFERROR(INDEX(商品资料表!$C$1:$K$36,SMALL(IF(商品资料表!$C$1:$C$36=库存查询!$L$4,ROW(商品资料表!$C$1:$C$36)),ROW(10:10)),COLUMN(F:F)),"")} | Q16: {=IFERROR(INDEX(商品资料表!$C$1:$K$36,SMALL(IF(商品资料表!$C$1:$C$36=库存查询!$L$4,ROW(商品资料表!$C$1:$C$36)),ROW(10:10)),COLUMN(G:G)),"")} | R16: {=IFERROR(INDEX(商品资料表!$C$1:$K$36,SMALL(IF(商品资料表!$C$1:$C$36=库存查询!$L$4,ROW(商品资料表!$C$1:$C$36)),ROW(10:10)),COLUMN(H:H)),"")} | S16: {=IFERROR(INDEX(商品资料表!$C$1:$K$36,SMALL(IF(商品资料表!$C$1:$C$36=库存查询!$L$4,ROW(商品资料表!$C$1:$C$36)),ROW(10:10)),COLUMN(I:I)),"")}
D17: {=IFERROR(INDEX(商品资料表!C:C,SMALL(IF(MATCH(INDIRECT("商品资料表!$C$2:$C$"&COUNTA(商品资料表!C:C)),INDIRECT("商品资料表!$C$2:$C$"&COUNTA(商品资料表!C:C)),)=ROW(INDIRECT("$1:$"&(COUNTA(商品资料表!C:C)-1))),ROW(INDIRECT("$2:$"&COUNTA(商品资料表!C:C))),4^8),ROW(A11)))&"","")} | E17: =IF(D17="","",IFERROR(SUMIFS(商品出入库表!G:G,商品出入库表!C:C,库存查询!D17,商品出入库表!E:E,库存查询!$F$6,商品出入库表!J:J,"<"&(库存查询!$E$4&TEXT(库存查询!$G$4,"00"))*1)-SUMIFS(商品出入库表!G:G,商品出入库表!C:C,库存查询!D17,商品出入库表!E:E,库存查询!$G$6,商品出入库表!J:J,"<"&(库存查询!$E$4&TEXT(库存查询!$G$4,"00"))*1),"")) | F17: =IF(D17="","",SUMIFS(商品出入库表!G:G,商品出入库表!C:C,库存查询!D17,商品出入库表!H:H,库存查询!$E$4,商品出入库表!I:I,库存查询!$G$4,商品出入库表!E:E,库存查询!$F$6)) | G17: =IF(D17="","",SUMIFS(商品出入库表!G:G,商品出入库表!C:C,库存查询!D17,商品出入库表!H:H,库存查询!$E$4,商品出入库表!I:I,库存查询!$G$4,商品出入库表!E:E,库存查询!$G$6)) | H17: =IFERROR(E17+F17-G17,"") | K17: {=IFERROR(INDEX(商品资料表!$C$1:$K$36,SMALL(IF(商品资料表!$C$1:$C$36=库存查询!$L$4,ROW(商品资料表!$C$1:$C$36)),ROW(11:11)),COLUMN(A:A)),"")} | L17: {=IFERROR(INDEX(商品资料表!$C$1:$K$36,SMALL(IF(商品资料表!$C$1:$C$36=库存查询!$L$4,ROW(商品资料表!$C$1:$C$36)),ROW(11:11)),COLUMN(B:B)),"")} | M17: {=IFERROR(INDEX(商品资料表!$C$1:$K$36,SMALL(IF(商品资料表!$C$1:$C$36=库存查询!$L$4,ROW(商品资料表!$C$1:$C$36)),ROW(11:11)),COLUMN(C:C)),"")} | N17: {=IFERROR(INDEX(商品资料表!$C$1:$K$36,SMALL(IF(商品资料表!$C$1:$C$36=库存查询!$L$4,ROW(商品资料表!$C$1:$C$36)),ROW(11:11)),COLUMN(D:D)),"")} | O17: {=IFERROR(INDEX(商品资料表!$C$1:$K$36,SMALL(IF(商品资料表!$C$1:$C$36=库存查询!$L$4,ROW(商品资料表!$C$1:$C$36)),ROW(11:11)),COLUMN(E:E)),"")} | P17: {=IFERROR(INDEX(商品资料表!$C$1:$K$36,SMALL(IF(商品资料表!$C$1:$C$36=库存查询!$L$4,ROW(商品资料表!$C$1:$C$36)),ROW(11:11)),COLUMN(F:F)),"")} | Q17: {=IFERROR(INDEX(商品资料表!$C$1:$K$36,SMALL(IF(商品资料表!$C$1:$C$36=库存查询!$L$4,ROW(商品资料表!$C$1:$C$36)),ROW(11:11)),COLUMN(G:G)),"")} | R17: {=IFERROR(INDEX(商品资料表!$C$1:$K$36,SMALL(IF(商品资料表!$C$1:$C$36=库存查询!$L$4,ROW(商品资料表!$C$1:$C$36)),ROW(11:11)),COLUMN(H:H)),"")} | S17: {=IFERROR(INDEX(商品资料表!$C$1:$K$36,SMALL(IF(商品资料表!$C$1:$C$36=库存查询!$L$4,ROW(商品资料表!$C$1:$C$36)),ROW(11:11)),COLUMN(I:I)),"")}
D18: {=IFERROR(INDEX(商品资料表!C:C,SMALL(IF(MATCH(INDIRECT("商品资料表!$C$2:$C$"&COUNTA(商品资料表!C:C)),INDIRECT("商品资料表!$C$2:$C$"&COUNTA(商品资料表!C:C)),)=ROW(INDIRECT("$1:$"&(COUNTA(商品资料表!C:C)-1))),ROW(INDIRECT("$2:$"&COUNTA(商品资料表!C:C))),4^8),ROW(A12)))&"","")} | E18: =IF(D18="","",IFERROR(SUMIFS(商品出入库表!G:G,商品出入库表!C:C,库存查询!D18,商品出入库表!E:E,库存查询!$F$6,商品出入库表!J:J,"<"&(库存查询!$E$4&TEXT(库存查询!$G$4,"00"))*1)-SUMIFS(商品出入库表!G:G,商品出入库表!C:C,库存查询!D18,商品出入库表!E:E,库存查询!$G$6,商品出入库表!J:J,"<"&(库存查询!$E$4&TEXT(库存查询!$G$4,"00"))*1),"")) | F18: =IF(D18="","",SUMIFS(商品出入库表!G:G,商品出入库表!C:C,库存查询!D18,商品出入库表!H:H,库存查询!$E$4,商品出入库表!I:I,库存查询!$G$4,商品出入库表!E:E,库存查询!$F$6)) | G18: =IF(D18="","",SUMIFS(商品出入库表!G:G,商品出入库表!C:C,库存查询!D18,商品出入库表!H:H,库存查询!$E$4,商品出入库表!I:I,库存查询!$G$4,商品出入库表!E:E,库存查询!$G$6)) | H18: =IFERROR(E18+F18-G18,"") | K18: {=IFERROR(INDEX(商品资料表!$C$1:$K$36,SMALL(IF(商品资料表!$C$1:$C$36=库存查询!$L$4,ROW(商品资料表!$C$1:$C$36)),ROW(12:12)),COLUMN(A:A)),"")} | L18: {=IFERROR(INDEX(商品资料表!$C$1:$K$36,SMALL(IF(商品资料表!$C$1:$C$36=库存查询!$L$4,ROW(商品资料表!$C$1:$C$36)),ROW(12:12)),COLUMN(B:B)),"")} | M18: {=IFERROR(INDEX(商品资料表!$C$1:$K$36,SMALL(IF(商品资料表!$C$1:$C$36=库存查询!$L$4,ROW(商品资料表!$C$1:$C$36)),ROW(12:12)),COLUMN(C:C)),"")} | N18: {=IFERROR(INDEX(商品资料表!$C$1:$K$36,SMALL(IF(商品资料表!$C$1:$C$36=库存查询!$L$4,ROW(商品资料表!$C$1:$C$36)),ROW(12:12)),COLUMN(D:D)),"")} | O18: {=IFERROR(INDEX(商品资料表!$C$1:$K$36,SMALL(IF(商品资料表!$C$1:$C$36=库存查询!$L$4,ROW(商品资料表!$C$1:$C$36)),ROW(12:12)),COLUMN(E:E)),"")} | P18: {=IFERROR(INDEX(商品资料表!$C$1:$K$36,SMALL(IF(商品资料表!$C$1:$C$36=库存查询!$L$4,ROW(商品资料表!$C$1:$C$36)),ROW(12:12)),COLUMN(F:F)),"")} | Q18: {=IFERROR(INDEX(商品资料表!$C$1:$K$36,SMALL(IF(商品资料表!$C$1:$C$36=库存查询!$L$4,ROW(商品资料表!$C$1:$C$36)),ROW(12:12)),COLUMN(G:G)),"")} | R18: {=IFERROR(INDEX(商品资料表!$C$1:$K$36,SMALL(IF(商品资料表!$C$1:$C$36=库存查询!$L$4,ROW(商品资料表!$C$1:$C$36)),ROW(12:12)),COLUMN(H:H)),"")} | S18: {=IFERROR(INDEX(商品资料表!$C$1:$K$36,SMALL(IF(商品资料表!$C$1:$C$36=库存查询!$L$4,ROW(商品资料表!$C$1:$C$36)),ROW(12:12)),COLUMN(I:I)),"")}
D19: {=IFERROR(INDEX(商品资料表!C:C,SMALL(IF(MATCH(INDIRECT("商品资料表!$C$2:$C$"&COUNTA(商品资料表!C:C)),INDIRECT("商品资料表!$C$2:$C$"&COUNTA(商品资料表!C:C)),)=ROW(INDIRECT("$1:$"&(COUNTA(商品资料表!C:C)-1))),ROW(INDIRECT("$2:$"&COUNTA(商品资料表!C:C))),4^8),ROW(A13)))&"","")} | E19: =IF(D19="","",IFERROR(SUMIFS(商品出入库表!G:G,商品出入库表!C:C,库存查询!D19,商品出入库表!E:E,库存查询!$F$6,商品出入库表!J:J,"<"&(库存查询!$E$4&TEXT(库存查询!$G$4,"00"))*1)-SUMIFS(商品出入库表!G:G,商品出入库表!C:C,库存查询!D19,商品出入库表!E:E,库存查询!$G$6,商品出入库表!J:J,"<"&(库存查询!$E$4&TEXT(库存查询!$G$4,"00"))*1),"")) | F19: =IF(D19="","",SUMIFS(商品出入库表!G:G,商品出入库表!C:C,库存查询!D19,商品出入库表!H:H,库存查询!$E$4,商品出入库表!I:I,库存查询!$G$4,商品出入库表!E:E,库存查询!$F$6)) | G19: =IF(D19="","",SUMIFS(商品出入库表!G:G,商品出入库表!C:C,库存查询!D19,商品出入库表!H:H,库存查询!$E$4,商品出入库表!I:I,库存查询!$G$4,商品出入库表!E:E,库存查询!$G$6)) | H19: =IFERROR(E19+F19-G19,"") | K19: {=IFERROR(INDEX(商品资料表!$C$1:$K$36,SMALL(IF(商品资料表!$C$1:$C$36=库存查询!$L$4,ROW(商品资料表!$C$1:$C$36)),ROW(13:13)),COLUMN(A:A)),"")} | L19: {=IFERROR(INDEX(商品资料表!$C$1:$K$36,SMALL(IF(商品资料表!$C$1:$C$36=库存查询!$L$4,ROW(商品资料表!$C$1:$C$36)),ROW(13:13)),COLUMN(B:B)),"")} | M19: {=IFERROR(INDEX(商品资料表!$C$1:$K$36,SMALL(IF(商品资料表!$C$1:$C$36=库存查询!$L$4,ROW(商品资料表!$C$1:$C$36)),ROW(13:13)),COLUMN(C:C)),"")} | N19: {=IFERROR(INDEX(商品资料表!$C$1:$K$36,SMALL(IF(商品资料表!$C$1:$C$36=库存查询!$L$4,ROW(商品资料表!$C$1:$C$36)),ROW(13:13)),COLUMN(D:D)),"")} | O19: {=IFERROR(INDEX(商品资料表!$C$1:$K$36,SMALL(IF(商品资料表!$C$1:$C$36=库存查询!$L$4,ROW(商品资料表!$C$1:$C$36)),ROW(13:13)),COLUMN(E:E)),"")} | P19: {=IFERROR(INDEX(商品资料表!$C$1:$K$36,SMALL(IF(商品资料表!$C$1:$C$36=库存查询!$L$4,ROW(商品资料表!$C$1:$C$36)),ROW(13:13)),COLUMN(F:F)),"")} | Q19: {=IFERROR(INDEX(商品资料表!$C$1:$K$36,SMALL(IF(商品资料表!$C$1:$C$36=库存查询!$L$4,ROW(商品资料表!$C$1:$C$36)),ROW(13:13)),COLUMN(G:G)),"")} | R19: {=IFERROR(INDEX(商品资料表!$C$1:$K$36,SMALL(IF(商品资料表!$C$1:$C$36=库存查询!$L$4,ROW(商品资料表!$C$1:$C$36)),ROW(13:13)),COLUMN(H:H)),"")} | S19: {=IFERROR(INDEX(商品资料表!$C$1:$K$36,SMALL(IF(商品资料表!$C$1:$C$36=库存查询!$L$4,ROW(商品资料表!$C$1:$C$36)),ROW(13:13)),COLUMN(I:I)),"")}
D20: {=IFERROR(INDEX(商品资料表!C:C,SMALL(IF(MATCH(INDIRECT("商品资料表!$C$2:$C$"&COUNTA(商品资料表!C:C)),INDIRECT("商品资料表!$C$2:$C$"&COUNTA(商品资料表!C:C)),)=ROW(INDIRECT("$1:$"&(COUNTA(商品资料表!C:C)-1))),ROW(INDIRECT("$2:$"&COUNTA(商品资料表!C:C))),4^8),ROW(A14)))&"","")} | E20: =IF(D20="","",IFERROR(SUMIFS(商品出入库表!G:G,商品出入库表!C:C,库存查询!D20,商品出入库表!E:E,库存查询!$F$6,商品出入库表!J:J,"<"&(库存查询!$E$4&TEXT(库存查询!$G$4,"00"))*1)-SUMIFS(商品出入库表!G:G,商品出入库表!C:C,库存查询!D20,商品出入库表!E:E,库存查询!$G$6,商品出入库表!J:J,"<"&(库存查询!$E$4&TEXT(库存查询!$G$4,"00"))*1),"")) | F20: =IF(D20="","",SUMIFS(商品出入库表!G:G,商品出入库表!C:C,库存查询!D20,商品出入库表!H:H,库存查询!$E$4,商品出入库表!I:I,库存查询!$G$4,商品出入库表!E:E,库存查询!$F$6)) | G20: =IF(D20="","",SUMIFS(商品出入库表!G:G,商品出入库表!C:C,库存查询!D20,商品出入库表!H:H,库存查询!$E$4,商品出入库表!I:I,库存查询!$G$4,商品出入库表!E:E,库存查询!$G$6)) | H20: =IFERROR(E20+F20-G20,"") | K20: {=IFERROR(INDEX(商品资料表!$C$1:$K$36,SMALL(IF(商品资料表!$C$1:$C$36=库存查询!$L$4,ROW(商品资料表!$C$1:$C$36)),ROW(14:14)),COLUMN(A:A)),"")} | L20: {=IFERROR(INDEX(商品资料表!$C$1:$K$36,SMALL(IF(商品资料表!$C$1:$C$36=库存查询!$L$4,ROW(商品资料表!$C$1:$C$36)),ROW(14:14)),COLUMN(B:B)),"")} | M20: {=IFERROR(INDEX(商品资料表!$C$1:$K$36,SMALL(IF(商品资料表!$C$1:$C$36=库存查询!$L$4,ROW(商品资料表!$C$1:$C$36)),ROW(14:14)),COLUMN(C:C)),"")} | N20: {=IFERROR(INDEX(商品资料表!$C$1:$K$36,SMALL(IF(商品资料表!$C$1:$C$36=库存查询!$L$4,ROW(商品资料表!$C$1:$C$36)),ROW(14:14)),COLUMN(D:D)),"")} | O20: {=IFERROR(INDEX(商品资料表!$C$1:$K$36,SMALL(IF(商品资料表!$C$1:$C$36=库存查询!$L$4,ROW(商品资料表!$C$1:$C$36)),ROW(14:14)),COLUMN(E:E)),"")} | P20: {=IFERROR(INDEX(商品资料表!$C$1:$K$36,SMALL(IF(商品资料表!$C$1:$C$36=库存查询!$L$4,ROW(商品资料表!$C$1:$C$36)),ROW(14:14)),COLUMN(F:F)),"")} | Q20: {=IFERROR(INDEX(商品资料表!$C$1:$K$36,SMALL(IF(商品资料表!$C$1:$C$36=库存查询!$L$4,ROW(商品资料表!$C$1:$C$36)),ROW(14:14)),COLUMN(G:G)),"")} | R20: {=IFERROR(INDEX(商品资料表!$C$1:$K$36,SMALL(IF(商品资料表!$C$1:$C$36=库存查询!$L$4,ROW(商品资料表!$C$1:$C$36)),ROW(14:14)),COLUMN(H:H)),"")} | S20: {=IFERROR(INDEX(商品资料表!$C$1:$K$36,SMALL(IF(商品资料表!$C$1:$C$36=库存查询!$L$4,ROW(商品资料表!$C$1:$C$36)),ROW(14:14)),COLUMN(I:I)),"")}
D21: {=IFERROR(INDEX(商品资料表!C:C,SMALL(IF(MATCH(INDIRECT("商品资料表!$C$2:$C$"&COUNTA(商品资料表!C:C)),INDIRECT("商品资料表!$C$2:$C$"&COUNTA(商品资料表!C:C)),)=ROW(INDIRECT("$1:$"&(COUNTA(商品资料表!C:C)-1))),ROW(INDIRECT("$2:$"&COUNTA(商品资料表!C:C))),4^8),ROW(A15)))&"","")} | E21: =IF(D21="","",IFERROR(SUMIFS(商品出入库表!G:G,商品出入库表!C:C,库存查询!D21,商品出入库表!E:E,库存查询!$F$6,商品出入库表!J:J,"<"&(库存查询!$E$4&TEXT(库存查询!$G$4,"00"))*1)-SUMIFS(商品出入库表!G:G,商品出入库表!C:C,库存查询!D21,商品出入库表!E:E,库存查询!$G$6,商品出入库表!J:J,"<"&(库存查询!$E$4&TEXT(库存查询!$G$4,"00"))*1),"")) | F21: =IF(D21="","",SUMIFS(商品出入库表!G:G,商品出入库表!C:C,库存查询!D21,商品出入库表!H:H,库存查询!$E$4,商品出入库表!I:I,库存查询!$G$4,商品出入库表!E:E,库存查询!$F$6)) | G21: =IF(D21="","",SUMIFS(商品出入库表!G:G,商品出入库表!C:C,库存查询!D21,商品出入库表!H:H,库存查询!$E$4,商品出入库表!I:I,库存查询!$G$4,商品出入库表!E:E,库存查询!$G$6)) | H21: =IFERROR(E21+F21-G21,"") | K21: {=IFERROR(INDEX(商品资料表!$C$1:$K$36,SMALL(IF(商品资料表!$C$1:$C$36=库存查询!$L$4,ROW(商品资料表!$C$1:$C$36)),ROW(15:15)),COLUMN(A:A)),"")} | L21: {=IFERROR(INDEX(商品资料表!$C$1:$K$36,SMALL(IF(商品资料表!$C$1:$C$36=库存查询!$L$4,ROW(商品资料表!$C$1:$C$36)),ROW(15:15)),COLUMN(B:B)),"")} | M21: {=IFERROR(INDEX(商品资料表!$C$1:$K$36,SMALL(IF(商品资料表!$C$1:$C$36=库存查询!$L$4,ROW(商品资料表!$C$1:$C$36)),ROW(15:15)),COLUMN(C:C)),"")} | N21: {=IFERROR(INDEX(商品资料表!$C$1:$K$36,SMALL(IF(商品资料表!$C$1:$C$36=库存查询!$L$4,ROW(商品资料表!$C$1:$C$36)),ROW(15:15)),COLUMN(D:D)),"")} | O21: {=IFERROR(INDEX(商品资料表!$C$1:$K$36,SMALL(IF(商品资料表!$C$1:$C$36=库存查询!$L$4,ROW(商品资料表!$C$1:$C$36)),ROW(15:15)),COLUMN(E:E)),"")} | P21: {=IFERROR(INDEX(商品资料表!$C$1:$K$36,SMALL(IF(商品资料表!$C$1:$C$36=库存查询!$L$4,ROW(商品资料表!$C$1:$C$36)),ROW(15:15)),COLUMN(F:F)),"")} | Q21: {=IFERROR(INDEX(商品资料表!$C$1:$K$36,SMALL(IF(商品资料表!$C$1:$C$36=库存查询!$L$4,ROW(商品资料表!$C$1:$C$36)),ROW(15:15)),COLUMN(G:G)),"")} | R21: {=IFERROR(INDEX(商品资料表!$C$1:$K$36,SMALL(IF(商品资料表!$C$1:$C$36=库存查询!$L$4,ROW(商品资料表!$C$1:$C$36)),ROW(15:15)),COLUMN(H:H)),"")} | S21: {=IFERROR(INDEX(商品资料表!$C$1:$K$36,SMALL(IF(商品资料表!$C$1:$C$36=库存查询!$L$4,ROW(商品资料表!$C$1:$C$36)),ROW(15:15)),COLUMN(I:I)),"")}
D22: {=IFERROR(INDEX(商品资料表!C:C,SMALL(IF(MATCH(INDIRECT("商品资料表!$C$2:$C$"&COUNTA(商品资料表!C:C)),INDIRECT("商品资料表!$C$2:$C$"&COUNTA(商品资料表!C:C)),)=ROW(INDIRECT("$1:$"&(COUNTA(商品资料表!C:C)-1))),ROW(INDIRECT("$2:$"&COUNTA(商品资料表!C:C))),4^8),ROW(A16)))&"","")} | E22: =IF(D22="","",IFERROR(SUMIFS(商品出入库表!G:G,商品出入库表!C:C,库存查询!D22,商品出入库表!E:E,库存查询!$F$6,商品出入库表!J:J,"<"&(库存查询!$E$4&TEXT(库存查询!$G$4,"00"))*1)-SUMIFS(商品出入库表!G:G,商品出入库表!C:C,库存查询!D22,商品出入库表!E:E,库存查询!$G$6,商品出入库表!J:J,"<"&(库存查询!$E$4&TEXT(库存查询!$G$4,"00"))*1),"")) | F22: =IF(D22="","",SUMIFS(商品出入库表!G:G,商品出入库表!C:C,库存查询!D22,商品出入库表!H:H,库存查询!$E$4,商品出入库表!I:I,库存查询!$G$4,商品出入库表!E:E,库存查询!$F$6)) | G22: =IF(D22="","",SUMIFS(商品出入库表!G:G,商品出入库表!C:C,库存查询!D22,商品出入库表!H:H,库存查询!$E$4,商品出入库表!I:I,库存查询!$G$4,商品出入库表!E:E,库存查询!$G$6)) | H22: =IFERROR(E22+F22-G22,"") | K22: {=IFERROR(INDEX(商品资料表!$C$1:$K$36,SMALL(IF(商品资料表!$C$1:$C$36=库存查询!$L$4,ROW(商品资料表!$C$1:$C$36)),ROW(16:16)),COLUMN(A:A)),"")} | L22: {=IFERROR(INDEX(商品资料表!$C$1:$K$36,SMALL(IF(商品资料表!$C$1:$C$36=库存查询!$L$4,ROW(商品资料表!$C$1:$C$36)),ROW(16:16)),COLUMN(B:B)),"")} | M22: {=IFERROR(INDEX(商品资料表!$C$1:$K$36,SMALL(IF(商品资料表!$C$1:$C$36=库存查询!$L$4,ROW(商品资料表!$C$1:$C$36)),ROW(16:16)),COLUMN(C:C)),"")} | N22: {=IFERROR(INDEX(商品资料表!$C$1:$K$36,SMALL(IF(商品资料表!$C$1:$C$36=库存查询!$L$4,ROW(商品资料表!$C$1:$C$36)),ROW(16:16)),COLUMN(D:D)),"")} | O22: {=IFERROR(INDEX(商品资料表!$C$1:$K$36,SMALL(IF(商品资料表!$C$1:$C$36=库存查询!$L$4,ROW(商品资料表!$C$1:$C$36)),ROW(16:16)),COLUMN(E:E)),"")} | P22: {=IFERROR(INDEX(商品资料表!$C$1:$K$36,SMALL(IF(商品资料表!$C$1:$C$36=库存查询!$L$4,ROW(商品资料表!$C$1:$C$36)),ROW(16:16)),COLUMN(F:F)),"")} | Q22: {=IFERROR(INDEX(商品资料表!$C$1:$K$36,SMALL(IF(商品资料表!$C$1:$C$36=库存查询!$L$4,ROW(商品资料表!$C$1:$C$36)),ROW(16:16)),COLUMN(G:G)),"")} | R22: {=IFERROR(INDEX(商品资料表!$C$1:$K$36,SMALL(IF(商品资料表!$C$1:$C$36=库存查询!$L$4,ROW(商品资料表!$C$1:$C$36)),ROW(16:16)),COLUMN(H:H)),"")} | S22: {=IFERROR(INDEX(商品资料表!$C$1:$K$36,SMALL(IF(商品资料表!$C$1:$C$36=库存查询!$L$4,ROW(商品资料表!$C$1:$C$36)),ROW(16:16)),COLUMN(I:I)),"")}
D23: {=IFERROR(INDEX(商品资料表!C:C,SMALL(IF(MATCH(INDIRECT("商品资料表!$C$2:$C$"&COUNTA(商品资料表!C:C)),INDIRECT("商品资料表!$C$2:$C$"&COUNTA(商品资料表!C:C)),)=ROW(INDIRECT("$1:$"&(COUNTA(商品资料表!C:C)-1))),ROW(INDIRECT("$2:$"&COUNTA(商品资料表!C:C))),4^8),ROW(A17)))&"","")} | E23: =IF(D23="","",IFERROR(SUMIFS(商品出入库表!G:G,商品出入库表!C:C,库存查询!D23,商品出入库表!E:E,库存查询!$F$6,商品出入库表!J:J,"<"&(库存查询!$E$4&TEXT(库存查询!$G$4,"00"))*1)-SUMIFS(商品出入库表!G:G,商品出入库表!C:C,库存查询!D23,商品出入库表!E:E,库存查询!$G$6,商品出入库表!J:J,"<"&(库存查询!$E$4&TEXT(库存查询!$G$4,"00"))*1),"")) | F23: =IF(D23="","",SUMIFS(商品出入库表!G:G,商品出入库表!C:C,库存查询!D23,商品出入库表!H:H,库存查询!$E$4,商品出入库表!I:I,库存查询!$G$4,商品出入库表!E:E,库存查询!$F$6)) | G23: =IF(D23="","",SUMIFS(商品出入库表!G:G,商品出入库表!C:C,库存查询!D23,商品出入库表!H:H,库存查询!$E$4,商品出入库表!I:I,库存查询!$G$4,商品出入库表!E:E,库存查询!$G$6)) | H23: =IFERROR(E23+F23-G23,"") | K23: {=IFERROR(INDEX(商品资料表!$C$1:$K$36,SMALL(IF(商品资料表!$C$1:$C$36=库存查询!$L$4,ROW(商品资料表!$C$1:$C$36)),ROW(17:17)),COLUMN(A:A)),"")} | L23: {=IFERROR(INDEX(商品资料表!$C$1:$K$36,SMALL(IF(商品资料表!$C$1:$C$36=库存查询!$L$4,ROW(商品资料表!$C$1:$C$36)),ROW(17:17)),COLUMN(B:B)),"")} | M23: {=IFERROR(INDEX(商品资料表!$C$1:$K$36,SMALL(IF(商品资料表!$C$1:$C$36=库存查询!$L$4,ROW(商品资料表!$C$1:$C$36)),ROW(17:17)),COLUMN(C:C)),"")} | N23: {=IFERROR(INDEX(商品资料表!$C$1:$K$36,SMALL(IF(商品资料表!$C$1:$C$36=库存查询!$L$4,ROW(商品资料表!$C$1:$C$36)),ROW(17:17)),COLUMN(D:D)),"")} | O23: {=IFERROR(INDEX(商品资料表!$C$1:$K$36,SMALL(IF(商品资料表!$C$1:$C$36=库存查询!$L$4,ROW(商品资料表!$C$1:$C$36)),ROW(17:17)),COLUMN(E:E)),"")} | P23: {=IFERROR(INDEX(商品资料表!$C$1:$K$36,SMALL(IF(商品资料表!$C$1:$C$36=库存查询!$L$4,ROW(商品资料表!$C$1:$C$36)),ROW(17:17)),COLUMN(F:F)),"")} | Q23: {=IFERROR(INDEX(商品资料表!$C$1:$K$36,SMALL(IF(商品资料表!$C$1:$C$36=库存查询!$L$4,ROW(商品资料表!$C$1:$C$36)),ROW(17:17)),COLUMN(G:G)),"")} | R23: {=IFERROR(INDEX(商品资料表!$C$1:$K$36,SMALL(IF(商品资料表!$C$1:$C$36=库存查询!$L$4,ROW(商品资料表!$C$1:$C$36)),ROW(17:17)),COLUMN(H:H)),"")} | S23: {=IFERROR(INDEX(商品资料表!$C$1:$K$36,SMALL(IF(商品资料表!$C$1:$C$36=库存查询!$L$4,ROW(商品资料表!$C$1:$C$36)),ROW(17:17)),COLUMN(I:I)),"")}
D24: {=IFERROR(INDEX(商品资料表!C:C,SMALL(IF(MATCH(INDIRECT("商品资料表!$C$2:$C$"&COUNTA(商品资料表!C:C)),INDIRECT("商品资料表!$C$2:$C$"&COUNTA(商品资料表!C:C)),)=ROW(INDIRECT("$1:$"&(COUNTA(商品资料表!C:C)-1))),ROW(INDIRECT("$2:$"&COUNTA(商品资料表!C:C))),4^8),ROW(A18)))&"","")} | E24: =IF(D24="","",IFERROR(SUMIFS(商品出入库表!G:G,商品出入库表!C:C,库存查询!D24,商品出入库表!E:E,库存查询!$F$6,商品出入库表!J:J,"<"&(库存查询!$E$4&TEXT(库存查询!$G$4,"00"))*1)-SUMIFS(商品出入库表!G:G,商品出入库表!C:C,库存查询!D24,商品出入库表!E:E,库存查询!$G$6,商品出入库表!J:J,"<"&(库存查询!$E$4&TEXT(库存查询!$G$4,"00"))*1),"")) | F24: =IF(D24="","",SUMIFS(商品出入库表!G:G,商品出入库表!C:C,库存查询!D24,商品出入库表!H:H,库存查询!$E$4,商品出入库表!I:I,库存查询!$G$4,商品出入库表!E:E,库存查询!$F$6)) | G24: =IF(D24="","",SUMIFS(商品出入库表!G:G,商品出入库表!C:C,库存查询!D24,商品出入库表!H:H,库存查询!$E$4,商品出入库表!I:I,库存查询!$G$4,商品出入库表!E:E,库存查询!$G$6)) | H24: =IFERROR(E24+F24-G24,"") | K24: {=IFERROR(INDEX(商品资料表!$C$1:$K$36,SMALL(IF(商品资料表!$C$1:$C$36=库存查询!$L$4,ROW(商品资料表!$C$1:$C$36)),ROW(18:18)),COLUMN(A:A)),"")} | L24: {=IFERROR(INDEX(商品资料表!$C$1:$K$36,SMALL(IF(商品资料表!$C$1:$C$36=库存查询!$L$4,ROW(商品资料表!$C$1:$C$36)),ROW(18:18)),COLUMN(B:B)),"")} | M24: {=IFERROR(INDEX(商品资料表!$C$1:$K$36,SMALL(IF(商品资料表!$C$1:$C$36=库存查询!$L$4,ROW(商品资料表!$C$1:$C$36)),ROW(18:18)),COLUMN(C:C)),"")} | N24: {=IFERROR(INDEX(商品资料表!$C$1:$K$36,SMALL(IF(商品资料表!$C$1:$C$36=库存查询!$L$4,ROW(商品资料表!$C$1:$C$36)),ROW(18:18)),COLUMN(D:D)),"")} | O24: {=IFERROR(INDEX(商品资料表!$C$1:$K$36,SMALL(IF(商品资料表!$C$1:$C$36=库存查询!$L$4,ROW(商品资料表!$C$1:$C$36)),ROW(18:18)),COLUMN(E:E)),"")} | P24: {=IFERROR(INDEX(商品资料表!$C$1:$K$36,SMALL(IF(商品资料表!$C$1:$C$36=库存查询!$L$4,ROW(商品资料表!$C$1:$C$36)),ROW(18:18)),COLUMN(F:F)),"")} | Q24: {=IFERROR(INDEX(商品资料表!$C$1:$K$36,SMALL(IF(商品资料表!$C$1:$C$36=库存查询!$L$4,ROW(商品资料表!$C$1:$C$36)),ROW(18:18)),COLUMN(G:G)),"")} | R24: {=IFERROR(INDEX(商品资料表!$C$1:$K$36,SMALL(IF(商品资料表!$C$1:$C$36=库存查询!$L$4,ROW(商品资料表!$C$1:$C$36)),ROW(18:18)),COLUMN(H:H)),"")} | S24: {=IFERROR(INDEX(商品资料表!$C$1:$K$36,SMALL(IF(商品资料表!$C$1:$C$36=库存查询!$L$4,ROW(商品资料表!$C$1:$C$36)),ROW(18:18)),COLUMN(I:I)),"")}
D25: {=IFERROR(INDEX(商品资料表!C:C,SMALL(IF(MATCH(INDIRECT("商品资料表!$C$2:$C$"&COUNTA(商品资料表!C:C)),INDIRECT("商品资料表!$C$2:$C$"&COUNTA(商品资料表!C:C)),)=ROW(INDIRECT("$1:$"&(COUNTA(商品资料表!C:C)-1))),ROW(INDIRECT("$2:$"&COUNTA(商品资料表!C:C))),4^8),ROW(A19)))&"","")} | E25: =IF(D25="","",IFERROR(SUMIFS(商品出入库表!G:G,商品出入库表!C:C,库存查询!D25,商品出入库表!E:E,库存查询!$F$6,商品出入库表!J:J,"<"&(库存查询!$E$4&TEXT(库存查询!$G$4,"00"))*1)-SUMIFS(商品出入库表!G:G,商品出入库表!C:C,库存查询!D25,商品出入库表!E:E,库存查询!$G$6,商品出入库表!J:J,"<"&(库存查询!$E$4&TEXT(库存查询!$G$4,"00"))*1),"")) | F25: =IF(D25="","",SUMIFS(商品出入库表!G:G,商品出入库表!C:C,库存查询!D25,商品出入库表!H:H,库存查询!$E$4,商品出入库表!I:I,库存查询!$G$4,商品出入库表!E:E,库存查询!$F$6)) | G25: =IF(D25="","",SUMIFS(商品出入库表!G:G,商品出入库表!C:C,库存查询!D25,商品出入库表!H:H,库存查询!$E$4,商品出入库表!I:I,库存查询!$G$4,商品出入库表!E:E,库存查询!$G$6)) | H25: =IFERROR(E25+F25-G25,"") | K25: {=IFERROR(INDEX(商品资料表!$C$1:$K$36,SMALL(IF(商品资料表!$C$1:$C$36=库存查询!$L$4,ROW(商品资料表!$C$1:$C$36)),ROW(19:19)),COLUMN(A:A)),"")} | L25: {=IFERROR(INDEX(商品资料表!$C$1:$K$36,SMALL(IF(商品资料表!$C$1:$C$36=库存查询!$L$4,ROW(商品资料表!$C$1:$C$36)),ROW(19:19)),COLUMN(B:B)),"")} | M25: {=IFERROR(INDEX(商品资料表!$C$1:$K$36,SMALL(IF(商品资料表!$C$1:$C$36=库存查询!$L$4,ROW(商品资料表!$C$1:$C$36)),ROW(19:19)),COLUMN(C:C)),"")} | N25: {=IFERROR(INDEX(商品资料表!$C$1:$K$36,SMALL(IF(商品资料表!$C$1:$C$36=库存查询!$L$4,ROW(商品资料表!$C$1:$C$36)),ROW(19:19)),COLUMN(D:D)),"")} | O25: {=IFERROR(INDEX(商品资料表!$C$1:$K$36,SMALL(IF(商品资料表!$C$1:$C$36=库存查询!$L$4,ROW(商品资料表!$C$1:$C$36)),ROW(19:19)),COLUMN(E:E)),"")} | P25: {=IFERROR(INDEX(商品资料表!$C$1:$K$36,SMALL(IF(商品资料表!$C$1:$C$36=库存查询!$L$4,ROW(商品资料表!$C$1:$C$36)),ROW(19:19)),COLUMN(F:F)),"")} | Q25: {=IFERROR(INDEX(商品资料表!$C$1:$K$36,SMALL(IF(商品资料表!$C$1:$C$36=库存查询!$L$4,ROW(商品资料表!$C$1:$C$36)),ROW(19:19)),COLUMN(G:G)),"")} | R25: {=IFERROR(INDEX(商品资料表!$C$1:$K$36,SMALL(IF(商品资料表!$C$1:$C$36=库存查询!$L$4,ROW(商品资料表!$C$1:$C$36)),ROW(19:19)),COLUMN(H:H)),"")} | S25: {=IFERROR(INDEX(商品资料表!$C$1:$K$36,SMALL(IF(商品资料表!$C$1:$C$36=库存查询!$L$4,ROW(商品资料表!$C$1:$C$36)),ROW(19:19)),COLUMN(I:I)),"")}
D26: {=IFERROR(INDEX(商品资料表!C:C,SMALL(IF(MATCH(INDIRECT("商品资料表!$C$2:$C$"&COUNTA(商品资料表!C:C)),INDIRECT("商品资料表!$C$2:$C$"&COUNTA(商品资料表!C:C)),)=ROW(INDIRECT("$1:$"&(COUNTA(商品资料表!C:C)-1))),ROW(INDIRECT("$2:$"&COUNTA(商品资料表!C:C))),4^8),ROW(A20)))&"","")} | E26: =IF(D26="","",IFERROR(SUMIFS(商品出入库表!G:G,商品出入库表!C:C,库存查询!D26,商品出入库表!E:E,库存查询!$F$6,商品出入库表!J:J,"<"&(库存查询!$E$4&TEXT(库存查询!$G$4,"00"))*1)-SUMIFS(商品出入库表!G:G,商品出入库表!C:C,库存查询!D26,商品出入库表!E:E,库存查询!$G$6,商品出入库表!J:J,"<"&(库存查询!$E$4&TEXT(库存查询!$G$4,"00"))*1),"")) | F26: =IF(D26="","",SUMIFS(商品出入库表!G:G,商品出入库表!C:C,库存查询!D26,商品出入库表!H:H,库存查询!$E$4,商品出入库表!I:I,库存查询!$G$4,商品出入库表!E:E,库存查询!$F$6)) | G26: =IF(D26="","",SUMIFS(商品出入库表!G:G,商品出入库表!C:C,库存查询!D26,商品出入库表!H:H,库存查询!$E$4,商品出入库表!I:I,库存查询!$G$4,商品出入库表!E:E,库存查询!$G$6)) | H26: =IFERROR(E26+F26-G26,"") | K26: {=IFERROR(INDEX(商品资料表!$C$1:$K$36,SMALL(IF(商品资料表!$C$1:$C$36=库存查询!$L$4,ROW(商品资料表!$C$1:$C$36)),ROW(20:20)),COLUMN(A:A)),"")} | L26: {=IFERROR(INDEX(商品资料表!$C$1:$K$36,SMALL(IF(商品资料表!$C$1:$C$36=库存查询!$L$4,ROW(商品资料表!$C$1:$C$36)),ROW(20:20)),COLUMN(B:B)),"")} | M26: {=IFERROR(INDEX(商品资料表!$C$1:$K$36,SMALL(IF(商品资料表!$C$1:$C$36=库存查询!$L$4,ROW(商品资料表!$C$1:$C$36)),ROW(20:20)),COLUMN(C:C)),"")} | N26: {=IFERROR(INDEX(商品资料表!$C$1:$K$36,SMALL(IF(商品资料表!$C$1:$C$36=库存查询!$L$4,ROW(商品资料表!$C$1:$C$36)),ROW(20:20)),COLUMN(D:D)),"")} | O26: {=IFERROR(INDEX(商品资料表!$C$1:$K$36,SMALL(IF(商品资料表!$C$1:$C$36=库存查询!$L$4,ROW(商品资料表!$C$1:$C$36)),ROW(20:20)),COLUMN(E:E)),"")} | P26: {=IFERROR(INDEX(商品资料表!$C$1:$K$36,SMALL(IF(商品资料表!$C$1:$C$36=库存查询!$L$4,ROW(商品资料表!$C$1:$C$36)),ROW(20:20)),COLUMN(F:F)),"")} | Q26: {=IFERROR(INDEX(商品资料表!$C$1:$K$36,SMALL(IF(商品资料表!$C$1:$C$36=库存查询!$L$4,ROW(商品资料表!$C$1:$C$36)),ROW(20:20)),COLUMN(G:G)),"")} | R26: {=IFERROR(INDEX(商品资料表!$C$1:$K$36,SMALL(IF(商品资料表!$C$1:$C$36=库存查询!$L$4,ROW(商品资料表!$C$1:$C$36)),ROW(20:20)),COLUMN(H:H)),"")} | S26: {=IFERROR(INDEX(商品资料表!$C$1:$K$36,SMALL(IF(商品资料表!$C$1:$C$36=库存查询!$L$4,ROW(商品资料表!$C$1:$C$36)),ROW(20:20)),COLUMN(I:I)),"")}
D27: {=IFERROR(INDEX(商品资料表!C:C,SMALL(IF(MATCH(INDIRECT("商品资料表!$C$2:$C$"&COUNTA(商品资料表!C:C)),INDIRECT("商品资料表!$C$2:$C$"&COUNTA(商品资料表!C:C)),)=ROW(INDIRECT("$1:$"&(COUNTA(商品资料表!C:C)-1))),ROW(INDIRECT("$2:$"&COUNTA(商品资料表!C:C))),4^8),ROW(A21)))&"","")} | E27: =IF(D27="","",IFERROR(SUMIFS(商品出入库表!G:G,商品出入库表!C:C,库存查询!D27,商品出入库表!E:E,库存查询!$F$6,商品出入库表!J:J,"<"&(库存查询!$E$4&TEXT(库存查询!$G$4,"00"))*1)-SUMIFS(商品出入库表!G:G,商品出入库表!C:C,库存查询!D27,商品出入库表!E:E,库存查询!$G$6,商品出入库表!J:J,"<"&(库存查询!$E$4&TEXT(库存查询!$G$4,"00"))*1),"")) | F27: =IF(D27="","",SUMIFS(商品出入库表!G:G,商品出入库表!C:C,库存查询!D27,商品出入库表!H:H,库存查询!$E$4,商品出入库表!I:I,库存查询!$G$4,商品出入库表!E:E,库存查询!$F$6)) | G27: =IF(D27="","",SUMIFS(商品出入库表!G:G,商品出入库表!C:C,库存查询!D27,商品出入库表!H:H,库存查询!$E$4,商品出入库表!I:I,库存查询!$G$4,商品出入库表!E:E,库存查询!$G$6)) | H27: =IFERROR(E27+F27-G27,"") | K27: {=IFERROR(INDEX(商品资料表!$C$1:$K$36,SMALL(IF(商品资料表!$C$1:$C$36=库存查询!$L$4,ROW(商品资料表!$C$1:$C$36)),ROW(21:21)),COLUMN(A:A)),"")} | L27: {=IFERROR(INDEX(商品资料表!$C$1:$K$36,SMALL(IF(商品资料表!$C$1:$C$36=库存查询!$L$4,ROW(商品资料表!$C$1:$C$36)),ROW(21:21)),COLUMN(B:B)),"")} | M27: {=IFERROR(INDEX(商品资料表!$C$1:$K$36,SMALL(IF(商品资料表!$C$1:$C$36=库存查询!$L$4,ROW(商品资料表!$C$1:$C$36)),ROW(21:21)),COLUMN(C:C)),"")} | N27: {=IFERROR(INDEX(商品资料表!$C$1:$K$36,SMALL(IF(商品资料表!$C$1:$C$36=库存查询!$L$4,ROW(商品资料表!$C$1:$C$36)),ROW(21:21)),COLUMN(D:D)),"")} | O27: {=IFERROR(INDEX(商品资料表!$C$1:$K$36,SMALL(IF(商品资料表!$C$1:$C$36=库存查询!$L$4,ROW(商品资料表!$C$1:$C$36)),ROW(21:21)),COLUMN(E:E)),"")} | P27: {=IFERROR(INDEX(商品资料表!$C$1:$K$36,SMALL(IF(商品资料表!$C$1:$C$36=库存查询!$L$4,ROW(商品资料表!$C$1:$C$36)),ROW(21:21)),COLUMN(F:F)),"")} | Q27: {=IFERROR(INDEX(商品资料表!$C$1:$K$36,SMALL(IF(商品资料表!$C$1:$C$36=库存查询!$L$4,ROW(商品资料表!$C$1:$C$36)),ROW(21:21)),COLUMN(G:G)),"")} | R27: {=IFERROR(INDEX(商品资料表!$C$1:$K$36,SMALL(IF(商品资料表!$C$1:$C$36=库存查询!$L$4,ROW(商品资料表!$C$1:$C$36)),ROW(21:21)),COLUMN(H:H)),"")} | S27: {=IFERROR(INDEX(商品资料表!$C$1:$K$36,SMALL(IF(商品资料表!$C$1:$C$36=库存查询!$L$4,ROW(商品资料表!$C$1:$C$36)),ROW(21:21)),COLUMN(I:I)),"")}
D28: {=IFERROR(INDEX(商品资料表!C:C,SMALL(IF(MATCH(INDIRECT("商品资料表!$C$2:$C$"&COUNTA(商品资料表!C:C)),INDIRECT("商品资料表!$C$2:$C$"&COUNTA(商品资料表!C:C)),)=ROW(INDIRECT("$1:$"&(COUNTA(商品资料表!C:C)-1))),ROW(INDIRECT("$2:$"&COUNTA(商品资料表!C:C))),4^8),ROW(A22)))&"","")} | E28: =IF(D28="","",IFERROR(SUMIFS(商品出入库表!G:G,商品出入库表!C:C,库存查询!D28,商品出入库表!E:E,库存查询!$F$6,商品出入库表!J:J,"<"&(库存查询!$E$4&TEXT(库存查询!$G$4,"00"))*1)-SUMIFS(商品出入库表!G:G,商品出入库表!C:C,库存查询!D28,商品出入库表!E:E,库存查询!$G$6,商品出入库表!J:J,"<"&(库存查询!$E$4&TEXT(库存查询!$G$4,"00"))*1),"")) | F28: =IF(D28="","",SUMIFS(商品出入库表!G:G,商品出入库表!C:C,库存查询!D28,商品出入库表!H:H,库存查询!$E$4,商品出入库表!I:I,库存查询!$G$4,商品出入库表!E:E,库存查询!$F$6)) | G28: =IF(D28="","",SUMIFS(商品出入库表!G:G,商品出入库表!C:C,库存查询!D28,商品出入库表!H:H,库存查询!$E$4,商品出入库表!I:I,库存查询!$G$4,商品出入库表!E:E,库存查询!$G$6)) | H28: =IFERROR(E28+F28-G28,"") | K28: {=IFERROR(INDEX(商品资料表!$C$1:$K$36,SMALL(IF(商品资料表!$C$1:$C$36=库存查询!$L$4,ROW(商品资料表!$C$1:$C$36)),ROW(22:22)),COLUMN(A:A)),"")} | L28: {=IFERROR(INDEX(商品资料表!$C$1:$K$36,SMALL(IF(商品资料表!$C$1:$C$36=库存查询!$L$4,ROW(商品资料表!$C$1:$C$36)),ROW(22:22)),COLUMN(B:B)),"")} | M28: {=IFERROR(INDEX(商品资料表!$C$1:$K$36,SMALL(IF(商品资料表!$C$1:$C$36=库存查询!$L$4,ROW(商品资料表!$C$1:$C$36)),ROW(22:22)),COLUMN(C:C)),"")} | N28: {=IFERROR(INDEX(商品资料表!$C$1:$K$36,SMALL(IF(商品资料表!$C$1:$C$36=库存查询!$L$4,ROW(商品资料表!$C$1:$C$36)),ROW(22:22)),COLUMN(D:D)),"")} | O28: {=IFERROR(INDEX(商品资料表!$C$1:$K$36,SMALL(IF(商品资料表!$C$1:$C$36=库存查询!$L$4,ROW(商品资料表!$C$1:$C$36)),ROW(22:22)),COLUMN(E:E)),"")} | P28: {=IFERROR(INDEX(商品资料表!$C$1:$K$36,SMALL(IF(商品资料表!$C$1:$C$36=库存查询!$L$4,ROW(商品资料表!$C$1:$C$36)),ROW(22:22)),COLUMN(F:F)),"")} | Q28: {=IFERROR(INDEX(商品资料表!$C$1:$K$36,SMALL(IF(商品资料表!$C$1:$C$36=库存查询!$L$4,ROW(商品资料表!$C$1:$C$36)),ROW(22:22)),COLUMN(G:G)),"")} | R28: {=IFERROR(INDEX(商品资料表!$C$1:$K$36,SMALL(IF(商品资料表!$C$1:$C$36=库存查询!$L$4,ROW(商品资料表!$C$1:$C$36)),ROW(22:22)),COLUMN(H:H)),"")} | S28: {=IFERROR(INDEX(商品资料表!$C$1:$K$36,SMALL(IF(商品资料表!$C$1:$C$36=库存查询!$L$4,ROW(商品资料表!$C$1:$C$36)),ROW(22:22)),COLUMN(I:I)),"")}
D29: {=IFERROR(INDEX(商品资料表!C:C,SMALL(IF(MATCH(INDIRECT("商品资料表!$C$2:$C$"&COUNTA(商品资料表!C:C)),INDIRECT("商品资料表!$C$2:$C$"&COUNTA(商品资料表!C:C)),)=ROW(INDIRECT("$1:$"&(COUNTA(商品资料表!C:C)-1))),ROW(INDIRECT("$2:$"&COUNTA(商品资料表!C:C))),4^8),ROW(A23)))&"","")} | E29: =IF(D29="","",IFERROR(SUMIFS(商品出入库表!G:G,商品出入库表!C:C,库存查询!D29,商品出入库表!E:E,库存查询!$F$6,商品出入库表!J:J,"<"&(库存查询!$E$4&TEXT(库存查询!$G$4,"00"))*1)-SUMIFS(商品出入库表!G:G,商品出入库表!C:C,库存查询!D29,商品出入库表!E:E,库存查询!$G$6,商品出入库表!J:J,"<"&(库存查询!$E$4&TEXT(库存查询!$G$4,"00"))*1),"")) | F29: =IF(D29="","",SUMIFS(商品出入库表!G:G,商品出入库表!C:C,库存查询!D29,商品出入库表!H:H,库存查询!$E$4,商品出入库表!I:I,库存查询!$G$4,商品出入库表!E:E,库存查询!$F$6)) | G29: =IF(D29="","",SUMIFS(商品出入库表!G:G,商品出入库表!C:C,库存查询!D29,商品出入库表!H:H,库存查询!$E$4,商品出入库表!I:I,库存查询!$G$4,商品出入库表!E:E,库存查询!$G$6)) | H29: =IFERROR(E29+F29-G29,"") | K29: {=IFERROR(INDEX(商品资料表!$C$1:$K$36,SMALL(IF(商品资料表!$C$1:$C$36=库存查询!$L$4,ROW(商品资料表!$C$1:$C$36)),ROW(23:23)),COLUMN(A:A)),"")} | L29: {=IFERROR(INDEX(商品资料表!$C$1:$K$36,SMALL(IF(商品资料表!$C$1:$C$36=库存查询!$L$4,ROW(商品资料表!$C$1:$C$36)),ROW(23:23)),COLUMN(B:B)),"")} | M29: {=IFERROR(INDEX(商品资料表!$C$1:$K$36,SMALL(IF(商品资料表!$C$1:$C$36=库存查询!$L$4,ROW(商品资料表!$C$1:$C$36)),ROW(23:23)),COLUMN(C:C)),"")} | N29: {=IFERROR(INDEX(商品资料表!$C$1:$K$36,SMALL(IF(商品资料表!$C$1:$C$36=库存查询!$L$4,ROW(商品资料表!$C$1:$C$36)),ROW(23:23)),COLUMN(D:D)),"")} | O29: {=IFERROR(INDEX(商品资料表!$C$1:$K$36,SMALL(IF(商品资料表!$C$1:$C$36=库存查询!$L$4,ROW(商品资料表!$C$1:$C$36)),ROW(23:23)),COLUMN(E:E)),"")} | P29: {=IFERROR(INDEX(商品资料表!$C$1:$K$36,SMALL(IF(商品资料表!$C$1:$C$36=库存查询!$L$4,ROW(商品资料表!$C$1:$C$36)),ROW(23:23)),COLUMN(F:F)),"")} | Q29: {=IFERROR(INDEX(商品资料表!$C$1:$K$36,SMALL(IF(商品资料表!$C$1:$C$36=库存查询!$L$4,ROW(商品资料表!$C$1:$C$36)),ROW(23:23)),COLUMN(G:G)),"")} | R29: {=IFERROR(INDEX(商品资料表!$C$1:$K$36,SMALL(IF(商品资料表!$C$1:$C$36=库存查询!$L$4,ROW(商品资料表!$C$1:$C$36)),ROW(23:23)),COLUMN(H:H)),"")} | S29: {=IFERROR(INDEX(商品资料表!$C$1:$K$36,SMALL(IF(商品资料表!$C$1:$C$36=库存查询!$L$4,ROW(商品资料表!$C$1:$C$36)),ROW(23:23)),COLUMN(I:I)),"")}
D30: {=IFERROR(INDEX(商品资料表!C:C,SMALL(IF(MATCH(INDIRECT("商品资料表!$C$2:$C$"&COUNTA(商品资料表!C:C)),INDIRECT("商品资料表!$C$2:$C$"&COUNTA(商品资料表!C:C)),)=ROW(INDIRECT("$1:$"&(COUNTA(商品资料表!C:C)-1))),ROW(INDIRECT("$2:$"&COUNTA(商品资料表!C:C))),4^8),ROW(A24)))&"","")} | E30: =IF(D30="","",IFERROR(SUMIFS(商品出入库表!G:G,商品出入库表!C:C,库存查询!D30,商品出入库表!E:E,库存查询!$F$6,商品出入库表!J:J,"<"&(库存查询!$E$4&TEXT(库存查询!$G$4,"00"))*1)-SUMIFS(商品出入库表!G:G,商品出入库表!C:C,库存查询!D30,商品出入库表!E:E,库存查询!$G$6,商品出入库表!J:J,"<"&(库存查询!$E$4&TEXT(库存查询!$G$4,"00"))*1),"")) | F30: =IF(D30="","",SUMIFS(商品出入库表!G:G,商品出入库表!C:C,库存查询!D30,商品出入库表!H:H,库存查询!$E$4,商品出入库表!I:I,库存查询!$G$4,商品出入库表!E:E,库存查询!$F$6)) | G30: =IF(D30="","",SUMIFS(商品出入库表!G:G,商品出入库表!C:C,库存查询!D30,商品出入库表!H:H,库存查询!$E$4,商品出入库表!I:I,库存查询!$G$4,商品出入库表!E:E,库存查询!$G$6)) | H30: =IFERROR(E30+F30-G30,"") | K30: {=IFERROR(INDEX(商品资料表!$C$1:$K$36,SMALL(IF(商品资料表!$C$1:$C$36=库存查询!$L$4,ROW(商品资料表!$C$1:$C$36)),ROW(24:24)),COLUMN(A:A)),"")} | L30: {=IFERROR(INDEX(商品资料表!$C$1:$K$36,SMALL(IF(商品资料表!$C$1:$C$36=库存查询!$L$4,ROW(商品资料表!$C$1:$C$36)),ROW(24:24)),COLUMN(B:B)),"")} | M30: {=IFERROR(INDEX(商品资料表!$C$1:$K$36,SMALL(IF(商品资料表!$C$1:$C$36=库存查询!$L$4,ROW(商品资料表!$C$1:$C$36)),ROW(24:24)),COLUMN(C:C)),"")} | N30: {=IFERROR(INDEX(商品资料表!$C$1:$K$36,SMALL(IF(商品资料表!$C$1:$C$36=库存查询!$L$4,ROW(商品资料表!$C$1:$C$36)),ROW(24:24)),COLUMN(D:D)),"")} | O30: {=IFERROR(INDEX(商品资料表!$C$1:$K$36,SMALL(IF(商品资料表!$C$1:$C$36=库存查询!$L$4,ROW(商品资料表!$C$1:$C$36)),ROW(24:24)),COLUMN(E:E)),"")} | P30: {=IFERROR(INDEX(商品资料表!$C$1:$K$36,SMALL(IF(商品资料表!$C$1:$C$36=库存查询!$L$4,ROW(商品资料表!$C$1:$C$36)),ROW(24:24)),COLUMN(F:F)),"")} | Q30: {=IFERROR(INDEX(商品资料表!$C$1:$K$36,SMALL(IF(商品资料表!$C$1:$C$36=库存查询!$L$4,ROW(商品资料表!$C$1:$C$36)),ROW(24:24)),COLUMN(G:G)),"")} | R30: {=IFERROR(INDEX(商品资料表!$C$1:$K$36,SMALL(IF(商品资料表!$C$1:$C$36=库存查询!$L$4,ROW(商品资料表!$C$1:$C$36)),ROW(24:24)),COLUMN(H:H)),"")} | S30: {=IFERROR(INDEX(商品资料表!$C$1:$K$36,SMALL(IF(商品资料表!$C$1:$C$36=库存查询!$L$4,ROW(商品资料表!$C$1:$C$36)),ROW(24:24)),COLUMN(I:I)),"")}
D31: {=IFERROR(INDEX(商品资料表!C:C,SMALL(IF(MATCH(INDIRECT("商品资料表!$C$2:$C$"&COUNTA(商品资料表!C:C)),INDIRECT("商品资料表!$C$2:$C$"&COUNTA(商品资料表!C:C)),)=ROW(INDIRECT("$1:$"&(COUNTA(商品资料表!C:C)-1))),ROW(INDIRECT("$2:$"&COUNTA(商品资料表!C:C))),4^8),ROW(A25)))&"","")} | E31: =IF(D31="","",IFERROR(SUMIFS(商品出入库表!G:G,商品出入库表!C:C,库存查询!D31,商品出入库表!E:E,库存查询!$F$6,商品出入库表!J:J,"<"&(库存查询!$E$4&TEXT(库存查询!$G$4,"00"))*1)-SUMIFS(商品出入库表!G:G,商品出入库表!C:C,库存查询!D31,商品出入库表!E:E,库存查询!$G$6,商品出入库表!J:J,"<"&(库存查询!$E$4&TEXT(库存查询!$G$4,"00"))*1),"")) | F31: =IF(D31="","",SUMIFS(商品出入库表!G:G,商品出入库表!C:C,库存查询!D31,商品出入库表!H:H,库存查询!$E$4,商品出入库表!I:I,库存查询!$G$4,商品出入库表!E:E,库存查询!$F$6)) | G31: =IF(D31="","",SUMIFS(商品出入库表!G:G,商品出入库表!C:C,库存查询!D31,商品出入库表!H:H,库存查询!$E$4,商品出入库表!I:I,库存查询!$G$4,商品出入库表!E:E,库存查询!$G$6)) | H31: =IFERROR(E31+F31-G31,"") | K31: {=IFERROR(INDEX(商品资料表!$C$1:$K$36,SMALL(IF(商品资料表!$C$1:$C$36=库存查询!$L$4,ROW(商品资料表!$C$1:$C$36)),ROW(25:25)),COLUMN(A:A)),"")} | L31: {=IFERROR(INDEX(商品资料表!$C$1:$K$36,SMALL(IF(商品资料表!$C$1:$C$36=库存查询!$L$4,ROW(商品资料表!$C$1:$C$36)),ROW(25:25)),COLUMN(B:B)),"")} | M31: {=IFERROR(INDEX(商品资料表!$C$1:$K$36,SMALL(IF(商品资料表!$C$1:$C$36=库存查询!$L$4,ROW(商品资料表!$C$1:$C$36)),ROW(25:25)),COLUMN(C:C)),"")} | N31: {=IFERROR(INDEX(商品资料表!$C$1:$K$36,SMALL(IF(商品资料表!$C$1:$C$36=库存查询!$L$4,ROW(商品资料表!$C$1:$C$36)),ROW(25:25)),COLUMN(D:D)),"")} | O31: {=IFERROR(INDEX(商品资料表!$C$1:$K$36,SMALL(IF(商品资料表!$C$1:$C$36=库存查询!$L$4,ROW(商品资料表!$C$1:$C$36)),ROW(25:25)),COLUMN(E:E)),"")} | P31: {=IFERROR(INDEX(商品资料表!$C$1:$K$36,SMALL(IF(商品资料表!$C$1:$C$36=库存查询!$L$4,ROW(商品资料表!$C$1:$C$36)),ROW(25:25)),COLUMN(F:F)),"")} | Q31: {=IFERROR(INDEX(商品资料表!$C$1:$K$36,SMALL(IF(商品资料表!$C$1:$C$36=库存查询!$L$4,ROW(商品资料表!$C$1:$C$36)),ROW(25:25)),COLUMN(G:G)),"")} | R31: {=IFERROR(INDEX(商品资料表!$C$1:$K$36,SMALL(IF(商品资料表!$C$1:$C$36=库存查询!$L$4,ROW(商品资料表!$C$1:$C$36)),ROW(25:25)),COLUMN(H:H)),"")} | S31: {=IFERROR(INDEX(商品资料表!$C$1:$K$36,SMALL(IF(商品资料表!$C$1:$C$36=库存查询!$L$4,ROW(商品资料表!$C$1:$C$36)),ROW(25:25)),COLUMN(I:I)),"")}
D32: {=IFERROR(INDEX(商品资料表!C:C,SMALL(IF(MATCH(INDIRECT("商品资料表!$C$2:$C$"&COUNTA(商品资料表!C:C)),INDIRECT("商品资料表!$C$2:$C$"&COUNTA(商品资料表!C:C)),)=ROW(INDIRECT("$1:$"&(COUNTA(商品资料表!C:C)-1))),ROW(INDIRECT("$2:$"&COUNTA(商品资料表!C:C))),4^8),ROW(A26)))&"","")} | E32: =IF(D32="","",IFERROR(SUMIFS(商品出入库表!G:G,商品出入库表!C:C,库存查询!D32,商品出入库表!E:E,库存查询!$F$6,商品出入库表!J:J,"<"&(库存查询!$E$4&TEXT(库存查询!$G$4,"00"))*1)-SUMIFS(商品出入库表!G:G,商品出入库表!C:C,库存查询!D32,商品出入库表!E:E,库存查询!$G$6,商品出入库表!J:J,"<"&(库存查询!$E$4&TEXT(库存查询!$G$4,"00"))*1),"")) | F32: =IF(D32="","",SUMIFS(商品出入库表!G:G,商品出入库表!C:C,库存查询!D32,商品出入库表!H:H,库存查询!$E$4,商品出入库表!I:I,库存查询!$G$4,商品出入库表!E:E,库存查询!$F$6)) | G32: =IF(D32="","",SUMIFS(商品出入库表!G:G,商品出入库表!C:C,库存查询!D32,商品出入库表!H:H,库存查询!$E$4,商品出入库表!I:I,库存查询!$G$4,商品出入库表!E:E,库存查询!$G$6)) | H32: =IFERROR(E32+F32-G32,"") | K32: {=IFERROR(INDEX(商品资料表!$C$1:$K$36,SMALL(IF(商品资料表!$C$1:$C$36=库存查询!$L$4,ROW(商品资料表!$C$1:$C$36)),ROW(26:26)),COLUMN(A:A)),"")} | L32: {=IFERROR(INDEX(商品资料表!$C$1:$K$36,SMALL(IF(商品资料表!$C$1:$C$36=库存查询!$L$4,ROW(商品资料表!$C$1:$C$36)),ROW(26:26)),COLUMN(B:B)),"")} | M32: {=IFERROR(INDEX(商品资料表!$C$1:$K$36,SMALL(IF(商品资料表!$C$1:$C$36=库存查询!$L$4,ROW(商品资料表!$C$1:$C$36)),ROW(26:26)),COLUMN(C:C)),"")} | N32: {=IFERROR(INDEX(商品资料表!$C$1:$K$36,SMALL(IF(商品资料表!$C$1:$C$36=库存查询!$L$4,ROW(商品资料表!$C$1:$C$36)),ROW(26:26)),COLUMN(D:D)),"")} | O32: {=IFERROR(INDEX(商品资料表!$C$1:$K$36,SMALL(IF(商品资料表!$C$1:$C$36=库存查询!$L$4,ROW(商品资料表!$C$1:$C$36)),ROW(26:26)),COLUMN(E:E)),"")} | P32: {=IFERROR(INDEX(商品资料表!$C$1:$K$36,SMALL(IF(商品资料表!$C$1:$C$36=库存查询!$L$4,ROW(商品资料表!$C$1:$C$36)),ROW(26:26)),COLUMN(F:F)),"")} | Q32: {=IFERROR(INDEX(商品资料表!$C$1:$K$36,SMALL(IF(商品资料表!$C$1:$C$36=库存查询!$L$4,ROW(商品资料表!$C$1:$C$36)),ROW(26:26)),COLUMN(G:G)),"")} | R32: {=IFERROR(INDEX(商品资料表!$C$1:$K$36,SMALL(IF(商品资料表!$C$1:$C$36=库存查询!$L$4,ROW(商品资料表!$C$1:$C$36)),ROW(26:26)),COLUMN(H:H)),"")} | S32: {=IFERROR(INDEX(商品资料表!$C$1:$K$36,SMALL(IF(商品资料表!$C$1:$C$36=库存查询!$L$4,ROW(商品资料表!$C$1:$C$36)),ROW(26:26)),COLUMN(I:I)),"")}
D33: {=IFERROR(INDEX(商品资料表!C:C,SMALL(IF(MATCH(INDIRECT("商品资料表!$C$2:$C$"&COUNTA(商品资料表!C:C)),INDIRECT("商品资料表!$C$2:$C$"&COUNTA(商品资料表!C:C)),)=ROW(INDIRECT("$1:$"&(COUNTA(商品资料表!C:C)-1))),ROW(INDIRECT("$2:$"&COUNTA(商品资料表!C:C))),4^8),ROW(A27)))&"","")} | E33: =IF(D33="","",IFERROR(SUMIFS(商品出入库表!G:G,商品出入库表!C:C,库存查询!D33,商品出入库表!E:E,库存查询!$F$6,商品出入库表!J:J,"<"&(库存查询!$E$4&TEXT(库存查询!$G$4,"00"))*1)-SUMIFS(商品出入库表!G:G,商品出入库表!C:C,库存查询!D33,商品出入库表!E:E,库存查询!$G$6,商品出入库表!J:J,"<"&(库存查询!$E$4&TEXT(库存查询!$G$4,"00"))*1),"")) | F33: =IF(D33="","",SUMIFS(商品出入库表!G:G,商品出入库表!C:C,库存查询!D33,商品出入库表!H:H,库存查询!$E$4,商品出入库表!I:I,库存查询!$G$4,商品出入库表!E:E,库存查询!$F$6)) | G33: =IF(D33="","",SUMIFS(商品出入库表!G:G,商品出入库表!C:C,库存查询!D33,商品出入库表!H:H,库存查询!$E$4,商品出入库表!I:I,库存查询!$G$4,商品出入库表!E:E,库存查询!$G$6)) | H33: =IFERROR(E33+F33-G33,"") | K33: {=IFERROR(INDEX(商品资料表!$C$1:$K$36,SMALL(IF(商品资料表!$C$1:$C$36=库存查询!$L$4,ROW(商品资料表!$C$1:$C$36)),ROW(27:27)),COLUMN(A:A)),"")} | L33: {=IFERROR(INDEX(商品资料表!$C$1:$K$36,SMALL(IF(商品资料表!$C$1:$C$36=库存查询!$L$4,ROW(商品资料表!$C$1:$C$36)),ROW(27:27)),COLUMN(B:B)),"")} | M33: {=IFERROR(INDEX(商品资料表!$C$1:$K$36,SMALL(IF(商品资料表!$C$1:$C$36=库存查询!$L$4,ROW(商品资料表!$C$1:$C$36)),ROW(27:27)),COLUMN(C:C)),"")} | N33: {=IFERROR(INDEX(商品资料表!$C$1:$K$36,SMALL(IF(商品资料表!$C$1:$C$36=库存查询!$L$4,ROW(商品资料表!$C$1:$C$36)),ROW(27:27)),COLUMN(D:D)),"")} | O33: {=IFERROR(INDEX(商品资料表!$C$1:$K$36,SMALL(IF(商品资料表!$C$1:$C$36=库存查询!$L$4,ROW(商品资料表!$C$1:$C$36)),ROW(27:27)),COLUMN(E:E)),"")} | P33: {=IFERROR(INDEX(商品资料表!$C$1:$K$36,SMALL(IF(商品资料表!$C$1:$C$36=库存查询!$L$4,ROW(商品资料表!$C$1:$C$36)),ROW(27:27)),COLUMN(F:F)),"")} | Q33: {=IFERROR(INDEX(商品资料表!$C$1:$K$36,SMALL(IF(商品资料表!$C$1:$C$36=库存查询!$L$4,ROW(商品资料表!$C$1:$C$36)),ROW(27:27)),COLUMN(G:G)),"")} | R33: {=IFERROR(INDEX(商品资料表!$C$1:$K$36,SMALL(IF(商品资料表!$C$1:$C$36=库存查询!$L$4,ROW(商品资料表!$C$1:$C$36)),ROW(27:27)),COLUMN(H:H)),"")} | S33: {=IFERROR(INDEX(商品资料表!$C$1:$K$36,SMALL(IF(商品资料表!$C$1:$C$36=库存查询!$L$4,ROW(商品资料表!$C$1:$C$36)),ROW(27:27)),COLUMN(I:I)),"")}
D34: {=IFERROR(INDEX(商品资料表!C:C,SMALL(IF(MATCH(INDIRECT("商品资料表!$C$2:$C$"&COUNTA(商品资料表!C:C)),INDIRECT("商品资料表!$C$2:$C$"&COUNTA(商品资料表!C:C)),)=ROW(INDIRECT("$1:$"&(COUNTA(商品资料表!C:C)-1))),ROW(INDIRECT("$2:$"&COUNTA(商品资料表!C:C))),4^8),ROW(A28)))&"","")} | E34: =IF(D34="","",IFERROR(SUMIFS(商品出入库表!G:G,商品出入库表!C:C,库存查询!D34,商品出入库表!E:E,库存查询!$F$6,商品出入库表!J:J,"<"&(库存查询!$E$4&TEXT(库存查询!$G$4,"00"))*1)-SUMIFS(商品出入库表!G:G,商品出入库表!C:C,库存查询!D34,商品出入库表!E:E,库存查询!$G$6,商品出入库表!J:J,"<"&(库存查询!$E$4&TEXT(库存查询!$G$4,"00"))*1),"")) | F34: =IF(D34="","",SUMIFS(商品出入库表!G:G,商品出入库表!C:C,库存查询!D34,商品出入库表!H:H,库存查询!$E$4,商品出入库表!I:I,库存查询!$G$4,商品出入库表!E:E,库存查询!$F$6)) | G34: =IF(D34="","",SUMIFS(商品出入库表!G:G,商品出入库表!C:C,库存查询!D34,商品出入库表!H:H,库存查询!$E$4,商品出入库表!I:I,库存查询!$G$4,商品出入库表!E:E,库存查询!$G$6)) | H34: =IFERROR(E34+F34-G34,"") | K34: {=IFERROR(INDEX(商品资料表!$C$1:$K$36,SMALL(IF(商品资料表!$C$1:$C$36=库存查询!$L$4,ROW(商品资料表!$C$1:$C$36)),ROW(28:28)),COLUMN(A:A)),"")} | L34: {=IFERROR(INDEX(商品资料表!$C$1:$K$36,SMALL(IF(商品资料表!$C$1:$C$36=库存查询!$L$4,ROW(商品资料表!$C$1:$C$36)),ROW(28:28)),COLUMN(B:B)),"")} | M34: {=IFERROR(INDEX(商品资料表!$C$1:$K$36,SMALL(IF(商品资料表!$C$1:$C$36=库存查询!$L$4,ROW(商品资料表!$C$1:$C$36)),ROW(28:28)),COLUMN(C:C)),"")} | N34: {=IFERROR(INDEX(商品资料表!$C$1:$K$36,SMALL(IF(商品资料表!$C$1:$C$36=库存查询!$L$4,ROW(商品资料表!$C$1:$C$36)),ROW(28:28)),COLUMN(D:D)),"")} | O34: {=IFERROR(INDEX(商品资料表!$C$1:$K$36,SMALL(IF(商品资料表!$C$1:$C$36=库存查询!$L$4,ROW(商品资料表!$C$1:$C$36)),ROW(28:28)),COLUMN(E:E)),"")} | P34: {=IFERROR(INDEX(商品资料表!$C$1:$K$36,SMALL(IF(商品资料表!$C$1:$C$36=库存查询!$L$4,ROW(商品资料表!$C$1:$C$36)),ROW(28:28)),COLUMN(F:F)),"")} | Q34: {=IFERROR(INDEX(商品资料表!$C$1:$K$36,SMALL(IF(商品资料表!$C$1:$C$36=库存查询!$L$4,ROW(商品资料表!$C$1:$C$36)),ROW(28:28)),COLUMN(G:G)),"")} | R34: {=IFERROR(INDEX(商品资料表!$C$1:$K$36,SMALL(IF(商品资料表!$C$1:$C$36=库存查询!$L$4,ROW(商品资料表!$C$1:$C$36)),ROW(28:28)),COLUMN(H:H)),"")} | S34: {=IFERROR(INDEX(商品资料表!$C$1:$K$36,SMALL(IF(商品资料表!$C$1:$C$36=库存查询!$L$4,ROW(商品资料表!$C$1:$C$36)),ROW(28:28)),COLUMN(I:I)),"")}
D35: {=IFERROR(INDEX(商品资料表!C:C,SMALL(IF(MATCH(INDIRECT("商品资料表!$C$2:$C$"&COUNTA(商品资料表!C:C)),INDIRECT("商品资料表!$C$2:$C$"&COUNTA(商品资料表!C:C)),)=ROW(INDIRECT("$1:$"&(COUNTA(商品资料表!C:C)-1))),ROW(INDIRECT("$2:$"&COUNTA(商品资料表!C:C))),4^8),ROW(A29)))&"","")} | E35: =IF(D35="","",IFERROR(SUMIFS(商品出入库表!G:G,商品出入库表!C:C,库存查询!D35,商品出入库表!E:E,库存查询!$F$6,商品出入库表!J:J,"<"&(库存查询!$E$4&TEXT(库存查询!$G$4,"00"))*1)-SUMIFS(商品出入库表!G:G,商品出入库表!C:C,库存查询!D35,商品出入库表!E:E,库存查询!$G$6,商品出入库表!J:J,"<"&(库存查询!$E$4&TEXT(库存查询!$G$4,"00"))*1),"")) | F35: =IF(D35="","",SUMIFS(商品出入库表!G:G,商品出入库表!C:C,库存查询!D35,商品出入库表!H:H,库存查询!$E$4,商品出入库表!I:I,库存查询!$G$4,商品出入库表!E:E,库存查询!$F$6)) | G35: =IF(D35="","",SUMIFS(商品出入库表!G:G,商品出入库表!C:C,库存查询!D35,商品出入库表!H:H,库存查询!$E$4,商品出入库表!I:I,库存查询!$G$4,商品出入库表!E:E,库存查询!$G$6)) | H35: =IFERROR(E35+F35-G35,"") | K35: {=IFERROR(INDEX(商品资料表!$C$1:$K$36,SMALL(IF(商品资料表!$C$1:$C$36=库存查询!$L$4,ROW(商品资料表!$C$1:$C$36)),ROW(29:29)),COLUMN(A:A)),"")} | L35: {=IFERROR(INDEX(商品资料表!$C$1:$K$36,SMALL(IF(商品资料表!$C$1:$C$36=库存查询!$L$4,ROW(商品资料表!$C$1:$C$36)),ROW(29:29)),COLUMN(B:B)),"")} | M35: {=IFERROR(INDEX(商品资料表!$C$1:$K$36,SMALL(IF(商品资料表!$C$1:$C$36=库存查询!$L$4,ROW(商品资料表!$C$1:$C$36)),ROW(29:29)),COLUMN(C:C)),"")} | N35: {=IFERROR(INDEX(商品资料表!$C$1:$K$36,SMALL(IF(商品资料表!$C$1:$C$36=库存查询!$L$4,ROW(商品资料表!$C$1:$C$36)),ROW(29:29)),COLUMN(D:D)),"")} | O35: {=IFERROR(INDEX(商品资料表!$C$1:$K$36,SMALL(IF(商品资料表!$C$1:$C$36=库存查询!$L$4,ROW(商品资料表!$C$1:$C$36)),ROW(29:29)),COLUMN(E:E)),"")} | P35: {=IFERROR(INDEX(商品资料表!$C$1:$K$36,SMALL(IF(商品资料表!$C$1:$C$36=库存查询!$L$4,ROW(商品资料表!$C$1:$C$36)),ROW(29:29)),COLUMN(F:F)),"")} | Q35: {=IFERROR(INDEX(商品资料表!$C$1:$K$36,SMALL(IF(商品资料表!$C$1:$C$36=库存查询!$L$4,ROW(商品资料表!$C$1:$C$36)),ROW(29:29)),COLUMN(G:G)),"")} | R35: {=IFERROR(INDEX(商品资料表!$C$1:$K$36,SMALL(IF(商品资料表!$C$1:$C$36=库存查询!$L$4,ROW(商品资料表!$C$1:$C$36)),ROW(29:29)),COLUMN(H:H)),"")} | S35: {=IFERROR(INDEX(商品资料表!$C$1:$K$36,SMALL(IF(商品资料表!$C$1:$C$36=库存查询!$L$4,ROW(商品资料表!$C$1:$C$36)),ROW(29:29)),COLUMN(I:I)),"")}
D36: {=IFERROR(INDEX(商品资料表!C:C,SMALL(IF(MATCH(INDIRECT("商品资料表!$C$2:$C$"&COUNTA(商品资料表!C:C)),INDIRECT("商品资料表!$C$2:$C$"&COUNTA(商品资料表!C:C)),)=ROW(INDIRECT("$1:$"&(COUNTA(商品资料表!C:C)-1))),ROW(INDIRECT("$2:$"&COUNTA(商品资料表!C:C))),4^8),ROW(A30)))&"","")} | E36: =IF(D36="","",IFERROR(SUMIFS(商品出入库表!G:G,商品出入库表!C:C,库存查询!D36,商品出入库表!E:E,库存查询!$F$6,商品出入库表!J:J,"<"&(库存查询!$E$4&TEXT(库存查询!$G$4,"00"))*1)-SUMIFS(商品出入库表!G:G,商品出入库表!C:C,库存查询!D36,商品出入库表!E:E,库存查询!$G$6,商品出入库表!J:J,"<"&(库存查询!$E$4&TEXT(库存查询!$G$4,"00"))*1),"")) | F36: =IF(D36="","",SUMIFS(商品出入库表!G:G,商品出入库表!C:C,库存查询!D36,商品出入库表!H:H,库存查询!$E$4,商品出入库表!I:I,库存查询!$G$4,商品出入库表!E:E,库存查询!$F$6)) | G36: =IF(D36="","",SUMIFS(商品出入库表!G:G,商品出入库表!C:C,库存查询!D36,商品出入库表!H:H,库存查询!$E$4,商品出入库表!I:I,库存查询!$G$4,商品出入库表!E:E,库存查询!$G$6)) | H36: =IFERROR(E36+F36-G36,"") | K36: {=IFERROR(INDEX(商品资料表!$C$1:$K$36,SMALL(IF(商品资料表!$C$1:$C$36=库存查询!$L$4,ROW(商品资料表!$C$1:$C$36)),ROW(30:30)),COLUMN(A:A)),"")} | L36: {=IFERROR(INDEX(商品资料表!$C$1:$K$36,SMALL(IF(商品资料表!$C$1:$C$36=库存查询!$L$4,ROW(商品资料表!$C$1:$C$36)),ROW(30:30)),COLUMN(B:B)),"")} | M36: {=IFERROR(INDEX(商品资料表!$C$1:$K$36,SMALL(IF(商品资料表!$C$1:$C$36=库存查询!$L$4,ROW(商品资料表!$C$1:$C$36)),ROW(30:30)),COLUMN(C:C)),"")} | N36: {=IFERROR(INDEX(商品资料表!$C$1:$K$36,SMALL(IF(商品资料表!$C$1:$C$36=库存查询!$L$4,ROW(商品资料表!$C$1:$C$36)),ROW(30:30)),COLUMN(D:D)),"")} | O36: {=IFERROR(INDEX(商品资料表!$C$1:$K$36,SMALL(IF(商品资料表!$C$1:$C$36=库存查询!$L$4,ROW(商品资料表!$C$1:$C$36)),ROW(30:30)),COLUMN(E:E)),"")} | P36: {=IFERROR(INDEX(商品资料表!$C$1:$K$36,SMALL(IF(商品资料表!$C$1:$C$36=库存查询!$L$4,ROW(商品资料表!$C$1:$C$36)),ROW(30:30)),COLUMN(F:F)),"")} | Q36: {=IFERROR(INDEX(商品资料表!$C$1:$K$36,SMALL(IF(商品资料表!$C$1:$C$36=库存查询!$L$4,ROW(商品资料表!$C$1:$C$36)),ROW(30:30)),COLUMN(G:G)),"")} | R36: {=IFERROR(INDEX(商品资料表!$C$1:$K$36,SMALL(IF(商品资料表!$C$1:$C$36=库存查询!$L$4,ROW(商品资料表!$C$1:$C$36)),ROW(30:30)),COLUMN(H:H)),"")} | S36: {=IFERROR(INDEX(商品资料表!$C$1:$K$36,SMALL(IF(商品资料表!$C$1:$C$36=库存查询!$L$4,ROW(商品资料表!$C$1:$C$36)),ROW(30:30)),COLUMN(I:I)),"")}
