Workbook
Name 商品名称: OFFSET(商品资料表[[#Headers],[商品名称]],1,,COUNTA(商品资料表!$C:$C)-2)
Name 商品名称: OFFSET(商品资料表[[#Headers],[商品名称]],1,,COUNTA(商品资料表!$C:$C)-2)

Sheet 首页

Sheet 说明
A4: 库存提醒天数 | B4: 365 | D4: 提前期（天） | E4: 3 | G4: 服务水平 | H4: 95 | I4: %
A5: ="注：改变'库存提醒天数'，可以改变《商品资料表》中的'保质期到期提醒'，"&B4&"指保质期还有365天即将到期时，在商品资料表中给予相应提醒。" -> 注：改变'库存提醒天数'，可以改变《商品资料表》中的'保质期到期提醒'，365指保质期还有365天即将到期时，在商品资料表中给予相应提醒。
C25: 说明
C28: 1、在《商品出入库表》和《商品资料表》中新增数据的方式，见右图：
C30: 2、《基础表》内包含的信息，如下图：
C32: 出入库分类、入库、出库、项目类型下面包含的内容
C39: 各项目下包含的商品名称
C48: 根据“顾客服务水平”查询对应的“安全系数”，用于计算“安全存量”
C62: 3、记录数据遵循步骤：
C64: 首先在《商品资料表》中，构建商品信息，“商品编号”与“生产日期”共同表示商品的唯一性。添加生产日期是方便出库商品时，按照生产日期的先后顺序出库，保证先进先出。（如右图） 如果同一商品，生产日期不同，想要对该商品进行出入库记录，必须首先在《商品资料表》中再次增加该生产日期的商品信息。
C77: 然后就可以在《商品出入库表》中针对该商品做出入库记录了，特别注意的是要核对好“生产日期”。针对每个商品，每天只记录一次出入库记录。如商品A一天出库3次，只需在当天记录商品A出库3个。
C94: 《库存预警》仅用于查看当前库存是否满足安全存量，不需要任何编辑。
C102: 《库存查询》仅用于根据“年份”、“月份”、“商品名称”查询统计商品出入库情况。
C115: 4、《商品资料表》、《商品出入库表》、《历史出库记录截取》、《库存预警》和《库存查询》内容介绍

Sheet 库存查询
D2: 统计指定年份和月份商品当月的出入库情况 | K2: 统计指定单个商品不同生产日期的当前库存状况
D4: 年份 | E4: 2019 | F4: 月份 | G4: 1 | K4: 商品 | L4: A
D6: 商品名称 | E6: 上月结余 | F6: 入库 | G6: 出库 | H6: 月末库存 | K6: 商品名称 | L6: 条形码 | M6: 生产日期 | N6: 保质期（月） | O6: 到期日 | P6: 入库 | Q6: 出库 | R6: 库存 | S6: 保质期到期提醒
D7: {=IFERROR(INDEX(商品资料表!C:C,SMALL(IF(MATCH(INDIRECT("商品资料表!$C$2:$C$"&COUNTA(商品资料表!C:C)),INDIRECT("商品资料表!$C$2:$C$"&COUNTA(商品资料表!C:C)),)=ROW(INDIRECT("$1:$"&(COUNTA(商品资料表!C:C)-1))),ROW(INDIRECT("$2:$"&COUNTA(商品资料表!C:C))),4^8),ROW(A1)))&"","")} -> A | E7: =IF(D7="","",IFERROR(SUMIFS(商品出入库表!G:G,商品出入库表!C:C,库存查询!D7,商品出入库表!E:E,库存查询!$F$6,商品出入库表!J:J,"<"&(库存查询!$E$4&TEXT(库存查询!$G$4,"00"))*1)-SUMIFS(商品出入库表!G:G,商品出入库表!C:C,库存查询!D7,商品出入库表!E:E,库存查询!$G$6,商品出入库表!J:J,"<"&(库存查询!$E$4&TEXT(库存查询!$G$4,"00"))*1),"")) -> 0 | F7: =IF(D7="","",SUMIFS(商品出入库表!G:G,商品出入库表!C:C,库存查询!D7,商品出入库表!H:H,库存查询!$E$4,商品出入库表!I:I,库存查询!$G$4,商品出入库表!E:E,库存查询!$F$6)) -> 22 | G7: =IF(D7="","",SUMIFS(商品出入库表!G:G,商品出入库表!C:C,库存查询!D7,商品出入库表!H:H,库存查询!$E$4,商品出入库表!I:I,库存查询!$G$4,商品出入库表!E:E,库存查询!$G$6)) -> 2 | H7: =IFERROR(E7+F7-G7,"") -> 20 | K7: {=IFERROR(INDEX(商品资料表!$C$1:$K$36,SMALL(IF(商品资料表!$C$1:$C$36=库存查询!$L$4,ROW(商品资料表!$C$1:$C$36)),ROW(1:1)),COLUMN(A:A)),"")} -> A | L7: {=IFERROR(INDEX(商品资料表!$C$1:$K$36,SMALL(IF(商品资料表!$C$1:$C$36=库存查询!$L$4,ROW(商品资料表!$C$1:$C$36)),ROW(1:1)),COLUMN(B:B)),"")} -> 693461310001 | M7: {=IFERROR(INDEX(商品资料表!$C$1:$K$36,SMALL(IF(商品资料表!$C$1:$C$36=库存查询!$L$4,ROW(商品资料表!$C$1:$C$36)),ROW(1:1)),COLUMN(C:C)),"")} -> 42621 | N7: {=IFERROR(INDEX(商品资料表!$C$1:$K$36,SMALL(IF(商品资料表!$C$1:$C$36=库存查询!$L$4,ROW(商品资料表!$C$1:$C$36)),ROW(1:1)),COLUMN(D:D)),"")} -> 36 | O7: {=IFERROR(INDEX(商品资料表!$C$1:$K$36,SMALL(IF(商品资料表!$C$1:$C$36=库存查询!$L$4,ROW(商品资料表!$C$1:$C$36)),ROW(1:1)),COLUMN(E:E)),"")} -> 43716 | P7: {=IFERROR(INDEX(商品资料表!$C$1:$K$36,SMALL(IF(商品资料表!$C$1:$C$36=库存查询!$L$4,ROW(商品资料表!$C$1:$C$36)),ROW(1:1)),COLUMN(F:F)),"")} -> 30 | Q7: {=IFERROR(INDEX(商品资料表!$C$1:$K$36,SMALL(IF(商品资料表!$C$1:$C$36=库存查询!$L$4,ROW(商品资料表!$C$1:$C$36)),ROW(1:1)),COLUMN(G:G)),"")} -> 16 | R7: {=IFERROR(INDEX(商品资料表!$C$1:$K$36,SMALL(IF(商品资料表!$C$1:$C$36=库存查询!$L$4,ROW(商品资料表!$C$1:$C$36)),ROW(1:1)),COLUMN(H:H)),"")} -> 14 | S7: {=IFERROR(INDEX(商品资料表!$C$1:$K$36,SMALL(IF(商品资料表!$C$1:$C$36=库存查询!$L$4,ROW(商品资料表!$C$1:$C$36)),ROW(1:1)),COLUMN(I:I)),"")} -> 还有52天到期
D8: {=IFERROR(INDEX(商品资料表!C:C,SMALL(IF(MATCH(INDIRECT("商品资料表!$C$2:$C$"&COUNTA(商品资料表!C:C)),INDIRECT("商品资料表!$C$2:$C$"&COUNTA(商品资料表!C:C)),)=ROW(INDIRECT("$1:$"&(COUNTA(商品资料表!C:C)-1))),ROW(INDIRECT("$2:$"&COUNTA(商品资料表!C:C))),4^8),ROW(A2)))&"","")} -> B | E8: =IF(D8="","",IFERROR(SUMIFS(商品出入库表!G:G,商品出入库表!C:C,库存查询!D8,商品出入库表!E:E,库存查询!$F$6,商品出入库表!J:J,"<"&(库存查询!$E$4&TEXT(库存查询!$G$4,"00"))*1)-SUMIFS(商品出入库表!G:G,商品出入库表!C:C,库存查询!D8,商品出入库表!E:E,库存查询!$G$6,商品出入库表!J:J,"<"&(库存查询!$E$4&TEXT(库存查询!$G$4,"00"))*1),"")) -> 0 | F8: =IF(D8="","",SUMIFS(商品出入库表!G:G,商品出入库表!C:C,库存查询!D8,商品出入库表!H:H,库存查询!$E$4,商品出入库表!I:I,库存查询!$G$4,商品出入库表!E:E,库存查询!$F$6)) -> 5 | G8: =IF(D8="","",SUMIFS(商品出入库表!G:G,商品出入库表!C:C,库存查询!D8,商品出入库表!H:H,库存查询!$E$4,商品出入库表!I:I,库存查询!$G$4,商品出入库表!E:E,库存查询!$G$6)) -> 4 | H8: =IFERROR(E8+F8-G8,"") -> 1 | K8: {=IFERROR(INDEX(商品资料表!$C$1:$K$36,SMALL(IF(商品资料表!$C$1:$C$36=库存查询!$L$4,ROW(商品资料表!$C$1:$C$36)),ROW(2:2)),COLUMN(A:A)),"")} -> A | L8: {=IFERROR(INDEX(商品资料表!$C$1:$K$36,SMALL(IF(商品资料表!$C$1:$C$36=库存查询!$L$4,ROW(商品资料表!$C$1:$C$36)),ROW(2:2)),COLUMN(B:B)),"")} -> 693461310001 | M8: {=IFERROR(INDEX(商品资料表!$C$1:$K$36,SMALL(IF(商品资料表!$C$1:$C$36=库存查询!$L$4,ROW(商品资料表!$C$1:$C$36)),ROW(2:2)),COLUMN(C:C)),"")} -> 43338 | N8: {=IFERROR(INDEX(商品资料表!$C$1:$K$36,SMALL(IF(商品资料表!$C$1:$C$36=库存查询!$L$4,ROW(商品资料表!$C$1:$C$36)),ROW(2:2)),COLUMN(D:D)),"")} -> 36 | O8: {=IFERROR(INDEX(商品资料表!$C$1:$K$36,SMALL(IF(商品资料表!$C$1:$C$36=库存查询!$L$4,ROW(商品资料表!$C$1:$C$36)),ROW(2:2)),COLUMN(E:E)),"")} -> 44434 | P8: {=IFERROR(INDEX(商品资料表!$C$1:$K$36,SMALL(IF(商品资料表!$C$1:$C$36=库存查询!$L$4,ROW(商品资料表!$C$1:$C$36)),ROW(2:2)),COLUMN(F:F)),"")} -> 12 | Q8: {=IFERROR(INDEX(商品资料表!$C$1:$K$36,SMALL(IF(商品资料表!$C$1:$C$36=库存查询!$L$4,ROW(商品资料表!$C$1:$C$36)),ROW(2:2)),COLUMN(G:G)),"")} -> 0 | R8: {=IFERROR(INDEX(商品资料表!$C$1:$K$36,SMALL(IF(商品资料表!$C$1:$C$36=库存查询!$L$4,ROW(商品资料表!$C$1:$C$36)),ROW(2:2)),COLUMN(H:H)),"")} -> 12 | S8: {=IFERROR(INDEX(商品资料表!$C$1:$K$36,SMALL(IF(商品资料表!$C$1:$C$36=库存查询!$L$4,ROW(商品资料表!$C$1:$C$36)),ROW(2:2)),COLUMN(I:I)),"")}
D9: {=IFERROR(INDEX(商品资料表!C:C,SMALL(IF(MATCH(INDIRECT("商品资料表!$C$2:$C$"&COUNTA(商品资料表!C:C)),INDIRECT("商品资料表!$C$2:$C$"&COUNTA(商品资料表!C:C)),)=ROW(INDIRECT("$1:$"&(COUNTA(商品资料表!C:C)-1))),ROW(INDIRECT("$2:$"&COUNTA(商品资料表!C:C))),4^8),ROW(A3)))&"","")} -> C | E9: =IF(D9="","",IFERROR(SUMIFS(商品出入库表!G:G,商品出入库表!C:C,库存查询!D9,商品出入库表!E:E,库存查询!$F$6,商品出入库表!J:J,"<"&(库存查询!$E$4&TEXT(库存查询!$G$4,"00"))*1)-SUMIFS(商品出入库表!G:G,商品出入库表!C:C,库存查询!D9,商品出入库表!E:E,库存查询!$G$6,商品出入库表!J:J,"<"&(库存查询!$E$4&TEXT(库存查询!$G$4,"00"))*1),"")) -> 0 | F9: =IF(D9="","",SUMIFS(商品出入库表!G:G,商品出入库表!C:C,库存查询!D9,商品出入库表!H:H,库存查询!$E$4,商品出入库表!I:I,库存查询!$G$4,商品出入库表!E:E,库存查询!$F$6)) -> 0 | G9: =IF(D9="","",SUMIFS(商品出入库表!G:G,商品出入库表!C:C,库存查询!D9,商品出入库表!H:H,库存查询!$E$4,商品出入库表!I:I,库存查询!$G$4,商品出入库表!E:E,库存查询!$G$6)) -> 0 | H9: =IFERROR(E9+F9-G9,"") -> 0 | K9: {=IFERROR(INDEX(商品资料表!$C$1:$K$36,SMALL(IF(商品资料表!$C$1:$C$36=库存查询!$L$4,ROW(商品资料表!$C$1:$C$36)),ROW(3:3)),COLUMN(A:A)),"")} | L9: {=IFERROR(INDEX(商品资料表!$C$1:$K$36,SMALL(IF(商品资料表!$C$1:$C$36=库存查询!$L$4,ROW(商品资料表!$C$1:$C$36)),ROW(3:3)),COLUMN(B:B)),"")} | M9: {=IFERROR(INDEX(商品资料表!$C$1:$K$36,SMALL(IF(商品资料表!$C$1:$C$36=库存查询!$L$4,ROW(商品资料表!$C$1:$C$36)),ROW(3:3)),COLUMN(C:C)),"")} | N9: {=IFERROR(INDEX(商品资料表!$C$1:$K$36,SMALL(IF(商品资料表!$C$1:$C$36=库存查询!$L$4,ROW(商品资料表!$C$1:$C$36)),ROW(3:3)),COLUMN(D:D)),"")} | O9: {=IFERROR(INDEX(商品资料表!$C$1:$K$36,SMALL(IF(商品资料表!$C$1:$C$36=库存查询!$L$4,ROW(商品资料表!$C$1:$C$36)),ROW(3:3)),COLUMN(E:E)),"")} | P9: {=IFERROR(INDEX(商品资料表!$C$1:$K$36,SMALL(IF(商品资料表!$C$1:$C$36=库存查询!$L$4,ROW(商品资料表!$C$1:$C$36)),ROW(3:3)),COLUMN(F:F)),"")} | Q9: {=IFERROR(INDEX(商品资料表!$C$1:$K$36,SMALL(IF(商品资料表!$C$1:$C$36=库存查询!$L$4,ROW(商品资料表!$C$1:$C$36)),ROW(3:3)),COLUMN(G:G)),"")} | R9: {=IFERROR(INDEX(商品资料表!$C$1:$K$36,SMALL(IF(商品资料表!$C$1:$C$36=库存查询!$L$4,ROW(商品资料表!$C$1:$C$36)),ROW(3:3)),COLUMN(H:H)),"")} | S9: {=IFERROR(INDEX(商品资料表!$C$1:$K$36,SMALL(IF(商品资料表!$C$1:$C$36=库存查询!$L$4,ROW(商品资料表!$C$1:$C$36)),ROW(3:3)),COLUMN(I:I)),"")}
D10: {=IFERROR(INDEX(商品资料表!C:C,SMALL(IF(MATCH(INDIRECT("商品资料表!$C$2:$C$"&COUNTA(商品资料表!C:C)),INDIRECT("商品资料表!$C$2:$C$"&COUNTA(商品资料表!C:C)),)=ROW(INDIRECT("$1:$"&(COUNTA(商品资料表!C:C)-1))),ROW(INDIRECT("$2:$"&COUNTA(商品资料表!C:C))),4^8),ROW(A4)))&"","")} | E10: =IF(D10="","",IFERROR(SUMIFS(商品出入库表!G:G,商品出入库表!C:C,库存查询!D10,商品出入库表!E:E,库存查询!$F$6,商品出入库表!J:J,"<"&(库存查询!$E$4&TEXT(库存查询!$G$4,"00"))*1)-SUMIFS(商品出入库表!G:G,商品出入库表!C:C,库存查询!D10,商品出入库表!E:E,库存查询!$G$6,商品出入库表!J:J,"<"&(库存查询!$E$4&TEXT(库存查询!$G$4,"00"))*1),"")) | F10: =IF(D10="","",SUMIFS(商品出入库表!G:G,商品出入库表!C:C,库存查询!D10,商品出入库表!H:H,库存查询!$E$4,商品出入库表!I:I,库存查询!$G$4,商品出入库表!E:E,库存查询!$F$6)) | G10: =IF(D10="","",SUMIFS(商品出入库表!G:G,商品出入库表!C:C,库存查询!D10,商品出入库表!H:H,库存查询!$E$4,商品出入库表!I:I,库存查询!$G$4,商品出入库表!E:E,库存查询!$G$6)) | H10: =IFERROR(E10+F10-G10,"") | K10: {=IFERROR(INDEX(商品资料表!$C$1:$K$36,SMALL(IF(商品资料表!$C$1:$C$36=库存查询!$L$4,ROW(商品资料表!$C$1:$C$36)),ROW(4:4)),COLUMN(A:A)),"")} | L10: {=IFERROR(INDEX(商品资料表!$C$1:$K$36,SMALL(IF(商品资料表!$C$1:$C$36=库存查询!$L$4,ROW(商品资料表!$C$1:$C$36)),ROW(4:4)),COLUMN(B:B)),"")} | M10: {=IFERROR(INDEX(商品资料表!$C$1:$K$36,SMALL(IF(商品资料表!$C$1:$C$36=库存查询!$L$4,ROW(商品资料表!$C$1:$C$36)),ROW(4:4)),COLUMN(C:C)),"")} | N10: {=IFERROR(INDEX(商品资料表!$C$1:$K$36,SMALL(IF(商品资料表!$C$1:$C$36=库存查询!$L$4,ROW(商品资料表!$C$1:$C$36)),ROW(4:4)),COLUMN(D:D)),"")} | O10: {=IFERROR(INDEX(商品资料表!$C$1:$K$36,SMALL(IF(商品资料表!$C$1:$C$36=库存查询!$L$4,ROW(商品资料表!$C$1:$C$36)),ROW(4:4)),COLUMN(E:E)),"")} | P10: {=IFERROR(INDEX(商品资料表!$C$1:$K$36,SMALL(IF(商品资料表!$C$1:$C$36=库存查询!$L$4,ROW(商品资料表!$C$1:$C$36)),ROW(4:4)),COLUMN(F:F)),"")} | Q10: {=IFERROR(INDEX(商品资料表!$C$1:$K$36,SMALL(IF(商品资料表!$C$1:$C$36=库存查询!$L$4,ROW(商品资料表!$C$1:$C$36)),ROW(4:4)),COLUMN(G:G)),"")} | R10: {=IFERROR(INDEX(商品资料表!$C$1:$K$36,SMALL(IF(商品资料表!$C$1:$C$36=库存查询!$L$4,ROW(商品资料表!$C$1:$C$36)),ROW(4:4)),COLUMN(H:H)),"")} | S10: {=IFERROR(INDEX(商品资料表!$C$1:$K$36,SMALL(IF(商品资料表!$C$1:$C$36=库存查询!$L$4,ROW(商品资料表!$C$1:$C$36)),ROW(4:4)),COLUMN(I:I)),"")}
D11: {=IFERROR(INDEX(商品资料表!C:C,SMALL(IF(MATCH(INDIRECT("商品资料表!$C$2:$C$"&COUNTA(商品资料表!C:C)),INDIRECT("商品资料表!$C$2:$C$"&COUNTA(商品资料表!C:C)),)=ROW(INDIRECT("$1:$"&(COUNTA(商品资料表!C:C)-1))),ROW(INDIRECT("$2:$"&COUNTA(商品资料表!C:C))),4^8),ROW(A5)))&"","")} | E11: =IF(D11="","",IFERROR(SUMIFS(商品出入库表!G:G,商品出入库表!C:C,库存查询!D11,商品出入库表!E:E,库存查询!$F$6,商品出入库表!J:J,"<"&(库存查询!$E$4&TEXT(库存查询!$G$4,"00"))*1)-SUMIFS(商品出入库表!G:G,商品出入库表!C:C,库存查询!D11,商品出入库表!E:E,库存查询!$G$6,商品出入库表!J:J,"<"&(库存查询!$E$4&TEXT(库存查询!$G$4,"00"))*1),"")) | F11: =IF(D11="","",SUMIFS(商品出入库表!G:G,商品出入库表!C:C,库存查询!D11,商品出入库表!H:H,库存查询!$E$4,商品出入库表!I:I,库存查询!$G$4,商品出入库表!E:E,库存查询!$F$6)) | G11: =IF(D11="","",SUMIFS(商品出入库表!G:G,商品出入库表!C:C,库存查询!D11,商品出入库表!H:H,库存查询!$E$4,商品出入库表!I:I,库存查询!$G$4,商品出入库表!E:E,库存查询!$G$6)) | H11: =IFERROR(E11+F11-G11,"") | K11: {=IFERROR(INDEX(商品资料表!$C$1:$K$36,SMALL(IF(商品资料表!$C$1:$C$36=库存查询!$L$4,ROW(商品资料表!$C$1:$C$36)),ROW(5:5)),COLUMN(A:A)),"")} | L11: {=IFERROR(INDEX(商品资料表!$C$1:$K$36,SMALL(IF(商品资料表!$C$1:$C$36=库存查询!$L$4,ROW(商品资料表!$C$1:$C$36)),ROW(5:5)),COLUMN(B:B)),"")} | M11: {=IFERROR(INDEX(商品资料表!$C$1:$K$36,SMALL(IF(商品资料表!$C$1:$C$36=库存查询!$L$4,ROW(商品资料表!$C$1:$C$36)),ROW(5:5)),COLUMN(C:C)),"")} | N11: {=IFERROR(INDEX(商品资料表!$C$1:$K$36,SMALL(IF(商品资料表!$C$1:$C$36=库存查询!$L$4,ROW(商品资料表!$C$1:$C$36)),ROW(5:5)),COLUMN(D:D)),"")} | O11: {=IFERROR(INDEX(商品资料表!$C$1:$K$36,SMALL(IF(商品资料表!$C$1:$C$36=库存查询!$L$4,ROW(商品资料表!$C$1:$C$36)),ROW(5:5)),COLUMN(E:E)),"")} | P11: {=IFERROR(INDEX(商品资料表!$C$1:$K$36,SMALL(IF(商品资料表!$C$1:$C$36=库存查询!$L$4,ROW(商品资料表!$C$1:$C$36)),ROW(5:5)),COLUMN(F:F)),"")} | Q11: {=IFERROR(INDEX(商品资料表!$C$1:$K$36,SMALL(IF(商品资料表!$C$1:$C$36=库存查询!$L$4,ROW(商品资料表!$C$1:$C$36)),ROW(5:5)),COLUMN(G:G)),"")} | R11: {=IFERROR(INDEX(商品资料表!$C$1:$K$36,SMALL(IF(商品资料表!$C$1:$C$36=库存查询!$L$4,ROW(商品资料表!$C$1:$C$36)),ROW(5:5)),COLUMN(H:H)),"")} | S11: {=IFERROR(INDEX(商品资料表!$C$1:$K$36,SMALL(IF(商品资料表!$C$1:$C$36=库存查询!$L$4,ROW(商品资料表!$C$1:$C$36)),ROW(5:5)),COLUMN(I:I)),"")}
D12: {=IFERROR(INDEX(商品资料表!C:C,SMALL(IF(MATCH(INDIRECT("商品资料表!$C$2:$C$"&COUNTA(商品资料表!C:C)),INDIRECT("商品资料表!$C$2:$C$"&COUNTA(商品资料表!C:C)),)=ROW(INDIRECT("$1:$"&(COUNTA(商品资料表!C:C)-1))),ROW(INDIRECT("$2:$"&COUNTA(商品资料表!C:C))),4^8),ROW(A6)))&"","")} | E12: =IF(D12="","",IFERROR(SUMIFS(商品出入库表!G:G,商品出入库表!C:C,库存查询!D12,商品出入库表!E:E,库存查询!$F$6,商品出入库表!J:J,"<"&(库存查询!$E$4&TEXT(库存查询!$G$4,"00"))*1)-SUMIFS(商品出入库表!G:G,商品出入库表!C:C,库存查询!D12,商品出入库表!E:E,库存查询!$G$6,商品出入库表!J:J,"<"&(库存查询!$E$4&TEXT(库存查询!$G$4,"00"))*1),"")) | F12: =IF(D12="","",SUMIFS(商品出入库表!G:G,商品出入库表!C:C,库存查询!D12,商品出入库表!H:H,库存查询!$E$4,商品出入库表!I:I,库存查询!$G$4,商品出入库表!E:E,库存查询!$F$6)) | G12: =IF(D12="","",SUMIFS(商品出入库表!G:G,商品出入库表!C:C,库存查询!D12,商品出入库表!H:H,库存查询!$E$4,商品出入库表!I:I,库存查询!$G$4,商品出入库表!E:E,库存查询!$G$6)) | H12: =IFERROR(E12+F12-G12,"") | K12: {=IFERROR(INDEX(商品资料表!$C$1:$K$36,SMALL(IF(商品资料表!$C$1:$C$36=库存查询!$L$4,ROW(商品资料表!$C$1:$C$36)),ROW(6:6)),COLUMN(A:A)),"")} | L12: {=IFERROR(INDEX(商品资料表!$C$1:$K$36,SMALL(IF(商品资料表!$C$1:$C$36=库存查询!$L$4,ROW(商品资料表!$C$1:$C$36)),ROW(6:6)),COLUMN(B:B)),"")} | M12: {=IFERROR(INDEX(商品资料表!$C$1:$K$36,SMALL(IF(商品资料表!$C$1:$C$36=库存查询!$L$4,ROW(商品资料表!$C$1:$C$36)),ROW(6:6)),COLUMN(C:C)),"")} | N12: {=IFERROR(INDEX(商品资料表!$C$1:$K$36,SMALL(IF(商品资料表!$C$1:$C$36=库存查询!$L$4,ROW(商品资料表!$C$1:$C$36)),ROW(6:6)),COLUMN(D:D)),"")} | O12: {=IFERROR(INDEX(商品资料表!$C$1:$K$36,SMALL(IF(商品资料表!$C$1:$C$36=库存查询!$L$4,ROW(商品资料表!$C$1:$C$36)),ROW(6:6)),COLUMN(E:E)),"")} | P12: {=IFERROR(INDEX(商品资料表!$C$1:$K$36,SMALL(IF(商品资料表!$C$1:$C$36=库存查询!$L$4,ROW(商品资料表!$C$1:$C$36)),ROW(6:6)),COLUMN(F:F)),"")} | Q12: {=IFERROR(INDEX(商品资料表!$C$1:$K$36,SMALL(IF(商品资料表!$C$1:$C$36=库存查询!$L$4,ROW(商品资料表!$C$1:$C$36)),ROW(6:6)),COLUMN(G:G)),"")} | R12: {=IFERROR(INDEX(商品资料表!$C$1:$K$36,SMALL(IF(商品资料表!$C$1:$C$36=库存查询!$L$4,ROW(商品资料表!$C$1:$C$36)),ROW(6:6)),COLUMN(H:H)),"")} | S12: {=IFERROR(INDEX(商品资料表!$C$1:$K$36,SMALL(IF(商品资料表!$C$1:$C$36=库存查询!$L$4,ROW(商品资料表!$C$1:$C$36)),ROW(6:6)),COLUMN(I:I)),"")}
D13: {=IFERROR(INDEX(商品资料表!C:C,SMALL(IF(MATCH(INDIRECT("商品资料表!$C$2:$C$"&COUNTA(商品资料表!C:C)),INDIRECT("商品资料表!$C$2:$C$"&COUNTA(商品资料表!C:C)),)=ROW(INDIRECT("$1:$"&(COUNTA(商品资料表!C:C)-1))),ROW(INDIRECT("$2:$"&COUNTA(商品资料表!C:C))),4^8),ROW(A7)))&"","")} | E13: =IF(D13="","",IFERROR(SUMIFS(商品出入库表!G:G,商品出入库表!C:C,库存查询!D13,商品出入库表!E:E,库存查询!$F$6,商品出入库表!J:J,"<"&(库存查询!$E$4&TEXT(库存查询!$G$4,"00"))*1)-SUMIFS(商品出入库表!G:G,商品出入库表!C:C,库存查询!D13,商品出入库表!E:E,库存查询!$G$6,商品出入库表!J:J,"<"&(库存查询!$E$4&TEXT(库存查询!$G$4,"00"))*1),"")) | F13: =IF(D13="","",SUMIFS(商品出入库表!G:G,商品出入库表!C:C,库存查询!D13,商品出入库表!H:H,库存查询!$E$4,商品出入库表!I:I,库存查询!$G$4,商品出入库表!E:E,库存查询!$F$6)) | G13: =IF(D13="","",SUMIFS(商品出入库表!G:G,商品出入库表!C:C,库存查询!D13,商品出入库表!H:H,库存查询!$E$4,商品出入库表!I:I,库存查询!$G$4,商品出入库表!E:E,库存查询!$G$6)) | H13: =IFERROR(E13+F13-G13,"") | K13: {=IFERROR(INDEX(商品资料表!$C$1:$K$36,SMALL(IF(商品资料表!$C$1:$C$36=库存查询!$L$4,ROW(商品资料表!$C$1:$C$36)),ROW(7:7)),COLUMN(A:A)),"")} | L13: {=IFERROR(INDEX(商品资料表!$C$1:$K$36,SMALL(IF(商品资料表!$C$1:$C$36=库存查询!$L$4,ROW(商品资料表!$C$1:$C$36)),ROW(7:7)),COLUMN(B:B)),"")} | M13: {=IFERROR(INDEX(商品资料表!$C$1:$K$36,SMALL(IF(商品资料表!$C$1:$C$36=库存查询!$L$4,ROW(商品资料表!$C$1:$C$36)),ROW(7:7)),COLUMN(C:C)),"")} | N13: {=IFERROR(INDEX(商品资料表!$C$1:$K$36,SMALL(IF(商品资料表!$C$1:$C$36=库存查询!$L$4,ROW(商品资料表!$C$1:$C$36)),ROW(7:7)),COLUMN(D:D)),"")} | O13: {=IFERROR(INDEX(商品资料表!$C$1:$K$36,SMALL(IF(商品资料表!$C$1:$C$36=库存查询!$L$4,ROW(商品资料表!$C$1:$C$36)),ROW(7:7)),COLUMN(E:E)),"")} | P13: {=IFERROR(INDEX(商品资料表!$C$1:$K$36,SMALL(IF(商品资料表!$C$1:$C$36=库存查询!$L$4,ROW(商品资料表!$C$1:$C$36)),ROW(7:7)),COLUMN(F:F)),"")} | Q13: {=IFERROR(INDEX(商品资料表!$C$1:$K$36,SMALL(IF(商品资料表!$C$1:$C$36=库存查询!$L$4,ROW(商品资料表!$C$1:$C$36)),ROW(7:7)),COLUMN(G:G)),"")} | R13: {=IFERROR(INDEX(商品资料表!$C$1:$K$36,SMALL(IF(商品资料表!$C$1:$C$36=库存查询!$L$4,ROW(商品资料表!$C$1:$C$36)),ROW(7:7)),COLUMN(H:H)),"")} | S13: {=IFERROR(INDEX(商品资料表!$C$1:$K$36,SMALL(IF(商品资料表!$C$1:$C$36=库存查询!$L$4,ROW(商品资料表!$C$1:$C$36)),ROW(7:7)),COLUMN(I:I)),"")}
D14: {=IFERROR(INDEX(商品资料表!C:C,SMALL(IF(MATCH(INDIRECT("商品资料表!$C$2:$C$"&COUNTA(商品资料表!C:C)),INDIRECT("商品资料表!$C$2:$C$"&COUNTA(商品资料表!C:C)),)=ROW(INDIRECT("$1:$"&(COUNTA(商品资料表!C:C)-1))),ROW(INDIRECT("$2:$"&COUNTA(商品资料表!C:C))),4^8),ROW(A8)))&"","")} | E14: =IF(D14="","",IFERROR(SUMIFS(商品出入库表!G:G,商品出入库表!C:C,库存查询!D14,商品出入库表!E:E,库存查询!$F$6,商品出入库表!J:J,"<"&(库存查询!$E$4&TEXT(库存查询!$G$4,"00"))*1)-SUMIFS(商品出入库表!G:G,商品出入库表!C:C,库存查询!D14,商品出入库表!E:E,库存查询!$G$6,商品出入库表!J:J,"<"&(库存查询!$E$4&TEXT(库存查询!$G$4,"00"))*1),"")) | F14: =IF(D14="","",SUMIFS(商品出入库表!G:G,商品出入库表!C:C,库存查询!D14,商品出入库表!H:H,库存查询!$E$4,商品出入库表!I:I,库存查询!$G$4,商品出入库表!E:E,库存查询!$F$6)) | G14: =IF(D14="","",SUMIFS(商品出入库表!G:G,商品出入库表!C:C,库存查询!D14,商品出入库表!H:H,库存查询!$E$4,商品出入库表!I:I,库存查询!$G$4,商品出入库表!E:E,库存查询!$G$6)) | H14: =IFERROR(E14+F14-G14,"") | K14: {=IFERROR(INDEX(商品资料表!$C$1:$K$36,SMALL(IF(商品资料表!$C$1:$C$36=库存查询!$L$4,ROW(商品资料表!$C$1:$C$36)),ROW(8:8)),COLUMN(A:A)),"")} | L14: {=IFERROR(INDEX(商品资料表!$C$1:$K$36,SMALL(IF(商品资料表!$C$1:$C$36=库存查询!$L$4,ROW(商品资料表!$C$1:$C$36)),ROW(8:8)),COLUMN(B:B)),"")} | M14: {=IFERROR(INDEX(商品资料表!$C$1:$K$36,SMALL(IF(商品资料表!$C$1:$C$36=库存查询!$L$4,ROW(商品资料表!$C$1:$C$36)),ROW(8:8)),COLUMN(C:C)),"")} | N14: {=IFERROR(INDEX(商品资料表!$C$1:$K$36,SMALL(IF(商品资料表!$C$1:$C$36=库存查询!$L$4,ROW(商品资料表!$C$1:$C$36)),ROW(8:8)),COLUMN(D:D)),"")} | O14: {=IFERROR(INDEX(商品资料表!$C$1:$K$36,SMALL(IF(商品资料表!$C$1:$C$36=库存查询!$L$4,ROW(商品资料表!$C$1:$C$36)),ROW(8:8)),COLUMN(E:E)),"")} | P14: {=IFERROR(INDEX(商品资料表!$C$1:$K$36,SMALL(IF(商品资料表!$C$1:$C$36=库存查询!$L$4,ROW(商品资料表!$C$1:$C$36)),ROW(8:8)),COLUMN(F:F)),"")} | Q14: {=IFERROR(INDEX(商品资料表!$C$1:$K$36,SMALL(IF(商品资料表!$C$1:$C$36=库存查询!$L$4,ROW(商品资料表!$C$1:$C$36)),ROW(8:8)),COLUMN(G:G)),"")} | R14: {=IFERROR(INDEX(商品资料表!$C$1:$K$36,SMALL(IF(商品资料表!$C$1:$C$36=库存查询!$L$4,ROW(商品资料表!$C$1:$C$36)),ROW(8:8)),COLUMN(H:H)),"")} | S14: {=IFERROR(INDEX(商品资料表!$C$1:$K$36,SMALL(IF(商品资料表!$C$1:$C$36=库存查询!$L$4,ROW(商品资料表!$C$1:$C$36)),ROW(8:8)),COLUMN(I:I)),"")}
D15: {=IFERROR(INDEX(商品资料表!C:C,SMALL(IF(MATCH(INDIRECT("商品资料表!$C$2:$C$"&COUNTA(商品资料表!C:C)),INDIRECT("商品资料表!$C$2:$C$"&COUNTA(商品资料表!C:C)),)=ROW(INDIRECT("$1:$"&(COUNTA(商品资料表!C:C)-1))),ROW(INDIRECT("$2:$"&COUNTA(商品资料表!C:C))),4^8),ROW(A9)))&"","")} | E15: =IF(D15="","",IFERROR(SUMIFS(商品出入库表!G:G,商品出入库表!C:C,库存查询!D15,商品出入库表!E:E,库存查询!$F$6,商品出入库表!J:J,"<"&(库存查询!$E$4&TEXT(库存查询!$G$4,"00"))*1)-SUMIFS(商品出入库表!G:G,商品出入库表!C:C,库存查询!D15,商品出入库表!E:E,库存查询!$G$6,商品出入库表!J:J,"<"&(库存查询!$E$4&TEXT(库存查询!$G$4,"00"))*1),"")) | F15: =IF(D15="","",SUMIFS(商品出入库表!G:G,商品出入库表!C:C,库存查询!D15,商品出入库表!H:H,库存查询!$E$4,商品出入库表!I:I,库存查询!$G$4,商品出入库表!E:E,库存查询!$F$6)) | G15: =IF(D15="","",SUMIFS(商品出入库表!G:G,商品出入库表!C:C,库存查询!D15,商品出入库表!H:H,库存查询!$E$4,商品出入库表!I:I,库存查询!$G$4,商品出入库表!E:E,库存查询!$G$6)) | H15: =IFERROR(E15+F15-G15,"") | K15: {=IFERROR(INDEX(商品资料表!$C$1:$K$36,SMALL(IF(商品资料表!$C$1:$C$36=库存查询!$L$4,ROW(商品资料表!$C$1:$C$36)),ROW(9:9)),COLUMN(A:A)),"")} | L15: {=IFERROR(INDEX(商品资料表!$C$1:$K$36,SMALL(IF(商品资料表!$C$1:$C$36=库存查询!$L$4,ROW(商品资料表!$C$1:$C$36)),ROW(9:9)),COLUMN(B:B)),"")} | M15: {=IFERROR(INDEX(商品资料表!$C$1:$K$36,SMALL(IF(商品资料表!$C$1:$C$36=库存查询!$L$4,ROW(商品资料表!$C$1:$C$36)),ROW(9:9)),COLUMN(C:C)),"")} | N15: {=IFERROR(INDEX(商品资料表!$C$1:$K$36,SMALL(IF(商品资料表!$C$1:$C$36=库存查询!$L$4,ROW(商品资料表!$C$1:$C$36)),ROW(9:9)),COLUMN(D:D)),"")} | O15: {=IFERROR(INDEX(商品资料表!$C$1:$K$36,SMALL(IF(商品资料表!$C$1:$C$36=库存查询!$L$4,ROW(商品资料表!$C$1:$C$36)),ROW(9:9)),COLUMN(E:E)),"")} | P15: {=IFERROR(INDEX(商品资料表!$C$1:$K$36,SMALL(IF(商品资料表!$C$1:$C$36=库存查询!$L$4,ROW(商品资料表!$C$1:$C$36)),ROW(9:9)),COLUMN(F:F)),"")} | Q15: {=IFERROR(INDEX(商品资料表!$C$1:$K$36,SMALL(IF(商品资料表!$C$1:$C$36=库存查询!$L$4,ROW(商品资料表!$C$1:$C$36)),ROW(9:9)),COLUMN(G:G)),"")} | R15: {=IFERROR(INDEX(商品资料表!$C$1:$K$36,SMALL(IF(商品资料表!$C$1:$C$36=库存查询!$L$4,ROW(商品资料表!$C$1:$C$36)),ROW(9:9)),COLUMN(H:H)),"")} | S15: {=IFERROR(INDEX(商品资料表!$C$1:$K$36,SMALL(IF(商品资料表!$C$1:$C$36=库存查询!$L$4,ROW(商品资料表!$C$1:$C$36)),ROW(9:9)),COLUMN(I:I)),"")}
D16: {=IFERROR(INDEX(商品资料表!C:C,SMALL(IF(MATCH(INDIRECT("商品资料表!$C$2:$C$"&COUNTA(商品资料表!C:C)),INDIRECT("商品资料表!$C$2:$C$"&COUNTA(商品资料表!C:C)),)=ROW(INDIRECT("$1:$"&(COUNTA(商品资料表!C:C)-1))),ROW(INDIRECT("$2:$"&COUNTA(商品资料表!C:C))),4^8),ROW(A10)))&"","")} | E16: =IF(D16="","",IFERROR(SUMIFS(商品出入库表!G:G,商品出入库表!C:C,库存查询!D16,商品出入库表!E:E,库存查询!$F$6,商品出入库表!J:J,"<"&(库存查询!$E$4&TEXT(库存查询!$G$4,"00"))*1)-SUMIFS(商品出入库表!G:G,商品出入库表!C:C,库存查询!D16,商品出入库表!E:E,库存查询!$G$6,商品出入库表!J:J,"<"&(库存查询!$E$4&TEXT(库存查询!$G$4,"00"))*1),"")) | F16: =IF(D16="","",SUMIFS(商品出入库表!G:G,商品出入库表!C:C,库存查询!D16,商品出入库表!H:H,库存查询!$E$4,商品出入库表!I:I,库存查询!$G$4,商品出入库表!E:E,库存查询!$F$6)) | G16: =IF(D16="","",SUMIFS(商品出入库表!G:G,商品出入库表!C:C,库存查询!D16,商品出入库表!H:H,库存查询!$E$4,商品出入库表!I:I,库存查询!$G$4,商品出入库表!E:E,库存查询!$G$6)) | H16: =IFERROR(E16+F16-G16,"") | K16: {=IFERROR(INDEX(商品资料表!$C$1:$K$36,SMALL(IF(商品资料表!$C$1:$C$36=库存查询!$L$4,ROW(商品资料表!$C$1:$C$36)),ROW(10:10)),COLUMN(A:A)),"")} | L16: {=IFERROR(INDEX(商品资料表!$C$1:$K$36,SMALL(IF(商品资料表!$C$1:$C$36=库存查询!$L$4,ROW(商品资料表!$C$1:$C$36)),ROW(10:10)),COLUMN(B:B)),"")} | M16: {=IFERROR(INDEX(商品资料表!$C$1:$K$36,SMALL(IF(商品资料表!$C$1:$C$36=库存查询!$L$4,ROW(商品资料表!$C$1:$C$36)),ROW(10:10)),COLUMN(C:C)),"")} | N16: {=IFERROR(INDEX(商品资料表!$C$1:$K$36,SMALL(IF(商品资料表!$C$1:$C$36=库存查询!$L$4,ROW(商品资料表!$C$1:$C$36)),ROW(10:10)),COLUMN(D:D)),"")} | O16: {=IFERROR(INDEX(商品资料表!$C$1:$K$36,SMALL(IF(商品资料表!$C$1:$C$36=库存查询!$L$4,ROW(商品资料表!$C$1:$C$36)),ROW(10:10)),COLUMN(E:E)),"")} | P16: {=IFERROR(INDEX(商品资料表!$C$1:$K$36,SMALL(IF(商品资料表!$C$1:$C$36=库存查询!$L$4,ROW(商品资料表!$C$1:$C$36)),ROW(10:10)),COLUMN(F:F)),"")} | Q16: {=IFERROR(INDEX(商品资料表!$C$1:$K$36,SMALL(IF(商品资料表!$C$1:$C$36=库存查询!$L$4,ROW(商品资料表!$C$1:$C$36)),ROW(10:10)),COLUMN(G:G)),"")} | R16: {=IFERROR(INDEX(商品资料表!$C$1:$K$36,SMALL(IF(商品资料表!$C$1:$C$36=库存查询!$L$4,ROW(商品资料表!$C$1:$C$36)),ROW(10:10)),COLUMN(H:H)),"")} | S16: {=IFERROR(INDEX(商品资料表!$C$1:$K$36,SMALL(IF(商品资料表!$C$1:$C$36=库存查询!$L$4,ROW(商品资料表!$C$1:$C$36)),ROW(10:10)),COLUMN(I:I)),"")}
D17: {=IFERROR(INDEX(商品资料表!C:C,SMALL(IF(MATCH(INDIRECT("商品资料表!$C$2:$C$"&COUNTA(商品资料表!C:C)),INDIRECT("商品资料表!$C$2:$C$"&COUNTA(商品资料表!C:C)),)=ROW(INDIRECT("$1:$"&(COUNTA(商品资料表!C:C)-1))),ROW(INDIRECT("$2:$"&COUNTA(商品资料表!C:C))),4^8),ROW(A11)))&"","")} | E17: =IF(D17="","",IFERROR(SUMIFS(商品出入库表!G:G,商品出入库表!C:C,库存查询!D17,商品出入库表!E:E,库存查询!$F$6,商品出入库表!J:J,"<"&(库存查询!$E$4&TEXT(库存查询!$G$4,"00"))*1)-SUMIFS(商品出入库表!G:G,商品出入库表!C:C,库存查询!D17,商品出入库表!E:E,库存查询!$G$6,商品出入库表!J:J,"<"&(库存查询!$E$4&TEXT(库存查询!$G$4,"00"))*1),"")) | F17: =IF(D17="","",SUMIFS(商品出入库表!G:G,商品出入库表!C:C,库存查询!D17,商品出入库表!H:H,库存查询!$E$4,商品出入库表!I:I,库存查询!$G$4,商品出入库表!E:E,库存查询!$F$6)) | G17: =IF(D17="","",SUMIFS(商品出入库表!G:G,商品出入库表!C:C,库存查询!D17,商品出入库表!H:H,库存查询!$E$4,商品出入库表!I:I,库存查询!$G$4,商品出入库表!E:E,库存查询!$G$6)) | H17: =IFERROR(E17+F17-G17,"") | K17: {=IFERROR(INDEX(商品资料表!$C$1:$K$36,SMALL(IF(商品资料表!$C$1:$C$36=库存查询!$L$4,ROW(商品资料表!$C$1:$C$36)),ROW(11:11)),COLUMN(A:A)),"")} | L17: {=IFERROR(INDEX(商品资料表!$C$1:$K$36,SMALL(IF(商品资料表!$C$1:$C$36=库存查询!$L$4,ROW(商品资料表!$C$1:$C$36)),ROW(11:11)),COLUMN(B:B)),"")} | M17: {=IFERROR(INDEX(商品资料表!$C$1:$K$36,SMALL(IF(商品资料表!$C$1:$C$36=库存查询!$L$4,ROW(商品资料表!$C$1:$C$36)),ROW(11:11)),COLUMN(C:C)),"")} | N17: {=IFERROR(INDEX(商品资料表!$C$1:$K$36,SMALL(IF(商品资料表!$C$1:$C$36=库存查询!$L$4,ROW(商品资料表!$C$1:$C$36)),ROW(11:11)),COLUMN(D:D)),"")} | O17: {=IFERROR(INDEX(商品资料表!$C$1:$K$36,SMALL(IF(商品资料表!$C$1:$C$36=库存查询!$L$4,ROW(商品资料表!$C$1:$C$36)),ROW(11:11)),COLUMN(E:E)),"")} | P17: {=IFERROR(INDEX(商品资料表!$C$1:$K$36,SMALL(IF(商品资料表!$C$1:$C$36=库存查询!$L$4,ROW(商品资料表!$C$1:$C$36)),ROW(11:11)),COLUMN(F:F)),"")} | Q17: {=IFERROR(INDEX(商品资料表!$C$1:$K$36,SMALL(IF(商品资料表!$C$1:$C$36=库存查询!$L$4,ROW(商品资料表!$C$1:$C$36)),ROW(11:11)),COLUMN(G:G)),"")} | R17: {=IFERROR(INDEX(商品资料表!$C$1:$K$36,SMALL(IF(商品资料表!$C$1:$C$36=库存查询!$L$4,ROW(商品资料表!$C$1:$C$36)),ROW(11:11)),COLUMN(H:H)),"")} | S17: {=IFERROR(INDEX(商品资料表!$C$1:$K$36,SMALL(IF(商品资料表!$C$1:$C$36=库存查询!$L$4,ROW(商品资料表!$C$1:$C$36)),ROW(11:11)),COLUMN(I:I)),"")}
D18: {=IFERROR(INDEX(商品资料表!C:C,SMALL(IF(MATCH(INDIRECT("商品资料表!$C$2:$C$"&COUNTA(商品资料表!C:C)),INDIRECT("商品资料表!$C$2:$C$"&COUNTA(商品资料表!C:C)),)=ROW(INDIRECT("$1:$"&(COUNTA(商品资料表!C:C)-1))),ROW(INDIRECT("$2:$"&COUNTA(商品资料表!C:C))),4^8),ROW(A12)))&"","")} | E18: =IF(D18="","",IFERROR(SUMIFS(商品出入库表!G:G,商品出入库表!C:C,库存查询!D18,商品出入库表!E:E,库存查询!$F$6,商品出入库表!J:J,"<"&(库存查询!$E$4&TEXT(库存查询!$G$4,"00"))*1)-SUMIFS(商品出入库表!G:G,商品出入库表!C:C,库存查询!D18,商品出入库表!E:E,库存查询!$G$6,商品出入库表!J:J,"<"&(库存查询!$E$4&TEXT(库存查询!$G$4,"00"))*1),"")) | F18: =IF(D18="","",SUMIFS(商品出入库表!G:G,商品出入库表!C:C,库存查询!D18,商品出入库表!H:H,库存查询!$E$4,商品出入库表!I:I,库存查询!$G$4,商品出入库表!E:E,库存查询!$F$6)) | G18: =IF(D18="","",SUMIFS(商品出入库表!G:G,商品出入库表!C:C,库存查询!D18,商品出入库表!H:H,库存查询!$E$4,商品出入库表!I:I,库存查询!$G$4,商品出入库表!E:E,库存查询!$G$6)) | H18: =IFERROR(E18+F18-G18,"") | K18: {=IFERROR(INDEX(商品资料表!$C$1:$K$36,SMALL(IF(商品资料表!$C$1:$C$36=库存查询!$L$4,ROW(商品资料表!$C$1:$C$36)),ROW(12:12)),COLUMN(A:A)),"")} | L18: {=IFERROR(INDEX(商品资料表!$C$1:$K$36,SMALL(IF(商品资料表!$C$1:$C$36=库存查询!$L$4,ROW(商品资料表!$C$1:$C$36)),ROW(12:12)),COLUMN(B:B)),"")} | M18: {=IFERROR(INDEX(商品资料表!$C$1:$K$36,SMALL(IF(商品资料表!$C$1:$C$36=库存查询!$L$4,ROW(商品资料表!$C$1:$C$36)),ROW(12:12)),COLUMN(C:C)),"")} | N18: {=IFERROR(INDEX(商品资料表!$C$1:$K$36,SMALL(IF(商品资料表!$C$1:$C$36=库存查询!$L$4,ROW(商品资料表!$C$1:$C$36)),ROW(12:12)),COLUMN(D:D)),"")} | O18: {=IFERROR(INDEX(商品资料表!$C$1:$K$36,SMALL(IF(商品资料表!$C$1:$C$36=库存查询!$L$4,ROW(商品资料表!$C$1:$C$36)),ROW(12:12)),COLUMN(E:E)),"")} | P18: {=IFERROR(INDEX(商品资料表!$C$1:$K$36,SMALL(IF(商品资料表!$C$1:$C$36=库存查询!$L$4,ROW(商品资料表!$C$1:$C$36)),ROW(12:12)),COLUMN(F:F)),"")} | Q18: {=IFERROR(INDEX(商品资料表!$C$1:$K$36,SMALL(IF(商品资料表!$C$1:$C$36=库存查询!$L$4,ROW(商品资料表!$C$1:$C$36)),ROW(12:12)),COLUMN(G:G)),"")} | R18: {=IFERROR(INDEX(商品资料表!$C$1:$K$36,SMALL(IF(商品资料表!$C$1:$C$36=库存查询!$L$4,ROW(商品资料表!$C$1:$C$36)),ROW(12:12)),COLUMN(H:H)),"")} | S18: {=IFERROR(INDEX(商品资料表!$C$1:$K$36,SMALL(IF(商品资料表!$C$1:$C$36=库存查询!$L$4,ROW(商品资料表!$C$1:$C$36)),ROW(12:12)),COLUMN(I:I)),"")}
D19: {=IFERROR(INDEX(商品资料表!C:C,SMALL(IF(MATCH(INDIRECT("商品资料表!$C$2:$C$"&COUNTA(商品资料表!C:C)),INDIRECT("商品资料表!$C$2:$C$"&COUNTA(商品资料表!C:C)),)=ROW(INDIRECT("$1:$"&(COUNTA(商品资料表!C:C)-1))),ROW(INDIRECT("$2:$"&COUNTA(商品资料表!C:C))),4^8),ROW(A13)))&"","")} | E19: =IF(D19="","",IFERROR(SUMIFS(商品出入库表!G:G,商品出入库表!C:C,库存查询!D19,商品出入库表!E:E,库存查询!$F$6,商品出入库表!J:J,"<"&(库存查询!$E$4&TEXT(库存查询!$G$4,"00"))*1)-SUMIFS(商品出入库表!G:G,商品出入库表!C:C,库存查询!D19,商品出入库表!E:E,库存查询!$G$6,商品出入库表!J:J,"<"&(库存查询!$E$4&TEXT(库存查询!$G$4,"00"))*1),"")) | F19: =IF(D19="","",SUMIFS(商品出入库表!G:G,商品出入库表!C:C,库存查询!D19,商品出入库表!H:H,库存查询!$E$4,商品出入库表!I:I,库存查询!$G$4,商品出入库表!E:E,库存查询!$F$6)) | G19: =IF(D19="","",SUMIFS(商品出入库表!G:G,商品出入库表!C:C,库存查询!D19,商品出入库表!H:H,库存查询!$E$4,商品出入库表!I:I,库存查询!$G$4,商品出入库表!E:E,库存查询!$G$6)) | H19: =IFERROR(E19+F19-G19,"") | K19: {=IFERROR(INDEX(商品资料表!$C$1:$K$36,SMALL(IF(商品资料表!$C$1:$C$36=库存查询!$L$4,ROW(商品资料表!$C$1:$C$36)),ROW(13:13)),COLUMN(A:A)),"")} | L19: {=IFERROR(INDEX(商品资料表!$C$1:$K$36,SMALL(IF(商品资料表!$C$1:$C$36=库存查询!$L$4,ROW(商品资料表!$C$1:$C$36)),ROW(13:13)),COLUMN(B:B)),"")} | M19: {=IFERROR(INDEX(商品资料表!$C$1:$K$36,SMALL(IF(商品资料表!$C$1:$C$36=库存查询!$L$4,ROW(商品资料表!$C$1:$C$36)),ROW(13:13)),COLUMN(C:C)),"")} | N19: {=IFERROR(INDEX(商品资料表!$C$1:$K$36,SMALL(IF(商品资料表!$C$1:$C$36=库存查询!$L$4,ROW(商品资料表!$C$1:$C$36)),ROW(13:13)),COLUMN(D:D)),"")} | O19: {=IFERROR(INDEX(商品资料表!$C$1:$K$36,SMALL(IF(商品资料表!$C$1:$C$36=库存查询!$L$4,ROW(商品资料表!$C$1:$C$36)),ROW(13:13)),COLUMN(E:E)),"")} | P19: {=IFERROR(INDEX(商品资料表!$C$1:$K$36,SMALL(IF(商品资料表!$C$1:$C$36=库存查询!$L$4,ROW(商品资料表!$C$1:$C$36)),ROW(13:13)),COLUMN(F:F)),"")} | Q19: {=IFERROR(INDEX(商品资料表!$C$1:$K$36,SMALL(IF(商品资料表!$C$1:$C$36=库存查询!$L$4,ROW(商品资料表!$C$1:$C$36)),ROW(13:13)),COLUMN(G:G)),"")} | R19: {=IFERROR(INDEX(商品资料表!$C$1:$K$36,SMALL(IF(商品资料表!$C$1:$C$36=库存查询!$L$4,ROW(商品资料表!$C$1:$C$36)),ROW(13:13)),COLUMN(H:H)),"")} | S19: {=IFERROR(INDEX(商品资料表!$C$1:$K$36,SMALL(IF(商品资料表!$C$1:$C$36=库存查询!$L$4,ROW(商品资料表!$C$1:$C$36)),ROW(13:13)),COLUMN(I:I)),"")}
D20: {=IFERROR(INDEX(商品资料表!C:C,SMALL(IF(MATCH(INDIRECT("商品资料表!$C$2:$C$"&COUNTA(商品资料表!C:C)),INDIRECT("商品资料表!$C$2:$C$"&COUNTA(商品资料表!C:C)),)=ROW(INDIRECT("$1:$"&(COUNTA(商品资料表!C:C)-1))),ROW(INDIRECT("$2:$"&COUNTA(商品资料表!C:C))),4^8),ROW(A14)))&"","")} | E20: =IF(D20="","",IFERROR(SUMIFS(商品出入库表!G:G,商品出入库表!C:C,库存查询!D20,商品出入库表!E:E,库存查询!$F$6,商品出入库表!J:J,"<"&(库存查询!$E$4&TEXT(库存查询!$G$4,"00"))*1)-SUMIFS(商品出入库表!G:G,商品出入库表!C:C,库存查询!D20,商品出入库表!E:E,库存查询!$G$6,商品出入库表!J:J,"<"&(库存查询!$E$4&TEXT(库存查询!$G$4,"00"))*1),"")) | F20: =IF(D20="","",SUMIFS(商品出入库表!G:G,商品出入库表!C:C,库存查询!D20,商品出入库表!H:H,库存查询!$E$4,商品出入库表!I:I,库存查询!$G$4,商品出入库表!E:E,库存查询!$F$6)) | G20: =IF(D20="","",SUMIFS(商品出入库表!G:G,商品出入库表!C:C,库存查询!D20,商品出入库表!H:H,库存查询!$E$4,商品出入库表!I:I,库存查询!$G$4,商品出入库表!E:E,库存查询!$G$6)) | H20: =IFERROR(E20+F20-G20,"") | K20: {=IFERROR(INDEX(商品资料表!$C$1:$K$36,SMALL(IF(商品资料表!$C$1:$C$36=库存查询!$L$4,ROW(商品资料表!$C$1:$C$36)),ROW(14:14)),COLUMN(A:A)),"")} | L20: {=IFERROR(INDEX(商品资料表!$C$1:$K$36,SMALL(IF(商品资料表!$C$1:$C$36=库存查询!$L$4,ROW(商品资料表!$C$1:$C$36)),ROW(14:14)),COLUMN(B:B)),"")} | M20: {=IFERROR(INDEX(商品资料表!$C$1:$K$36,SMALL(IF(商品资料表!$C$1:$C$36=库存查询!$L$4,ROW(商品资料表!$C$1:$C$36)),ROW(14:14)),COLUMN(C:C)),"")} | N20: {=IFERROR(INDEX(商品资料表!$C$1:$K$36,SMALL(IF(商品资料表!$C$1:$C$36=库存查询!$L$4,ROW(商品资料表!$C$1:$C$36)),ROW(14:14)),COLUMN(D:D)),"")} | O20: {=IFERROR(INDEX(商品资料表!$C$1:$K$36,SMALL(IF(商品资料表!$C$1:$C$36=库存查询!$L$4,ROW(商品资料表!$C$1:$C$36)),ROW(14:14)),COLUMN(E:E)),"")} | P20: {=IFERROR(INDEX(商品资料表!$C$1:$K$36,SMALL(IF(商品资料表!$C$1:$C$36=库存查询!$L$4,ROW(商品资料表!$C$1:$C$36)),ROW(14:14)),COLUMN(F:F)),"")} | Q20: {=IFERROR(INDEX(商品资料表!$C$1:$K$36,SMALL(IF(商品资料表!$C$1:$C$36=库存查询!$L$4,ROW(商品资料表!$C$1:$C$36)),ROW(14:14)),COLUMN(G:G)),"")} | R20: {=IFERROR(INDEX(商品资料表!$C$1:$K$36,SMALL(IF(商品资料表!$C$1:$C$36=库存查询!$L$4,ROW(商品资料表!$C$1:$C$36)),ROW(14:14)),COLUMN(H:H)),"")} | S20: {=IFERROR(INDEX(商品资料表!$C$1:$K$36,SMALL(IF(商品资料表!$C$1:$C$36=库存查询!$L$4,ROW(商品资料表!$C$1:$C$36)),ROW(14:14)),COLUMN(I:I)),"")}
D21: {=IFERROR(INDEX(商品资料表!C:C,SMALL(IF(MATCH(INDIRECT("商品资料表!$C$2:$C$"&COUNTA(商品资料表!C:C)),INDIRECT("商品资料表!$C$2:$C$"&COUNTA(商品资料表!C:C)),)=ROW(INDIRECT("$1:$"&(COUNTA(商品资料表!C:C)-1))),ROW(INDIRECT("$2:$"&COUNTA(商品资料表!C:C))),4^8),ROW(A15)))&"","")} | E21: =IF(D21="","",IFERROR(SUMIFS(商品出入库表!G:G,商品出入库表!C:C,库存查询!D21,商品出入库表!E:E,库存查询!$F$6,商品出入库表!J:J,"<"&(库存查询!$E$4&TEXT(库存查询!$G$4,"00"))*1)-SUMIFS(商品出入库表!G:G,商品出入库表!C:C,库存查询!D21,商品出入库表!E:E,库存查询!$G$6,商品出入库表!J:J,"<"&(库存查询!$E$4&TEXT(库存查询!$G$4,"00"))*1),"")) | F21: =IF(D21="","",SUMIFS(商品出入库表!G:G,商品出入库表!C:C,库存查询!D21,商品出入库表!H:H,库存查询!$E$4,商品出入库表!I:I,库存查询!$G$4,商品出入库表!E:E,库存查询!$F$6)) | G21: =IF(D21="","",SUMIFS(商品出入库表!G:G,商品出入库表!C:C,库存查询!D21,商品出入库表!H:H,库存查询!$E$4,商品出入库表!I:I,库存查询!$G$4,商品出入库表!E:E,库存查询!$G$6)) | H21: =IFERROR(E21+F21-G21,"") | K21: {=IFERROR(INDEX(商品资料表!$C$1:$K$36,SMALL(IF(商品资料表!$C$1:$C$36=库存查询!$L$4,ROW(商品资料表!$C$1:$C$36)),ROW(15:15)),COLUMN(A:A)),"")} | L21: {=IFERROR(INDEX(商品资料表!$C$1:$K$36,SMALL(IF(商品资料表!$C$1:$C$36=库存查询!$L$4,ROW(商品资料表!$C$1:$C$36)),ROW(15:15)),COLUMN(B:B)),"")} | M21: {=IFERROR(INDEX(商品资料表!$C$1:$K$36,SMALL(IF(商品资料表!$C$1:$C$36=库存查询!$L$4,ROW(商品资料表!$C$1:$C$36)),ROW(15:15)),COLUMN(C:C)),"")} | N21: {=IFERROR(INDEX(商品资料表!$C$1:$K$36,SMALL(IF(商品资料表!$C$1:$C$36=库存查询!$L$4,ROW(商品资料表!$C$1:$C$36)),ROW(15:15)),COLUMN(D:D)),"")} | O21: {=IFERROR(INDEX(商品资料表!$C$1:$K$36,SMALL(IF(商品资料表!$C$1:$C$36=库存查询!$L$4,ROW(商品资料表!$C$1:$C$36)),ROW(15:15)),COLUMN(E:E)),"")} | P21: {=IFERROR(INDEX(商品资料表!$C$1:$K$36,SMALL(IF(商品资料表!$C$1:$C$36=库存查询!$L$4,ROW(商品资料表!$C$1:$C$36)),ROW(15:15)),COLUMN(F:F)),"")} | Q21: {=IFERROR(INDEX(商品资料表!$C$1:$K$36,SMALL(IF(商品资料表!$C$1:$C$36=库存查询!$L$4,ROW(商品资料表!$C$1:$C$36)),ROW(15:15)),COLUMN(G:G)),"")} | R21: {=IFERROR(INDEX(商品资料表!$C$1:$K$36,SMALL(IF(商品资料表!$C$1:$C$36=库存查询!$L$4,ROW(商品资料表!$C$1:$C$36)),ROW(15:15)),COLUMN(H:H)),"")} | S21: {=IFERROR(INDEX(商品资料表!$C$1:$K$36,SMALL(IF(商品资料表!$C$1:$C$36=库存查询!$L$4,ROW(商品资料表!$C$1:$C$36)),ROW(15:15)),COLUMN(I:I)),"")}
D22: {=IFERROR(INDEX(商品资料表!C:C,SMALL(IF(MATCH(INDIRECT("商品资料表!$C$2:$C$"&COUNTA(商品资料表!C:C)),INDIRECT("商品资料表!$C$2:$C$"&COUNTA(商品资料表!C:C)),)=ROW(INDIRECT("$1:$"&(COUNTA(商品资料表!C:C)-1))),ROW(INDIRECT("$2:$"&COUNTA(商品资料表!C:C))),4^8),ROW(A16)))&"","")} | E22: =IF(D22="","",IFERROR(SUMIFS(商品出入库表!G:G,商品出入库表!C:C,库存查询!D22,商品出入库表!E:E,库存查询!$F$6,商品出入库表!J:J,"<"&(库存查询!$E$4&TEXT(库存查询!$G$4,"00"))*1)-SUMIFS(商品出入库表!G:G,商品出入库表!C:C,库存查询!D22,商品出入库表!E:E,库存查询!$G$6,商品出入库表!J:J,"<"&(库存查询!$E$4&TEXT(库存查询!$G$4,"00"))*1),"")) | F22: =IF(D22="","",SUMIFS(商品出入库表!G:G,商品出入库表!C:C,库存查询!D22,商品出入库表!H:H,库存查询!$E$4,商品出入库表!I:I,库存查询!$G$4,商品出入库表!E:E,库存查询!$F$6)) | G22: =IF(D22="","",SUMIFS(商品出入库表!G:G,商品出入库表!C:C,库存查询!D22,商品出入库表!H:H,库存查询!$E$4,商品出入库表!I:I,库存查询!$G$4,商品出入库表!E:E,库存查询!$G$6)) | H22: =IFERROR(E22+F22-G22,"") | K22: {=IFERROR(INDEX(商品资料表!$C$1:$K$36,SMALL(IF(商品资料表!$C$1:$C$36=库存查询!$L$4,ROW(商品资料表!$C$1:$C$36)),ROW(16:16)),COLUMN(A:A)),"")} | L22: {=IFERROR(INDEX(商品资料表!$C$1:$K$36,SMALL(IF(商品资料表!$C$1:$C$36=库存查询!$L$4,ROW(商品资料表!$C$1:$C$36)),ROW(16:16)),COLUMN(B:B)),"")} | M22: {=IFERROR(INDEX(商品资料表!$C$1:$K$36,SMALL(IF(商品资料表!$C$1:$C$36=库存查询!$L$4,ROW(商品资料表!$C$1:$C$36)),ROW(16:16)),COLUMN(C:C)),"")} | N22: {=IFERROR(INDEX(商品资料表!$C$1:$K$36,SMALL(IF(商品资料表!$C$1:$C$36=库存查询!$L$4,ROW(商品资料表!$C$1:$C$36)),ROW(16:16)),COLUMN(D:D)),"")} | O22: {=IFERROR(INDEX(商品资料表!$C$1:$K$36,SMALL(IF(商品资料表!$C$1:$C$36=库存查询!$L$4,ROW(商品资料表!$C$1:$C$36)),ROW(16:16)),COLUMN(E:E)),"")} | P22: {=IFERROR(INDEX(商品资料表!$C$1:$K$36,SMALL(IF(商品资料表!$C$1:$C$36=库存查询!$L$4,ROW(商品资料表!$C$1:$C$36)),ROW(16:16)),COLUMN(F:F)),"")} | Q22: {=IFERROR(INDEX(商品资料表!$C$1:$K$36,SMALL(IF(商品资料表!$C$1:$C$36=库存查询!$L$4,ROW(商品资料表!$C$1:$C$36)),ROW(16:16)),COLUMN(G:G)),"")} | R22: {=IFERROR(INDEX(商品资料表!$C$1:$K$36,SMALL(IF(商品资料表!$C$1:$C$36=库存查询!$L$4,ROW(商品资料表!$C$1:$C$36)),ROW(16:16)),COLUMN(H:H)),"")} | S22: {=IFERROR(INDEX(商品资料表!$C$1:$K$36,SMALL(IF(商品资料表!$C$1:$C$36=库存查询!$L$4,ROW(商品资料表!$C$1:$C$36)),ROW(16:16)),COLUMN(I:I)),"")}
D23: {=IFERROR(INDEX(商品资料表!C:C,SMALL(IF(MATCH(INDIRECT("商品资料表!$C$2:$C$"&COUNTA(商品资料表!C:C)),INDIRECT("商品资料表!$C$2:$C$"&COUNTA(商品资料表!C:C)),)=ROW(INDIRECT("$1:$"&(COUNTA(商品资料表!C:C)-1))),ROW(INDIRECT("$2:$"&COUNTA(商品资料表!C:C))),4^8),ROW(A17)))&"","")} | E23: =IF(D23="","",IFERROR(SUMIFS(商品出入库表!G:G,商品出入库表!C:C,库存查询!D23,商品出入库表!E:E,库存查询!$F$6,商品出入库表!J:J,"<"&(库存查询!$E$4&TEXT(库存查询!$G$4,"00"))*1)-SUMIFS(商品出入库表!G:G,商品出入库表!C:C,库存查询!D23,商品出入库表!E:E,库存查询!$G$6,商品出入库表!J:J,"<"&(库存查询!$E$4&TEXT(库存查询!$G$4,"00"))*1),"")) | F23: =IF(D23="","",SUMIFS(商品出入库表!G:G,商品出入库表!C:C,库存查询!D23,商品出入库表!H:H,库存查询!$E$4,商品出入库表!I:I,库存查询!$G$4,商品出入库表!E:E,库存查询!$F$6)) | G23: =IF(D23="","",SUMIFS(商品出入库表!G:G,商品出入库表!C:C,库存查询!D23,商品出入库表!H:H,库存查询!$E$4,商品出入库表!I:I,库存查询!$G$4,商品出入库表!E:E,库存查询!$G$6)) | H23: =IFERROR(E23+F23-G23,"") | K23: {=IFERROR(INDEX(商品资料表!$C$1:$K$36,SMALL(IF(商品资料表!$C$1:$C$36=库存查询!$L$4,ROW(商品资料表!$C$1:$C$36)),ROW(17:17)),COLUMN(A:A)),"")} | L23: {=IFERROR(INDEX(商品资料表!$C$1:$K$36,SMALL(IF(商品资料表!$C$1:$C$36=库存查询!$L$4,ROW(商品资料表!$C$1:$C$36)),ROW(17:17)),COLUMN(B:B)),"")} | M23: {=IFERROR(INDEX(商品资料表!$C$1:$K$36,SMALL(IF(商品资料表!$C$1:$C$36=库存查询!$L$4,ROW(商品资料表!$C$1:$C$36)),ROW(17:17)),COLUMN(C:C)),"")} | N23: {=IFERROR(INDEX(商品资料表!$C$1:$K$36,SMALL(IF(商品资料表!$C$1:$C$36=库存查询!$L$4,ROW(商品资料表!$C$1:$C$36)),ROW(17:17)),COLUMN(D:D)),"")} | O23: {=IFERROR(INDEX(商品资料表!$C$1:$K$36,SMALL(IF(商品资料表!$C$1:$C$36=库存查询!$L$4,ROW(商品资料表!$C$1:$C$36)),ROW(17:17)),COLUMN(E:E)),"")} | P23: {=IFERROR(INDEX(商品资料表!$C$1:$K$36,SMALL(IF(商品资料表!$C$1:$C$36=库存查询!$L$4,ROW(商品资料表!$C$1:$C$36)),ROW(17:17)),COLUMN(F:F)),"")} | Q23: {=IFERROR(INDEX(商品资料表!$C$1:$K$36,SMALL(IF(商品资料表!$C$1:$C$36=库存查询!$L$4,ROW(商品资料表!$C$1:$C$36)),ROW(17:17)),COLUMN(G:G)),"")} | R23: {=IFERROR(INDEX(商品资料表!$C$1:$K$36,SMALL(IF(商品资料表!$C$1:$C$36=库存查询!$L$4,ROW(商品资料表!$C$1:$C$36)),ROW(17:17)),COLUMN(H:H)),"")} | S23: {=IFERROR(INDEX(商品资料表!$C$1:$K$36,SMALL(IF(商品资料表!$C$1:$C$36=库存查询!$L$4,ROW(商品资料表!$C$1:$C$36)),ROW(17:17)),COLUMN(I:I)),"")}
D24: {=IFERROR(INDEX(商品资料表!C:C,SMALL(IF(MATCH(INDIRECT("商品资料表!$C$2:$C$"&COUNTA(商品资料表!C:C)),INDIRECT("商品资料表!$C$2:$C$"&COUNTA(商品资料表!C:C)),)=ROW(INDIRECT("$1:$"&(COUNTA(商品资料表!C:C)-1))),ROW(INDIRECT("$2:$"&COUNTA(商品资料表!C:C))),4^8),ROW(A18)))&"","")} | E24: =IF(D24="","",IFERROR(SUMIFS(商品出入库表!G:G,商品出入库表!C:C,库存查询!D24,商品出入库表!E:E,库存查询!$F$6,商品出入库表!J:J,"<"&(库存查询!$E$4&TEXT(库存查询!$G$4,"00"))*1)-SUMIFS(商品出入库表!G:G,商品出入库表!C:C,库存查询!D24,商品出入库表!E:E,库存查询!$G$6,商品出入库表!J:J,"<"&(库存查询!$E$4&TEXT(库存查询!$G$4,"00"))*1),"")) | F24: =IF(D24="","",SUMIFS(商品出入库表!G:G,商品出入库表!C:C,库存查询!D24,商品出入库表!H:H,库存查询!$E$4,商品出入库表!I:I,库存查询!$G$4,商品出入库表!E:E,库存查询!$F$6)) | G24: =IF(D24="","",SUMIFS(商品出入库表!G:G,商品出入库表!C:C,库存查询!D24,商品出入库表!H:H,库存查询!$E$4,商品出入库表!I:I,库存查询!$G$4,商品出入库表!E:E,库存查询!$G$6)) | H24: =IFERROR(E24+F24-G24,"") | K24: {=IFERROR(INDEX(商品资料表!$C$1:$K$36,SMALL(IF(商品资料表!$C$1:$C$36=库存查询!$L$4,ROW(商品资料表!$C$1:$C$36)),ROW(18:18)),COLUMN(A:A)),"")} | L24: {=IFERROR(INDEX(商品资料表!$C$1:$K$36,SMALL(IF(商品资料表!$C$1:$C$36=库存查询!$L$4,ROW(商品资料表!$C$1:$C$36)),ROW(18:18)),COLUMN(B:B)),"")} | M24: {=IFERROR(INDEX(商品资料表!$C$1:$K$36,SMALL(IF(商品资料表!$C$1:$C$36=库存查询!$L$4,ROW(商品资料表!$C$1:$C$36)),ROW(18:18)),COLUMN(C:C)),"")} | N24: {=IFERROR(INDEX(商品资料表!$C$1:$K$36,SMALL(IF(商品资料表!$C$1:$C$36=库存查询!$L$4,ROW(商品资料表!$C$1:$C$36)),ROW(18:18)),COLUMN(D:D)),"")} | O24: {=IFERROR(INDEX(商品资料表!$C$1:$K$36,SMALL(IF(商品资料表!$C$1:$C$36=库存查询!$L$4,ROW(商品资料表!$C$1:$C$36)),ROW(18:18)),COLUMN(E:E)),"")} | P24: {=IFERROR(INDEX(商品资料表!$C$1:$K$36,SMALL(IF(商品资料表!$C$1:$C$36=库存查询!$L$4,ROW(商品资料表!$C$1:$C$36)),ROW(18:18)),COLUMN(F:F)),"")} | Q24: {=IFERROR(INDEX(商品资料表!$C$1:$K$36,SMALL(IF(商品资料表!$C$1:$C$36=库存查询!$L$4,ROW(商品资料表!$C$1:$C$36)),ROW(18:18)),COLUMN(G:G)),"")} | R24: {=IFERROR(INDEX(商品资料表!$C$1:$K$36,SMALL(IF(商品资料表!$C$1:$C$36=库存查询!$L$4,ROW(商品资料表!$C$1:$C$36)),ROW(18:18)),COLUMN(H:H)),"")} | S24: {=IFERROR(INDEX(商品资料表!$C$1:$K$36,SMALL(IF(商品资料表!$C$1:$C$36=库存查询!$L$4,ROW(商品资料表!$C$1:$C$36)),ROW(18:18)),COLUMN(I:I)),"")}
D25: {=IFERROR(INDEX(商品资料表!C:C,SMALL(IF(MATCH(INDIRECT("商品资料表!$C$2:$C$"&COUNTA(商品资料表!C:C)),INDIRECT("商品资料表!$C$2:$C$"&COUNTA(商品资料表!C:C)),)=ROW(INDIRECT("$1:$"&(COUNTA(商品资料表!C:C)-1))),ROW(INDIRECT("$2:$"&COUNTA(商品资料表!C:C))),4^8),ROW(A19)))&"","")} | E25: =IF(D25="","",IFERROR(SUMIFS(商品出入库表!G:G,商品出入库表!C:C,库存查询!D25,商品出入库表!E:E,库存查询!$F$6,商品出入库表!J:J,"<"&(库存查询!$E$4&TEXT(库存查询!$G$4,"00"))*1)-SUMIFS(商品出入库表!G:G,商品出入库表!C:C,库存查询!D25,商品出入库表!E:E,库存查询!$G$6,商品出入库表!J:J,"<"&(库存查询!$E$4&TEXT(库存查询!$G$4,"00"))*1),"")) | F25: =IF(D25="","",SUMIFS(商品出入库表!G:G,商品出入库表!C:C,库存查询!D25,商品出入库表!H:H,库存查询!$E$4,商品出入库表!I:I,库存查询!$G$4,商品出入库表!E:E,库存查询!$F$6)) | G25: =IF(D25="","",SUMIFS(商品出入库表!G:G,商品出入库表!C:C,库存查询!D25,商品出入库表!H:H,库存查询!$E$4,商品出入库表!I:I,库存查询!$G$4,商品出入库表!E:E,库存查询!$G$6)) | H25: =IFERROR(E25+F25-G25,"") | K25: {=IFERROR(INDEX(商品资料表!$C$1:$K$36,SMALL(IF(商品资料表!$C$1:$C$36=库存查询!$L$4,ROW(商品资料表!$C$1:$C$36)),ROW(19:19)),COLUMN(A:A)),"")} | L25: {=IFERROR(INDEX(商品资料表!$C$1:$K$36,SMALL(IF(商品资料表!$C$1:$C$36=库存查询!$L$4,ROW(商品资料表!$C$1:$C$36)),ROW(19:19)),COLUMN(B:B)),"")} | M25: {=IFERROR(INDEX(商品资料表!$C$1:$K$36,SMALL(IF(商品资料表!$C$1:$C$36=库存查询!$L$4,ROW(商品资料表!$C$1:$C$36)),ROW(19:19)),COLUMN(C:C)),"")} | N25: {=IFERROR(INDEX(商品资料表!$C$1:$K$36,SMALL(IF(商品资料表!$C$1:$C$36=库存查询!$L$4,ROW(商品资料表!$C$1:$C$36)),ROW(19:19)),COLUMN(D:D)),"")} | O25: {=IFERROR(INDEX(商品资料表!$C$1:$K$36,SMALL(IF(商品资料表!$C$1:$C$36=库存查询!$L$4,ROW(商品资料表!$C$1:$C$36)),ROW(19:19)),COLUMN(E:E)),"")} | P25: {=IFERROR(INDEX(商品资料表!$C$1:$K$36,SMALL(IF(商品资料表!$C$1:$C$36=库存查询!$L$4,ROW(商品资料表!$C$1:$C$36)),ROW(19:19)),COLUMN(F:F)),"")} | Q25: {=IFERROR(INDEX(商品资料表!$C$1:$K$36,SMALL(IF(商品资料表!$C$1:$C$36=库存查询!$L$4,ROW(商品资料表!$C$1:$C$36)),ROW(19:19)),COLUMN(G:G)),"")} | R25: {=IFERROR(INDEX(商品资料表!$C$1:$K$36,SMALL(IF(商品资料表!$C$1:$C$36=库存查询!$L$4,ROW(商品资料表!$C$1:$C$36)),ROW(19:19)),COLUMN(H:H)),"")} | S25: {=IFERROR(INDEX(商品资料表!$C$1:$K$36,SMALL(IF(商品资料表!$C$1:$C$36=库存查询!$L$4,ROW(商品资料表!$C$1:$C$36)),ROW(19:19)),COLUMN(I:I)),"")}
D26: {=IFERROR(INDEX(商品资料表!C:C,SMALL(IF(MATCH(INDIRECT("商品资料表!$C$2:$C$"&COUNTA(商品资料表!C:C)),INDIRECT("商品资料表!$C$2:$C$"&COUNTA(商品资料表!C:C)),)=ROW(INDIRECT("$1:$"&(COUNTA(商品资料表!C:C)-1))),ROW(INDIRECT("$2:$"&COUNTA(商品资料表!C:C))),4^8),ROW(A20)))&"","")} | E26: =IF(D26="","",IFERROR(SUMIFS(商品出入库表!G:G,商品出入库表!C:C,库存查询!D26,商品出入库表!E:E,库存查询!$F$6,商品出入库表!J:J,"<"&(库存查询!$E$4&TEXT(库存查询!$G$4,"00"))*1)-SUMIFS(商品出入库表!G:G,商品出入库表!C:C,库存查询!D26,商品出入库表!E:E,库存查询!$G$6,商品出入库表!J:J,"<"&(库存查询!$E$4&TEXT(库存查询!$G$4,"00"))*1),"")) | F26: =IF(D26="","",SUMIFS(商品出入库表!G:G,商品出入库表!C:C,库存查询!D26,商品出入库表!H:H,库存查询!$E$4,商品出入库表!I:I,库存查询!$G$4,商品出入库表!E:E,库存查询!$F$6)) | G26: =IF(D26="","",SUMIFS(商品出入库表!G:G,商品出入库表!C:C,库存查询!D26,商品出入库表!H:H,库存查询!$E$4,商品出入库表!I:I,库存查询!$G$4,商品出入库表!E:E,库存查询!$G$6)) | H26: =IFERROR(E26+F26-G26,"") | K26: {=IFERROR(INDEX(商品资料表!$C$1:$K$36,SMALL(IF(商品资料表!$C$1:$C$36=库存查询!$L$4,ROW(商品资料表!$C$1:$C$36)),ROW(20:20)),COLUMN(A:A)),"")} | L26: {=IFERROR(INDEX(商品资料表!$C$1:$K$36,SMALL(IF(商品资料表!$C$1:$C$36=库存查询!$L$4,ROW(商品资料表!$C$1:$C$36)),ROW(20:20)),COLUMN(B:B)),"")} | M26: {=IFERROR(INDEX(商品资料表!$C$1:$K$36,SMALL(IF(商品资料表!$C$1:$C$36=库存查询!$L$4,ROW(商品资料表!$C$1:$C$36)),ROW(20:20)),COLUMN(C:C)),"")} | N26: {=IFERROR(INDEX(商品资料表!$C$1:$K$36,SMALL(IF(商品资料表!$C$1:$C$36=库存查询!$L$4,ROW(商品资料表!$C$1:$C$36)),ROW(20:20)),COLUMN(D:D)),"")} | O26: {=IFERROR(INDEX(商品资料表!$C$1:$K$36,SMALL(IF(商品资料表!$C$1:$C$36=库存查询!$L$4,ROW(商品资料表!$C$1:$C$36)),ROW(20:20)),COLUMN(E:E)),"")} | P26: {=IFERROR(INDEX(商品资料表!$C$1:$K$36,SMALL(IF(商品资料表!$C$1:$C$36=库存查询!$L$4,ROW(商品资料表!$C$1:$C$36)),ROW(20:20)),COLUMN(F:F)),"")} | Q26: {=IFERROR(INDEX(商品资料表!$C$1:$K$36,SMALL(IF(商品资料表!$C$1:$C$36=库存查询!$L$4,ROW(商品资料表!$C$1:$C$36)),ROW(20:20)),COLUMN(G:G)),"")} | R26: {=IFERROR(INDEX(商品资料表!$C$1:$K$36,SMALL(IF(商品资料表!$C$1:$C$36=库存查询!$L$4,ROW(商品资料表!$C$1:$C$36)),ROW(20:20)),COLUMN(H:H)),"")} | S26: {=IFERROR(INDEX(商品资料表!$C$1:$K$36,SMALL(IF(商品资料表!$C$1:$C$36=库存查询!$L$4,ROW(商品资料表!$C$1:$C$36)),ROW(20:20)),COLUMN(I:I)),"")}
D27: {=IFERROR(INDEX(商品资料表!C:C,SMALL(IF(MATCH(INDIRECT("商品资料表!$C$2:$C$"&COUNTA(商品资料表!C:C)),INDIRECT("商品资料表!$C$2:$C$"&COUNTA(商品资料表!C:C)),)=ROW(INDIRECT("$1:$"&(COUNTA(商品资料表!C:C)-1))),ROW(INDIRECT("$2:$"&COUNTA(商品资料表!C:C))),4^8),ROW(A21)))&"","")} | E27: =IF(D27="","",IFERROR(SUMIFS(商品出入库表!G:G,商品出入库表!C:C,库存查询!D27,商品出入库表!E:E,库存查询!$F$6,商品出入库表!J:J,"<"&(库存查询!$E$4&TEXT(库存查询!$G$4,"00"))*1)-SUMIFS(商品出入库表!G:G,商品出入库表!C:C,库存查询!D27,商品出入库表!E:E,库存查询!$G$6,商品出入库表!J:J,"<"&(库存查询!$E$4&TEXT(库存查询!$G$4,"00"))*1),"")) | F27: =IF(D27="","",SUMIFS(商品出入库表!G:G,商品出入库表!C:C,库存查询!D27,商品出入库表!H:H,库存查询!$E$4,商品出入库表!I:I,库存查询!$G$4,商品出入库表!E:E,库存查询!$F$6)) | G27: =IF(D27="","",SUMIFS(商品出入库表!G:G,商品出入库表!C:C,库存查询!D27,商品出入库表!H:H,库存查询!$E$4,商品出入库表!I:I,库存查询!$G$4,商品出入库表!E:E,库存查询!$G$6)) | H27: =IFERROR(E27+F27-G27,"") | K27: {=IFERROR(INDEX(商品资料表!$C$1:$K$36,SMALL(IF(商品资料表!$C$1:$C$36=库存查询!$L$4,ROW(商品资料表!$C$1:$C$36)),ROW(21:21)),COLUMN(A:A)),"")} | L27: {=IFERROR(INDEX(商品资料表!$C$1:$K$36,SMALL(IF(商品资料表!$C$1:$C$36=库存查询!$L$4,ROW(商品资料表!$C$1:$C$36)),ROW(21:21)),COLUMN(B:B)),"")} | M27: {=IFERROR(INDEX(商品资料表!$C$1:$K$36,SMALL(IF(商品资料表!$C$1:$C$36=库存查询!$L$4,ROW(商品资料表!$C$1:$C$36)),ROW(21:21)),COLUMN(C:C)),"")} | N27: {=IFERROR(INDEX(商品资料表!$C$1:$K$36,SMALL(IF(商品资料表!$C$1:$C$36=库存查询!$L$4,ROW(商品资料表!$C$1:$C$36)),ROW(21:21)),COLUMN(D:D)),"")} | O27: {=IFERROR(INDEX(商品资料表!$C$1:$K$36,SMALL(IF(商品资料表!$C$1:$C$36=库存查询!$L$4,ROW(商品资料表!$C$1:$C$36)),ROW(21:21)),COLUMN(E:E)),"")} | P27: {=IFERROR(INDEX(商品资料表!$C$1:$K$36,SMALL(IF(商品资料表!$C$1:$C$36=库存查询!$L$4,ROW(商品资料表!$C$1:$C$36)),ROW(21:21)),COLUMN(F:F)),"")} | Q27: {=IFERROR(INDEX(商品资料表!$C$1:$K$36,SMALL(IF(商品资料表!$C$1:$C$36=库存查询!$L$4,ROW(商品资料表!$C$1:$C$36)),ROW(21:21)),COLUMN(G:G)),"")} | R27: {=IFERROR(INDEX(商品资料表!$C$1:$K$36,SMALL(IF(商品资料表!$C$1:$C$36=库存查询!$L$4,ROW(商品资料表!$C$1:$C$36)),ROW(21:21)),COLUMN(H:H)),"")} | S27: {=IFERROR(INDEX(商品资料表!$C$1:$K$36,SMALL(IF(商品资料表!$C$1:$C$36=库存查询!$L$4,ROW(商品资料表!$C$1:$C$36)),ROW(21:21)),COLUMN(I:I)),"")}
D28: {=IFERROR(INDEX(商品资料表!C:C,SMALL(IF(MATCH(INDIRECT("商品资料表!$C$2:$C$"&COUNTA(商品资料表!C:C)),INDIRECT("商品资料表!$C$2:$C$"&COUNTA(商品资料表!C:C)),)=ROW(INDIRECT("$1:$"&(COUNTA(商品资料表!C:C)-1))),ROW(INDIRECT("$2:$"&COUNTA(商品资料表!C:C))),4^8),ROW(A22)))&"","")} | E28: =IF(D28="","",IFERROR(SUMIFS(商品出入库表!G:G,商品出入库表!C:C,库存查询!D28,商品出入库表!E:E,库存查询!$F$6,商品出入库表!J:J,"<"&(库存查询!$E$4&TEXT(库存查询!$G$4,"00"))*1)-SUMIFS(商品出入库表!G:G,商品出入库表!C:C,库存查询!D28,商品出入库表!E:E,库存查询!$G$6,商品出入库表!J:J,"<"&(库存查询!$E$4&TEXT(库存查询!$G$4,"00"))*1),"")) | F28: =IF(D28="","",SUMIFS(商品出入库表!G:G,商品出入库表!C:C,库存查询!D28,商品出入库表!H:H,库存查询!$E$4,商品出入库表!I:I,库存查询!$G$4,商品出入库表!E:E,库存查询!$F$6)) | G28: =IF(D28="","",SUMIFS(商品出入库表!G:G,商品出入库表!C:C,库存查询!D28,商品出入库表!H:H,库存查询!$E$4,商品出入库表!I:I,库存查询!$G$4,商品出入库表!E:E,库存查询!$G$6)) | H28: =IFERROR(E28+F28-G28,"") | K28: {=IFERROR(INDEX(商品资料表!$C$1:$K$36,SMALL(IF(商品资料表!$C$1:$C$36=库存查询!$L$4,ROW(商品资料表!$C$1:$C$36)),ROW(22:22)),COLUMN(A:A)),"")} | L28: {=IFERROR(INDEX(商品资料表!$C$1:$K$36,SMALL(IF(商品资料表!$C$1:$C$36=库存查询!$L$4,ROW(商品资料表!$C$1:$C$36)),ROW(22:22)),COLUMN(B:B)),"")} | M28: {=IFERROR(INDEX(商品资料表!$C$1:$K$36,SMALL(IF(商品资料表!$C$1:$C$36=库存查询!$L$4,ROW(商品资料表!$C$1:$C$36)),ROW(22:22)),COLUMN(C:C)),"")} | N28: {=IFERROR(INDEX(商品资料表!$C$1:$K$36,SMALL(IF(商品资料表!$C$1:$C$36=库存查询!$L$4,ROW(商品资料表!$C$1:$C$36)),ROW(22:22)),COLUMN(D:D)),"")} | O28: {=IFERROR(INDEX(商品资料表!$C$1:$K$36,SMALL(IF(商品资料表!$C$1:$C$36=库存查询!$L$4,ROW(商品资料表!$C$1:$C$36)),ROW(22:22)),COLUMN(E:E)),"")} | P28: {=IFERROR(INDEX(商品资料表!$C$1:$K$36,SMALL(IF(商品资料表!$C$1:$C$36=库存查询!$L$4,ROW(商品资料表!$C$1:$C$36)),ROW(22:22)),COLUMN(F:F)),"")} | Q28: {=IFERROR(INDEX(商品资料表!$C$1:$K$36,SMALL(IF(商品资料表!$C$1:$C$36=库存查询!$L$4,ROW(商品资料表!$C$1:$C$36)),ROW(22:22)),COLUMN(G:G)),"")} | R28: {=IFERROR(INDEX(商品资料表!$C$1:$K$36,SMALL(IF(商品资料表!$C$1:$C$36=库存查询!$L$4,ROW(商品资料表!$C$1:$C$36)),ROW(22:22)),COLUMN(H:H)),"")} | S28: {=IFERROR(INDEX(商品资料表!$C$1:$K$36,SMALL(IF(商品资料表!$C$1:$C$36=库存查询!$L$4,ROW(商品资料表!$C$1:$C$36)),ROW(22:22)),COLUMN(I:I)),"")}
D29: {=IFERROR(INDEX(商品资料表!C:C,SMALL(IF(MATCH(INDIRECT("商品资料表!$C$2:$C$"&COUNTA(商品资料表!C:C)),INDIRECT("商品资料表!$C$2:$C$"&COUNTA(商品资料表!C:C)),)=ROW(INDIRECT("$1:$"&(COUNTA(商品资料表!C:C)-1))),ROW(INDIRECT("$2:$"&COUNTA(商品资料表!C:C))),4^8),ROW(A23)))&"","")} | E29: =IF(D29="","",IFERROR(SUMIFS(商品出入库表!G:G,商品出入库表!C:C,库存查询!D29,商品出入库表!E:E,库存查询!$F$6,商品出入库表!J:J,"<"&(库存查询!$E$4&TEXT(库存查询!$G$4,"00"))*1)-SUMIFS(商品出入库表!G:G,商品出入库表!C:C,库存查询!D29,商品出入库表!E:E,库存查询!$G$6,商品出入库表!J:J,"<"&(库存查询!$E$4&TEXT(库存查询!$G$4,"00"))*1),"")) | F29: =IF(D29="","",SUMIFS(商品出入库表!G:G,商品出入库表!C:C,库存查询!D29,商品出入库表!H:H,库存查询!$E$4,商品出入库表!I:I,库存查询!$G$4,商品出入库表!E:E,库存查询!$F$6)) | G29: =IF(D29="","",SUMIFS(商品出入库表!G:G,商品出入库表!C:C,库存查询!D29,商品出入库表!H:H,库存查询!$E$4,商品出入库表!I:I,库存查询!$G$4,商品出入库表!E:E,库存查询!$G$6)) | H29: =IFERROR(E29+F29-G29,"") | K29: {=IFERROR(INDEX(商品资料表!$C$1:$K$36,SMALL(IF(商品资料表!$C$1:$C$36=库存查询!$L$4,ROW(商品资料表!$C$1:$C$36)),ROW(23:23)),COLUMN(A:A)),"")} | L29: {=IFERROR(INDEX(商品资料表!$C$1:$K$36,SMALL(IF(商品资料表!$C$1:$C$36=库存查询!$L$4,ROW(商品资料表!$C$1:$C$36)),ROW(23:23)),COLUMN(B:B)),"")} | M29: {=IFERROR(INDEX(商品资料表!$C$1:$K$36,SMALL(IF(商品资料表!$C$1:$C$36=库存查询!$L$4,ROW(商品资料表!$C$1:$C$36)),ROW(23:23)),COLUMN(C:C)),"")} | N29: {=IFERROR(INDEX(商品资料表!$C$1:$K$36,SMALL(IF(商品资料表!$C$1:$C$36=库存查询!$L$4,ROW(商品资料表!$C$1:$C$36)),ROW(23:23)),COLUMN(D:D)),"")} | O29: {=IFERROR(INDEX(商品资料表!$C$1:$K$36,SMALL(IF(商品资料表!$C$1:$C$36=库存查询!$L$4,ROW(商品资料表!$C$1:$C$36)),ROW(23:23)),COLUMN(E:E)),"")} | P29: {=IFERROR(INDEX(商品资料表!$C$1:$K$36,SMALL(IF(商品资料表!$C$1:$C$36=库存查询!$L$4,ROW(商品资料表!$C$1:$C$36)),ROW(23:23)),COLUMN(F:F)),"")} | Q29: {=IFERROR(INDEX(商品资料表!$C$1:$K$36,SMALL(IF(商品资料表!$C$1:$C$36=库存查询!$L$4,ROW(商品资料表!$C$1:$C$36)),ROW(23:23)),COLUMN(G:G)),"")} | R29: {=IFERROR(INDEX(商品资料表!$C$1:$K$36,SMALL(IF(商品资料表!$C$1:$C$36=库存查询!$L$4,ROW(商品资料表!$C$1:$C$36)),ROW(23:23)),COLUMN(H:H)),"")} | S29: {=IFERROR(INDEX(商品资料表!$C$1:$K$36,SMALL(IF(商品资料表!$C$1:$C$36=库存查询!$L$4,ROW(商品资料表!$C$1:$C$36)),ROW(23:23)),COLUMN(I:I)),"")}
D30: {=IFERROR(INDEX(商品资料表!C:C,SMALL(IF(MATCH(INDIRECT("商品资料表!$C$2:$C$"&COUNTA(商品资料表!C:C)),INDIRECT("商品资料表!$C$2:$C$"&COUNTA(商品资料表!C:C)),)=ROW(INDIRECT("$1:$"&(COUNTA(商品资料表!C:C)-1))),ROW(INDIRECT("$2:$"&COUNTA(商品资料表!C:C))),4^8),ROW(A24)))&"","")} | E30: =IF(D30="","",IFERROR(SUMIFS(商品出入库表!G:G,商品出入库表!C:C,库存查询!D30,商品出入库表!E:E,库存查询!$F$6,商品出入库表!J:J,"<"&(库存查询!$E$4&TEXT(库存查询!$G$4,"00"))*1)-SUMIFS(商品出入库表!G:G,商品出入库表!C:C,库存查询!D30,商品出入库表!E:E,库存查询!$G$6,商品出入库表!J:J,"<"&(库存查询!$E$4&TEXT(库存查询!$G$4,"00"))*1),"")) | F30: =IF(D30="","",SUMIFS(商品出入库表!G:G,商品出入库表!C:C,库存查询!D30,商品出入库表!H:H,库存查询!$E$4,商品出入库表!I:I,库存查询!$G$4,商品出入库表!E:E,库存查询!$F$6)) | G30: =IF(D30="","",SUMIFS(商品出入库表!G:G,商品出入库表!C:C,库存查询!D30,商品出入库表!H:H,库存查询!$E$4,商品出入库表!I:I,库存查询!$G$4,商品出入库表!E:E,库存查询!$G$6)) | H30: =IFERROR(E30+F30-G30,"") | K30: {=IFERROR(INDEX(商品资料表!$C$1:$K$36,SMALL(IF(商品资料表!$C$1:$C$36=库存查询!$L$4,ROW(商品资料表!$C$1:$C$36)),ROW(24:24)),COLUMN(A:A)),"")} | L30: {=IFERROR(INDEX(商品资料表!$C$1:$K$36,SMALL(IF(商品资料表!$C$1:$C$36=库存查询!$L$4,ROW(商品资料表!$C$1:$C$36)),ROW(24:24)),COLUMN(B:B)),"")} | M30: {=IFERROR(INDEX(商品资料表!$C$1:$K$36,SMALL(IF(商品资料表!$C$1:$C$36=库存查询!$L$4,ROW(商品资料表!$C$1:$C$36)),ROW(24:24)),COLUMN(C:C)),"")} | N30: {=IFERROR(INDEX(商品资料表!$C$1:$K$36,SMALL(IF(商品资料表!$C$1:$C$36=库存查询!$L$4,ROW(商品资料表!$C$1:$C$36)),ROW(24:24)),COLUMN(D:D)),"")} | O30: {=IFERROR(INDEX(商品资料表!$C$1:$K$36,SMALL(IF(商品资料表!$C$1:$C$36=库存查询!$L$4,ROW(商品资料表!$C$1:$C$36)),ROW(24:24)),COLUMN(E:E)),"")} | P30: {=IFERROR(INDEX(商品资料表!$C$1:$K$36,SMALL(IF(商品资料表!$C$1:$C$36=库存查询!$L$4,ROW(商品资料表!$C$1:$C$36)),ROW(24:24)),COLUMN(F:F)),"")} | Q30: {=IFERROR(INDEX(商品资料表!$C$1:$K$36,SMALL(IF(商品资料表!$C$1:$C$36=库存查询!$L$4,ROW(商品资料表!$C$1:$C$36)),ROW(24:24)),COLUMN(G:G)),"")} | R30: {=IFERROR(INDEX(商品资料表!$C$1:$K$36,SMALL(IF(商品资料表!$C$1:$C$36=库存查询!$L$4,ROW(商品资料表!$C$1:$C$36)),ROW(24:24)),COLUMN(H:H)),"")} | S30: {=IFERROR(INDEX(商品资料表!$C$1:$K$36,SMALL(IF(商品资料表!$C$1:$C$36=库存查询!$L$4,ROW(商品资料表!$C$1:$C$36)),ROW(24:24)),COLUMN(I:I)),"")}
D31: {=IFERROR(INDEX(商品资料表!C:C,SMALL(IF(MATCH(INDIRECT("商品资料表!$C$2:$C$"&COUNTA(商品资料表!C:C)),INDIRECT("商品资料表!$C$2:$C$"&COUNTA(商品资料表!C:C)),)=ROW(INDIRECT("$1:$"&(COUNTA(商品资料表!C:C)-1))),ROW(INDIRECT("$2:$"&COUNTA(商品资料表!C:C))),4^8),ROW(A25)))&"","")} | E31: =IF(D31="","",IFERROR(SUMIFS(商品出入库表!G:G,商品出入库表!C:C,库存查询!D31,商品出入库表!E:E,库存查询!$F$6,商品出入库表!J:J,"<"&(库存查询!$E$4&TEXT(库存查询!$G$4,"00"))*1)-SUMIFS(商品出入库表!G:G,商品出入库表!C:C,库存查询!D31,商品出入库表!E:E,库存查询!$G$6,商品出入库表!J:J,"<"&(库存查询!$E$4&TEXT(库存查询!$G$4,"00"))*1),"")) | F31: =IF(D31="","",SUMIFS(商品出入库表!G:G,商品出入库表!C:C,库存查询!D31,商品出入库表!H:H,库存查询!$E$4,商品出入库表!I:I,库存查询!$G$4,商品出入库表!E:E,库存查询!$F$6)) | G31: =IF(D31="","",SUMIFS(商品出入库表!G:G,商品出入库表!C:C,库存查询!D31,商品出入库表!H:H,库存查询!$E$4,商品出入库表!I:I,库存查询!$G$4,商品出入库表!E:E,库存查询!$G$6)) | H31: =IFERROR(E31+F31-G31,"") | K31: {=IFERROR(INDEX(商品资料表!$C$1:$K$36,SMALL(IF(商品资料表!$C$1:$C$36=库存查询!$L$4,ROW(商品资料表!$C$1:$C$36)),ROW(25:25)),COLUMN(A:A)),"")} | L31: {=IFERROR(INDEX(商品资料表!$C$1:$K$36,SMALL(IF(商品资料表!$C$1:$C$36=库存查询!$L$4,ROW(商品资料表!$C$1:$C$36)),ROW(25:25)),COLUMN(B:B)),"")} | M31: {=IFERROR(INDEX(商品资料表!$C$1:$K$36,SMALL(IF(商品资料表!$C$1:$C$36=库存查询!$L$4,ROW(商品资料表!$C$1:$C$36)),ROW(25:25)),COLUMN(C:C)),"")} | N31: {=IFERROR(INDEX(商品资料表!$C$1:$K$36,SMALL(IF(商品资料表!$C$1:$C$36=库存查询!$L$4,ROW(商品资料表!$C$1:$C$36)),ROW(25:25)),COLUMN(D:D)),"")} | O31: {=IFERROR(INDEX(商品资料表!$C$1:$K$36,SMALL(IF(商品资料表!$C$1:$C$36=库存查询!$L$4,ROW(商品资料表!$C$1:$C$36)),ROW(25:25)),COLUMN(E:E)),"")} | P31: {=IFERROR(INDEX(商品资料表!$C$1:$K$36,SMALL(IF(商品资料表!$C$1:$C$36=库存查询!$L$4,ROW(商品资料表!$C$1:$C$36)),ROW(25:25)),COLUMN(F:F)),"")} | Q31: {=IFERROR(INDEX(商品资料表!$C$1:$K$36,SMALL(IF(商品资料表!$C$1:$C$36=库存查询!$L$4,ROW(商品资料表!$C$1:$C$36)),ROW(25:25)),COLUMN(G:G)),"")} | R31: {=IFERROR(INDEX(商品资料表!$C$1:$K$36,SMALL(IF(商品资料表!$C$1:$C$36=库存查询!$L$4,ROW(商品资料表!$C$1:$C$36)),ROW(25:25)),COLUMN(H:H)),"")} | S31: {=IFERROR(INDEX(商品资料表!$C$1:$K$36,SMALL(IF(商品资料表!$C$1:$C$36=库存查询!$L$4,ROW(商品资料表!$C$1:$C$36)),ROW(25:25)),COLUMN(I:I)),"")}
D32: {=IFERROR(INDEX(商品资料表!C:C,SMALL(IF(MATCH(INDIRECT("商品资料表!$C$2:$C$"&COUNTA(商品资料表!C:C)),INDIRECT("商品资料表!$C$2:$C$"&COUNTA(商品资料表!C:C)),)=ROW(INDIRECT("$1:$"&(COUNTA(商品资料表!C:C)-1))),ROW(INDIRECT("$2:$"&COUNTA(商品资料表!C:C))),4^8),ROW(A26)))&"","")} | E32: =IF(D32="","",IFERROR(SUMIFS(商品出入库表!G:G,商品出入库表!C:C,库存查询!D32,商品出入库表!E:E,库存查询!$F$6,商品出入库表!J:J,"<"&(库存查询!$E$4&TEXT(库存查询!$G$4,"00"))*1)-SUMIFS(商品出入库表!G:G,商品出入库表!C:C,库存查询!D32,商品出入库表!E:E,库存查询!$G$6,商品出入库表!J:J,"<"&(库存查询!$E$4&TEXT(库存查询!$G$4,"00"))*1),"")) | F32: =IF(D32="","",SUMIFS(商品出入库表!G:G,商品出入库表!C:C,库存查询!D32,商品出入库表!H:H,库存查询!$E$4,商品出入库表!I:I,库存查询!$G$4,商品出入库表!E:E,库存查询!$F$6)) | G32: =IF(D32="","",SUMIFS(商品出入库表!G:G,商品出入库表!C:C,库存查询!D32,商品出入库表!H:H,库存查询!$E$4,商品出入库表!I:I,库存查询!$G$4,商品出入库表!E:E,库存查询!$G$6)) | H32: =IFERROR(E32+F32-G32,"") | K32: {=IFERROR(INDEX(商品资料表!$C$1:$K$36,SMALL(IF(商品资料表!$C$1:$C$36=库存查询!$L$4,ROW(商品资料表!$C$1:$C$36)),ROW(26:26)),COLUMN(A:A)),"")} | L32: {=IFERROR(INDEX(商品资料表!$C$1:$K$36,SMALL(IF(商品资料表!$C$1:$C$36=库存查询!$L$4,ROW(商品资料表!$C$1:$C$36)),ROW(26:26)),COLUMN(B:B)),"")} | M32: {=IFERROR(INDEX(商品资料表!$C$1:$K$36,SMALL(IF(商品资料表!$C$1:$C$36=库存查询!$L$4,ROW(商品资料表!$C$1:$C$36)),ROW(26:26)),COLUMN(C:C)),"")} | N32: {=IFERROR(INDEX(商品资料表!$C$1:$K$36,SMALL(IF(商品资料表!$C$1:$C$36=库存查询!$L$4,ROW(商品资料表!$C$1:$C$36)),ROW(26:26)),COLUMN(D:D)),"")} | O32: {=IFERROR(INDEX(商品资料表!$C$1:$K$36,SMALL(IF(商品资料表!$C$1:$C$36=库存查询!$L$4,ROW(商品资料表!$C$1:$C$36)),ROW(26:26)),COLUMN(E:E)),"")} | P32: {=IFERROR(INDEX(商品资料表!$C$1:$K$36,SMALL(IF(商品资料表!$C$1:$C$36=库存查询!$L$4,ROW(商品资料表!$C$1:$C$36)),ROW(26:26)),COLUMN(F:F)),"")} | Q32: {=IFERROR(INDEX(商品资料表!$C$1:$K$36,SMALL(IF(商品资料表!$C$1:$C$36=库存查询!$L$4,ROW(商品资料表!$C$1:$C$36)),ROW(26:26)),COLUMN(G:G)),"")} | R32: {=IFERROR(INDEX(商品资料表!$C$1:$K$36,SMALL(IF(商品资料表!$C$1:$C$36=库存查询!$L$4,ROW(商品资料表!$C$1:$C$36)),ROW(26:26)),COLUMN(H:H)),"")} | S32: {=IFERROR(INDEX(商品资料表!$C$1:$K$36,SMALL(IF(商品资料表!$C$1:$C$36=库存查询!$L$4,ROW(商品资料表!$C$1:$C$36)),ROW(26:26)),COLUMN(I:I)),"")}
D33: {=IFERROR(INDEX(商品资料表!C:C,SMALL(IF(MATCH(INDIRECT("商品资料表!$C$2:$C$"&COUNTA(商品资料表!C:C)),INDIRECT("商品资料表!$C$2:$C$"&COUNTA(商品资料表!C:C)),)=ROW(INDIRECT("$1:$"&(COUNTA(商品资料表!C:C)-1))),ROW(INDIRECT("$2:$"&COUNTA(商品资料表!C:C))),4^8),ROW(A27)))&"","")} | E33: =IF(D33="","",IFERROR(SUMIFS(商品出入库表!G:G,商品出入库表!C:C,库存查询!D33,商品出入库表!E:E,库存查询!$F$6,商品出入库表!J:J,"<"&(库存查询!$E$4&TEXT(库存查询!$G$4,"00"))*1)-SUMIFS(商品出入库表!G:G,商品出入库表!C:C,库存查询!D33,商品出入库表!E:E,库存查询!$G$6,商品出入库表!J:J,"<"&(库存查询!$E$4&TEXT(库存查询!$G$4,"00"))*1),"")) | F33: =IF(D33="","",SUMIFS(商品出入库表!G:G,商品出入库表!C:C,库存查询!D33,商品出入库表!H:H,库存查询!$E$4,商品出入库表!I:I,库存查询!$G$4,商品出入库表!E:E,库存查询!$F$6)) | G33: =IF(D33="","",SUMIFS(商品出入库表!G:G,商品出入库表!C:C,库存查询!D33,商品出入库表!H:H,库存查询!$E$4,商品出入库表!I:I,库存查询!$G$4,商品出入库表!E:E,库存查询!$G$6)) | H33: =IFERROR(E33+F33-G33,"") | K33: {=IFERROR(INDEX(商品资料表!$C$1:$K$36,SMALL(IF(商品资料表!$C$1:$C$36=库存查询!$L$4,ROW(商品资料表!$C$1:$C$36)),ROW(27:27)),COLUMN(A:A)),"")} | L33: {=IFERROR(INDEX(商品资料表!$C$1:$K$36,SMALL(IF(商品资料表!$C$1:$C$36=库存查询!$L$4,ROW(商品资料表!$C$1:$C$36)),ROW(27:27)),COLUMN(B:B)),"")} | M33: {=IFERROR(INDEX(商品资料表!$C$1:$K$36,SMALL(IF(商品资料表!$C$1:$C$36=库存查询!$L$4,ROW(商品资料表!$C$1:$C$36)),ROW(27:27)),COLUMN(C:C)),"")} | N33: {=IFERROR(INDEX(商品资料表!$C$1:$K$36,SMALL(IF(商品资料表!$C$1:$C$36=库存查询!$L$4,ROW(商品资料表!$C$1:$C$36)),ROW(27:27)),COLUMN(D:D)),"")} | O33: {=IFERROR(INDEX(商品资料表!$C$1:$K$36,SMALL(IF(商品资料表!$C$1:$C$36=库存查询!$L$4,ROW(商品资料表!$C$1:$C$36)),ROW(27:27)),COLUMN(E:E)),"")} | P33: {=IFERROR(INDEX(商品资料表!$C$1:$K$36,SMALL(IF(商品资料表!$C$1:$C$36=库存查询!$L$4,ROW(商品资料表!$C$1:$C$36)),ROW(27:27)),COLUMN(F:F)),"")} | Q33: {=IFERROR(INDEX(商品资料表!$C$1:$K$36,SMALL(IF(商品资料表!$C$1:$C$36=库存查询!$L$4,ROW(商品资料表!$C$1:$C$36)),ROW(27:27)),COLUMN(G:G)),"")} | R33: {=IFERROR(INDEX(商品资料表!$C$1:$K$36,SMALL(IF(商品资料表!$C$1:$C$36=库存查询!$L$4,ROW(商品资料表!$C$1:$C$36)),ROW(27:27)),COLUMN(H:H)),"")} | S33: {=IFERROR(INDEX(商品资料表!$C$1:$K$36,SMALL(IF(商品资料表!$C$1:$C$36=库存查询!$L$4,ROW(商品资料表!$C$1:$C$36)),ROW(27:27)),COLUMN(I:I)),"")}
D34: {=IFERROR(INDEX(商品资料表!C:C,SMALL(IF(MATCH(INDIRECT("商品资料表!$C$2:$C$"&COUNTA(商品资料表!C:C)),INDIRECT("商品资料表!$C$2:$C$"&COUNTA(商品资料表!C:C)),)=ROW(INDIRECT("$1:$"&(COUNTA(商品资料表!C:C)-1))),ROW(INDIRECT("$2:$"&COUNTA(商品资料表!C:C))),4^8),ROW(A28)))&"","")} | E34: =IF(D34="","",IFERROR(SUMIFS(商品出入库表!G:G,商品出入库表!C:C,库存查询!D34,商品出入库表!E:E,库存查询!$F$6,商品出入库表!J:J,"<"&(库存查询!$E$4&TEXT(库存查询!$G$4,"00"))*1)-SUMIFS(商品出入库表!G:G,商品出入库表!C:C,库存查询!D34,商品出入库表!E:E,库存查询!$G$6,商品出入库表!J:J,"<"&(库存查询!$E$4&TEXT(库存查询!$G$4,"00"))*1),"")) | F34: =IF(D34="","",SUMIFS(商品出入库表!G:G,商品出入库表!C:C,库存查询!D34,商品出入库表!H:H,库存查询!$E$4,商品出入库表!I:I,库存查询!$G$4,商品出入库表!E:E,库存查询!$F$6)) | G34: =IF(D34="","",SUMIFS(商品出入库表!G:G,商品出入库表!C:C,库存查询!D34,商品出入库表!H:H,库存查询!$E$4,商品出入库表!I:I,库存查询!$G$4,商品出入库表!E:E,库存查询!$G$6)) | H34: =IFERROR(E34+F34-G34,"") | K34: {=IFERROR(INDEX(商品资料表!$C$1:$K$36,SMALL(IF(商品资料表!$C$1:$C$36=库存查询!$L$4,ROW(商品资料表!$C$1:$C$36)),ROW(28:28)),COLUMN(A:A)),"")} | L34: {=IFERROR(INDEX(商品资料表!$C$1:$K$36,SMALL(IF(商品资料表!$C$1:$C$36=库存查询!$L$4,ROW(商品资料表!$C$1:$C$36)),ROW(28:28)),COLUMN(B:B)),"")} | M34: {=IFERROR(INDEX(商品资料表!$C$1:$K$36,SMALL(IF(商品资料表!$C$1:$C$36=库存查询!$L$4,ROW(商品资料表!$C$1:$C$36)),ROW(28:28)),COLUMN(C:C)),"")} | N34: {=IFERROR(INDEX(商品资料表!$C$1:$K$36,SMALL(IF(商品资料表!$C$1:$C$36=库存查询!$L$4,ROW(商品资料表!$C$1:$C$36)),ROW(28:28)),COLUMN(D:D)),"")} | O34: {=IFERROR(INDEX(商品资料表!$C$1:$K$36,SMALL(IF(商品资料表!$C$1:$C$36=库存查询!$L$4,ROW(商品资料表!$C$1:$C$36)),ROW(28:28)),COLUMN(E:E)),"")} | P34: {=IFERROR(INDEX(商品资料表!$C$1:$K$36,SMALL(IF(商品资料表!$C$1:$C$36=库存查询!$L$4,ROW(商品资料表!$C$1:$C$36)),ROW(28:28)),COLUMN(F:F)),"")} | Q34: {=IFERROR(INDEX(商品资料表!$C$1:$K$36,SMALL(IF(商品资料表!$C$1:$C$36=库存查询!$L$4,ROW(商品资料表!$C$1:$C$36)),ROW(28:28)),COLUMN(G:G)),"")} | R34: {=IFERROR(INDEX(商品资料表!$C$1:$K$36,SMALL(IF(商品资料表!$C$1:$C$36=库存查询!$L$4,ROW(商品资料表!$C$1:$C$36)),ROW(28:28)),COLUMN(H:H)),"")} | S34: {=IFERROR(INDEX(商品资料表!$C$1:$K$36,SMALL(IF(商品资料表!$C$1:$C$36=库存查询!$L$4,ROW(商品资料表!$C$1:$C$36)),ROW(28:28)),COLUMN(I:I)),"")}
D35: {=IFERROR(INDEX(商品资料表!C:C,SMALL(IF(MATCH(INDIRECT("商品资料表!$C$2:$C$"&COUNTA(商品资料表!C:C)),INDIRECT("商品资料表!$C$2:$C$"&COUNTA(商品资料表!C:C)),)=ROW(INDIRECT("$1:$"&(COUNTA(商品资料表!C:C)-1))),ROW(INDIRECT("$2:$"&COUNTA(商品资料表!C:C))),4^8),ROW(A29)))&"","")} | E35: =IF(D35="","",IFERROR(SUMIFS(商品出入库表!G:G,商品出入库表!C:C,库存查询!D35,商品出入库表!E:E,库存查询!$F$6,商品出入库表!J:J,"<"&(库存查询!$E$4&TEXT(库存查询!$G$4,"00"))*1)-SUMIFS(商品出入库表!G:G,商品出入库表!C:C,库存查询!D35,商品出入库表!E:E,库存查询!$G$6,商品出入库表!J:J,"<"&(库存查询!$E$4&TEXT(库存查询!$G$4,"00"))*1),"")) | F35: =IF(D35="","",SUMIFS(商品出入库表!G:G,商品出入库表!C:C,库存查询!D35,商品出入库表!H:H,库存查询!$E$4,商品出入库表!I:I,库存查询!$G$4,商品出入库表!E:E,库存查询!$F$6)) | G35: =IF(D35="","",SUMIFS(商品出入库表!G:G,商品出入库表!C:C,库存查询!D35,商品出入库表!H:H,库存查询!$E$4,商品出入库表!I:I,库存查询!$G$4,商品出入库表!E:E,库存查询!$G$6)) | H35: =IFERROR(E35+F35-G35,"") | K35: {=IFERROR(INDEX(商品资料表!$C$1:$K$36,SMALL(IF(商品资料表!$C$1:$C$36=库存查询!$L$4,ROW(商品资料表!$C$1:$C$36)),ROW(29:29)),COLUMN(A:A)),"")} | L35: {=IFERROR(INDEX(商品资料表!$C$1:$K$36,SMALL(IF(商品资料表!$C$1:$C$36=库存查询!$L$4,ROW(商品资料表!$C$1:$C$36)),ROW(29:29)),COLUMN(B:B)),"")} | M35: {=IFERROR(INDEX(商品资料表!$C$1:$K$36,SMALL(IF(商品资料表!$C$1:$C$36=库存查询!$L$4,ROW(商品资料表!$C$1:$C$36)),ROW(29:29)),COLUMN(C:C)),"")} | N35: {=IFERROR(INDEX(商品资料表!$C$1:$K$36,SMALL(IF(商品资料表!$C$1:$C$36=库存查询!$L$4,ROW(商品资料表!$C$1:$C$36)),ROW(29:29)),COLUMN(D:D)),"")} | O35: {=IFERROR(INDEX(商品资料表!$C$1:$K$36,SMALL(IF(商品资料表!$C$1:$C$36=库存查询!$L$4,ROW(商品资料表!$C$1:$C$36)),ROW(29:29)),COLUMN(E:E)),"")} | P35: {=IFERROR(INDEX(商品资料表!$C$1:$K$36,SMALL(IF(商品资料表!$C$1:$C$36=库存查询!$L$4,ROW(商品资料表!$C$1:$C$36)),ROW(29:29)),COLUMN(F:F)),"")} | Q35: {=IFERROR(INDEX(商品资料表!$C$1:$K$36,SMALL(IF(商品资料表!$C$1:$C$36=库存查询!$L$4,ROW(商品资料表!$C$1:$C$36)),ROW(29:29)),COLUMN(G:G)),"")} | R35: {=IFERROR(INDEX(商品资料表!$C$1:$K$36,SMALL(IF(商品资料表!$C$1:$C$36=库存查询!$L$4,ROW(商品资料表!$C$1:$C$36)),ROW(29:29)),COLUMN(H:H)),"")} | S35: {=IFERROR(INDEX(商品资料表!$C$1:$K$36,SMALL(IF(商品资料表!$C$1:$C$36=库存查询!$L$4,ROW(商品资料表!$C$1:$C$36)),ROW(29:29)),COLUMN(I:I)),"")}
D36: {=IFERROR(INDEX(商品资料表!C:C,SMALL(IF(MATCH(INDIRECT("商品资料表!$C$2:$C$"&COUNTA(商品资料表!C:C)),INDIRECT("商品资料表!$C$2:$C$"&COUNTA(商品资料表!C:C)),)=ROW(INDIRECT("$1:$"&(COUNTA(商品资料表!C:C)-1))),ROW(INDIRECT("$2:$"&COUNTA(商品资料表!C:C))),4^8),ROW(A30)))&"","")} | E36: =IF(D36="","",IFERROR(SUMIFS(商品出入库表!G:G,商品出入库表!C:C,库存查询!D36,商品出入库表!E:E,库存查询!$F$6,商品出入库表!J:J,"<"&(库存查询!$E$4&TEXT(库存查询!$G$4,"00"))*1)-SUMIFS(商品出入库表!G:G,商品出入库表!C:C,库存查询!D36,商品出入库表!E:E,库存查询!$G$6,商品出入库表!J:J,"<"&(库存查询!$E$4&TEXT(库存查询!$G$4,"00"))*1),"")) | F36: =IF(D36="","",SUMIFS(商品出入库表!G:G,商品出入库表!C:C,库存查询!D36,商品出入库表!H:H,库存查询!$E$4,商品出入库表!I:I,库存查询!$G$4,商品出入库表!E:E,库存查询!$F$6)) | G36: =IF(D36="","",SUMIFS(商品出入库表!G:G,商品出入库表!C:C,库存查询!D36,商品出入库表!H:H,库存查询!$E$4,商品出入库表!I:I,库存查询!$G$4,商品出入库表!E:E,库存查询!$G$6)) | H36: =IFERROR(E36+F36-G36,"") | K36: {=IFERROR(INDEX(商品资料表!$C$1:$K$36,SMALL(IF(商品资料表!$C$1:$C$36=库存查询!$L$4,ROW(商品资料表!$C$1:$C$36)),ROW(30:30)),COLUMN(A:A)),"")} | L36: {=IFERROR(INDEX(商品资料表!$C$1:$K$36,SMALL(IF(商品资料表!$C$1:$C$36=库存查询!$L$4,ROW(商品资料表!$C$1:$C$36)),ROW(30:30)),COLUMN(B:B)),"")} | M36: {=IFERROR(INDEX(商品资料表!$C$1:$K$36,SMALL(IF(商品资料表!$C$1:$C$36=库存查询!$L$4,ROW(商品资料表!$C$1:$C$36)),ROW(30:30)),COLUMN(C:C)),"")} | N36: {=IFERROR(INDEX(商品资料表!$C$1:$K$36,SMALL(IF(商品资料表!$C$1:$C$36=库存查询!$L$4,ROW(商品资料表!$C$1:$C$36)),ROW(30:30)),COLUMN(D:D)),"")} | O36: {=IFERROR(INDEX(商品资料表!$C$1:$K$36,SMALL(IF(商品资料表!$C$1:$C$36=库存查询!$L$4,ROW(商品资料表!$C$1:$C$36)),ROW(30:30)),COLUMN(E:E)),"")} | P36: {=IFERROR(INDEX(商品资料表!$C$1:$K$36,SMALL(IF(商品资料表!$C$1:$C$36=库存查询!$L$4,ROW(商品资料表!$C$1:$C$36)),ROW(30:30)),COLUMN(F:F)),"")} | Q36: {=IFERROR(INDEX(商品资料表!$C$1:$K$36,SMALL(IF(商品资料表!$C$1:$C$36=库存查询!$L$4,ROW(商品资料表!$C$1:$C$36)),ROW(30:30)),COLUMN(G:G)),"")} | R36: {=IFERROR(INDEX(商品资料表!$C$1:$K$36,SMALL(IF(商品资料表!$C$1:$C$36=库存查询!$L$4,ROW(商品资料表!$C$1:$C$36)),ROW(30:30)),COLUMN(H:H)),"")} | S36: {=IFERROR(INDEX(商品资料表!$C$1:$K$36,SMALL(IF(商品资料表!$C$1:$C$36=库存查询!$L$4,ROW(商品资料表!$C$1:$C$36)),ROW(30:30)),COLUMN(I:I)),"")}
D37: {=IFERROR(INDEX(商品资料表!C:C,SMALL(IF(MATCH(INDIRECT("商品资料表!$C$2:$C$"&COUNTA(商品资料表!C:C)),INDIRECT("商品资料表!$C$2:$C$"&COUNTA(商品资料表!C:C)),)=ROW(INDIRECT("$1:$"&(COUNTA(商品资料表!C:C)-1))),ROW(INDIRECT("$2:$"&COUNTA(商品资料表!C:C))),4^8),ROW(A31)))&"","")} | E37: =IF(D37="","",IFERROR(SUMIFS(商品出入库表!G:G,商品出入库表!C:C,库存查询!D37,商品出入库表!E:E,库存查询!$F$6,商品出入库表!J:J,"<"&(库存查询!$E$4&TEXT(库存查询!$G$4,"00"))*1)-SUMIFS(商品出入库表!G:G,商品出入库表!C:C,库存查询!D37,商品出入库表!E:E,库存查询!$G$6,商品出入库表!J:J,"<"&(库存查询!$E$4&TEXT(库存查询!$G$4,"00"))*1),"")) | F37: =IF(D37="","",SUMIFS(商品出入库表!G:G,商品出入库表!C:C,库存查询!D37,商品出入库表!H:H,库存查询!$E$4,商品出入库表!I:I,库存查询!$G$4,商品出入库表!E:E,库存查询!$F$6)) | G37: =IF(D37="","",SUMIFS(商品出入库表!G:G,商品出入库表!C:C,库存查询!D37,商品出入库表!H:H,库存查询!$E$4,商品出入库表!I:I,库存查询!$G$4,商品出入库表!E:E,库存查询!$G$6)) | H37: =IFERROR(E37+F37-G37,"") | K37: {=IFERROR(INDEX(商品资料表!$C$1:$K$36,SMALL(IF(商品资料表!$C$1:$C$36=库存查询!$L$4,ROW(商品资料表!$C$1:$C$36)),ROW(31:31)),COLUMN(A:A)),"")} | L37: {=IFERROR(INDEX(商品资料表!$C$1:$K$36,SMALL(IF(商品资料表!$C$1:$C$36=库存查询!$L$4,ROW(商品资料表!$C$1:$C$36)),ROW(31:31)),COLUMN(B:B)),"")} | M37: {=IFERROR(INDEX(商品资料表!$C$1:$K$36,SMALL(IF(商品资料表!$C$1:$C$36=库存查询!$L$4,ROW(商品资料表!$C$1:$C$36)),ROW(31:31)),COLUMN(C:C)),"")} | N37: {=IFERROR(INDEX(商品资料表!$C$1:$K$36,SMALL(IF(商品资料表!$C$1:$C$36=库存查询!$L$4,ROW(商品资料表!$C$1:$C$36)),ROW(31:31)),COLUMN(D:D)),"")} | O37: {=IFERROR(INDEX(商品资料表!$C$1:$K$36,SMALL(IF(商品资料表!$C$1:$C$36=库存查询!$L$4,ROW(商品资料表!$C$1:$C$36)),ROW(31:31)),COLUMN(E:E)),"")} | P37: {=IFERROR(INDEX(商品资料表!$C$1:$K$36,SMALL(IF(商品资料表!$C$1:$C$36=库存查询!$L$4,ROW(商品资料表!$C$1:$C$36)),ROW(31:31)),COLUMN(F:F)),"")} | Q37: {=IFERROR(INDEX(商品资料表!$C$1:$K$36,SMALL(IF(商品资料表!$C$1:$C$36=库存查询!$L$4,ROW(商品资料表!$C$1:$C$36)),ROW(31:31)),COLUMN(G:G)),"")} | R37: {=IFERROR(INDEX(商品资料表!$C$1:$K$36,SMALL(IF(商品资料表!$C$1:$C$36=库存查询!$L$4,ROW(商品资料表!$C$1:$C$36)),ROW(31:31)),COLUMN(H:H)),"")} | S37: {=IFERROR(INDEX(商品资料表!$C$1:$K$36,SMALL(IF(商品资料表!$C$1:$C$36=库存查询!$L$4,ROW(商品资料表!$C$1:$C$36)),ROW(31:31)),COLUMN(I:I)),"")}
D38: {=IFERROR(INDEX(商品资料表!C:C,SMALL(IF(MATCH(INDIRECT("商品资料表!$C$2:$C$"&COUNTA(商品资料表!C:C)),INDIRECT("商品资料表!$C$2:$C$"&COUNTA(商品资料表!C:C)),)=ROW(INDIRECT("$1:$"&(COUNTA(商品资料表!C:C)-1))),ROW(INDIRECT("$2:$"&COUNTA(商品资料表!C:C))),4^8),ROW(A32)))&"","")} | E38: =IF(D38="","",IFERROR(SUMIFS(商品出入库表!G:G,商品出入库表!C:C,库存查询!D38,商品出入库表!E:E,库存查询!$F$6,商品出入库表!J:J,"<"&(库存查询!$E$4&TEXT(库存查询!$G$4,"00"))*1)-SUMIFS(商品出入库表!G:G,商品出入库表!C:C,库存查询!D38,商品出入库表!E:E,库存查询!$G$6,商品出入库表!J:J,"<"&(库存查询!$E$4&TEXT(库存查询!$G$4,"00"))*1),"")) | F38: =IF(D38="","",SUMIFS(商品出入库表!G:G,商品出入库表!C:C,库存查询!D38,商品出入库表!H:H,库存查询!$E$4,商品出入库表!I:I,库存查询!$G$4,商品出入库表!E:E,库存查询!$F$6)) | G38: =IF(D38="","",SUMIFS(商品出入库表!G:G,商品出入库表!C:C,库存查询!D38,商品出入库表!H:H,库存查询!$E$4,商品出入库表!I:I,库存查询!$G$4,商品出入库表!E:E,库存查询!$G$6)) | H38: =IFERROR(E38+F38-G38,"") | K38: {=IFERROR(INDEX(商品资料表!$C$1:$K$36,SMALL(IF(商品资料表!$C$1:$C$36=库存查询!$L$4,ROW(商品资料表!$C$1:$C$36)),ROW(32:32)),COLUMN(A:A)),"")} | L38: {=IFERROR(INDEX(商品资料表!$C$1:$K$36,SMALL(IF(商品资料表!$C$1:$C$36=库存查询!$L$4,ROW(商品资料表!$C$1:$C$36)),ROW(32:32)),COLUMN(B:B)),"")} | M38: {=IFERROR(INDEX(商品资料表!$C$1:$K$36,SMALL(IF(商品资料表!$C$1:$C$36=库存查询!$L$4,ROW(商品资料表!$C$1:$C$36)),ROW(32:32)),COLUMN(C:C)),"")} | N38: {=IFERROR(INDEX(商品资料表!$C$1:$K$36,SMALL(IF(商品资料表!$C$1:$C$36=库存查询!$L$4,ROW(商品资料表!$C$1:$C$36)),ROW(32:32)),COLUMN(D:D)),"")} | O38: {=IFERROR(INDEX(商品资料表!$C$1:$K$36,SMALL(IF(商品资料表!$C$1:$C$36=库存查询!$L$4,ROW(商品资料表!$C$1:$C$36)),ROW(32:32)),COLUMN(E:E)),"")} | P38: {=IFERROR(INDEX(商品资料表!$C$1:$K$36,SMALL(IF(商品资料表!$C$1:$C$36=库存查询!$L$4,ROW(商品资料表!$C$1:$C$36)),ROW(32:32)),COLUMN(F:F)),"")} | Q38: {=IFERROR(INDEX(商品资料表!$C$1:$K$36,SMALL(IF(商品资料表!$C$1:$C$36=库存查询!$L$4,ROW(商品资料表!$C$1:$C$36)),ROW(32:32)),COLUMN(G:G)),"")} | R38: {=IFERROR(INDEX(商品资料表!$C$1:$K$36,SMALL(IF(商品资料表!$C$1:$C$36=库存查询!$L$4,ROW(商品资料表!$C$1:$C$36)),ROW(32:32)),COLUMN(H:H)),"")} | S38: {=IFERROR(INDEX(商品资料表!$C$1:$K$36,SMALL(IF(商品资料表!$C$1:$C$36=库存查询!$L$4,ROW(商品资料表!$C$1:$C$36)),ROW(32:32)),COLUMN(I:I)),"")}
D39: {=IFERROR(INDEX(商品资料表!C:C,SMALL(IF(MATCH(INDIRECT("商品资料表!$C$2:$C$"&COUNTA(商品资料表!C:C)),INDIRECT("商品资料表!$C$2:$C$"&COUNTA(商品资料表!C:C)),)=ROW(INDIRECT("$1:$"&(COUNTA(商品资料表!C:C)-1))),ROW(INDIRECT("$2:$"&COUNTA(商品资料表!C:C))),4^8),ROW(A33)))&"","")} | E39: =IF(D39="","",IFERROR(SUMIFS(商品出入库表!G:G,商品出入库表!C:C,库存查询!D39,商品出入库表!E:E,库存查询!$F$6,商品出入库表!J:J,"<"&(库存查询!$E$4&TEXT(库存查询!$G$4,"00"))*1)-SUMIFS(商品出入库表!G:G,商品出入库表!C:C,库存查询!D39,商品出入库表!E:E,库存查询!$G$6,商品出入库表!J:J,"<"&(库存查询!$E$4&TEXT(库存查询!$G$4,"00"))*1),"")) | F39: =IF(D39="","",SUMIFS(商品出入库表!G:G,商品出入库表!C:C,库存查询!D39,商品出入库表!H:H,库存查询!$E$4,商品出入库表!I:I,库存查询!$G$4,商品出入库表!E:E,库存查询!$F$6)) | G39: =IF(D39="","",SUMIFS(商品出入库表!G:G,商品出入库表!C:C,库存查询!D39,商品出入库表!H:H,库存查询!$E$4,商品出入库表!I:I,库存查询!$G$4,商品出入库表!E:E,库存查询!$G$6)) | H39: =IFERROR(E39+F39-G39,"") | K39: {=IFERROR(INDEX(商品资料表!$C$1:$K$36,SMALL(IF(商品资料表!$C$1:$C$36=库存查询!$L$4,ROW(商品资料表!$C$1:$C$36)),ROW(33:33)),COLUMN(A:A)),"")} | L39: {=IFERROR(INDEX(商品资料表!$C$1:$K$36,SMALL(IF(商品资料表!$C$1:$C$36=库存查询!$L$4,ROW(商品资料表!$C$1:$C$36)),ROW(33:33)),COLUMN(B:B)),"")} | M39: {=IFERROR(INDEX(商品资料表!$C$1:$K$36,SMALL(IF(商品资料表!$C$1:$C$36=库存查询!$L$4,ROW(商品资料表!$C$1:$C$36)),ROW(33:33)),COLUMN(C:C)),"")} | N39: {=IFERROR(INDEX(商品资料表!$C$1:$K$36,SMALL(IF(商品资料表!$C$1:$C$36=库存查询!$L$4,ROW(商品资料表!$C$1:$C$36)),ROW(33:33)),COLUMN(D:D)),"")} | O39: {=IFERROR(INDEX(商品资料表!$C$1:$K$36,SMALL(IF(商品资料表!$C$1:$C$36=库存查询!$L$4,ROW(商品资料表!$C$1:$C$36)),ROW(33:33)),COLUMN(E:E)),"")} | P39: {=IFERROR(INDEX(商品资料表!$C$1:$K$36,SMALL(IF(商品资料表!$C$1:$C$36=库存查询!$L$4,ROW(商品资料表!$C$1:$C$36)),ROW(33:33)),COLUMN(F:F)),"")} | Q39: {=IFERROR(INDEX(商品资料表!$C$1:$K$36,SMALL(IF(商品资料表!$C$1:$C$36=库存查询!$L$4,ROW(商品资料表!$C$1:$C$36)),ROW(33:33)),COLUMN(G:G)),"")} | R39: {=IFERROR(INDEX(商品资料表!$C$1:$K$36,SMALL(IF(商品资料表!$C$1:$C$36=库存查询!$L$4,ROW(商品资料表!$C$1:$C$36)),ROW(33:33)),COLUMN(H:H)),"")} | S39: {=IFERROR(INDEX(商品资料表!$C$1:$K$36,SMALL(IF(商品资料表!$C$1:$C$36=库存查询!$L$4,ROW(商品资料表!$C$1:$C$36)),ROW(33:33)),COLUMN(I:I)),"")}
D40: {=IFERROR(INDEX(商品资料表!C:C,SMALL(IF(MATCH(INDIRECT("商品资料表!$C$2:$C$"&COUNTA(商品资料表!C:C)),INDIRECT("商品资料表!$C$2:$C$"&COUNTA(商品资料表!C:C)),)=ROW(INDIRECT("$1:$"&(COUNTA(商品资料表!C:C)-1))),ROW(INDIRECT("$2:$"&COUNTA(商品资料表!C:C))),4^8),ROW(A34)))&"","")} | E40: =IF(D40="","",IFERROR(SUMIFS(商品出入库表!G:G,商品出入库表!C:C,库存查询!D40,商品出入库表!E:E,库存查询!$F$6,商品出入库表!J:J,"<"&(库存查询!$E$4&TEXT(库存查询!$G$4,"00"))*1)-SUMIFS(商品出入库表!G:G,商品出入库表!C:C,库存查询!D40,商品出入库表!E:E,库存查询!$G$6,商品出入库表!J:J,"<"&(库存查询!$E$4&TEXT(库存查询!$G$4,"00"))*1),"")) | F40: =IF(D40="","",SUMIFS(商品出入库表!G:G,商品出入库表!C:C,库存查询!D40,商品出入库表!H:H,库存查询!$E$4,商品出入库表!I:I,库存查询!$G$4,商品出入库表!E:E,库存查询!$F$6)) | G40: =IF(D40="","",SUMIFS(商品出入库表!G:G,商品出入库表!C:C,库存查询!D40,商品出入库表!H:H,库存查询!$E$4,商品出入库表!I:I,库存查询!$G$4,商品出入库表!E:E,库存查询!$G$6)) | H40: =IFERROR(E40+F40-G40,"") | K40: {=IFERROR(INDEX(商品资料表!$C$1:$K$36,SMALL(IF(商品资料表!$C$1:$C$36=库存查询!$L$4,ROW(商品资料表!$C$1:$C$36)),ROW(34:34)),COLUMN(A:A)),"")} | L40: {=IFERROR(INDEX(商品资料表!$C$1:$K$36,SMALL(IF(商品资料表!$C$1:$C$36=库存查询!$L$4,ROW(商品资料表!$C$1:$C$36)),ROW(34:34)),COLUMN(B:B)),"")} | M40: {=IFERROR(INDEX(商品资料表!$C$1:$K$36,SMALL(IF(商品资料表!$C$1:$C$36=库存查询!$L$4,ROW(商品资料表!$C$1:$C$36)),ROW(34:34)),COLUMN(C:C)),"")} | N40: {=IFERROR(INDEX(商品资料表!$C$1:$K$36,SMALL(IF(商品资料表!$C$1:$C$36=库存查询!$L$4,ROW(商品资料表!$C$1:$C$36)),ROW(34:34)),COLUMN(D:D)),"")} | O40: {=IFERROR(INDEX(商品资料表!$C$1:$K$36,SMALL(IF(商品资料表!$C$1:$C$36=库存查询!$L$4,ROW(商品资料表!$C$1:$C$36)),ROW(34:34)),COLUMN(E:E)),"")} | P40: {=IFERROR(INDEX(商品资料表!$C$1:$K$36,SMALL(IF(商品资料表!$C$1:$C$36=库存查询!$L$4,ROW(商品资料表!$C$1:$C$36)),ROW(34:34)),COLUMN(F:F)),"")} | Q40: {=IFERROR(INDEX(商品资料表!$C$1:$K$36,SMALL(IF(商品资料表!$C$1:$C$36=库存查询!$L$4,ROW(商品资料表!$C$1:$C$36)),ROW(34:34)),COLUMN(G:G)),"")} | R40: {=IFERROR(INDEX(商品资料表!$C$1:$K$36,SMALL(IF(商品资料表!$C$1:$C$36=库存查询!$L$4,ROW(商品资料表!$C$1:$C$36)),ROW(34:34)),COLUMN(H:H)),"")} | S40: {=IFERROR(INDEX(商品资料表!$C$1:$K$36,SMALL(IF(商品资料表!$C$1:$C$36=库存查询!$L$4,ROW(商品资料表!$C$1:$C$36)),ROW(34:34)),COLUMN(I:I)),"")}
D41: {=IFERROR(INDEX(商品资料表!C:C,SMALL(IF(MATCH(INDIRECT("商品资料表!$C$2:$C$"&COUNTA(商品资料表!C:C)),INDIRECT("商品资料表!$C$2:$C$"&COUNTA(商品资料表!C:C)),)=ROW(INDIRECT("$1:$"&(COUNTA(商品资料表!C:C)-1))),ROW(INDIRECT("$2:$"&COUNTA(商品资料表!C:C))),4^8),ROW(A35)))&"","")} | E41: =IF(D41="","",IFERROR(SUMIFS(商品出入库表!G:G,商品出入库表!C:C,库存查询!D41,商品出入库表!E:E,库存查询!$F$6,商品出入库表!J:J,"<"&(库存查询!$E$4&TEXT(库存查询!$G$4,"00"))*1)-SUMIFS(商品出入库表!G:G,商品出入库表!C:C,库存查询!D41,商品出入库表!E:E,库存查询!$G$6,商品出入库表!J:J,"<"&(库存查询!$E$4&TEXT(库存查询!$G$4,"00"))*1),"")) | F41: =IF(D41="","",SUMIFS(商品出入库表!G:G,商品出入库表!C:C,库存查询!D41,商品出入库表!H:H,库存查询!$E$4,商品出入库表!I:I,库存查询!$G$4,商品出入库表!E:E,库存查询!$F$6)) | G41: =IF(D41="","",SUMIFS(商品出入库表!G:G,商品出入库表!C:C,库存查询!D41,商品出入库表!H:H,库存查询!$E$4,商品出入库表!I:I,库存查询!$G$4,商品出入库表!E:E,库存查询!$G$6)) | H41: =IFERROR(E41+F41-G41,"") | K41: {=IFERROR(INDEX(商品资料表!$C$1:$K$36,SMALL(IF(商品资料表!$C$1:$C$36=库存查询!$L$4,ROW(商品资料表!$C$1:$C$36)),ROW(35:35)),COLUMN(A:A)),"")} | L41: {=IFERROR(INDEX(商品资料表!$C$1:$K$36,SMALL(IF(商品资料表!$C$1:$C$36=库存查询!$L$4,ROW(商品资料表!$C$1:$C$36)),ROW(35:35)),COLUMN(B:B)),"")} | M41: {=IFERROR(INDEX(商品资料表!$C$1:$K$36,SMALL(IF(商品资料表!$C$1:$C$36=库存查询!$L$4,ROW(商品资料表!$C$1:$C$36)),ROW(35:35)),COLUMN(C:C)),"")} | N41: {=IFERROR(INDEX(商品资料表!$C$1:$K$36,SMALL(IF(商品资料表!$C$1:$C$36=库存查询!$L$4,ROW(商品资料表!$C$1:$C$36)),ROW(35:35)),COLUMN(D:D)),"")} | O41: {=IFERROR(INDEX(商品资料表!$C$1:$K$36,SMALL(IF(商品资料表!$C$1:$C$36=库存查询!$L$4,ROW(商品资料表!$C$1:$C$36)),ROW(35:35)),COLUMN(E:E)),"")} | P41: {=IFERROR(INDEX(商品资料表!$C$1:$K$36,SMALL(IF(商品资料表!$C$1:$C$36=库存查询!$L$4,ROW(商品资料表!$C$1:$C$36)),ROW(35:35)),COLUMN(F:F)),"")} | Q41: {=IFERROR(INDEX(商品资料表!$C$1:$K$36,SMALL(IF(商品资料表!$C$1:$C$36=库存查询!$L$4,ROW(商品资料表!$C$1:$C$36)),ROW(35:35)),COLUMN(G:G)),"")} | R41: {=IFERROR(INDEX(商品资料表!$C$1:$K$36,SMALL(IF(商品资料表!$C$1:$C$36=库存查询!$L$4,ROW(商品资料表!$C$1:$C$36)),ROW(35:35)),COLUMN(H:H)),"")} | S41: {=IFERROR(INDEX(商品资料表!$C$1:$K$36,SMALL(IF(商品资料表!$C$1:$C$36=库存查询!$L$4,ROW(商品资料表!$C$1:$C$36)),ROW(35:35)),COLUMN(I:I)),"")}
D42: {=IFERROR(INDEX(商品资料表!C:C,SMALL(IF(MATCH(INDIRECT("商品资料表!$C$2:$C$"&COUNTA(商品资料表!C:C)),INDIRECT("商品资料表!$C$2:$C$"&COUNTA(商品资料表!C:C)),)=ROW(INDIRECT("$1:$"&(COUNTA(商品资料表!C:C)-1))),ROW(INDIRECT("$2:$"&COUNTA(商品资料表!C:C))),4^8),ROW(A36)))&"","")} | E42: =IF(D42="","",IFERROR(SUMIFS(商品出入库表!G:G,商品出入库表!C:C,库存查询!D42,商品出入库表!E:E,库存查询!$F$6,商品出入库表!J:J,"<"&(库存查询!$E$4&TEXT(库存查询!$G$4,"00"))*1)-SUMIFS(商品出入库表!G:G,商品出入库表!C:C,库存查询!D42,商品出入库表!E:E,库存查询!$G$6,商品出入库表!J:J,"<"&(库存查询!$E$4&TEXT(库存查询!$G$4,"00"))*1),"")) | F42: =IF(D42="","",SUMIFS(商品出入库表!G:G,商品出入库表!C:C,库存查询!D42,商品出入库表!H:H,库存查询!$E$4,商品出入库表!I:I,库存查询!$G$4,商品出入库表!E:E,库存查询!$F$6)) | G42: =IF(D42="","",SUMIFS(商品出入库表!G:G,商品出入库表!C:C,库存查询!D42,商品出入库表!H:H,库存查询!$E$4,商品出入库表!I:I,库存查询!$G$4,商品出入库表!E:E,库存查询!$G$6)) | H42: =IFERROR(E42+F42-G42,"") | K42: {=IFERROR(INDEX(商品资料表!$C$1:$K$36,SMALL(IF(商品资料表!$C$1:$C$36=库存查询!$L$4,ROW(商品资料表!$C$1:$C$36)),ROW(36:36)),COLUMN(A:A)),"")} | L42: {=IFERROR(INDEX(商品资料表!$C$1:$K$36,SMALL(IF(商品资料表!$C$1:$C$36=库存查询!$L$4,ROW(商品资料表!$C$1:$C$36)),ROW(36:36)),COLUMN(B:B)),"")} | M42: {=IFERROR(INDEX(商品资料表!$C$1:$K$36,SMALL(IF(商品资料表!$C$1:$C$36=库存查询!$L$4,ROW(商品资料表!$C$1:$C$36)),ROW(36:36)),COLUMN(C:C)),"")} | N42: {=IFERROR(INDEX(商品资料表!$C$1:$K$36,SMALL(IF(商品资料表!$C$1:$C$36=库存查询!$L$4,ROW(商品资料表!$C$1:$C$36)),ROW(36:36)),COLUMN(D:D)),"")} | O42: {=IFERROR(INDEX(商品资料表!$C$1:$K$36,SMALL(IF(商品资料表!$C$1:$C$36=库存查询!$L$4,ROW(商品资料表!$C$1:$C$36)),ROW(36:36)),COLUMN(E:E)),"")} | P42: {=IFERROR(INDEX(商品资料表!$C$1:$K$36,SMALL(IF(商品资料表!$C$1:$C$36=库存查询!$L$4,ROW(商品资料表!$C$1:$C$36)),ROW(36:36)),COLUMN(F:F)),"")} | Q42: {=IFERROR(INDEX(商品资料表!$C$1:$K$36,SMALL(IF(商品资料表!$C$1:$C$36=库存查询!$L$4,ROW(商品资料表!$C$1:$C$36)),ROW(36:36)),COLUMN(G:G)),"")} | R42: {=IFERROR(INDEX(商品资料表!$C$1:$K$36,SMALL(IF(商品资料表!$C$1:$C$36=库存查询!$L$4,ROW(商品资料表!$C$1:$C$36)),ROW(36:36)),COLUMN(H:H)),"")} | S42: {=IFERROR(INDEX(商品资料表!$C$1:$K$36,SMALL(IF(商品资料表!$C$1:$C$36=库存查询!$L$4,ROW(商品资料表!$C$1:$C$36)),ROW(36:36)),COLUMN(I:I)),"")}
D43: {=IFERROR(INDEX(商品资料表!C:C,SMALL(IF(MATCH(INDIRECT("商品资料表!$C$2:$C$"&COUNTA(商品资料表!C:C)),INDIRECT("商品资料表!$C$2:$C$"&COUNTA(商品资料表!C:C)),)=ROW(INDIRECT("$1:$"&(COUNTA(商品资料表!C:C)-1))),ROW(INDIRECT("$2:$"&COUNTA(商品资料表!C:C))),4^8),ROW(A37)))&"","")} | E43: =IF(D43="","",IFERROR(SUMIFS(商品出入库表!G:G,商品出入库表!C:C,库存查询!D43,商品出入库表!E:E,库存查询!$F$6,商品出入库表!J:J,"<"&(库存查询!$E$4&TEXT(库存查询!$G$4,"00"))*1)-SUMIFS(商品出入库表!G:G,商品出入库表!C:C,库存查询!D43,商品出入库表!E:E,库存查询!$G$6,商品出入库表!J:J,"<"&(库存查询!$E$4&TEXT(库存查询!$G$4,"00"))*1),"")) | F43: =IF(D43="","",SUMIFS(商品出入库表!G:G,商品出入库表!C:C,库存查询!D43,商品出入库表!H:H,库存查询!$E$4,商品出入库表!I:I,库存查询!$G$4,商品出入库表!E:E,库存查询!$F$6)) | G43: =IF(D43="","",SUMIFS(商品出入库表!G:G,商品出入库表!C:C,库存查询!D43,商品出入库表!H:H,库存查询!$E$4,商品出入库表!I:I,库存查询!$G$4,商品出入库表!E:E,库存查询!$G$6)) | H43: =IFERROR(E43+F43-G43,"") | K43: {=IFERROR(INDEX(商品资料表!$C$1:$K$36,SMALL(IF(商品资料表!$C$1:$C$36=库存查询!$L$4,ROW(商品资料表!$C$1:$C$36)),ROW(37:37)),COLUMN(A:A)),"")} | L43: {=IFERROR(INDEX(商品资料表!$C$1:$K$36,SMALL(IF(商品资料表!$C$1:$C$36=库存查询!$L$4,ROW(商品资料表!$C$1:$C$36)),ROW(37:37)),COLUMN(B:B)),"")} | M43: {=IFERROR(INDEX(商品资料表!$C$1:$K$36,SMALL(IF(商品资料表!$C$1:$C$36=库存查询!$L$4,ROW(商品资料表!$C$1:$C$36)),ROW(37:37)),COLUMN(C:C)),"")} | N43: {=IFERROR(INDEX(商品资料表!$C$1:$K$36,SMALL(IF(商品资料表!$C$1:$C$36=库存查询!$L$4,ROW(商品资料表!$C$1:$C$36)),ROW(37:37)),COLUMN(D:D)),"")} | O43: {=IFERROR(INDEX(商品资料表!$C$1:$K$36,SMALL(IF(商品资料表!$C$1:$C$36=库存查询!$L$4,ROW(商品资料表!$C$1:$C$36)),ROW(37:37)),COLUMN(E:E)),"")} | P43: {=IFERROR(INDEX(商品资料表!$C$1:$K$36,SMALL(IF(商品资料表!$C$1:$C$36=库存查询!$L$4,ROW(商品资料表!$C$1:$C$36)),ROW(37:37)),COLUMN(F:F)),"")} | Q43: {=IFERROR(INDEX(商品资料表!$C$1:$K$36,SMALL(IF(商品资料表!$C$1:$C$36=库存查询!$L$4,ROW(商品资料表!$C$1:$C$36)),ROW(37:37)),COLUMN(G:G)),"")} | R43: {=IFERROR(INDEX(商品资料表!$C$1:$K$36,SMALL(IF(商品资料表!$C$1:$C$36=库存查询!$L$4,ROW(商品资料表!$C$1:$C$36)),ROW(37:37)),COLUMN(H:H)),"")} | S43: {=IFERROR(INDEX(商品资料表!$C$1:$K$36,SMALL(IF(商品资料表!$C$1:$C$36=库存查询!$L$4,ROW(商品资料表!$C$1:$C$36)),ROW(37:37)),COLUMN(I:I)),"")}
D44: {=IFERROR(INDEX(商品资料表!C:C,SMALL(IF(MATCH(INDIRECT("商品资料表!$C$2:$C$"&COUNTA(商品资料表!C:C)),INDIRECT("商品资料表!$C$2:$C$"&COUNTA(商品资料表!C:C)),)=ROW(INDIRECT("$1:$"&(COUNTA(商品资料表!C:C)-1))),ROW(INDIRECT("$2:$"&COUNTA(商品资料表!C:C))),4^8),ROW(A38)))&"","")} | E44: =IF(D44="","",IFERROR(SUMIFS(商品出入库表!G:G,商品出入库表!C:C,库存查询!D44,商品出入库表!E:E,库存查询!$F$6,商品出入库表!J:J,"<"&(库存查询!$E$4&TEXT(库存查询!$G$4,"00"))*1)-SUMIFS(商品出入库表!G:G,商品出入库表!C:C,库存查询!D44,商品出入库表!E:E,库存查询!$G$6,商品出入库表!J:J,"<"&(库存查询!$E$4&TEXT(库存查询!$G$4,"00"))*1),"")) | F44: =IF(D44="","",SUMIFS(商品出入库表!G:G,商品出入库表!C:C,库存查询!D44,商品出入库表!H:H,库存查询!$E$4,商品出入库表!I:I,库存查询!$G$4,商品出入库表!E:E,库存查询!$F$6)) | G44: =IF(D44="","",SUMIFS(商品出入库表!G:G,商品出入库表!C:C,库存查询!D44,商品出入库表!H:H,库存查询!$E$4,商品出入库表!I:I,库存查询!$G$4,商品出入库表!E:E,库存查询!$G$6)) | H44: =IFERROR(E44+F44-G44,"") | K44: {=IFERROR(INDEX(商品资料表!$C$1:$K$36,SMALL(IF(商品资料表!$C$1:$C$36=库存查询!$L$4,ROW(商品资料表!$C$1:$C$36)),ROW(38:38)),COLUMN(A:A)),"")} | L44: {=IFERROR(INDEX(商品资料表!$C$1:$K$36,SMALL(IF(商品资料表!$C$1:$C$36=库存查询!$L$4,ROW(商品资料表!$C$1:$C$36)),ROW(38:38)),COLUMN(B:B)),"")} | M44: {=IFERROR(INDEX(商品资料表!$C$1:$K$36,SMALL(IF(商品资料表!$C$1:$C$36=库存查询!$L$4,ROW(商品资料表!$C$1:$C$36)),ROW(38:38)),COLUMN(C:C)),"")} | N44: {=IFERROR(INDEX(商品资料表!$C$1:$K$36,SMALL(IF(商品资料表!$C$1:$C$36=库存查询!$L$4,ROW(商品资料表!$C$1:$C$36)),ROW(38:38)),COLUMN(D:D)),"")} | O44: {=IFERROR(INDEX(商品资料表!$C$1:$K$36,SMALL(IF(商品资料表!$C$1:$C$36=库存查询!$L$4,ROW(商品资料表!$C$1:$C$36)),ROW(38:38)),COLUMN(E:E)),"")} | P44: {=IFERROR(INDEX(商品资料表!$C$1:$K$36,SMALL(IF(商品资料表!$C$1:$C$36=库存查询!$L$4,ROW(商品资料表!$C$1:$C$36)),ROW(38:38)),COLUMN(F:F)),"")} | Q44: {=IFERROR(INDEX(商品资料表!$C$1:$K$36,SMALL(IF(商品资料表!$C$1:$C$36=库存查询!$L$4,ROW(商品资料表!$C$1:$C$36)),ROW(38:38)),COLUMN(G:G)),"")} | R44: {=IFERROR(INDEX(商品资料表!$C$1:$K$36,SMALL(IF(商品资料表!$C$1:$C$36=库存查询!$L$4,ROW(商品资料表!$C$1:$C$36)),ROW(38:38)),COLUMN(H:H)),"")} | S44: {=IFERROR(INDEX(商品资料表!$C$1:$K$36,SMALL(IF(商品资料表!$C$1:$C$36=库存查询!$L$4,ROW(商品资料表!$C$1:$C$36)),ROW(38:38)),COLUMN(I:I)),"")}
D45: {=IFERROR(INDEX(商品资料表!C:C,SMALL(IF(MATCH(INDIRECT("商品资料表!$C$2:$C$"&COUNTA(商品资料表!C:C)),INDIRECT("商品资料表!$C$2:$C$"&COUNTA(商品资料表!C:C)),)=ROW(INDIRECT("$1:$"&(COUNTA(商品资料表!C:C)-1))),ROW(INDIRECT("$2:$"&COUNTA(商品资料表!C:C))),4^8),ROW(A39)))&"","")} | E45: =IF(D45="","",IFERROR(SUMIFS(商品出入库表!G:G,商品出入库表!C:C,库存查询!D45,商品出入库表!E:E,库存查询!$F$6,商品出入库表!J:J,"<"&(库存查询!$E$4&TEXT(库存查询!$G$4,"00"))*1)-SUMIFS(商品出入库表!G:G,商品出入库表!C:C,库存查询!D45,商品出入库表!E:E,库存查询!$G$6,商品出入库表!J:J,"<"&(库存查询!$E$4&TEXT(库存查询!$G$4,"00"))*1),"")) | F45: =IF(D45="","",SUMIFS(商品出入库表!G:G,商品出入库表!C:C,库存查询!D45,商品出入库表!H:H,库存查询!$E$4,商品出入库表!I:I,库存查询!$G$4,商品出入库表!E:E,库存查询!$F$6)) | G45: =IF(D45="","",SUMIFS(商品出入库表!G:G,商品出入库表!C:C,库存查询!D45,商品出入库表!H:H,库存查询!$E$4,商品出入库表!I:I,库存查询!$G$4,商品出入库表!E:E,库存查询!$G$6)) | H45: =IFERROR(E45+F45-G45,"") | K45: {=IFERROR(INDEX(商品资料表!$C$1:$K$36,SMALL(IF(商品资料表!$C$1:$C$36=库存查询!$L$4,ROW(商品资料表!$C$1:$C$36)),ROW(39:39)),COLUMN(A:A)),"")} | L45: {=IFERROR(INDEX(商品资料表!$C$1:$K$36,SMALL(IF(商品资料表!$C$1:$C$36=库存查询!$L$4,ROW(商品资料表!$C$1:$C$36)),ROW(39:39)),COLUMN(B:B)),"")} | M45: {=IFERROR(INDEX(商品资料表!$C$1:$K$36,SMALL(IF(商品资料表!$C$1:$C$36=库存查询!$L$4,ROW(商品资料表!$C$1:$C$36)),ROW(39:39)),COLUMN(C:C)),"")} | N45: {=IFERROR(INDEX(商品资料表!$C$1:$K$36,SMALL(IF(商品资料表!$C$1:$C$36=库存查询!$L$4,ROW(商品资料表!$C$1:$C$36)),ROW(39:39)),COLUMN(D:D)),"")} | O45: {=IFERROR(INDEX(商品资料表!$C$1:$K$36,SMALL(IF(商品资料表!$C$1:$C$36=库存查询!$L$4,ROW(商品资料表!$C$1:$C$36)),ROW(39:39)),COLUMN(E:E)),"")} | P45: {=IFERROR(INDEX(商品资料表!$C$1:$K$36,SMALL(IF(商品资料表!$C$1:$C$36=库存查询!$L$4,ROW(商品资料表!$C$1:$C$36)),ROW(39:39)),COLUMN(F:F)),"")} | Q45: {=IFERROR(INDEX(商品资料表!$C$1:$K$36,SMALL(IF(商品资料表!$C$1:$C$36=库存查询!$L$4,ROW(商品资料表!$C$1:$C$36)),ROW(39:39)),COLUMN(G:G)),"")} | R45: {=IFERROR(INDEX(商品资料表!$C$1:$K$36,SMALL(IF(商品资料表!$C$1:$C$36=库存查询!$L$4,ROW(商品资料表!$C$1:$C$36)),ROW(39:39)),COLUMN(H:H)),"")} | S45: {=IFERROR(INDEX(商品资料表!$C$1:$K$36,SMALL(IF(商品资料表!$C$1:$C$36=库存查询!$L$4,ROW(商品资料表!$C$1:$C$36)),ROW(39:39)),COLUMN(I:I)),"")}
D46: {=IFERROR(INDEX(商品资料表!C:C,SMALL(IF(MATCH(INDIRECT("商品资料表!$C$2:$C$"&COUNTA(商品资料表!C:C)),INDIRECT("商品资料表!$C$2:$C$"&COUNTA(商品资料表!C:C)),)=ROW(INDIRECT("$1:$"&(COUNTA(商品资料表!C:C)-1))),ROW(INDIRECT("$2:$"&COUNTA(商品资料表!C:C))),4^8),ROW(A40)))&"","")} | E46: =IF(D46="","",IFERROR(SUMIFS(商品出入库表!G:G,商品出入库表!C:C,库存查询!D46,商品出入库表!E:E,库存查询!$F$6,商品出入库表!J:J,"<"&(库存查询!$E$4&TEXT(库存查询!$G$4,"00"))*1)-SUMIFS(商品出入库表!G:G,商品出入库表!C:C,库存查询!D46,商品出入库表!E:E,库存查询!$G$6,商品出入库表!J:J,"<"&(库存查询!$E$4&TEXT(库存查询!$G$4,"00"))*1),"")) | F46: =IF(D46="","",SUMIFS(商品出入库表!G:G,商品出入库表!C:C,库存查询!D46,商品出入库表!H:H,库存查询!$E$4,商品出入库表!I:I,库存查询!$G$4,商品出入库表!E:E,库存查询!$F$6)) | G46: =IF(D46="","",SUMIFS(商品出入库表!G:G,商品出入库表!C:C,库存查询!D46,商品出入库表!H:H,库存查询!$E$4,商品出入库表!I:I,库存查询!$G$4,商品出入库表!E:E,库存查询!$G$6)) | H46: =IFERROR(E46+F46-G46,"") | K46: {=IFERROR(INDEX(商品资料表!$C$1:$K$36,SMALL(IF(商品资料表!$C$1:$C$36=库存查询!$L$4,ROW(商品资料表!$C$1:$C$36)),ROW(40:40)),COLUMN(A:A)),"")} | L46: {=IFERROR(INDEX(商品资料表!$C$1:$K$36,SMALL(IF(商品资料表!$C$1:$C$36=库存查询!$L$4,ROW(商品资料表!$C$1:$C$36)),ROW(40:40)),COLUMN(B:B)),"")} | M46: {=IFERROR(INDEX(商品资料表!$C$1:$K$36,SMALL(IF(商品资料表!$C$1:$C$36=库存查询!$L$4,ROW(商品资料表!$C$1:$C$36)),ROW(40:40)),COLUMN(C:C)),"")} | N46: {=IFERROR(INDEX(商品资料表!$C$1:$K$36,SMALL(IF(商品资料表!$C$1:$C$36=库存查询!$L$4,ROW(商品资料表!$C$1:$C$36)),ROW(40:40)),COLUMN(D:D)),"")} | O46: {=IFERROR(INDEX(商品资料表!$C$1:$K$36,SMALL(IF(商品资料表!$C$1:$C$36=库存查询!$L$4,ROW(商品资料表!$C$1:$C$36)),ROW(40:40)),COLUMN(E:E)),"")} | P46: {=IFERROR(INDEX(商品资料表!$C$1:$K$36,SMALL(IF(商品资料表!$C$1:$C$36=库存查询!$L$4,ROW(商品资料表!$C$1:$C$36)),ROW(40:40)),COLUMN(F:F)),"")} | Q46: {=IFERROR(INDEX(商品资料表!$C$1:$K$36,SMALL(IF(商品资料表!$C$1:$C$36=库存查询!$L$4,ROW(商品资料表!$C$1:$C$36)),ROW(40:40)),COLUMN(G:G)),"")} | R46: {=IFERROR(INDEX(商品资料表!$C$1:$K$36,SMALL(IF(商品资料表!$C$1:$C$36=库存查询!$L$4,ROW(商品资料表!$C$1:$C$36)),ROW(40:40)),COLUMN(H:H)),"")} | S46: {=IFERROR(INDEX(商品资料表!$C$1:$K$36,SMALL(IF(商品资料表!$C$1:$C$36=库存查询!$L$4,ROW(商品资料表!$C$1:$C$36)),ROW(40:40)),COLUMN(I:I)),"")}
D47: {=IFERROR(INDEX(商品资料表!C:C,SMALL(IF(MATCH(INDIRECT("商品资料表!$C$2:$C$"&COUNTA(商品资料表!C:C)),INDIRECT("商品资料表!$C$2:$C$"&COUNTA(商品资料表!C:C)),)=ROW(INDIRECT("$1:$"&(COUNTA(商品资料表!C:C)-1))),ROW(INDIRECT("$2:$"&COUNTA(商品资料表!C:C))),4^8),ROW(A41)))&"","")} | E47: =IF(D47="","",IFERROR(SUMIFS(商品出入库表!G:G,商品出入库表!C:C,库存查询!D47,商品出入库表!E:E,库存查询!$F$6,商品出入库表!J:J,"<"&(库存查询!$E$4&TEXT(库存查询!$G$4,"00"))*1)-SUMIFS(商品出入库表!G:G,商品出入库表!C:C,库存查询!D47,商品出入库表!E:E,库存查询!$G$6,商品出入库表!J:J,"<"&(库存查询!$E$4&TEXT(库存查询!$G$4,"00"))*1),"")) | F47: =IF(D47="","",SUMIFS(商品出入库表!G:G,商品出入库表!C:C,库存查询!D47,商品出入库表!H:H,库存查询!$E$4,商品出入库表!I:I,库存查询!$G$4,商品出入库表!E:E,库存查询!$F$6)) | G47: =IF(D47="","",SUMIFS(商品出入库表!G:G,商品出入库表!C:C,库存查询!D47,商品出入库表!H:H,库存查询!$E$4,商品出入库表!I:I,库存查询!$G$4,商品出入库表!E:E,库存查询!$G$6)) | H47: =IFERROR(E47+F47-G47,"") | K47: {=IFERROR(INDEX(商品资料表!$C$1:$K$36,SMALL(IF(商品资料表!$C$1:$C$36=库存查询!$L$4,ROW(商品资料表!$C$1:$C$36)),ROW(41:41)),COLUMN(A:A)),"")} | L47: {=IFERROR(INDEX(商品资料表!$C$1:$K$36,SMALL(IF(商品资料表!$C$1:$C$36=库存查询!$L$4,ROW(商品资料表!$C$1:$C$36)),ROW(41:41)),COLUMN(B:B)),"")} | M47: {=IFERROR(INDEX(商品资料表!$C$1:$K$36,SMALL(IF(商品资料表!$C$1:$C$36=库存查询!$L$4,ROW(商品资料表!$C$1:$C$36)),ROW(41:41)),COLUMN(C:C)),"")} | N47: {=IFERROR(INDEX(商品资料表!$C$1:$K$36,SMALL(IF(商品资料表!$C$1:$C$36=库存查询!$L$4,ROW(商品资料表!$C$1:$C$36)),ROW(41:41)),COLUMN(D:D)),"")} | O47: {=IFERROR(INDEX(商品资料表!$C$1:$K$36,SMALL(IF(商品资料表!$C$1:$C$36=库存查询!$L$4,ROW(商品资料表!$C$1:$C$36)),ROW(41:41)),COLUMN(E:E)),"")} | P47: {=IFERROR(INDEX(商品资料表!$C$1:$K$36,SMALL(IF(商品资料表!$C$1:$C$36=库存查询!$L$4,ROW(商品资料表!$C$1:$C$36)),ROW(41:41)),COLUMN(F:F)),"")} | Q47: {=IFERROR(INDEX(商品资料表!$C$1:$K$36,SMALL(IF(商品资料表!$C$1:$C$36=库存查询!$L$4,ROW(商品资料表!$C$1:$C$36)),ROW(41:41)),COLUMN(G:G)),"")} | R47: {=IFERROR(INDEX(商品资料表!$C$1:$K$36,SMALL(IF(商品资料表!$C$1:$C$36=库存查询!$L$4,ROW(商品资料表!$C$1:$C$36)),ROW(41:41)),COLUMN(H:H)),"")} | S47: {=IFERROR(INDEX(商品资料表!$C$1:$K$36,SMALL(IF(商品资料表!$C$1:$C$36=库存查询!$L$4,ROW(商品资料表!$C$1:$C$36)),ROW(41:41)),COLUMN(I:I)),"")}
D48: {=IFERROR(INDEX(商品资料表!C:C,SMALL(IF(MATCH(INDIRECT("商品资料表!$C$2:$C$"&COUNTA(商品资料表!C:C)),INDIRECT("商品资料表!$C$2:$C$"&COUNTA(商品资料表!C:C)),)=ROW(INDIRECT("$1:$"&(COUNTA(商品资料表!C:C)-1))),ROW(INDIRECT("$2:$"&COUNTA(商品资料表!C:C))),4^8),ROW(A42)))&"","")} | E48: =IF(D48="","",IFERROR(SUMIFS(商品出入库表!G:G,商品出入库表!C:C,库存查询!D48,商品出入库表!E:E,库存查询!$F$6,商品出入库表!J:J,"<"&(库存查询!$E$4&TEXT(库存查询!$G$4,"00"))*1)-SUMIFS(商品出入库表!G:G,商品出入库表!C:C,库存查询!D48,商品出入库表!E:E,库存查询!$G$6,商品出入库表!J:J,"<"&(库存查询!$E$4&TEXT(库存查询!$G$4,"00"))*1),"")) | F48: =IF(D48="","",SUMIFS(商品出入库表!G:G,商品出入库表!C:C,库存查询!D48,商品出入库表!H:H,库存查询!$E$4,商品出入库表!I:I,库存查询!$G$4,商品出入库表!E:E,库存查询!$F$6)) | G48: =IF(D48="","",SUMIFS(商品出入库表!G:G,商品出入库表!C:C,库存查询!D48,商品出入库表!H:H,库存查询!$E$4,商品出入库表!I:I,库存查询!$G$4,商品出入库表!E:E,库存查询!$G$6)) | H48: =IFERROR(E48+F48-G48,"") | K48: {=IFERROR(INDEX(商品资料表!$C$1:$K$36,SMALL(IF(商品资料表!$C$1:$C$36=库存查询!$L$4,ROW(商品资料表!$C$1:$C$36)),ROW(42:42)),COLUMN(A:A)),"")} | L48: {=IFERROR(INDEX(商品资料表!$C$1:$K$36,SMALL(IF(商品资料表!$C$1:$C$36=库存查询!$L$4,ROW(商品资料表!$C$1:$C$36)),ROW(42:42)),COLUMN(B:B)),"")} | M48: {=IFERROR(INDEX(商品资料表!$C$1:$K$36,SMALL(IF(商品资料表!$C$1:$C$36=库存查询!$L$4,ROW(商品资料表!$C$1:$C$36)),ROW(42:42)),COLUMN(C:C)),"")} | N48: {=IFERROR(INDEX(商品资料表!$C$1:$K$36,SMALL(IF(商品资料表!$C$1:$C$36=库存查询!$L$4,ROW(商品资料表!$C$1:$C$36)),ROW(42:42)),COLUMN(D:D)),"")} | O48: {=IFERROR(INDEX(商品资料表!$C$1:$K$36,SMALL(IF(商品资料表!$C$1:$C$36=库存查询!$L$4,ROW(商品资料表!$C$1:$C$36)),ROW(42:42)),COLUMN(E:E)),"")} | P48: {=IFERROR(INDEX(商品资料表!$C$1:$K$36,SMALL(IF(商品资料表!$C$1:$C$36=库存查询!$L$4,ROW(商品资料表!$C$1:$C$36)),ROW(42:42)),COLUMN(F:F)),"")} | Q48: {=IFERROR(INDEX(商品资料表!$C$1:$K$36,SMALL(IF(商品资料表!$C$1:$C$36=库存查询!$L$4,ROW(商品资料表!$C$1:$C$36)),ROW(42:42)),COLUMN(G:G)),"")} | R48: {=IFERROR(INDEX(商品资料表!$C$1:$K$36,SMALL(IF(商品资料表!$C$1:$C$36=库存查询!$L$4,ROW(商品资料表!$C$1:$C$36)),ROW(42:42)),COLUMN(H:H)),"")} | S48: {=IFERROR(INDEX(商品资料表!$C$1:$K$36,SMALL(IF(商品资料表!$C$1:$C$36=库存查询!$L$4,ROW(商品资料表!$C$1:$C$36)),ROW(42:42)),COLUMN(I:I)),"")}
D49: {=IFERROR(INDEX(商品资料表!C:C,SMALL(IF(MATCH(INDIRECT("商品资料表!$C$2:$C$"&COUNTA(商品资料表!C:C)),INDIRECT("商品资料表!$C$2:$C$"&COUNTA(商品资料表!C:C)),)=ROW(INDIRECT("$1:$"&(COUNTA(商品资料表!C:C)-1))),ROW(INDIRECT("$2:$"&COUNTA(商品资料表!C:C))),4^8),ROW(A43)))&"","")} | E49: =IF(D49="","",IFERROR(SUMIFS(商品出入库表!G:G,商品出入库表!C:C,库存查询!D49,商品出入库表!E:E,库存查询!$F$6,商品出入库表!J:J,"<"&(库存查询!$E$4&TEXT(库存查询!$G$4,"00"))*1)-SUMIFS(商品出入库表!G:G,商品出入库表!C:C,库存查询!D49,商品出入库表!E:E,库存查询!$G$6,商品出入库表!J:J,"<"&(库存查询!$E$4&TEXT(库存查询!$G$4,"00"))*1),"")) | F49: =IF(D49="","",SUMIFS(商品出入库表!G:G,商品出入库表!C:C,库存查询!D49,商品出入库表!H:H,库存查询!$E$4,商品出入库表!I:I,库存查询!$G$4,商品出入库表!E:E,库存查询!$F$6)) | G49: =IF(D49="","",SUMIFS(商品出入库表!G:G,商品出入库表!C:C,库存查询!D49,商品出入库表!H:H,库存查询!$E$4,商品出入库表!I:I,库存查询!$G$4,商品出入库表!E:E,库存查询!$G$6)) | H49: =IFERROR(E49+F49-G49,"") | K49: {=IFERROR(INDEX(商品资料表!$C$1:$K$36,SMALL(IF(商品资料表!$C$1:$C$36=库存查询!$L$4,ROW(商品资料表!$C$1:$C$36)),ROW(43:43)),COLUMN(A:A)),"")} | L49: {=IFERROR(INDEX(商品资料表!$C$1:$K$36,SMALL(IF(商品资料表!$C$1:$C$36=库存查询!$L$4,ROW(商品资料表!$C$1:$C$36)),ROW(43:43)),COLUMN(B:B)),"")} | M49: {=IFERROR(INDEX(商品资料表!$C$1:$K$36,SMALL(IF(商品资料表!$C$1:$C$36=库存查询!$L$4,ROW(商品资料表!$C$1:$C$36)),ROW(43:43)),COLUMN(C:C)),"")} | N49: {=IFERROR(INDEX(商品资料表!$C$1:$K$36,SMALL(IF(商品资料表!$C$1:$C$36=库存查询!$L$4,ROW(商品资料表!$C$1:$C$36)),ROW(43:43)),COLUMN(D:D)),"")} | O49: {=IFERROR(INDEX(商品资料表!$C$1:$K$36,SMALL(IF(商品资料表!$C$1:$C$36=库存查询!$L$4,ROW(商品资料表!$C$1:$C$36)),ROW(43:43)),COLUMN(E:E)),"")} | P49: {=IFERROR(INDEX(商品资料表!$C$1:$K$36,SMALL(IF(商品资料表!$C$1:$C$36=库存查询!$L$4,ROW(商品资料表!$C$1:$C$36)),ROW(43:43)),COLUMN(F:F)),"")} | Q49: {=IFERROR(INDEX(商品资料表!$C$1:$K$36,SMALL(IF(商品资料表!$C$1:$C$36=库存查询!$L$4,ROW(商品资料表!$C$1:$C$36)),ROW(43:43)),COLUMN(G:G)),"")} | R49: {=IFERROR(INDEX(商品资料表!$C$1:$K$36,SMALL(IF(商品资料表!$C$1:$C$36=库存查询!$L$4,ROW(商品资料表!$C$1:$C$36)),ROW(43:43)),COLUMN(H:H)),"")} | S49: {=IFERROR(INDEX(商品资料表!$C$1:$K$36,SMALL(IF(商品资料表!$C$1:$C$36=库存查询!$L$4,ROW(商品资料表!$C$1:$C$36)),ROW(43:43)),COLUMN(I:I)),"")}
D50: {=IFERROR(INDEX(商品资料表!C:C,SMALL(IF(MATCH(INDIRECT("商品资料表!$C$2:$C$"&COUNTA(商品资料表!C:C)),INDIRECT("商品资料表!$C$2:$C$"&COUNTA(商品资料表!C:C)),)=ROW(INDIRECT("$1:$"&(COUNTA(商品资料表!C:C)-1))),ROW(INDIRECT("$2:$"&COUNTA(商品资料表!C:C))),4^8),ROW(A44)))&"","")} | E50: =IF(D50="","",IFERROR(SUMIFS(商品出入库表!G:G,商品出入库表!C:C,库存查询!D50,商品出入库表!E:E,库存查询!$F$6,商品出入库表!J:J,"<"&(库存查询!$E$4&TEXT(库存查询!$G$4,"00"))*1)-SUMIFS(商品出入库表!G:G,商品出入库表!C:C,库存查询!D50,商品出入库表!E:E,库存查询!$G$6,商品出入库表!J:J,"<"&(库存查询!$E$4&TEXT(库存查询!$G$4,"00"))*1),"")) | F50: =IF(D50="","",SUMIFS(商品出入库表!G:G,商品出入库表!C:C,库存查询!D50,商品出入库表!H:H,库存查询!$E$4,商品出入库表!I:I,库存查询!$G$4,商品出入库表!E:E,库存查询!$F$6)) | G50: =IF(D50="","",SUMIFS(商品出入库表!G:G,商品出入库表!C:C,库存查询!D50,商品出入库表!H:H,库存查询!$E$4,商品出入库表!I:I,库存查询!$G$4,商品出入库表!E:E,库存查询!$G$6)) | H50: =IFERROR(E50+F50-G50,"") | K50: {=IFERROR(INDEX(商品资料表!$C$1:$K$36,SMALL(IF(商品资料表!$C$1:$C$36=库存查询!$L$4,ROW(商品资料表!$C$1:$C$36)),ROW(44:44)),COLUMN(A:A)),"")} | L50: {=IFERROR(INDEX(商品资料表!$C$1:$K$36,SMALL(IF(商品资料表!$C$1:$C$36=库存查询!$L$4,ROW(商品资料表!$C$1:$C$36)),ROW(44:44)),COLUMN(B:B)),"")} | M50: {=IFERROR(INDEX(商品资料表!$C$1:$K$36,SMALL(IF(商品资料表!$C$1:$C$36=库存查询!$L$4,ROW(商品资料表!$C$1:$C$36)),ROW(44:44)),COLUMN(C:C)),"")} | N50: {=IFERROR(INDEX(商品资料表!$C$1:$K$36,SMALL(IF(商品资料表!$C$1:$C$36=库存查询!$L$4,ROW(商品资料表!$C$1:$C$36)),ROW(44:44)),COLUMN(D:D)),"")} | O50: {=IFERROR(INDEX(商品资料表!$C$1:$K$36,SMALL(IF(商品资料表!$C$1:$C$36=库存查询!$L$4,ROW(商品资料表!$C$1:$C$36)),ROW(44:44)),COLUMN(E:E)),"")} | P50: {=IFERROR(INDEX(商品资料表!$C$1:$K$36,SMALL(IF(商品资料表!$C$1:$C$36=库存查询!$L$4,ROW(商品资料表!$C$1:$C$36)),ROW(44:44)),COLUMN(F:F)),"")} | Q50: {=IFERROR(INDEX(商品资料表!$C$1:$K$36,SMALL(IF(商品资料表!$C$1:$C$36=库存查询!$L$4,ROW(商品资料表!$C$1:$C$36)),ROW(44:44)),COLUMN(G:G)),"")} | R50: {=IFERROR(INDEX(商品资料表!$C$1:$K$36,SMALL(IF(商品资料表!$C$1:$C$36=库存查询!$L$4,ROW(商品资料表!$C$1:$C$36)),ROW(44:44)),COLUMN(H:H)),"")} | S50: {=IFERROR(INDEX(商品资料表!$C$1:$K$36,SMALL(IF(商品资料表!$C$1:$C$36=库存查询!$L$4,ROW(商品资料表!$C$1:$C$36)),ROW(44:44)),COLUMN(I:I)),"")}
D51: {=IFERROR(INDEX(商品资料表!C:C,SMALL(IF(MATCH(INDIRECT("商品资料表!$C$2:$C$"&COUNTA(商品资料表!C:C)),INDIRECT("商品资料表!$C$2:$C$"&COUNTA(商品资料表!C:C)),)=ROW(INDIRECT("$1:$"&(COUNTA(商品资料表!C:C)-1))),ROW(INDIRECT("$2:$"&COUNTA(商品资料表!C:C))),4^8),ROW(A45)))&"","")} | E51: =IF(D51="","",IFERROR(SUMIFS(商品出入库表!G:G,商品出入库表!C:C,库存查询!D51,商品出入库表!E:E,库存查询!$F$6,商品出入库表!J:J,"<"&(库存查询!$E$4&TEXT(库存查询!$G$4,"00"))*1)-SUMIFS(商品出入库表!G:G,商品出入库表!C:C,库存查询!D51,商品出入库表!E:E,库存查询!$G$6,商品出入库表!J:J,"<"&(库存查询!$E$4&TEXT(库存查询!$G$4,"00"))*1),"")) | F51: =IF(D51="","",SUMIFS(商品出入库表!G:G,商品出入库表!C:C,库存查询!D51,商品出入库表!H:H,库存查询!$E$4,商品出入库表!I:I,库存查询!$G$4,商品出入库表!E:E,库存查询!$F$6)) | G51: =IF(D51="","",SUMIFS(商品出入库表!G:G,商品出入库表!C:C,库存查询!D51,商品出入库表!H:H,库存查询!$E$4,商品出入库表!I:I,库存查询!$G$4,商品出入库表!E:E,库存查询!$G$6)) | H51: =IFERROR(E51+F51-G51,"") | K51: {=IFERROR(INDEX(商品资料表!$C$1:$K$36,SMALL(IF(商品资料表!$C$1:$C$36=库存查询!$L$4,ROW(商品资料表!$C$1:$C$36)),ROW(45:45)),COLUMN(A:A)),"")} | L51: {=IFERROR(INDEX(商品资料表!$C$1:$K$36,SMALL(IF(商品资料表!$C$1:$C$36=库存查询!$L$4,ROW(商品资料表!$C$1:$C$36)),ROW(45:45)),COLUMN(B:B)),"")} | M51: {=IFERROR(INDEX(商品资料表!$C$1:$K$36,SMALL(IF(商品资料表!$C$1:$C$36=库存查询!$L$4,ROW(商品资料表!$C$1:$C$36)),ROW(45:45)),COLUMN(C:C)),"")} | N51: {=IFERROR(INDEX(商品资料表!$C$1:$K$36,SMALL(IF(商品资料表!$C$1:$C$36=库存查询!$L$4,ROW(商品资料表!$C$1:$C$36)),ROW(45:45)),COLUMN(D:D)),"")} | O51: {=IFERROR(INDEX(商品资料表!$C$1:$K$36,SMALL(IF(商品资料表!$C$1:$C$36=库存查询!$L$4,ROW(商品资料表!$C$1:$C$36)),ROW(45:45)),COLUMN(E:E)),"")} | P51: {=IFERROR(INDEX(商品资料表!$C$1:$K$36,SMALL(IF(商品资料表!$C$1:$C$36=库存查询!$L$4,ROW(商品资料表!$C$1:$C$36)),ROW(45:45)),COLUMN(F:F)),"")} | Q51: {=IFERROR(INDEX(商品资料表!$C$1:$K$36,SMALL(IF(商品资料表!$C$1:$C$36=库存查询!$L$4,ROW(商品资料表!$C$1:$C$36)),ROW(45:45)),COLUMN(G:G)),"")} | R51: {=IFERROR(INDEX(商品资料表!$C$1:$K$36,SMALL(IF(商品资料表!$C$1:$C$36=库存查询!$L$4,ROW(商品资料表!$C$1:$C$36)),ROW(45:45)),COLUMN(H:H)),"")} | S51: {=IFERROR(INDEX(商品资料表!$C$1:$K$36,SMALL(IF(商品资料表!$C$1:$C$36=库存查询!$L$4,ROW(商品资料表!$C$1:$C$36)),ROW(45:45)),COLUMN(I:I)),"")}
D52: {=IFERROR(INDEX(商品资料表!C:C,SMALL(IF(MATCH(INDIRECT("商品资料表!$C$2:$C$"&COUNTA(商品资料表!C:C)),INDIRECT("商品资料表!$C$2:$C$"&COUNTA(商品资料表!C:C)),)=ROW(INDIRECT("$1:$"&(COUNTA(商品资料表!C:C)-1))),ROW(INDIRECT("$2:$"&COUNTA(商品资料表!C:C))),4^8),ROW(A46)))&"","")} | E52: =IF(D52="","",IFERROR(SUMIFS(商品出入库表!G:G,商品出入库表!C:C,库存查询!D52,商品出入库表!E:E,库存查询!$F$6,商品出入库表!J:J,"<"&(库存查询!$E$4&TEXT(库存查询!$G$4,"00"))*1)-SUMIFS(商品出入库表!G:G,商品出入库表!C:C,库存查询!D52,商品出入库表!E:E,库存查询!$G$6,商品出入库表!J:J,"<"&(库存查询!$E$4&TEXT(库存查询!$G$4,"00"))*1),"")) | F52: =IF(D52="","",SUMIFS(商品出入库表!G:G,商品出入库表!C:C,库存查询!D52,商品出入库表!H:H,库存查询!$E$4,商品出入库表!I:I,库存查询!$G$4,商品出入库表!E:E,库存查询!$F$6)) | G52: =IF(D52="","",SUMIFS(商品出入库表!G:G,商品出入库表!C:C,库存查询!D52,商品出入库表!H:H,库存查询!$E$4,商品出入库表!I:I,库存查询!$G$4,商品出入库表!E:E,库存查询!$G$6)) | H52: =IFERROR(E52+F52-G52,"") | K52: {=IFERROR(INDEX(商品资料表!$C$1:$K$36,SMALL(IF(商品资料表!$C$1:$C$36=库存查询!$L$4,ROW(商品资料表!$C$1:$C$36)),ROW(46:46)),COLUMN(A:A)),"")} | L52: {=IFERROR(INDEX(商品资料表!$C$1:$K$36,SMALL(IF(商品资料表!$C$1:$C$36=库存查询!$L$4,ROW(商品资料表!$C$1:$C$36)),ROW(46:46)),COLUMN(B:B)),"")} | M52: {=IFERROR(INDEX(商品资料表!$C$1:$K$36,SMALL(IF(商品资料表!$C$1:$C$36=库存查询!$L$4,ROW(商品资料表!$C$1:$C$36)),ROW(46:46)),COLUMN(C:C)),"")} | N52: {=IFERROR(INDEX(商品资料表!$C$1:$K$36,SMALL(IF(商品资料表!$C$1:$C$36=库存查询!$L$4,ROW(商品资料表!$C$1:$C$36)),ROW(46:46)),COLUMN(D:D)),"")} | O52: {=IFERROR(INDEX(商品资料表!$C$1:$K$36,SMALL(IF(商品资料表!$C$1:$C$36=库存查询!$L$4,ROW(商品资料表!$C$1:$C$36)),ROW(46:46)),COLUMN(E:E)),"")} | P52: {=IFERROR(INDEX(商品资料表!$C$1:$K$36,SMALL(IF(商品资料表!$C$1:$C$36=库存查询!$L$4,ROW(商品资料表!$C$1:$C$36)),ROW(46:46)),COLUMN(F:F)),"")} | Q52: {=IFERROR(INDEX(商品资料表!$C$1:$K$36,SMALL(IF(商品资料表!$C$1:$C$36=库存查询!$L$4,ROW(商品资料表!$C$1:$C$36)),ROW(46:46)),COLUMN(G:G)),"")} | R52: {=IFERROR(INDEX(商品资料表!$C$1:$K$36,SMALL(IF(商品资料表!$C$1:$C$36=库存查询!$L$4,ROW(商品资料表!$C$1:$C$36)),ROW(46:46)),COLUMN(H:H)),"")} | S52: {=IFERROR(INDEX(商品资料表!$C$1:$K$36,SMALL(IF(商品资料表!$C$1:$C$36=库存查询!$L$4,ROW(商品资料表!$C$1:$C$36)),ROW(46:46)),COLUMN(I:I)),"")}
D53: {=IFERROR(INDEX(商品资料表!C:C,SMALL(IF(MATCH(INDIRECT("商品资料表!$C$2:$C$"&COUNTA(商品资料表!C:C)),INDIRECT("商品资料表!$C$2:$C$"&COUNTA(商品资料表!C:C)),)=ROW(INDIRECT("$1:$"&(COUNTA(商品资料表!C:C)-1))),ROW(INDIRECT("$2:$"&COUNTA(商品资料表!C:C))),4^8),ROW(A47)))&"","")} | E53: =IF(D53="","",IFERROR(SUMIFS(商品出入库表!G:G,商品出入库表!C:C,库存查询!D53,商品出入库表!E:E,库存查询!$F$6,商品出入库表!J:J,"<"&(库存查询!$E$4&TEXT(库存查询!$G$4,"00"))*1)-SUMIFS(商品出入库表!G:G,商品出入库表!C:C,库存查询!D53,商品出入库表!E:E,库存查询!$G$6,商品出入库表!J:J,"<"&(库存查询!$E$4&TEXT(库存查询!$G$4,"00"))*1),"")) | F53: =IF(D53="","",SUMIFS(商品出入库表!G:G,商品出入库表!C:C,库存查询!D53,商品出入库表!H:H,库存查询!$E$4,商品出入库表!I:I,库存查询!$G$4,商品出入库表!E:E,库存查询!$F$6)) | G53: =IF(D53="","",SUMIFS(商品出入库表!G:G,商品出入库表!C:C,库存查询!D53,商品出入库表!H:H,库存查询!$E$4,商品出入库表!I:I,库存查询!$G$4,商品出入库表!E:E,库存查询!$G$6)) | H53: =IFERROR(E53+F53-G53,"") | K53: {=IFERROR(INDEX(商品资料表!$C$1:$K$36,SMALL(IF(商品资料表!$C$1:$C$36=库存查询!$L$4,ROW(商品资料表!$C$1:$C$36)),ROW(47:47)),COLUMN(A:A)),"")} | L53: {=IFERROR(INDEX(商品资料表!$C$1:$K$36,SMALL(IF(商品资料表!$C$1:$C$36=库存查询!$L$4,ROW(商品资料表!$C$1:$C$36)),ROW(47:47)),COLUMN(B:B)),"")} | M53: {=IFERROR(INDEX(商品资料表!$C$1:$K$36,SMALL(IF(商品资料表!$C$1:$C$36=库存查询!$L$4,ROW(商品资料表!$C$1:$C$36)),ROW(47:47)),COLUMN(C:C)),"")} | N53: {=IFERROR(INDEX(商品资料表!$C$1:$K$36,SMALL(IF(商品资料表!$C$1:$C$36=库存查询!$L$4,ROW(商品资料表!$C$1:$C$36)),ROW(47:47)),COLUMN(D:D)),"")} | O53: {=IFERROR(INDEX(商品资料表!$C$1:$K$36,SMALL(IF(商品资料表!$C$1:$C$36=库存查询!$L$4,ROW(商品资料表!$C$1:$C$36)),ROW(47:47)),COLUMN(E:E)),"")} | P53: {=IFERROR(INDEX(商品资料表!$C$1:$K$36,SMALL(IF(商品资料表!$C$1:$C$36=库存查询!$L$4,ROW(商品资料表!$C$1:$C$36)),ROW(47:47)),COLUMN(F:F)),"")} | Q53: {=IFERROR(INDEX(商品资料表!$C$1:$K$36,SMALL(IF(商品资料表!$C$1:$C$36=库存查询!$L$4,ROW(商品资料表!$C$1:$C$36)),ROW(47:47)),COLUMN(G:G)),"")} | R53: {=IFERROR(INDEX(商品资料表!$C$1:$K$36,SMALL(IF(商品资料表!$C$1:$C$36=库存查询!$L$4,ROW(商品资料表!$C$1:$C$36)),ROW(47:47)),COLUMN(H:H)),"")} | S53: {=IFERROR(INDEX(商品资料表!$C$1:$K$36,SMALL(IF(商品资料表!$C$1:$C$36=库存查询!$L$4,ROW(商品资料表!$C$1:$C$36)),ROW(47:47)),COLUMN(I:I)),"")}
D54: {=IFERROR(INDEX(商品资料表!C:C,SMALL(IF(MATCH(INDIRECT("商品资料表!$C$2:$C$"&COUNTA(商品资料表!C:C)),INDIRECT("商品资料表!$C$2:$C$"&COUNTA(商品资料表!C:C)),)=ROW(INDIRECT("$1:$"&(COUNTA(商品资料表!C:C)-1))),ROW(INDIRECT("$2:$"&COUNTA(商品资料表!C:C))),4^8),ROW(A48)))&"","")} | E54: =IF(D54="","",IFERROR(SUMIFS(商品出入库表!G:G,商品出入库表!C:C,库存查询!D54,商品出入库表!E:E,库存查询!$F$6,商品出入库表!J:J,"<"&(库存查询!$E$4&TEXT(库存查询!$G$4,"00"))*1)-SUMIFS(商品出入库表!G:G,商品出入库表!C:C,库存查询!D54,商品出入库表!E:E,库存查询!$G$6,商品出入库表!J:J,"<"&(库存查询!$E$4&TEXT(库存查询!$G$4,"00"))*1),"")) | F54: =IF(D54="","",SUMIFS(商品出入库表!G:G,商品出入库表!C:C,库存查询!D54,商品出入库表!H:H,库存查询!$E$4,商品出入库表!I:I,库存查询!$G$4,商品出入库表!E:E,库存查询!$F$6)) | G54: =IF(D54="","",SUMIFS(商品出入库表!G:G,商品出入库表!C:C,库存查询!D54,商品出入库表!H:H,库存查询!$E$4,商品出入库表!I:I,库存查询!$G$4,商品出入库表!E:E,库存查询!$G$6)) | H54: =IFERROR(E54+F54-G54,"") | K54: {=IFERROR(INDEX(商品资料表!$C$1:$K$36,SMALL(IF(商品资料表!$C$1:$C$36=库存查询!$L$4,ROW(商品资料表!$C$1:$C$36)),ROW(48:48)),COLUMN(A:A)),"")} | L54: {=IFERROR(INDEX(商品资料表!$C$1:$K$36,SMALL(IF(商品资料表!$C$1:$C$36=库存查询!$L$4,ROW(商品资料表!$C$1:$C$36)),ROW(48:48)),COLUMN(B:B)),"")} | M54: {=IFERROR(INDEX(商品资料表!$C$1:$K$36,SMALL(IF(商品资料表!$C$1:$C$36=库存查询!$L$4,ROW(商品资料表!$C$1:$C$36)),ROW(48:48)),COLUMN(C:C)),"")} | N54: {=IFERROR(INDEX(商品资料表!$C$1:$K$36,SMALL(IF(商品资料表!$C$1:$C$36=库存查询!$L$4,ROW(商品资料表!$C$1:$C$36)),ROW(48:48)),COLUMN(D:D)),"")} | O54: {=IFERROR(INDEX(商品资料表!$C$1:$K$36,SMALL(IF(商品资料表!$C$1:$C$36=库存查询!$L$4,ROW(商品资料表!$C$1:$C$36)),ROW(48:48)),COLUMN(E:E)),"")} | P54: {=IFERROR(INDEX(商品资料表!$C$1:$K$36,SMALL(IF(商品资料表!$C$1:$C$36=库存查询!$L$4,ROW(商品资料表!$C$1:$C$36)),ROW(48:48)),COLUMN(F:F)),"")} | Q54: {=IFERROR(INDEX(商品资料表!$C$1:$K$36,SMALL(IF(商品资料表!$C$1:$C$36=库存查询!$L$4,ROW(商品资料表!$C$1:$C$36)),ROW(48:48)),COLUMN(G:G)),"")} | R54: {=IFERROR(INDEX(商品资料表!$C$1:$K$36,SMALL(IF(商品资料表!$C$1:$C$36=库存查询!$L$4,ROW(商品资料表!$C$1:$C$36)),ROW(48:48)),COLUMN(H:H)),"")} | S54: {=IFERROR(INDEX(商品资料表!$C$1:$K$36,SMALL(IF(商品资料表!$C$1:$C$36=库存查询!$L$4,ROW(商品资料表!$C$1:$C$36)),ROW(48:48)),COLUMN(I:I)),"")}
D55: {=IFERROR(INDEX(商品资料表!C:C,SMALL(IF(MATCH(INDIRECT("商品资料表!$C$2:$C$"&COUNTA(商品资料表!C:C)),INDIRECT("商品资料表!$C$2:$C$"&COUNTA(商品资料表!C:C)),)=ROW(INDIRECT("$1:$"&(COUNTA(商品资料表!C:C)-1))),ROW(INDIRECT("$2:$"&COUNTA(商品资料表!C:C))),4^8),ROW(A49)))&"","")} | E55: =IF(D55="","",IFERROR(SUMIFS(商品出入库表!G:G,商品出入库表!C:C,库存查询!D55,商品出入库表!E:E,库存查询!$F$6,商品出入库表!J:J,"<"&(库存查询!$E$4&TEXT(库存查询!$G$4,"00"))*1)-SUMIFS(商品出入库表!G:G,商品出入库表!C:C,库存查询!D55,商品出入库表!E:E,库存查询!$G$6,商品出入库表!J:J,"<"&(库存查询!$E$4&TEXT(库存查询!$G$4,"00"))*1),"")) | F55: =IF(D55="","",SUMIFS(商品出入库表!G:G,商品出入库表!C:C,库存查询!D55,商品出入库表!H:H,库存查询!$E$4,商品出入库表!I:I,库存查询!$G$4,商品出入库表!E:E,库存查询!$F$6)) | G55: =IF(D55="","",SUMIFS(商品出入库表!G:G,商品出入库表!C:C,库存查询!D55,商品出入库表!H:H,库存查询!$E$4,商品出入库表!I:I,库存查询!$G$4,商品出入库表!E:E,库存查询!$G$6)) | H55: =IFERROR(E55+F55-G55,"") | K55: {=IFERROR(INDEX(商品资料表!$C$1:$K$36,SMALL(IF(商品资料表!$C$1:$C$36=库存查询!$L$4,ROW(商品资料表!$C$1:$C$36)),ROW(49:49)),COLUMN(A:A)),"")} | L55: {=IFERROR(INDEX(商品资料表!$C$1:$K$36,SMALL(IF(商品资料表!$C$1:$C$36=库存查询!$L$4,ROW(商品资料表!$C$1:$C$36)),ROW(49:49)),COLUMN(B:B)),"")} | M55: {=IFERROR(INDEX(商品资料表!$C$1:$K$36,SMALL(IF(商品资料表!$C$1:$C$36=库存查询!$L$4,ROW(商品资料表!$C$1:$C$36)),ROW(49:49)),COLUMN(C:C)),"")} | N55: {=IFERROR(INDEX(商品资料表!$C$1:$K$36,SMALL(IF(商品资料表!$C$1:$C$36=库存查询!$L$4,ROW(商品资料表!$C$1:$C$36)),ROW(49:49)),COLUMN(D:D)),"")} | O55: {=IFERROR(INDEX(商品资料表!$C$1:$K$36,SMALL(IF(商品资料表!$C$1:$C$36=库存查询!$L$4,ROW(商品资料表!$C$1:$C$36)),ROW(49:49)),COLUMN(E:E)),"")} | P55: {=IFERROR(INDEX(商品资料表!$C$1:$K$36,SMALL(IF(商品资料表!$C$1:$C$36=库存查询!$L$4,ROW(商品资料表!$C$1:$C$36)),ROW(49:49)),COLUMN(F:F)),"")} | Q55: {=IFERROR(INDEX(商品资料表!$C$1:$K$36,SMALL(IF(商品资料表!$C$1:$C$36=库存查询!$L$4,ROW(商品资料表!$C$1:$C$36)),ROW(49:49)),COLUMN(G:G)),"")} | R55: {=IFERROR(INDEX(商品资料表!$C$1:$K$36,SMALL(IF(商品资料表!$C$1:$C$36=库存查询!$L$4,ROW(商品资料表!$C$1:$C$36)),ROW(49:49)),COLUMN(H:H)),"")} | S55: {=IFERROR(INDEX(商品资料表!$C$1:$K$36,SMALL(IF(商品资料表!$C$1:$C$36=库存查询!$L$4,ROW(商品资料表!$C$1:$C$36)),ROW(49:49)),COLUMN(I:I)),"")}
D56: {=IFERROR(INDEX(商品资料表!C:C,SMALL(IF(MATCH(INDIRECT("商品资料表!$C$2:$C$"&COUNTA(商品资料表!C:C)),INDIRECT("商品资料表!$C$2:$C$"&COUNTA(商品资料表!C:C)),)=ROW(INDIRECT("$1:$"&(COUNTA(商品资料表!C:C)-1))),ROW(INDIRECT("$2:$"&COUNTA(商品资料表!C:C))),4^8),ROW(A50)))&"","")} | E56: =IF(D56="","",IFERROR(SUMIFS(商品出入库表!G:G,商品出入库表!C:C,库存查询!D56,商品出入库表!E:E,库存查询!$F$6,商品出入库表!J:J,"<"&(库存查询!$E$4&TEXT(库存查询!$G$4,"00"))*1)-SUMIFS(商品出入库表!G:G,商品出入库表!C:C,库存查询!D56,商品出入库表!E:E,库存查询!$G$6,商品出入库表!J:J,"<"&(库存查询!$E$4&TEXT(库存查询!$G$4,"00"))*1),"")) | F56: =IF(D56="","",SUMIFS(商品出入库表!G:G,商品出入库表!C:C,库存查询!D56,商品出入库表!H:H,库存查询!$E$4,商品出入库表!I:I,库存查询!$G$4,商品出入库表!E:E,库存查询!$F$6)) | G56: =IF(D56="","",SUMIFS(商品出入库表!G:G,商品出入库表!C:C,库存查询!D56,商品出入库表!H:H,库存查询!$E$4,商品出入库表!I:I,库存查询!$G$4,商品出入库表!E:E,库存查询!$G$6)) | H56: =IFERROR(E56+F56-G56,"") | K56: {=IFERROR(INDEX(商品资料表!$C$1:$K$36,SMALL(IF(商品资料表!$C$1:$C$36=库存查询!$L$4,ROW(商品资料表!$C$1:$C$36)),ROW(50:50)),COLUMN(A:A)),"")} | L56: {=IFERROR(INDEX(商品资料表!$C$1:$K$36,SMALL(IF(商品资料表!$C$1:$C$36=库存查询!$L$4,ROW(商品资料表!$C$1:$C$36)),ROW(50:50)),COLUMN(B:B)),"")} | M56: {=IFERROR(INDEX(商品资料表!$C$1:$K$36,SMALL(IF(商品资料表!$C$1:$C$36=库存查询!$L$4,ROW(商品资料表!$C$1:$C$36)),ROW(50:50)),COLUMN(C:C)),"")} | N56: {=IFERROR(INDEX(商品资料表!$C$1:$K$36,SMALL(IF(商品资料表!$C$1:$C$36=库存查询!$L$4,ROW(商品资料表!$C$1:$C$36)),ROW(50:50)),COLUMN(D:D)),"")} | O56: {=IFERROR(INDEX(商品资料表!$C$1:$K$36,SMALL(IF(商品资料表!$C$1:$C$36=库存查询!$L$4,ROW(商品资料表!$C$1:$C$36)),ROW(50:50)),COLUMN(E:E)),"")} | P56: {=IFERROR(INDEX(商品资料表!$C$1:$K$36,SMALL(IF(商品资料表!$C$1:$C$36=库存查询!$L$4,ROW(商品资料表!$C$1:$C$36)),ROW(50:50)),COLUMN(F:F)),"")} | Q56: {=IFERROR(INDEX(商品资料表!$C$1:$K$36,SMALL(IF(商品资料表!$C$1:$C$36=库存查询!$L$4,ROW(商品资料表!$C$1:$C$36)),ROW(50:50)),COLUMN(G:G)),"")} | R56: {=IFERROR(INDEX(商品资料表!$C$1:$K$36,SMALL(IF(商品资料表!$C$1:$C$36=库存查询!$L$4,ROW(商品资料表!$C$1:$C$36)),ROW(50:50)),COLUMN(H:H)),"")} | S56: {=IFERROR(INDEX(商品资料表!$C$1:$K$36,SMALL(IF(商品资料表!$C$1:$C$36=库存查询!$L$4,ROW(商品资料表!$C$1:$C$36)),ROW(50:50)),COLUMN(I:I)),"")}
D57: {=IFERROR(INDEX(商品资料表!C:C,SMALL(IF(MATCH(INDIRECT("商品资料表!$C$2:$C$"&COUNTA(商品资料表!C:C)),INDIRECT("商品资料表!$C$2:$C$"&COUNTA(商品资料表!C:C)),)=ROW(INDIRECT("$1:$"&(COUNTA(商品资料表!C:C)-1))),ROW(INDIRECT("$2:$"&COUNTA(商品资料表!C:C))),4^8),ROW(A51)))&"","")} | E57: =IF(D57="","",IFERROR(SUMIFS(商品出入库表!G:G,商品出入库表!C:C,库存查询!D57,商品出入库表!E:E,库存查询!$F$6,商品出入库表!J:J,"<"&(库存查询!$E$4&TEXT(库存查询!$G$4,"00"))*1)-SUMIFS(商品出入库表!G:G,商品出入库表!C:C,库存查询!D57,商品出入库表!E:E,库存查询!$G$6,商品出入库表!J:J,"<"&(库存查询!$E$4&TEXT(库存查询!$G$4,"00"))*1),"")) | F57: =IF(D57="","",SUMIFS(商品出入库表!G:G,商品出入库表!C:C,库存查询!D57,商品出入库表!H:H,库存查询!$E$4,商品出入库表!I:I,库存查询!$G$4,商品出入库表!E:E,库存查询!$F$6)) | G57: =IF(D57="","",SUMIFS(商品出入库表!G:G,商品出入库表!C:C,库存查询!D57,商品出入库表!H:H,库存查询!$E$4,商品出入库表!I:I,库存查询!$G$4,商品出入库表!E:E,库存查询!$G$6)) | H57: =IFERROR(E57+F57-G57,"") | K57: {=IFERROR(INDEX(商品资料表!$C$1:$K$36,SMALL(IF(商品资料表!$C$1:$C$36=库存查询!$L$4,ROW(商品资料表!$C$1:$C$36)),ROW(51:51)),COLUMN(A:A)),"")} | L57: {=IFERROR(INDEX(商品资料表!$C$1:$K$36,SMALL(IF(商品资料表!$C$1:$C$36=库存查询!$L$4,ROW(商品资料表!$C$1:$C$36)),ROW(51:51)),COLUMN(B:B)),"")} | M57: {=IFERROR(INDEX(商品资料表!$C$1:$K$36,SMALL(IF(商品资料表!$C$1:$C$36=库存查询!$L$4,ROW(商品资料表!$C$1:$C$36)),ROW(51:51)),COLUMN(C:C)),"")} | N57: {=IFERROR(INDEX(商品资料表!$C$1:$K$36,SMALL(IF(商品资料表!$C$1:$C$36=库存查询!$L$4,ROW(商品资料表!$C$1:$C$36)),ROW(51:51)),COLUMN(D:D)),"")} | O57: {=IFERROR(INDEX(商品资料表!$C$1:$K$36,SMALL(IF(商品资料表!$C$1:$C$36=库存查询!$L$4,ROW(商品资料表!$C$1:$C$36)),ROW(51:51)),COLUMN(E:E)),"")} | P57: {=IFERROR(INDEX(商品资料表!$C$1:$K$36,SMALL(IF(商品资料表!$C$1:$C$36=库存查询!$L$4,ROW(商品资料表!$C$1:$C$36)),ROW(51:51)),COLUMN(F:F)),"")} | Q57: {=IFERROR(INDEX(商品资料表!$C$1:$K$36,SMALL(IF(商品资料表!$C$1:$C$36=库存查询!$L$4,ROW(商品资料表!$C$1:$C$36)),ROW(51:51)),COLUMN(G:G)),"")} | R57: {=IFERROR(INDEX(商品资料表!$C$1:$K$36,SMALL(IF(商品资料表!$C$1:$C$36=库存查询!$L$4,ROW(商品资料表!$C$1:$C$36)),ROW(51:51)),COLUMN(H:H)),"")} | S57: {=IFERROR(INDEX(商品资料表!$C$1:$K$36,SMALL(IF(商品资料表!$C$1:$C$36=库存查询!$L$4,ROW(商品资料表!$C$1:$C$36)),ROW(51:51)),COLUMN(I:I)),"")}
D58: {=IFERROR(INDEX(商品资料表!C:C,SMALL(IF(MATCH(INDIRECT("商品资料表!$C$2:$C$"&COUNTA(商品资料表!C:C)),INDIRECT("商品资料表!$C$2:$C$"&COUNTA(商品资料表!C:C)),)=ROW(INDIRECT("$1:$"&(COUNTA(商品资料表!C:C)-1))),ROW(INDIRECT("$2:$"&COUNTA(商品资料表!C:C))),4^8),ROW(A52)))&"","")} | E58: =IF(D58="","",IFERROR(SUMIFS(商品出入库表!G:G,商品出入库表!C:C,库存查询!D58,商品出入库表!E:E,库存查询!$F$6,商品出入库表!J:J,"<"&(库存查询!$E$4&TEXT(库存查询!$G$4,"00"))*1)-SUMIFS(商品出入库表!G:G,商品出入库表!C:C,库存查询!D58,商品出入库表!E:E,库存查询!$G$6,商品出入库表!J:J,"<"&(库存查询!$E$4&TEXT(库存查询!$G$4,"00"))*1),"")) | F58: =IF(D58="","",SUMIFS(商品出入库表!G:G,商品出入库表!C:C,库存查询!D58,商品出入库表!H:H,库存查询!$E$4,商品出入库表!I:I,库存查询!$G$4,商品出入库表!E:E,库存查询!$F$6)) | G58: =IF(D58="","",SUMIFS(商品出入库表!G:G,商品出入库表!C:C,库存查询!D58,商品出入库表!H:H,库存查询!$E$4,商品出入库表!I:I,库存查询!$G$4,商品出入库表!E:E,库存查询!$G$6)) | H58: =IFERROR(E58+F58-G58,"") | K58: {=IFERROR(INDEX(商品资料表!$C$1:$K$36,SMALL(IF(商品资料表!$C$1:$C$36=库存查询!$L$4,ROW(商品资料表!$C$1:$C$36)),ROW(52:52)),COLUMN(A:A)),"")} | L58: {=IFERROR(INDEX(商品资料表!$C$1:$K$36,SMALL(IF(商品资料表!$C$1:$C$36=库存查询!$L$4,ROW(商品资料表!$C$1:$C$36)),ROW(52:52)),COLUMN(B:B)),"")} | M58: {=IFERROR(INDEX(商品资料表!$C$1:$K$36,SMALL(IF(商品资料表!$C$1:$C$36=库存查询!$L$4,ROW(商品资料表!$C$1:$C$36)),ROW(52:52)),COLUMN(C:C)),"")} | N58: {=IFERROR(INDEX(商品资料表!$C$1:$K$36,SMALL(IF(商品资料表!$C$1:$C$36=库存查询!$L$4,ROW(商品资料表!$C$1:$C$36)),ROW(52:52)),COLUMN(D:D)),"")} | O58: {=IFERROR(INDEX(商品资料表!$C$1:$K$36,SMALL(IF(商品资料表!$C$1:$C$36=库存查询!$L$4,ROW(商品资料表!$C$1:$C$36)),ROW(52:52)),COLUMN(E:E)),"")} | P58: {=IFERROR(INDEX(商品资料表!$C$1:$K$36,SMALL(IF(商品资料表!$C$1:$C$36=库存查询!$L$4,ROW(商品资料表!$C$1:$C$36)),ROW(52:52)),COLUMN(F:F)),"")} | Q58: {=IFERROR(INDEX(商品资料表!$C$1:$K$36,SMALL(IF(商品资料表!$C$1:$C$36=库存查询!$L$4,ROW(商品资料表!$C$1:$C$36)),ROW(52:52)),COLUMN(G:G)),"")} | R58: {=IFERROR(INDEX(商品资料表!$C$1:$K$36,SMALL(IF(商品资料表!$C$1:$C$36=库存查询!$L$4,ROW(商品资料表!$C$1:$C$36)),ROW(52:52)),COLUMN(H:H)),"")} | S58: {=IFERROR(INDEX(商品资料表!$C$1:$K$36,SMALL(IF(商品资料表!$C$1:$C$36=库存查询!$L$4,ROW(商品资料表!$C$1:$C$36)),ROW(52:52)),COLUMN(I:I)),"")}
D59: {=IFERROR(INDEX(商品资料表!C:C,SMALL(IF(MATCH(INDIRECT("商品资料表!$C$2:$C$"&COUNTA(商品资料表!C:C)),INDIRECT("商品资料表!$C$2:$C$"&COUNTA(商品资料表!C:C)),)=ROW(INDIRECT("$1:$"&(COUNTA(商品资料表!C:C)-1))),ROW(INDIRECT("$2:$"&COUNTA(商品资料表!C:C))),4^8),ROW(A53)))&"","")} | E59: =IF(D59="","",IFERROR(SUMIFS(商品出入库表!G:G,商品出入库表!C:C,库存查询!D59,商品出入库表!E:E,库存查询!$F$6,商品出入库表!J:J,"<"&(库存查询!$E$4&TEXT(库存查询!$G$4,"00"))*1)-SUMIFS(商品出入库表!G:G,商品出入库表!C:C,库存查询!D59,商品出入库表!E:E,库存查询!$G$6,商品出入库表!J:J,"<"&(库存查询!$E$4&TEXT(库存查询!$G$4,"00"))*1),"")) | F59: =IF(D59="","",SUMIFS(商品出入库表!G:G,商品出入库表!C:C,库存查询!D59,商品出入库表!H:H,库存查询!$E$4,商品出入库表!I:I,库存查询!$G$4,商品出入库表!E:E,库存查询!$F$6)) | G59: =IF(D59="","",SUMIFS(商品出入库表!G:G,商品出入库表!C:C,库存查询!D59,商品出入库表!H:H,库存查询!$E$4,商品出入库表!I:I,库存查询!$G$4,商品出入库表!E:E,库存查询!$G$6)) | H59: =IFERROR(E59+F59-G59,"") | K59: {=IFERROR(INDEX(商品资料表!$C$1:$K$36,SMALL(IF(商品资料表!$C$1:$C$36=库存查询!$L$4,ROW(商品资料表!$C$1:$C$36)),ROW(53:53)),COLUMN(A:A)),"")} | L59: {=IFERROR(INDEX(商品资料表!$C$1:$K$36,SMALL(IF(商品资料表!$C$1:$C$36=库存查询!$L$4,ROW(商品资料表!$C$1:$C$36)),ROW(53:53)),COLUMN(B:B)),"")} | M59: {=IFERROR(INDEX(商品资料表!$C$1:$K$36,SMALL(IF(商品资料表!$C$1:$C$36=库存查询!$L$4,ROW(商品资料表!$C$1:$C$36)),ROW(53:53)),COLUMN(C:C)),"")} | N59: {=IFERROR(INDEX(商品资料表!$C$1:$K$36,SMALL(IF(商品资料表!$C$1:$C$36=库存查询!$L$4,ROW(商品资料表!$C$1:$C$36)),ROW(53:53)),COLUMN(D:D)),"")} | O59: {=IFERROR(INDEX(商品资料表!$C$1:$K$36,SMALL(IF(商品资料表!$C$1:$C$36=库存查询!$L$4,ROW(商品资料表!$C$1:$C$36)),ROW(53:53)),COLUMN(E:E)),"")} | P59: {=IFERROR(INDEX(商品资料表!$C$1:$K$36,SMALL(IF(商品资料表!$C$1:$C$36=库存查询!$L$4,ROW(商品资料表!$C$1:$C$36)),ROW(53:53)),COLUMN(F:F)),"")} | Q59: {=IFERROR(INDEX(商品资料表!$C$1:$K$36,SMALL(IF(商品资料表!$C$1:$C$36=库存查询!$L$4,ROW(商品资料表!$C$1:$C$36)),ROW(53:53)),COLUMN(G:G)),"")} | R59: {=IFERROR(INDEX(商品资料表!$C$1:$K$36,SMALL(IF(商品资料表!$C$1:$C$36=库存查询!$L$4,ROW(商品资料表!$C$1:$C$36)),ROW(53:53)),COLUMN(H:H)),"")} | S59: {=IFERROR(INDEX(商品资料表!$C$1:$K$36,SMALL(IF(商品资料表!$C$1:$C$36=库存查询!$L$4,ROW(商品资料表!$C$1:$C$36)),ROW(53:53)),COLUMN(I:I)),"")}
D60: {=IFERROR(INDEX(商品资料表!C:C,SMALL(IF(MATCH(INDIRECT("商品资料表!$C$2:$C$"&COUNTA(商品资料表!C:C)),INDIRECT("商品资料表!$C$2:$C$"&COUNTA(商品资料表!C:C)),)=ROW(INDIRECT("$1:$"&(COUNTA(商品资料表!C:C)-1))),ROW(INDIRECT("$2:$"&COUNTA(商品资料表!C:C))),4^8),ROW(A54)))&"","")} | E60: =IF(D60="","",IFERROR(SUMIFS(商品出入库表!G:G,商品出入库表!C:C,库存查询!D60,商品出入库表!E:E,库存查询!$F$6,商品出入库表!J:J,"<"&(库存查询!$E$4&TEXT(库存查询!$G$4,"00"))*1)-SUMIFS(商品出入库表!G:G,商品出入库表!C:C,库存查询!D60,商品出入库表!E:E,库存查询!$G$6,商品出入库表!J:J,"<"&(库存查询!$E$4&TEXT(库存查询!$G$4,"00"))*1),"")) | F60: =IF(D60="","",SUMIFS(商品出入库表!G:G,商品出入库表!C:C,库存查询!D60,商品出入库表!H:H,库存查询!$E$4,商品出入库表!I:I,库存查询!$G$4,商品出入库表!E:E,库存查询!$F$6)) | G60: =IF(D60="","",SUMIFS(商品出入库表!G:G,商品出入库表!C:C,库存查询!D60,商品出入库表!H:H,库存查询!$E$4,商品出入库表!I:I,库存查询!$G$4,商品出入库表!E:E,库存查询!$G$6)) | H60: =IFERROR(E60+F60-G60,"") | K60: {=IFERROR(INDEX(商品资料表!$C$1:$K$36,SMALL(IF(商品资料表!$C$1:$C$36=库存查询!$L$4,ROW(商品资料表!$C$1:$C$36)),ROW(54:54)),COLUMN(A:A)),"")} | L60: {=IFERROR(INDEX(商品资料表!$C$1:$K$36,SMALL(IF(商品资料表!$C$1:$C$36=库存查询!$L$4,ROW(商品资料表!$C$1:$C$36)),ROW(54:54)),COLUMN(B:B)),"")} | M60: {=IFERROR(INDEX(商品资料表!$C$1:$K$36,SMALL(IF(商品资料表!$C$1:$C$36=库存查询!$L$4,ROW(商品资料表!$C$1:$C$36)),ROW(54:54)),COLUMN(C:C)),"")} | N60: {=IFERROR(INDEX(商品资料表!$C$1:$K$36,SMALL(IF(商品资料表!$C$1:$C$36=库存查询!$L$4,ROW(商品资料表!$C$1:$C$36)),ROW(54:54)),COLUMN(D:D)),"")} | O60: {=IFERROR(INDEX(商品资料表!$C$1:$K$36,SMALL(IF(商品资料表!$C$1:$C$36=库存查询!$L$4,ROW(商品资料表!$C$1:$C$36)),ROW(54:54)),COLUMN(E:E)),"")} | P60: {=IFERROR(INDEX(商品资料表!$C$1:$K$36,SMALL(IF(商品资料表!$C$1:$C$36=库存查询!$L$4,ROW(商品资料表!$C$1:$C$36)),ROW(54:54)),COLUMN(F:F)),"")} | Q60: {=IFERROR(INDEX(商品资料表!$C$1:$K$36,SMALL(IF(商品资料表!$C$1:$C$36=库存查询!$L$4,ROW(商品资料表!$C$1:$C$36)),ROW(54:54)),COLUMN(G:G)),"")} | R60: {=IFERROR(INDEX(商品资料表!$C$1:$K$36,SMALL(IF(商品资料表!$C$1:$C$36=库存查询!$L$4,ROW(商品资料表!$C$1:$C$36)),ROW(54:54)),COLUMN(H:H)),"")} | S60: {=IFERROR(INDEX(商品资料表!$C$1:$K$36,SMALL(IF(商品资料表!$C$1:$C$36=库存查询!$L$4,ROW(商品资料表!$C$1:$C$36)),ROW(54:54)),COLUMN(I:I)),"")}
D61: {=IFERROR(INDEX(商品资料表!C:C,SMALL(IF(MATCH(INDIRECT("商品资料表!$C$2:$C$"&COUNTA(商品资料表!C:C)),INDIRECT("商品资料表!$C$2:$C$"&COUNTA(商品资料表!C:C)),)=ROW(INDIRECT("$1:$"&(COUNTA(商品资料表!C:C)-1))),ROW(INDIRECT("$2:$"&COUNTA(商品资料表!C:C))),4^8),ROW(A55)))&"","")} | E61: =IF(D61="","",IFERROR(SUMIFS(商品出入库表!G:G,商品出入库表!C:C,库存查询!D61,商品出入库表!E:E,库存查询!$F$6,商品出入库表!J:J,"<"&(库存查询!$E$4&TEXT(库存查询!$G$4,"00"))*1)-SUMIFS(商品出入库表!G:G,商品出入库表!C:C,库存查询!D61,商品出入库表!E:E,库存查询!$G$6,商品出入库表!J:J,"<"&(库存查询!$E$4&TEXT(库存查询!$G$4,"00"))*1),"")) | F61: =IF(D61="","",SUMIFS(商品出入库表!G:G,商品出入库表!C:C,库存查询!D61,商品出入库表!H:H,库存查询!$E$4,商品出入库表!I:I,库存查询!$G$4,商品出入库表!E:E,库存查询!$F$6)) | G61: =IF(D61="","",SUMIFS(商品出入库表!G:G,商品出入库表!C:C,库存查询!D61,商品出入库表!H:H,库存查询!$E$4,商品出入库表!I:I,库存查询!$G$4,商品出入库表!E:E,库存查询!$G$6)) | H61: =IFERROR(E61+F61-G61,"") | K61: {=IFERROR(INDEX(商品资料表!$C$1:$K$36,SMALL(IF(商品资料表!$C$1:$C$36=库存查询!$L$4,ROW(商品资料表!$C$1:$C$36)),ROW(55:55)),COLUMN(A:A)),"")} | L61: {=IFERROR(INDEX(商品资料表!$C$1:$K$36,SMALL(IF(商品资料表!$C$1:$C$36=库存查询!$L$4,ROW(商品资料表!$C$1:$C$36)),ROW(55:55)),COLUMN(B:B)),"")} | M61: {=IFERROR(INDEX(商品资料表!$C$1:$K$36,SMALL(IF(商品资料表!$C$1:$C$36=库存查询!$L$4,ROW(商品资料表!$C$1:$C$36)),ROW(55:55)),COLUMN(C:C)),"")} | N61: {=IFERROR(INDEX(商品资料表!$C$1:$K$36,SMALL(IF(商品资料表!$C$1:$C$36=库存查询!$L$4,ROW(商品资料表!$C$1:$C$36)),ROW(55:55)),COLUMN(D:D)),"")} | O61: {=IFERROR(INDEX(商品资料表!$C$1:$K$36,SMALL(IF(商品资料表!$C$1:$C$36=库存查询!$L$4,ROW(商品资料表!$C$1:$C$36)),ROW(55:55)),COLUMN(E:E)),"")} | P61: {=IFERROR(INDEX(商品资料表!$C$1:$K$36,SMALL(IF(商品资料表!$C$1:$C$36=库存查询!$L$4,ROW(商品资料表!$C$1:$C$36)),ROW(55:55)),COLUMN(F:F)),"")} | Q61: {=IFERROR(INDEX(商品资料表!$C$1:$K$36,SMALL(IF(商品资料表!$C$1:$C$36=库存查询!$L$4,ROW(商品资料表!$C$1:$C$36)),ROW(55:55)),COLUMN(G:G)),"")} | R61: {=IFERROR(INDEX(商品资料表!$C$1:$K$36,SMALL(IF(商品资料表!$C$1:$C$36=库存查询!$L$4,ROW(商品资料表!$C$1:$C$36)),ROW(55:55)),COLUMN(H:H)),"")} | S61: {=IFERROR(INDEX(商品资料表!$C$1:$K$36,SMALL(IF(商品资料表!$C$1:$C$36=库存查询!$L$4,ROW(商品资料表!$C$1:$C$36)),ROW(55:55)),COLUMN(I:I)),"")}
D62: {=IFERROR(INDEX(商品资料表!C:C,SMALL(IF(MATCH(INDIRECT("商品资料表!$C$2:$C$"&COUNTA(商品资料表!C:C)),INDIRECT("商品资料表!$C$2:$C$"&COUNTA(商品资料表!C:C)),)=ROW(INDIRECT("$1:$"&(COUNTA(商品资料表!C:C)-1))),ROW(INDIRECT("$2:$"&COUNTA(商品资料表!C:C))),4^8),ROW(A56)))&"","")} | E62: =IF(D62="","",IFERROR(SUMIFS(商品出入库表!G:G,商品出入库表!C:C,库存查询!D62,商品出入库表!E:E,库存查询!$F$6,商品出入库表!J:J,"<"&(库存查询!$E$4&TEXT(库存查询!$G$4,"00"))*1)-SUMIFS(商品出入库表!G:G,商品出入库表!C:C,库存查询!D62,商品出入库表!E:E,库存查询!$G$6,商品出入库表!J:J,"<"&(库存查询!$E$4&TEXT(库存查询!$G$4,"00"))*1),"")) | F62: =IF(D62="","",SUMIFS(商品出入库表!G:G,商品出入库表!C:C,库存查询!D62,商品出入库表!H:H,库存查询!$E$4,商品出入库表!I:I,库存查询!$G$4,商品出入库表!E:E,库存查询!$F$6)) | G62: =IF(D62="","",SUMIFS(商品出入库表!G:G,商品出入库表!C:C,库存查询!D62,商品出入库表!H:H,库存查询!$E$4,商品出入库表!I:I,库存查询!$G$4,商品出入库表!E:E,库存查询!$G$6)) | H62: =IFERROR(E62+F62-G62,"") | K62: {=IFERROR(INDEX(商品资料表!$C$1:$K$36,SMALL(IF(商品资料表!$C$1:$C$36=库存查询!$L$4,ROW(商品资料表!$C$1:$C$36)),ROW(56:56)),COLUMN(A:A)),"")} | L62: {=IFERROR(INDEX(商品资料表!$C$1:$K$36,SMALL(IF(商品资料表!$C$1:$C$36=库存查询!$L$4,ROW(商品资料表!$C$1:$C$36)),ROW(56:56)),COLUMN(B:B)),"")} | M62: {=IFERROR(INDEX(商品资料表!$C$1:$K$36,SMALL(IF(商品资料表!$C$1:$C$36=库存查询!$L$4,ROW(商品资料表!$C$1:$C$36)),ROW(56:56)),COLUMN(C:C)),"")} | N62: {=IFERROR(INDEX(商品资料表!$C$1:$K$36,SMALL(IF(商品资料表!$C$1:$C$36=库存查询!$L$4,ROW(商品资料表!$C$1:$C$36)),ROW(56:56)),COLUMN(D:D)),"")} | O62: {=IFERROR(INDEX(商品资料表!$C$1:$K$36,SMALL(IF(商品资料表!$C$1:$C$36=库存查询!$L$4,ROW(商品资料表!$C$1:$C$36)),ROW(56:56)),COLUMN(E:E)),"")} | P62: {=IFERROR(INDEX(商品资料表!$C$1:$K$36,SMALL(IF(商品资料表!$C$1:$C$36=库存查询!$L$4,ROW(商品资料表!$C$1:$C$36)),ROW(56:56)),COLUMN(F:F)),"")} | Q62: {=IFERROR(INDEX(商品资料表!$C$1:$K$36,SMALL(IF(商品资料表!$C$1:$C$36=库存查询!$L$4,ROW(商品资料表!$C$1:$C$36)),ROW(56:56)),COLUMN(G:G)),"")} | R62: {=IFERROR(INDEX(商品资料表!$C$1:$K$36,SMALL(IF(商品资料表!$C$1:$C$36=库存查询!$L$4,ROW(商品资料表!$C$1:$C$36)),ROW(56:56)),COLUMN(H:H)),"")} | S62: {=IFERROR(INDEX(商品资料表!$C$1:$K$36,SMALL(IF(商品资料表!$C$1:$C$36=库存查询!$L$4,ROW(商品资料表!$C$1:$C$36)),ROW(56:56)),COLUMN(I:I)),"")}
D63: {=IFERROR(INDEX(商品资料表!C:C,SMALL(IF(MATCH(INDIRECT("商品资料表!$C$2:$C$"&COUNTA(商品资料表!C:C)),INDIRECT("商品资料表!$C$2:$C$"&COUNTA(商品资料表!C:C)),)=ROW(INDIRECT("$1:$"&(COUNTA(商品资料表!C:C)-1))),ROW(INDIRECT("$2:$"&COUNTA(商品资料表!C:C))),4^8),ROW(A57)))&"","")} | E63: =IF(D63="","",IFERROR(SUMIFS(商品出入库表!G:G,商品出入库表!C:C,库存查询!D63,商品出入库表!E:E,库存查询!$F$6,商品出入库表!J:J,"<"&(库存查询!$E$4&TEXT(库存查询!$G$4,"00"))*1)-SUMIFS(商品出入库表!G:G,商品出入库表!C:C,库存查询!D63,商品出入库表!E:E,库存查询!$G$6,商品出入库表!J:J,"<"&(库存查询!$E$4&TEXT(库存查询!$G$4,"00"))*1),"")) | F63: =IF(D63="","",SUMIFS(商品出入库表!G:G,商品出入库表!C:C,库存查询!D63,商品出入库表!H:H,库存查询!$E$4,商品出入库表!I:I,库存查询!$G$4,商品出入库表!E:E,库存查询!$F$6)) | G63: =IF(D63="","",SUMIFS(商品出入库表!G:G,商品出入库表!C:C,库存查询!D63,商品出入库表!H:H,库存查询!$E$4,商品出入库表!I:I,库存查询!$G$4,商品出入库表!E:E,库存查询!$G$6)) | H63: =IFERROR(E63+F63-G63,"") | K63: {=IFERROR(INDEX(商品资料表!$C$1:$K$36,SMALL(IF(商品资料表!$C$1:$C$36=库存查询!$L$4,ROW(商品资料表!$C$1:$C$36)),ROW(57:57)),COLUMN(A:A)),"")} | L63: {=IFERROR(INDEX(商品资料表!$C$1:$K$36,SMALL(IF(商品资料表!$C$1:$C$36=库存查询!$L$4,ROW(商品资料表!$C$1:$C$36)),ROW(57:57)),COLUMN(B:B)),"")} | M63: {=IFERROR(INDEX(商品资料表!$C$1:$K$36,SMALL(IF(商品资料表!$C$1:$C$36=库存查询!$L$4,ROW(商品资料表!$C$1:$C$36)),ROW(57:57)),COLUMN(C:C)),"")} | N63: {=IFERROR(INDEX(商品资料表!$C$1:$K$36,SMALL(IF(商品资料表!$C$1:$C$36=库存查询!$L$4,ROW(商品资料表!$C$1:$C$36)),ROW(57:57)),COLUMN(D:D)),"")} | O63: {=IFERROR(INDEX(商品资料表!$C$1:$K$36,SMALL(IF(商品资料表!$C$1:$C$36=库存查询!$L$4,ROW(商品资料表!$C$1:$C$36)),ROW(57:57)),COLUMN(E:E)),"")} | P63: {=IFERROR(INDEX(商品资料表!$C$1:$K$36,SMALL(IF(商品资料表!$C$1:$C$36=库存查询!$L$4,ROW(商品资料表!$C$1:$C$36)),ROW(57:57)),COLUMN(F:F)),"")} | Q63: {=IFERROR(INDEX(商品资料表!$C$1:$K$36,SMALL(IF(商品资料表!$C$1:$C$36=库存查询!$L$4,ROW(商品资料表!$C$1:$C$36)),ROW(57:57)),COLUMN(G:G)),"")} | R63: {=IFERROR(INDEX(商品资料表!$C$1:$K$36,SMALL(IF(商品资料表!$C$1:$C$36=库存查询!$L$4,ROW(商品资料表!$C$1:$C$36)),ROW(57:57)),COLUMN(H:H)),"")} | S63: {=IFERROR(INDEX(商品资料表!$C$1:$K$36,SMALL(IF(商品资料表!$C$1:$C$36=库存查询!$L$4,ROW(商品资料表!$C$1:$C$36)),ROW(57:57)),COLUMN(I:I)),"")}
D64: {=IFERROR(INDEX(商品资料表!C:C,SMALL(IF(MATCH(INDIRECT("商品资料表!$C$2:$C$"&COUNTA(商品资料表!C:C)),INDIRECT("商品资料表!$C$2:$C$"&COUNTA(商品资料表!C:C)),)=ROW(INDIRECT("$1:$"&(COUNTA(商品资料表!C:C)-1))),ROW(INDIRECT("$2:$"&COUNTA(商品资料表!C:C))),4^8),ROW(A58)))&"","")} | E64: =IF(D64="","",IFERROR(SUMIFS(商品出入库表!G:G,商品出入库表!C:C,库存查询!D64,商品出入库表!E:E,库存查询!$F$6,商品出入库表!J:J,"<"&(库存查询!$E$4&TEXT(库存查询!$G$4,"00"))*1)-SUMIFS(商品出入库表!G:G,商品出入库表!C:C,库存查询!D64,商品出入库表!E:E,库存查询!$G$6,商品出入库表!J:J,"<"&(库存查询!$E$4&TEXT(库存查询!$G$4,"00"))*1),"")) | F64: =IF(D64="","",SUMIFS(商品出入库表!G:G,商品出入库表!C:C,库存查询!D64,商品出入库表!H:H,库存查询!$E$4,商品出入库表!I:I,库存查询!$G$4,商品出入库表!E:E,库存查询!$F$6)) | G64: =IF(D64="","",SUMIFS(商品出入库表!G:G,商品出入库表!C:C,库存查询!D64,商品出入库表!H:H,库存查询!$E$4,商品出入库表!I:I,库存查询!$G$4,商品出入库表!E:E,库存查询!$G$6)) | H64: =IFERROR(E64+F64-G64,"") | K64: {=IFERROR(INDEX(商品资料表!$C$1:$K$36,SMALL(IF(商品资料表!$C$1:$C$36=库存查询!$L$4,ROW(商品资料表!$C$1:$C$36)),ROW(58:58)),COLUMN(A:A)),"")} | L64: {=IFERROR(INDEX(商品资料表!$C$1:$K$36,SMALL(IF(商品资料表!$C$1:$C$36=库存查询!$L$4,ROW(商品资料表!$C$1:$C$36)),ROW(58:58)),COLUMN(B:B)),"")} | M64: {=IFERROR(INDEX(商品资料表!$C$1:$K$36,SMALL(IF(商品资料表!$C$1:$C$36=库存查询!$L$4,ROW(商品资料表!$C$1:$C$36)),ROW(58:58)),COLUMN(C:C)),"")} | N64: {=IFERROR(INDEX(商品资料表!$C$1:$K$36,SMALL(IF(商品资料表!$C$1:$C$36=库存查询!$L$4,ROW(商品资料表!$C$1:$C$36)),ROW(58:58)),COLUMN(D:D)),"")} | O64: {=IFERROR(INDEX(商品资料表!$C$1:$K$36,SMALL(IF(商品资料表!$C$1:$C$36=库存查询!$L$4,ROW(商品资料表!$C$1:$C$36)),ROW(58:58)),COLUMN(E:E)),"")} | P64: {=IFERROR(INDEX(商品资料表!$C$1:$K$36,SMALL(IF(商品资料表!$C$1:$C$36=库存查询!$L$4,ROW(商品资料表!$C$1:$C$36)),ROW(58:58)),COLUMN(F:F)),"")} | Q64: {=IFERROR(INDEX(商品资料表!$C$1:$K$36,SMALL(IF(商品资料表!$C$1:$C$36=库存查询!$L$4,ROW(商品资料表!$C$1:$C$36)),ROW(58:58)),COLUMN(G:G)),"")} | R64: {=IFERROR(INDEX(商品资料表!$C$1:$K$36,SMALL(IF(商品资料表!$C$1:$C$36=库存查询!$L$4,ROW(商品资料表!$C$1:$C$36)),ROW(58:58)),COLUMN(H:H)),"")} | S64: {=IFERROR(INDEX(商品资料表!$C$1:$K$36,SMALL(IF(商品资料表!$C$1:$C$36=库存查询!$L$4,ROW(商品资料表!$C$1:$C$36)),ROW(58:58)),COLUMN(I:I)),"")}
D65: {=IFERROR(INDEX(商品资料表!C:C,SMALL(IF(MATCH(INDIRECT("商品资料表!$C$2:$C$"&COUNTA(商品资料表!C:C)),INDIRECT("商品资料表!$C$2:$C$"&COUNTA(商品资料表!C:C)),)=ROW(INDIRECT("$1:$"&(COUNTA(商品资料表!C:C)-1))),ROW(INDIRECT("$2:$"&COUNTA(商品资料表!C:C))),4^8),ROW(A59)))&"","")} | E65: =IF(D65="","",IFERROR(SUMIFS(商品出入库表!G:G,商品出入库表!C:C,库存查询!D65,商品出入库表!E:E,库存查询!$F$6,商品出入库表!J:J,"<"&(库存查询!$E$4&TEXT(库存查询!$G$4,"00"))*1)-SUMIFS(商品出入库表!G:G,商品出入库表!C:C,库存查询!D65,商品出入库表!E:E,库存查询!$G$6,商品出入库表!J:J,"<"&(库存查询!$E$4&TEXT(库存查询!$G$4,"00"))*1),"")) | F65: =IF(D65="","",SUMIFS(商品出入库表!G:G,商品出入库表!C:C,库存查询!D65,商品出入库表!H:H,库存查询!$E$4,商品出入库表!I:I,库存查询!$G$4,商品出入库表!E:E,库存查询!$F$6)) | G65: =IF(D65="","",SUMIFS(商品出入库表!G:G,商品出入库表!C:C,库存查询!D65,商品出入库表!H:H,库存查询!$E$4,商品出入库表!I:I,库存查询!$G$4,商品出入库表!E:E,库存查询!$G$6)) | H65: =IFERROR(E65+F65-G65,"") | K65: {=IFERROR(INDEX(商品资料表!$C$1:$K$36,SMALL(IF(商品资料表!$C$1:$C$36=库存查询!$L$4,ROW(商品资料表!$C$1:$C$36)),ROW(59:59)),COLUMN(A:A)),"")} | L65: {=IFERROR(INDEX(商品资料表!$C$1:$K$36,SMALL(IF(商品资料表!$C$1:$C$36=库存查询!$L$4,ROW(商品资料表!$C$1:$C$36)),ROW(59:59)),COLUMN(B:B)),"")} | M65: {=IFERROR(INDEX(商品资料表!$C$1:$K$36,SMALL(IF(商品资料表!$C$1:$C$36=库存查询!$L$4,ROW(商品资料表!$C$1:$C$36)),ROW(59:59)),COLUMN(C:C)),"")} | N65: {=IFERROR(INDEX(商品资料表!$C$1:$K$36,SMALL(IF(商品资料表!$C$1:$C$36=库存查询!$L$4,ROW(商品资料表!$C$1:$C$36)),ROW(59:59)),COLUMN(D:D)),"")} | O65: {=IFERROR(INDEX(商品资料表!$C$1:$K$36,SMALL(IF(商品资料表!$C$1:$C$36=库存查询!$L$4,ROW(商品资料表!$C$1:$C$36)),ROW(59:59)),COLUMN(E:E)),"")} | P65: {=IFERROR(INDEX(商品资料表!$C$1:$K$36,SMALL(IF(商品资料表!$C$1:$C$36=库存查询!$L$4,ROW(商品资料表!$C$1:$C$36)),ROW(59:59)),COLUMN(F:F)),"")} | Q65: {=IFERROR(INDEX(商品资料表!$C$1:$K$36,SMALL(IF(商品资料表!$C$1:$C$36=库存查询!$L$4,ROW(商品资料表!$C$1:$C$36)),ROW(59:59)),COLUMN(G:G)),"")} | R65: {=IFERROR(INDEX(商品资料表!$C$1:$K$36,SMALL(IF(商品资料表!$C$1:$C$36=库存查询!$L$4,ROW(商品资料表!$C$1:$C$36)),ROW(59:59)),COLUMN(H:H)),"")} | S65: {=IFERROR(INDEX(商品资料表!$C$1:$K$36,SMALL(IF(商品资料表!$C$1:$C$36=库存查询!$L$4,ROW(商品资料表!$C$1:$C$36)),ROW(59:59)),COLUMN(I:I)),"")}
D66: {=IFERROR(INDEX(商品资料表!C:C,SMALL(IF(MATCH(INDIRECT("商品资料表!$C$2:$C$"&COUNTA(商品资料表!C:C)),INDIRECT("商品资料表!$C$2:$C$"&COUNTA(商品资料表!C:C)),)=ROW(INDIRECT("$1:$"&(COUNTA(商品资料表!C:C)-1))),ROW(INDIRECT("$2:$"&COUNTA(商品资料表!C:C))),4^8),ROW(A60)))&"","")} | E66: =IF(D66="","",IFERROR(SUMIFS(商品出入库表!G:G,商品出入库表!C:C,库存查询!D66,商品出入库表!E:E,库存查询!$F$6,商品出入库表!J:J,"<"&(库存查询!$E$4&TEXT(库存查询!$G$4,"00"))*1)-SUMIFS(商品出入库表!G:G,商品出入库表!C:C,库存查询!D66,商品出入库表!E:E,库存查询!$G$6,商品出入库表!J:J,"<"&(库存查询!$E$4&TEXT(库存查询!$G$4,"00"))*1),"")) | F66: =IF(D66="","",SUMIFS(商品出入库表!G:G,商品出入库表!C:C,库存查询!D66,商品出入库表!H:H,库存查询!$E$4,商品出入库表!I:I,库存查询!$G$4,商品出入库表!E:E,库存查询!$F$6)) | G66: =IF(D66="","",SUMIFS(商品出入库表!G:G,商品出入库表!C:C,库存查询!D66,商品出入库表!H:H,库存查询!$E$4,商品出入库表!I:I,库存查询!$G$4,商品出入库表!E:E,库存查询!$G$6)) | H66: =IFERROR(E66+F66-G66,"") | K66: {=IFERROR(INDEX(商品资料表!$C$1:$K$36,SMALL(IF(商品资料表!$C$1:$C$36=库存查询!$L$4,ROW(商品资料表!$C$1:$C$36)),ROW(60:60)),COLUMN(A:A)),"")} | L66: {=IFERROR(INDEX(商品资料表!$C$1:$K$36,SMALL(IF(商品资料表!$C$1:$C$36=库存查询!$L$4,ROW(商品资料表!$C$1:$C$36)),ROW(60:60)),COLUMN(B:B)),"")} | M66: {=IFERROR(INDEX(商品资料表!$C$1:$K$36,SMALL(IF(商品资料表!$C$1:$C$36=库存查询!$L$4,ROW(商品资料表!$C$1:$C$36)),ROW(60:60)),COLUMN(C:C)),"")} | N66: {=IFERROR(INDEX(商品资料表!$C$1:$K$36,SMALL(IF(商品资料表!$C$1:$C$36=库存查询!$L$4,ROW(商品资料表!$C$1:$C$36)),ROW(60:60)),COLUMN(D:D)),"")} | O66: {=IFERROR(INDEX(商品资料表!$C$1:$K$36,SMALL(IF(商品资料表!$C$1:$C$36=库存查询!$L$4,ROW(商品资料表!$C$1:$C$36)),ROW(60:60)),COLUMN(E:E)),"")} | P66: {=IFERROR(INDEX(商品资料表!$C$1:$K$36,SMALL(IF(商品资料表!$C$1:$C$36=库存查询!$L$4,ROW(商品资料表!$C$1:$C$36)),ROW(60:60)),COLUMN(F:F)),"")} | Q66: {=IFERROR(INDEX(商品资料表!$C$1:$K$36,SMALL(IF(商品资料表!$C$1:$C$36=库存查询!$L$4,ROW(商品资料表!$C$1:$C$36)),ROW(60:60)),COLUMN(G:G)),"")} | R66: {=IFERROR(INDEX(商品资料表!$C$1:$K$36,SMALL(IF(商品资料表!$C$1:$C$36=库存查询!$L$4,ROW(商品资料表!$C$1:$C$36)),ROW(60:60)),COLUMN(H:H)),"")} | S66: {=IFERROR(INDEX(商品资料表!$C$1:$K$36,SMALL(IF(商品资料表!$C$1:$C$36=库存查询!$L$4,ROW(商品资料表!$C$1:$C$36)),ROW(60:60)),COLUMN(I:I)),"")}
D67: {=IFERROR(INDEX(商品资料表!C:C,SMALL(IF(MATCH(INDIRECT("商品资料表!$C$2:$C$"&COUNTA(商品资料表!C:C)),INDIRECT("商品资料表!$C$2:$C$"&COUNTA(商品资料表!C:C)),)=ROW(INDIRECT("$1:$"&(COUNTA(商品资料表!C:C)-1))),ROW(INDIRECT("$2:$"&COUNTA(商品资料表!C:C))),4^8),ROW(A61)))&"","")} | E67: =IF(D67="","",IFERROR(SUMIFS(商品出入库表!G:G,商品出入库表!C:C,库存查询!D67,商品出入库表!E:E,库存查询!$F$6,商品出入库表!J:J,"<"&(库存查询!$E$4&TEXT(库存查询!$G$4,"00"))*1)-SUMIFS(商品出入库表!G:G,商品出入库表!C:C,库存查询!D67,商品出入库表!E:E,库存查询!$G$6,商品出入库表!J:J,"<"&(库存查询!$E$4&TEXT(库存查询!$G$4,"00"))*1),"")) | F67: =IF(D67="","",SUMIFS(商品出入库表!G:G,商品出入库表!C:C,库存查询!D67,商品出入库表!H:H,库存查询!$E$4,商品出入库表!I:I,库存查询!$G$4,商品出入库表!E:E,库存查询!$F$6)) | G67: =IF(D67="","",SUMIFS(商品出入库表!G:G,商品出入库表!C:C,库存查询!D67,商品出入库表!H:H,库存查询!$E$4,商品出入库表!I:I,库存查询!$G$4,商品出入库表!E:E,库存查询!$G$6)) | H67: =IFERROR(E67+F67-G67,"") | K67: {=IFERROR(INDEX(商品资料表!$C$1:$K$36,SMALL(IF(商品资料表!$C$1:$C$36=库存查询!$L$4,ROW(商品资料表!$C$1:$C$36)),ROW(61:61)),COLUMN(A:A)),"")} | L67: {=IFERROR(INDEX(商品资料表!$C$1:$K$36,SMALL(IF(商品资料表!$C$1:$C$36=库存查询!$L$4,ROW(商品资料表!$C$1:$C$36)),ROW(61:61)),COLUMN(B:B)),"")} | M67: {=IFERROR(INDEX(商品资料表!$C$1:$K$36,SMALL(IF(商品资料表!$C$1:$C$36=库存查询!$L$4,ROW(商品资料表!$C$1:$C$36)),ROW(61:61)),COLUMN(C:C)),"")} | N67: {=IFERROR(INDEX(商品资料表!$C$1:$K$36,SMALL(IF(商品资料表!$C$1:$C$36=库存查询!$L$4,ROW(商品资料表!$C$1:$C$36)),ROW(61:61)),COLUMN(D:D)),"")} | O67: {=IFERROR(INDEX(商品资料表!$C$1:$K$36,SMALL(IF(商品资料表!$C$1:$C$36=库存查询!$L$4,ROW(商品资料表!$C$1:$C$36)),ROW(61:61)),COLUMN(E:E)),"")} | P67: {=IFERROR(INDEX(商品资料表!$C$1:$K$36,SMALL(IF(商品资料表!$C$1:$C$36=库存查询!$L$4,ROW(商品资料表!$C$1:$C$36)),ROW(61:61)),COLUMN(F:F)),"")} | Q67: {=IFERROR(INDEX(商品资料表!$C$1:$K$36,SMALL(IF(商品资料表!$C$1:$C$36=库存查询!$L$4,ROW(商品资料表!$C$1:$C$36)),ROW(61:61)),COLUMN(G:G)),"")} | R67: {=IFERROR(INDEX(商品资料表!$C$1:$K$36,SMALL(IF(商品资料表!$C$1:$C$36=库存查询!$L$4,ROW(商品资料表!$C$1:$C$36)),ROW(61:61)),COLUMN(H:H)),"")} | S67: {=IFERROR(INDEX(商品资料表!$C$1:$K$36,SMALL(IF(商品资料表!$C$1:$C$36=库存查询!$L$4,ROW(商品资料表!$C$1:$C$36)),ROW(61:61)),COLUMN(I:I)),"")}
D68: {=IFERROR(INDEX(商品资料表!C:C,SMALL(IF(MATCH(INDIRECT("商品资料表!$C$2:$C$"&COUNTA(商品资料表!C:C)),INDIRECT("商品资料表!$C$2:$C$"&COUNTA(商品资料表!C:C)),)=ROW(INDIRECT("$1:$"&(COUNTA(商品资料表!C:C)-1))),ROW(INDIRECT("$2:$"&COUNTA(商品资料表!C:C))),4^8),ROW(A62)))&"","")} | E68: =IF(D68="","",IFERROR(SUMIFS(商品出入库表!G:G,商品出入库表!C:C,库存查询!D68,商品出入库表!E:E,库存查询!$F$6,商品出入库表!J:J,"<"&(库存查询!$E$4&TEXT(库存查询!$G$4,"00"))*1)-SUMIFS(商品出入库表!G:G,商品出入库表!C:C,库存查询!D68,商品出入库表!E:E,库存查询!$G$6,商品出入库表!J:J,"<"&(库存查询!$E$4&TEXT(库存查询!$G$4,"00"))*1),"")) | F68: =IF(D68="","",SUMIFS(商品出入库表!G:G,商品出入库表!C:C,库存查询!D68,商品出入库表!H:H,库存查询!$E$4,商品出入库表!I:I,库存查询!$G$4,商品出入库表!E:E,库存查询!$F$6)) | G68: =IF(D68="","",SUMIFS(商品出入库表!G:G,商品出入库表!C:C,库存查询!D68,商品出入库表!H:H,库存查询!$E$4,商品出入库表!I:I,库存查询!$G$4,商品出入库表!E:E,库存查询!$G$6)) | H68: =IFERROR(E68+F68-G68,"") | K68: {=IFERROR(INDEX(商品资料表!$C$1:$K$36,SMALL(IF(商品资料表!$C$1:$C$36=库存查询!$L$4,ROW(商品资料表!$C$1:$C$36)),ROW(62:62)),COLUMN(A:A)),"")} | L68: {=IFERROR(INDEX(商品资料表!$C$1:$K$36,SMALL(IF(商品资料表!$C$1:$C$36=库存查询!$L$4,ROW(商品资料表!$C$1:$C$36)),ROW(62:62)),COLUMN(B:B)),"")} | M68: {=IFERROR(INDEX(商品资料表!$C$1:$K$36,SMALL(IF(商品资料表!$C$1:$C$36=库存查询!$L$4,ROW(商品资料表!$C$1:$C$36)),ROW(62:62)),COLUMN(C:C)),"")} | N68: {=IFERROR(INDEX(商品资料表!$C$1:$K$36,SMALL(IF(商品资料表!$C$1:$C$36=库存查询!$L$4,ROW(商品资料表!$C$1:$C$36)),ROW(62:62)),COLUMN(D:D)),"")} | O68: {=IFERROR(INDEX(商品资料表!$C$1:$K$36,SMALL(IF(商品资料表!$C$1:$C$36=库存查询!$L$4,ROW(商品资料表!$C$1:$C$36)),ROW(62:62)),COLUMN(E:E)),"")} | P68: {=IFERROR(INDEX(商品资料表!$C$1:$K$36,SMALL(IF(商品资料表!$C$1:$C$36=库存查询!$L$4,ROW(商品资料表!$C$1:$C$36)),ROW(62:62)),COLUMN(F:F)),"")} | Q68: {=IFERROR(INDEX(商品资料表!$C$1:$K$36,SMALL(IF(商品资料表!$C$1:$C$36=库存查询!$L$4,ROW(商品资料表!$C$1:$C$36)),ROW(62:62)),COLUMN(G:G)),"")} | R68: {=IFERROR(INDEX(商品资料表!$C$1:$K$36,SMALL(IF(商品资料表!$C$1:$C$36=库存查询!$L$4,ROW(商品资料表!$C$1:$C$36)),ROW(62:62)),COLUMN(H:H)),"")} | S68: {=IFERROR(INDEX(商品资料表!$C$1:$K$36,SMALL(IF(商品资料表!$C$1:$C$36=库存查询!$L$4,ROW(商品资料表!$C$1:$C$36)),ROW(62:62)),COLUMN(I:I)),"")}
D69: {=IFERROR(INDEX(商品资料表!C:C,SMALL(IF(MATCH(INDIRECT("商品资料表!$C$2:$C$"&COUNTA(商品资料表!C:C)),INDIRECT("商品资料表!$C$2:$C$"&COUNTA(商品资料表!C:C)),)=ROW(INDIRECT("$1:$"&(COUNTA(商品资料表!C:C)-1))),ROW(INDIRECT("$2:$"&COUNTA(商品资料表!C:C))),4^8),ROW(A63)))&"","")} | E69: =IF(D69="","",IFERROR(SUMIFS(商品出入库表!G:G,商品出入库表!C:C,库存查询!D69,商品出入库表!E:E,库存查询!$F$6,商品出入库表!J:J,"<"&(库存查询!$E$4&TEXT(库存查询!$G$4,"00"))*1)-SUMIFS(商品出入库表!G:G,商品出入库表!C:C,库存查询!D69,商品出入库表!E:E,库存查询!$G$6,商品出入库表!J:J,"<"&(库存查询!$E$4&TEXT(库存查询!$G$4,"00"))*1),"")) | F69: =IF(D69="","",SUMIFS(商品出入库表!G:G,商品出入库表!C:C,库存查询!D69,商品出入库表!H:H,库存查询!$E$4,商品出入库表!I:I,库存查询!$G$4,商品出入库表!E:E,库存查询!$F$6)) | G69: =IF(D69="","",SUMIFS(商品出入库表!G:G,商品出入库表!C:C,库存查询!D69,商品出入库表!H:H,库存查询!$E$4,商品出入库表!I:I,库存查询!$G$4,商品出入库表!E:E,库存查询!$G$6)) | H69: =IFERROR(E69+F69-G69,"") | K69: {=IFERROR(INDEX(商品资料表!$C$1:$K$36,SMALL(IF(商品资料表!$C$1:$C$36=库存查询!$L$4,ROW(商品资料表!$C$1:$C$36)),ROW(63:63)),COLUMN(A:A)),"")} | L69: {=IFERROR(INDEX(商品资料表!$C$1:$K$36,SMALL(IF(商品资料表!$C$1:$C$36=库存查询!$L$4,ROW(商品资料表!$C$1:$C$36)),ROW(63:63)),COLUMN(B:B)),"")} | M69: {=IFERROR(INDEX(商品资料表!$C$1:$K$36,SMALL(IF(商品资料表!$C$1:$C$36=库存查询!$L$4,ROW(商品资料表!$C$1:$C$36)),ROW(63:63)),COLUMN(C:C)),"")} | N69: {=IFERROR(INDEX(商品资料表!$C$1:$K$36,SMALL(IF(商品资料表!$C$1:$C$36=库存查询!$L$4,ROW(商品资料表!$C$1:$C$36)),ROW(63:63)),COLUMN(D:D)),"")} | O69: {=IFERROR(INDEX(商品资料表!$C$1:$K$36,SMALL(IF(商品资料表!$C$1:$C$36=库存查询!$L$4,ROW(商品资料表!$C$1:$C$36)),ROW(63:63)),COLUMN(E:E)),"")} | P69: {=IFERROR(INDEX(商品资料表!$C$1:$K$36,SMALL(IF(商品资料表!$C$1:$C$36=库存查询!$L$4,ROW(商品资料表!$C$1:$C$36)),ROW(63:63)),COLUMN(F:F)),"")} | Q69: {=IFERROR(INDEX(商品资料表!$C$1:$K$36,SMALL(IF(商品资料表!$C$1:$C$36=库存查询!$L$4,ROW(商品资料表!$C$1:$C$36)),ROW(63:63)),COLUMN(G:G)),"")} | R69: {=IFERROR(INDEX(商品资料表!$C$1:$K$36,SMALL(IF(商品资料表!$C$1:$C$36=库存查询!$L$4,ROW(商品资料表!$C$1:$C$36)),ROW(63:63)),COLUMN(H:H)),"")} | S69: {=IFERROR(INDEX(商品资料表!$C$1:$K$36,SMALL(IF(商品资料表!$C$1:$C$36=库存查询!$L$4,ROW(商品资料表!$C$1:$C$36)),ROW(63:63)),COLUMN(I:I)),"")}
D70: {=IFERROR(INDEX(商品资料表!C:C,SMALL(IF(MATCH(INDIRECT("商品资料表!$C$2:$C$"&COUNTA(商品资料表!C:C)),INDIRECT("商品资料表!$C$2:$C$"&COUNTA(商品资料表!C:C)),)=ROW(INDIRECT("$1:$"&(COUNTA(商品资料表!C:C)-1))),ROW(INDIRECT("$2:$"&COUNTA(商品资料表!C:C))),4^8),ROW(A64)))&"","")} | E70: =IF(D70="","",IFERROR(SUMIFS(商品出入库表!G:G,商品出入库表!C:C,库存查询!D70,商品出入库表!E:E,库存查询!$F$6,商品出入库表!J:J,"<"&(库存查询!$E$4&TEXT(库存查询!$G$4,"00"))*1)-SUMIFS(商品出入库表!G:G,商品出入库表!C:C,库存查询!D70,商品出入库表!E:E,库存查询!$G$6,商品出入库表!J:J,"<"&(库存查询!$E$4&TEXT(库存查询!$G$4,"00"))*1),"")) | F70: =IF(D70="","",SUMIFS(商品出入库表!G:G,商品出入库表!C:C,库存查询!D70,商品出入库表!H:H,库存查询!$E$4,商品出入库表!I:I,库存查询!$G$4,商品出入库表!E:E,库存查询!$F$6)) | G70: =IF(D70="","",SUMIFS(商品出入库表!G:G,商品出入库表!C:C,库存查询!D70,商品出入库表!H:H,库存查询!$E$4,商品出入库表!I:I,库存查询!$G$4,商品出入库表!E:E,库存查询!$G$6)) | H70: =IFERROR(E70+F70-G70,"") | K70: {=IFERROR(INDEX(商品资料表!$C$1:$K$36,SMALL(IF(商品资料表!$C$1:$C$36=库存查询!$L$4,ROW(商品资料表!$C$1:$C$36)),ROW(64:64)),COLUMN(A:A)),"")} | L70: {=IFERROR(INDEX(商品资料表!$C$1:$K$36,SMALL(IF(商品资料表!$C$1:$C$36=库存查询!$L$4,ROW(商品资料表!$C$1:$C$36)),ROW(64:64)),COLUMN(B:B)),"")} | M70: {=IFERROR(INDEX(商品资料表!$C$1:$K$36,SMALL(IF(商品资料表!$C$1:$C$36=库存查询!$L$4,ROW(商品资料表!$C$1:$C$36)),ROW(64:64)),COLUMN(C:C)),"")} | N70: {=IFERROR(INDEX(商品资料表!$C$1:$K$36,SMALL(IF(商品资料表!$C$1:$C$36=库存查询!$L$4,ROW(商品资料表!$C$1:$C$36)),ROW(64:64)),COLUMN(D:D)),"")} | O70: {=IFERROR(INDEX(商品资料表!$C$1:$K$36,SMALL(IF(商品资料表!$C$1:$C$36=库存查询!$L$4,ROW(商品资料表!$C$1:$C$36)),ROW(64:64)),COLUMN(E:E)),"")} | P70: {=IFERROR(INDEX(商品资料表!$C$1:$K$36,SMALL(IF(商品资料表!$C$1:$C$36=库存查询!$L$4,ROW(商品资料表!$C$1:$C$36)),ROW(64:64)),COLUMN(F:F)),"")} | Q70: {=IFERROR(INDEX(商品资料表!$C$1:$K$36,SMALL(IF(商品资料表!$C$1:$C$36=库存查询!$L$4,ROW(商品资料表!$C$1:$C$36)),ROW(64:64)),COLUMN(G:G)),"")} | R70: {=IFERROR(INDEX(商品资料表!$C$1:$K$36,SMALL(IF(商品资料表!$C$1:$C$36=库存查询!$L$4,ROW(商品资料表!$C$1:$C$36)),ROW(64:64)),COLUMN(H:H)),"")} | S70: {=IFERROR(INDEX(商品资料表!$C$1:$K$36,SMALL(IF(商品资料表!$C$1:$C$36=库存查询!$L$4,ROW(商品资料表!$C$1:$C$36)),ROW(64:64)),COLUMN(I:I)),"")}
D71: {=IFERROR(INDEX(商品资料表!C:C,SMALL(IF(MATCH(INDIRECT("商品资料表!$C$2:$C$"&COUNTA(商品资料表!C:C)),INDIRECT("商品资料表!$C$2:$C$"&COUNTA(商品资料表!C:C)),)=ROW(INDIRECT("$1:$"&(COUNTA(商品资料表!C:C)-1))),ROW(INDIRECT("$2:$"&COUNTA(商品资料表!C:C))),4^8),ROW(A65)))&"","")} | E71: =IF(D71="","",IFERROR(SUMIFS(商品出入库表!G:G,商品出入库表!C:C,库存查询!D71,商品出入库表!E:E,库存查询!$F$6,商品出入库表!J:J,"<"&(库存查询!$E$4&TEXT(库存查询!$G$4,"00"))*1)-SUMIFS(商品出入库表!G:G,商品出入库表!C:C,库存查询!D71,商品出入库表!E:E,库存查询!$G$6,商品出入库表!J:J,"<"&(库存查询!$E$4&TEXT(库存查询!$G$4,"00"))*1),"")) | F71: =IF(D71="","",SUMIFS(商品出入库表!G:G,商品出入库表!C:C,库存查询!D71,商品出入库表!H:H,库存查询!$E$4,商品出入库表!I:I,库存查询!$G$4,商品出入库表!E:E,库存查询!$F$6)) | G71: =IF(D71="","",SUMIFS(商品出入库表!G:G,商品出入库表!C:C,库存查询!D71,商品出入库表!H:H,库存查询!$E$4,商品出入库表!I:I,库存查询!$G$4,商品出入库表!E:E,库存查询!$G$6)) | H71: =IFERROR(E71+F71-G71,"") | K71: {=IFERROR(INDEX(商品资料表!$C$1:$K$36,SMALL(IF(商品资料表!$C$1:$C$36=库存查询!$L$4,ROW(商品资料表!$C$1:$C$36)),ROW(65:65)),COLUMN(A:A)),"")} | L71: {=IFERROR(INDEX(商品资料表!$C$1:$K$36,SMALL(IF(商品资料表!$C$1:$C$36=库存查询!$L$4,ROW(商品资料表!$C$1:$C$36)),ROW(65:65)),COLUMN(B:B)),"")} | M71: {=IFERROR(INDEX(商品资料表!$C$1:$K$36,SMALL(IF(商品资料表!$C$1:$C$36=库存查询!$L$4,ROW(商品资料表!$C$1:$C$36)),ROW(65:65)),COLUMN(C:C)),"")} | N71: {=IFERROR(INDEX(商品资料表!$C$1:$K$36,SMALL(IF(商品资料表!$C$1:$C$36=库存查询!$L$4,ROW(商品资料表!$C$1:$C$36)),ROW(65:65)),COLUMN(D:D)),"")} | O71: {=IFERROR(INDEX(商品资料表!$C$1:$K$36,SMALL(IF(商品资料表!$C$1:$C$36=库存查询!$L$4,ROW(商品资料表!$C$1:$C$36)),ROW(65:65)),COLUMN(E:E)),"")} | P71: {=IFERROR(INDEX(商品资料表!$C$1:$K$36,SMALL(IF(商品资料表!$C$1:$C$36=库存查询!$L$4,ROW(商品资料表!$C$1:$C$36)),ROW(65:65)),COLUMN(F:F)),"")} | Q71: {=IFERROR(INDEX(商品资料表!$C$1:$K$36,SMALL(IF(商品资料表!$C$1:$C$36=库存查询!$L$4,ROW(商品资料表!$C$1:$C$36)),ROW(65:65)),COLUMN(G:G)),"")} | R71: {=IFERROR(INDEX(商品资料表!$C$1:$K$36,SMALL(IF(商品资料表!$C$1:$C$36=库存查询!$L$4,ROW(商品资料表!$C$1:$C$36)),ROW(65:65)),COLUMN(H:H)),"")} | S71: {=IFERROR(INDEX(商品资料表!$C$1:$K$36,SMALL(IF(商品资料表!$C$1:$C$36=库存查询!$L$4,ROW(商品资料表!$C$1:$C$36)),ROW(65:65)),COLUMN(I:I)),"")}
D72: {=IFERROR(INDEX(商品资料表!C:C,SMALL(IF(MATCH(INDIRECT("商品资料表!$C$2:$C$"&COUNTA(商品资料表!C:C)),INDIRECT("商品资料表!$C$2:$C$"&COUNTA(商品资料表!C:C)),)=ROW(INDIRECT("$1:$"&(COUNTA(商品资料表!C:C)-1))),ROW(INDIRECT("$2:$"&COUNTA(商品资料表!C:C))),4^8),ROW(A66)))&"","")} | E72: =IF(D72="","",IFERROR(SUMIFS(商品出入库表!G:G,商品出入库表!C:C,库存查询!D72,商品出入库表!E:E,库存查询!$F$6,商品出入库表!J:J,"<"&(库存查询!$E$4&TEXT(库存查询!$G$4,"00"))*1)-SUMIFS(商品出入库表!G:G,商品出入库表!C:C,库存查询!D72,商品出入库表!E:E,库存查询!$G$6,商品出入库表!J:J,"<"&(库存查询!$E$4&TEXT(库存查询!$G$4,"00"))*1),"")) | F72: =IF(D72="","",SUMIFS(商品出入库表!G:G,商品出入库表!C:C,库存查询!D72,商品出入库表!H:H,库存查询!$E$4,商品出入库表!I:I,库存查询!$G$4,商品出入库表!E:E,库存查询!$F$6)) | G72: =IF(D72="","",SUMIFS(商品出入库表!G:G,商品出入库表!C:C,库存查询!D72,商品出入库表!H:H,库存查询!$E$4,商品出入库表!I:I,库存查询!$G$4,商品出入库表!E:E,库存查询!$G$6)) | H72: =IFERROR(E72+F72-G72,"") | K72: {=IFERROR(INDEX(商品资料表!$C$1:$K$36,SMALL(IF(商品资料表!$C$1:$C$36=库存查询!$L$4,ROW(商品资料表!$C$1:$C$36)),ROW(66:66)),COLUMN(A:A)),"")} | L72: {=IFERROR(INDEX(商品资料表!$C$1:$K$36,SMALL(IF(商品资料表!$C$1:$C$36=库存查询!$L$4,ROW(商品资料表!$C$1:$C$36)),ROW(66:66)),COLUMN(B:B)),"")} | M72: {=IFERROR(INDEX(商品资料表!$C$1:$K$36,SMALL(IF(商品资料表!$C$1:$C$36=库存查询!$L$4,ROW(商品资料表!$C$1:$C$36)),ROW(66:66)),COLUMN(C:C)),"")} | N72: {=IFERROR(INDEX(商品资料表!$C$1:$K$36,SMALL(IF(商品资料表!$C$1:$C$36=库存查询!$L$4,ROW(商品资料表!$C$1:$C$36)),ROW(66:66)),COLUMN(D:D)),"")} | O72: {=IFERROR(INDEX(商品资料表!$C$1:$K$36,SMALL(IF(商品资料表!$C$1:$C$36=库存查询!$L$4,ROW(商品资料表!$C$1:$C$36)),ROW(66:66)),COLUMN(E:E)),"")} | P72: {=IFERROR(INDEX(商品资料表!$C$1:$K$36,SMALL(IF(商品资料表!$C$1:$C$36=库存查询!$L$4,ROW(商品资料表!$C$1:$C$36)),ROW(66:66)),COLUMN(F:F)),"")} | Q72: {=IFERROR(INDEX(商品资料表!$C$1:$K$36,SMALL(IF(商品资料表!$C$1:$C$36=库存查询!$L$4,ROW(商品资料表!$C$1:$C$36)),ROW(66:66)),COLUMN(G:G)),"")} | R72: {=IFERROR(INDEX(商品资料表!$C$1:$K$36,SMALL(IF(商品资料表!$C$1:$C$36=库存查询!$L$4,ROW(商品资料表!$C$1:$C$36)),ROW(66:66)),COLUMN(H:H)),"")} | S72: {=IFERROR(INDEX(商品资料表!$C$1:$K$36,SMALL(IF(商品资料表!$C$1:$C$36=库存查询!$L$4,ROW(商品资料表!$C$1:$C$36)),ROW(66:66)),COLUMN(I:I)),"")}
D73: {=IFERROR(INDEX(商品资料表!C:C,SMALL(IF(MATCH(INDIRECT("商品资料表!$C$2:$C$"&COUNTA(商品资料表!C:C)),INDIRECT("商品资料表!$C$2:$C$"&COUNTA(商品资料表!C:C)),)=ROW(INDIRECT("$1:$"&(COUNTA(商品资料表!C:C)-1))),ROW(INDIRECT("$2:$"&COUNTA(商品资料表!C:C))),4^8),ROW(A67)))&"","")} | E73: =IF(D73="","",IFERROR(SUMIFS(商品出入库表!G:G,商品出入库表!C:C,库存查询!D73,商品出入库表!E:E,库存查询!$F$6,商品出入库表!J:J,"<"&(库存查询!$E$4&TEXT(库存查询!$G$4,"00"))*1)-SUMIFS(商品出入库表!G:G,商品出入库表!C:C,库存查询!D73,商品出入库表!E:E,库存查询!$G$6,商品出入库表!J:J,"<"&(库存查询!$E$4&TEXT(库存查询!$G$4,"00"))*1),"")) | F73: =IF(D73="","",SUMIFS(商品出入库表!G:G,商品出入库表!C:C,库存查询!D73,商品出入库表!H:H,库存查询!$E$4,商品出入库表!I:I,库存查询!$G$4,商品出入库表!E:E,库存查询!$F$6)) | G73: =IF(D73="","",SUMIFS(商品出入库表!G:G,商品出入库表!C:C,库存查询!D73,商品出入库表!H:H,库存查询!$E$4,商品出入库表!I:I,库存查询!$G$4,商品出入库表!E:E,库存查询!$G$6)) | H73: =IFERROR(E73+F73-G73,"") | K73: {=IFERROR(INDEX(商品资料表!$C$1:$K$36,SMALL(IF(商品资料表!$C$1:$C$36=库存查询!$L$4,ROW(商品资料表!$C$1:$C$36)),ROW(67:67)),COLUMN(A:A)),"")} | L73: {=IFERROR(INDEX(商品资料表!$C$1:$K$36,SMALL(IF(商品资料表!$C$1:$C$36=库存查询!$L$4,ROW(商品资料表!$C$1:$C$36)),ROW(67:67)),COLUMN(B:B)),"")} | M73: {=IFERROR(INDEX(商品资料表!$C$1:$K$36,SMALL(IF(商品资料表!$C$1:$C$36=库存查询!$L$4,ROW(商品资料表!$C$1:$C$36)),ROW(67:67)),COLUMN(C:C)),"")} | N73: {=IFERROR(INDEX(商品资料表!$C$1:$K$36,SMALL(IF(商品资料表!$C$1:$C$36=库存查询!$L$4,ROW(商品资料表!$C$1:$C$36)),ROW(67:67)),COLUMN(D:D)),"")} | O73: {=IFERROR(INDEX(商品资料表!$C$1:$K$36,SMALL(IF(商品资料表!$C$1:$C$36=库存查询!$L$4,ROW(商品资料表!$C$1:$C$36)),ROW(67:67)),COLUMN(E:E)),"")} | P73: {=IFERROR(INDEX(商品资料表!$C$1:$K$36,SMALL(IF(商品资料表!$C$1:$C$36=库存查询!$L$4,ROW(商品资料表!$C$1:$C$36)),ROW(67:67)),COLUMN(F:F)),"")} | Q73: {=IFERROR(INDEX(商品资料表!$C$1:$K$36,SMALL(IF(商品资料表!$C$1:$C$36=库存查询!$L$4,ROW(商品资料表!$C$1:$C$36)),ROW(67:67)),COLUMN(G:G)),"")} | R73: {=IFERROR(INDEX(商品资料表!$C$1:$K$36,SMALL(IF(商品资料表!$C$1:$C$36=库存查询!$L$4,ROW(商品资料表!$C$1:$C$36)),ROW(67:67)),COLUMN(H:H)),"")} | S73: {=IFERROR(INDEX(商品资料表!$C$1:$K$36,SMALL(IF(商品资料表!$C$1:$C$36=库存查询!$L$4,ROW(商品资料表!$C$1:$C$36)),ROW(67:67)),COLUMN(I:I)),"")}
D74: {=IFERROR(INDEX(商品资料表!C:C,SMALL(IF(MATCH(INDIRECT("商品资料表!$C$2:$C$"&COUNTA(商品资料表!C:C)),INDIRECT("商品资料表!$C$2:$C$"&COUNTA(商品资料表!C:C)),)=ROW(INDIRECT("$1:$"&(COUNTA(商品资料表!C:C)-1))),ROW(INDIRECT("$2:$"&COUNTA(商品资料表!C:C))),4^8),ROW(A68)))&"","")} | E74: =IF(D74="","",IFERROR(SUMIFS(商品出入库表!G:G,商品出入库表!C:C,库存查询!D74,商品出入库表!E:E,库存查询!$F$6,商品出入库表!J:J,"<"&(库存查询!$E$4&TEXT(库存查询!$G$4,"00"))*1)-SUMIFS(商品出入库表!G:G,商品出入库表!C:C,库存查询!D74,商品出入库表!E:E,库存查询!$G$6,商品出入库表!J:J,"<"&(库存查询!$E$4&TEXT(库存查询!$G$4,"00"))*1),"")) | F74: =IF(D74="","",SUMIFS(商品出入库表!G:G,商品出入库表!C:C,库存查询!D74,商品出入库表!H:H,库存查询!$E$4,商品出入库表!I:I,库存查询!$G$4,商品出入库表!E:E,库存查询!$F$6)) | G74: =IF(D74="","",SUMIFS(商品出入库表!G:G,商品出入库表!C:C,库存查询!D74,商品出入库表!H:H,库存查询!$E$4,商品出入库表!I:I,库存查询!$G$4,商品出入库表!E:E,库存查询!$G$6)) | H74: =IFERROR(E74+F74-G74,"") | K74: {=IFERROR(INDEX(商品资料表!$C$1:$K$36,SMALL(IF(商品资料表!$C$1:$C$36=库存查询!$L$4,ROW(商品资料表!$C$1:$C$36)),ROW(68:68)),COLUMN(A:A)),"")} | L74: {=IFERROR(INDEX(商品资料表!$C$1:$K$36,SMALL(IF(商品资料表!$C$1:$C$36=库存查询!$L$4,ROW(商品资料表!$C$1:$C$36)),ROW(68:68)),COLUMN(B:B)),"")} | M74: {=IFERROR(INDEX(商品资料表!$C$1:$K$36,SMALL(IF(商品资料表!$C$1:$C$36=库存查询!$L$4,ROW(商品资料表!$C$1:$C$36)),ROW(68:68)),COLUMN(C:C)),"")} | N74: {=IFERROR(INDEX(商品资料表!$C$1:$K$36,SMALL(IF(商品资料表!$C$1:$C$36=库存查询!$L$4,ROW(商品资料表!$C$1:$C$36)),ROW(68:68)),COLUMN(D:D)),"")} | O74: {=IFERROR(INDEX(商品资料表!$C$1:$K$36,SMALL(IF(商品资料表!$C$1:$C$36=库存查询!$L$4,ROW(商品资料表!$C$1:$C$36)),ROW(68:68)),COLUMN(E:E)),"")} | P74: {=IFERROR(INDEX(商品资料表!$C$1:$K$36,SMALL(IF(商品资料表!$C$1:$C$36=库存查询!$L$4,ROW(商品资料表!$C$1:$C$36)),ROW(68:68)),COLUMN(F:F)),"")} | Q74: {=IFERROR(INDEX(商品资料表!$C$1:$K$36,SMALL(IF(商品资料表!$C$1:$C$36=库存查询!$L$4,ROW(商品资料表!$C$1:$C$36)),ROW(68:68)),COLUMN(G:G)),"")} | R74: {=IFERROR(INDEX(商品资料表!$C$1:$K$36,SMALL(IF(商品资料表!$C$1:$C$36=库存查询!$L$4,ROW(商品资料表!$C$1:$C$36)),ROW(68:68)),COLUMN(H:H)),"")} | S74: {=IFERROR(INDEX(商品资料表!$C$1:$K$36,SMALL(IF(商品资料表!$C$1:$C$36=库存查询!$L$4,ROW(商品资料表!$C$1:$C$36)),ROW(68:68)),COLUMN(I:I)),"")}
D75: {=IFERROR(INDEX(商品资料表!C:C,SMALL(IF(MATCH(INDIRECT("商品资料表!$C$2:$C$"&COUNTA(商品资料表!C:C)),INDIRECT("商品资料表!$C$2:$C$"&COUNTA(商品资料表!C:C)),)=ROW(INDIRECT("$1:$"&(COUNTA(商品资料表!C:C)-1))),ROW(INDIRECT("$2:$"&COUNTA(商品资料表!C:C))),4^8),ROW(A69)))&"","")} | E75: =IF(D75="","",IFERROR(SUMIFS(商品出入库表!G:G,商品出入库表!C:C,库存查询!D75,商品出入库表!E:E,库存查询!$F$6,商品出入库表!J:J,"<"&(库存查询!$E$4&TEXT(库存查询!$G$4,"00"))*1)-SUMIFS(商品出入库表!G:G,商品出入库表!C:C,库存查询!D75,商品出入库表!E:E,库存查询!$G$6,商品出入库表!J:J,"<"&(库存查询!$E$4&TEXT(库存查询!$G$4,"00"))*1),"")) | F75: =IF(D75="","",SUMIFS(商品出入库表!G:G,商品出入库表!C:C,库存查询!D75,商品出入库表!H:H,库存查询!$E$4,商品出入库表!I:I,库存查询!$G$4,商品出入库表!E:E,库存查询!$F$6)) | G75: =IF(D75="","",SUMIFS(商品出入库表!G:G,商品出入库表!C:C,库存查询!D75,商品出入库表!H:H,库存查询!$E$4,商品出入库表!I:I,库存查询!$G$4,商品出入库表!E:E,库存查询!$G$6)) | H75: =IFERROR(E75+F75-G75,"") | K75: {=IFERROR(INDEX(商品资料表!$C$1:$K$36,SMALL(IF(商品资料表!$C$1:$C$36=库存查询!$L$4,ROW(商品资料表!$C$1:$C$36)),ROW(69:69)),COLUMN(A:A)),"")} | L75: {=IFERROR(INDEX(商品资料表!$C$1:$K$36,SMALL(IF(商品资料表!$C$1:$C$36=库存查询!$L$4,ROW(商品资料表!$C$1:$C$36)),ROW(69:69)),COLUMN(B:B)),"")} | M75: {=IFERROR(INDEX(商品资料表!$C$1:$K$36,SMALL(IF(商品资料表!$C$1:$C$36=库存查询!$L$4,ROW(商品资料表!$C$1:$C$36)),ROW(69:69)),COLUMN(C:C)),"")} | N75: {=IFERROR(INDEX(商品资料表!$C$1:$K$36,SMALL(IF(商品资料表!$C$1:$C$36=库存查询!$L$4,ROW(商品资料表!$C$1:$C$36)),ROW(69:69)),COLUMN(D:D)),"")} | O75: {=IFERROR(INDEX(商品资料表!$C$1:$K$36,SMALL(IF(商品资料表!$C$1:$C$36=库存查询!$L$4,ROW(商品资料表!$C$1:$C$36)),ROW(69:69)),COLUMN(E:E)),"")} | P75: {=IFERROR(INDEX(商品资料表!$C$1:$K$36,SMALL(IF(商品资料表!$C$1:$C$36=库存查询!$L$4,ROW(商品资料表!$C$1:$C$36)),ROW(69:69)),COLUMN(F:F)),"")} | Q75: {=IFERROR(INDEX(商品资料表!$C$1:$K$36,SMALL(IF(商品资料表!$C$1:$C$36=库存查询!$L$4,ROW(商品资料表!$C$1:$C$36)),ROW(69:69)),COLUMN(G:G)),"")} | R75: {=IFERROR(INDEX(商品资料表!$C$1:$K$36,SMALL(IF(商品资料表!$C$1:$C$36=库存查询!$L$4,ROW(商品资料表!$C$1:$C$36)),ROW(69:69)),COLUMN(H:H)),"")} | S75: {=IFERROR(INDEX(商品资料表!$C$1:$K$36,SMALL(IF(商品资料表!$C$1:$C$36=库存查询!$L$4,ROW(商品资料表!$C$1:$C$36)),ROW(69:69)),COLUMN(I:I)),"")}
D76: {=IFERROR(INDEX(商品资料表!C:C,SMALL(IF(MATCH(INDIRECT("商品资料表!$C$2:$C$"&COUNTA(商品资料表!C:C)),INDIRECT("商品资料表!$C$2:$C$"&COUNTA(商品资料表!C:C)),)=ROW(INDIRECT("$1:$"&(COUNTA(商品资料表!C:C)-1))),ROW(INDIRECT("$2:$"&COUNTA(商品资料表!C:C))),4^8),ROW(A70)))&"","")} | E76: =IF(D76="","",IFERROR(SUMIFS(商品出入库表!G:G,商品出入库表!C:C,库存查询!D76,商品出入库表!E:E,库存查询!$F$6,商品出入库表!J:J,"<"&(库存查询!$E$4&TEXT(库存查询!$G$4,"00"))*1)-SUMIFS(商品出入库表!G:G,商品出入库表!C:C,库存查询!D76,商品出入库表!E:E,库存查询!$G$6,商品出入库表!J:J,"<"&(库存查询!$E$4&TEXT(库存查询!$G$4,"00"))*1),"")) | F76: =IF(D76="","",SUMIFS(商品出入库表!G:G,商品出入库表!C:C,库存查询!D76,商品出入库表!H:H,库存查询!$E$4,商品出入库表!I:I,库存查询!$G$4,商品出入库表!E:E,库存查询!$F$6)) | G76: =IF(D76="","",SUMIFS(商品出入库表!G:G,商品出入库表!C:C,库存查询!D76,商品出入库表!H:H,库存查询!$E$4,商品出入库表!I:I,库存查询!$G$4,商品出入库表!E:E,库存查询!$G$6)) | H76: =IFERROR(E76+F76-G76,"") | K76: {=IFERROR(INDEX(商品资料表!$C$1:$K$36,SMALL(IF(商品资料表!$C$1:$C$36=库存查询!$L$4,ROW(商品资料表!$C$1:$C$36)),ROW(70:70)),COLUMN(A:A)),"")} | L76: {=IFERROR(INDEX(商品资料表!$C$1:$K$36,SMALL(IF(商品资料表!$C$1:$C$36=库存查询!$L$4,ROW(商品资料表!$C$1:$C$36)),ROW(70:70)),COLUMN(B:B)),"")} | M76: {=IFERROR(INDEX(商品资料表!$C$1:$K$36,SMALL(IF(商品资料表!$C$1:$C$36=库存查询!$L$4,ROW(商品资料表!$C$1:$C$36)),ROW(70:70)),COLUMN(C:C)),"")} | N76: {=IFERROR(INDEX(商品资料表!$C$1:$K$36,SMALL(IF(商品资料表!$C$1:$C$36=库存查询!$L$4,ROW(商品资料表!$C$1:$C$36)),ROW(70:70)),COLUMN(D:D)),"")} | O76: {=IFERROR(INDEX(商品资料表!$C$1:$K$36,SMALL(IF(商品资料表!$C$1:$C$36=库存查询!$L$4,ROW(商品资料表!$C$1:$C$36)),ROW(70:70)),COLUMN(E:E)),"")} | P76: {=IFERROR(INDEX(商品资料表!$C$1:$K$36,SMALL(IF(商品资料表!$C$1:$C$36=库存查询!$L$4,ROW(商品资料表!$C$1:$C$36)),ROW(70:70)),COLUMN(F:F)),"")} | Q76: {=IFERROR(INDEX(商品资料表!$C$1:$K$36,SMALL(IF(商品资料表!$C$1:$C$36=库存查询!$L$4,ROW(商品资料表!$C$1:$C$36)),ROW(70:70)),COLUMN(G:G)),"")} | R76: {=IFERROR(INDEX(商品资料表!$C$1:$K$36,SMALL(IF(商品资料表!$C$1:$C$36=库存查询!$L$4,ROW(商品资料表!$C$1:$C$36)),ROW(70:70)),COLUMN(H:H)),"")} | S76: {=IFERROR(INDEX(商品资料表!$C$1:$K$36,SMALL(IF(商品资料表!$C$1:$C$36=库存查询!$L$4,ROW(商品资料表!$C$1:$C$36)),ROW(70:70)),COLUMN(I:I)),"")}
D77: {=IFERROR(INDEX(商品资料表!C:C,SMALL(IF(MATCH(INDIRECT("商品资料表!$C$2:$C$"&COUNTA(商品资料表!C:C)),INDIRECT("商品资料表!$C$2:$C$"&COUNTA(商品资料表!C:C)),)=ROW(INDIRECT("$1:$"&(COUNTA(商品资料表!C:C)-1))),ROW(INDIRECT("$2:$"&COUNTA(商品资料表!C:C))),4^8),ROW(A71)))&"","")} | E77: =IF(D77="","",IFERROR(SUMIFS(商品出入库表!G:G,商品出入库表!C:C,库存查询!D77,商品出入库表!E:E,库存查询!$F$6,商品出入库表!J:J,"<"&(库存查询!$E$4&TEXT(库存查询!$G$4,"00"))*1)-SUMIFS(商品出入库表!G:G,商品出入库表!C:C,库存查询!D77,商品出入库表!E:E,库存查询!$G$6,商品出入库表!J:J,"<"&(库存查询!$E$4&TEXT(库存查询!$G$4,"00"))*1),"")) | F77: =IF(D77="","",SUMIFS(商品出入库表!G:G,商品出入库表!C:C,库存查询!D77,商品出入库表!H:H,库存查询!$E$4,商品出入库表!I:I,库存查询!$G$4,商品出入库表!E:E,库存查询!$F$6)) | G77: =IF(D77="","",SUMIFS(商品出入库表!G:G,商品出入库表!C:C,库存查询!D77,商品出入库表!H:H,库存查询!$E$4,商品出入库表!I:I,库存查询!$G$4,商品出入库表!E:E,库存查询!$G$6)) | H77: =IFERROR(E77+F77-G77,"") | K77: {=IFERROR(INDEX(商品资料表!$C$1:$K$36,SMALL(IF(商品资料表!$C$1:$C$36=库存查询!$L$4,ROW(商品资料表!$C$1:$C$36)),ROW(71:71)),COLUMN(A:A)),"")} | L77: {=IFERROR(INDEX(商品资料表!$C$1:$K$36,SMALL(IF(商品资料表!$C$1:$C$36=库存查询!$L$4,ROW(商品资料表!$C$1:$C$36)),ROW(71:71)),COLUMN(B:B)),"")} | M77: {=IFERROR(INDEX(商品资料表!$C$1:$K$36,SMALL(IF(商品资料表!$C$1:$C$36=库存查询!$L$4,ROW(商品资料表!$C$1:$C$36)),ROW(71:71)),COLUMN(C:C)),"")} | N77: {=IFERROR(INDEX(商品资料表!$C$1:$K$36,SMALL(IF(商品资料表!$C$1:$C$36=库存查询!$L$4,ROW(商品资料表!$C$1:$C$36)),ROW(71:71)),COLUMN(D:D)),"")} | O77: {=IFERROR(INDEX(商品资料表!$C$1:$K$36,SMALL(IF(商品资料表!$C$1:$C$36=库存查询!$L$4,ROW(商品资料表!$C$1:$C$36)),ROW(71:71)),COLUMN(E:E)),"")} | P77: {=IFERROR(INDEX(商品资料表!$C$1:$K$36,SMALL(IF(商品资料表!$C$1:$C$36=库存查询!$L$4,ROW(商品资料表!$C$1:$C$36)),ROW(71:71)),COLUMN(F:F)),"")} | Q77: {=IFERROR(INDEX(商品资料表!$C$1:$K$36,SMALL(IF(商品资料表!$C$1:$C$36=库存查询!$L$4,ROW(商品资料表!$C$1:$C$36)),ROW(71:71)),COLUMN(G:G)),"")} | R77: {=IFERROR(INDEX(商品资料表!$C$1:$K$36,SMALL(IF(商品资料表!$C$1:$C$36=库存查询!$L$4,ROW(商品资料表!$C$1:$C$36)),ROW(71:71)),COLUMN(H:H)),"")} | S77: {=IFERROR(INDEX(商品资料表!$C$1:$K$36,SMALL(IF(商品资料表!$C$1:$C$36=库存查询!$L$4,ROW(商品资料表!$C$1:$C$36)),ROW(71:71)),COLUMN(I:I)),"")}
D78: {=IFERROR(INDEX(商品资料表!C:C,SMALL(IF(MATCH(INDIRECT("商品资料表!$C$2:$C$"&COUNTA(商品资料表!C:C)),INDIRECT("商品资料表!$C$2:$C$"&COUNTA(商品资料表!C:C)),)=ROW(INDIRECT("$1:$"&(COUNTA(商品资料表!C:C)-1))),ROW(INDIRECT("$2:$"&COUNTA(商品资料表!C:C))),4^8),ROW(A72)))&"","")} | E78: =IF(D78="","",IFERROR(SUMIFS(商品出入库表!G:G,商品出入库表!C:C,库存查询!D78,商品出入库表!E:E,库存查询!$F$6,商品出入库表!J:J,"<"&(库存查询!$E$4&TEXT(库存查询!$G$4,"00"))*1)-SUMIFS(商品出入库表!G:G,商品出入库表!C:C,库存查询!D78,商品出入库表!E:E,库存查询!$G$6,商品出入库表!J:J,"<"&(库存查询!$E$4&TEXT(库存查询!$G$4,"00"))*1),"")) | F78: =IF(D78="","",SUMIFS(商品出入库表!G:G,商品出入库表!C:C,库存查询!D78,商品出入库表!H:H,库存查询!$E$4,商品出入库表!I:I,库存查询!$G$4,商品出入库表!E:E,库存查询!$F$6)) | G78: =IF(D78="","",SUMIFS(商品出入库表!G:G,商品出入库表!C:C,库存查询!D78,商品出入库表!H:H,库存查询!$E$4,商品出入库表!I:I,库存查询!$G$4,商品出入库表!E:E,库存查询!$G$6)) | H78: =IFERROR(E78+F78-G78,"") | K78: {=IFERROR(INDEX(商品资料表!$C$1:$K$36,SMALL(IF(商品资料表!$C$1:$C$36=库存查询!$L$4,ROW(商品资料表!$C$1:$C$36)),ROW(72:72)),COLUMN(A:A)),"")} | L78: {=IFERROR(INDEX(商品资料表!$C$1:$K$36,SMALL(IF(商品资料表!$C$1:$C$36=库存查询!$L$4,ROW(商品资料表!$C$1:$C$36)),ROW(72:72)),COLUMN(B:B)),"")} | M78: {=IFERROR(INDEX(商品资料表!$C$1:$K$36,SMALL(IF(商品资料表!$C$1:$C$36=库存查询!$L$4,ROW(商品资料表!$C$1:$C$36)),ROW(72:72)),COLUMN(C:C)),"")} | N78: {=IFERROR(INDEX(商品资料表!$C$1:$K$36,SMALL(IF(商品资料表!$C$1:$C$36=库存查询!$L$4,ROW(商品资料表!$C$1:$C$36)),ROW(72:72)),COLUMN(D:D)),"")} | O78: {=IFERROR(INDEX(商品资料表!$C$1:$K$36,SMALL(IF(商品资料表!$C$1:$C$36=库存查询!$L$4,ROW(商品资料表!$C$1:$C$36)),ROW(72:72)),COLUMN(E:E)),"")} | P78: {=IFERROR(INDEX(商品资料表!$C$1:$K$36,SMALL(IF(商品资料表!$C$1:$C$36=库存查询!$L$4,ROW(商品资料表!$C$1:$C$36)),ROW(72:72)),COLUMN(F:F)),"")} | Q78: {=IFERROR(INDEX(商品资料表!$C$1:$K$36,SMALL(IF(商品资料表!$C$1:$C$36=库存查询!$L$4,ROW(商品资料表!$C$1:$C$36)),ROW(72:72)),COLUMN(G:G)),"")} | R78: {=IFERROR(INDEX(商品资料表!$C$1:$K$36,SMALL(IF(商品资料表!$C$1:$C$36=库存查询!$L$4,ROW(商品资料表!$C$1:$C$36)),ROW(72:72)),COLUMN(H:H)),"")} | S78: {=IFERROR(INDEX(商品资料表!$C$1:$K$36,SMALL(IF(商品资料表!$C$1:$C$36=库存查询!$L$4,ROW(商品资料表!$C$1:$C$36)),ROW(72:72)),COLUMN(I:I)),"")}
D79: {=IFERROR(INDEX(商品资料表!C:C,SMALL(IF(MATCH(INDIRECT("商品资料表!$C$2:$C$"&COUNTA(商品资料表!C:C)),INDIRECT("商品资料表!$C$2:$C$"&COUNTA(商品资料表!C:C)),)=ROW(INDIRECT("$1:$"&(COUNTA(商品资料表!C:C)-1))),ROW(INDIRECT("$2:$"&COUNTA(商品资料表!C:C))),4^8),ROW(A73)))&"","")} | E79: =IF(D79="","",IFERROR(SUMIFS(商品出入库表!G:G,商品出入库表!C:C,库存查询!D79,商品出入库表!E:E,库存查询!$F$6,商品出入库表!J:J,"<"&(库存查询!$E$4&TEXT(库存查询!$G$4,"00"))*1)-SUMIFS(商品出入库表!G:G,商品出入库表!C:C,库存查询!D79,商品出入库表!E:E,库存查询!$G$6,商品出入库表!J:J,"<"&(库存查询!$E$4&TEXT(库存查询!$G$4,"00"))*1),"")) | F79: =IF(D79="","",SUMIFS(商品出入库表!G:G,商品出入库表!C:C,库存查询!D79,商品出入库表!H:H,库存查询!$E$4,商品出入库表!I:I,库存查询!$G$4,商品出入库表!E:E,库存查询!$F$6)) | G79: =IF(D79="","",SUMIFS(商品出入库表!G:G,商品出入库表!C:C,库存查询!D79,商品出入库表!H:H,库存查询!$E$4,商品出入库表!I:I,库存查询!$G$4,商品出入库表!E:E,库存查询!$G$6)) | H79: =IFERROR(E79+F79-G79,"") | K79: {=IFERROR(INDEX(商品资料表!$C$1:$K$36,SMALL(IF(商品资料表!$C$1:$C$36=库存查询!$L$4,ROW(商品资料表!$C$1:$C$36)),ROW(73:73)),COLUMN(A:A)),"")} | L79: {=IFERROR(INDEX(商品资料表!$C$1:$K$36,SMALL(IF(商品资料表!$C$1:$C$36=库存查询!$L$4,ROW(商品资料表!$C$1:$C$36)),ROW(73:73)),COLUMN(B:B)),"")} | M79: {=IFERROR(INDEX(商品资料表!$C$1:$K$36,SMALL(IF(商品资料表!$C$1:$C$36=库存查询!$L$4,ROW(商品资料表!$C$1:$C$36)),ROW(73:73)),COLUMN(C:C)),"")} | N79: {=IFERROR(INDEX(商品资料表!$C$1:$K$36,SMALL(IF(商品资料表!$C$1:$C$36=库存查询!$L$4,ROW(商品资料表!$C$1:$C$36)),ROW(73:73)),COLUMN(D:D)),"")} | O79: {=IFERROR(INDEX(商品资料表!$C$1:$K$36,SMALL(IF(商品资料表!$C$1:$C$36=库存查询!$L$4,ROW(商品资料表!$C$1:$C$36)),ROW(73:73)),COLUMN(E:E)),"")} | P79: {=IFERROR(INDEX(商品资料表!$C$1:$K$36,SMALL(IF(商品资料表!$C$1:$C$36=库存查询!$L$4,ROW(商品资料表!$C$1:$C$36)),ROW(73:73)),COLUMN(F:F)),"")} | Q79: {=IFERROR(INDEX(商品资料表!$C$1:$K$36,SMALL(IF(商品资料表!$C$1:$C$36=库存查询!$L$4,ROW(商品资料表!$C$1:$C$36)),ROW(73:73)),COLUMN(G:G)),"")} | R79: {=IFERROR(INDEX(商品资料表!$C$1:$K$36,SMALL(IF(商品资料表!$C$1:$C$36=库存查询!$L$4,ROW(商品资料表!$C$1:$C$36)),ROW(73:73)),COLUMN(H:H)),"")} | S79: {=IFERROR(INDEX(商品资料表!$C$1:$K$36,SMALL(IF(商品资料表!$C$1:$C$36=库存查询!$L$4,ROW(商品资料表!$C$1:$C$36)),ROW(73:73)),COLUMN(I:I)),"")}
D80: {=IFERROR(INDEX(商品资料表!C:C,SMALL(IF(MATCH(INDIRECT("商品资料表!$C$2:$C$"&COUNTA(商品资料表!C:C)),INDIRECT("商品资料表!$C$2:$C$"&COUNTA(商品资料表!C:C)),)=ROW(INDIRECT("$1:$"&(COUNTA(商品资料表!C:C)-1))),ROW(INDIRECT("$2:$"&COUNTA(商品资料表!C:C))),4^8),ROW(A74)))&"","")} | E80: =IF(D80="","",IFERROR(SUMIFS(商品出入库表!G:G,商品出入库表!C:C,库存查询!D80,商品出入库表!E:E,库存查询!$F$6,商品出入库表!J:J,"<"&(库存查询!$E$4&TEXT(库存查询!$G$4,"00"))*1)-SUMIFS(商品出入库表!G:G,商品出入库表!C:C,库存查询!D80,商品出入库表!E:E,库存查询!$G$6,商品出入库表!J:J,"<"&(库存查询!$E$4&TEXT(库存查询!$G$4,"00"))*1),"")) | F80: =IF(D80="","",SUMIFS(商品出入库表!G:G,商品出入库表!C:C,库存查询!D80,商品出入库表!H:H,库存查询!$E$4,商品出入库表!I:I,库存查询!$G$4,商品出入库表!E:E,库存查询!$F$6)) | G80: =IF(D80="","",SUMIFS(商品出入库表!G:G,商品出入库表!C:C,库存查询!D80,商品出入库表!H:H,库存查询!$E$4,商品出入库表!I:I,库存查询!$G$4,商品出入库表!E:E,库存查询!$G$6)) | H80: =IFERROR(E80+F80-G80,"") | K80: {=IFERROR(INDEX(商品资料表!$C$1:$K$36,SMALL(IF(商品资料表!$C$1:$C$36=库存查询!$L$4,ROW(商品资料表!$C$1:$C$36)),ROW(74:74)),COLUMN(A:A)),"")} | L80: {=IFERROR(INDEX(商品资料表!$C$1:$K$36,SMALL(IF(商品资料表!$C$1:$C$36=库存查询!$L$4,ROW(商品资料表!$C$1:$C$36)),ROW(74:74)),COLUMN(B:B)),"")} | M80: {=IFERROR(INDEX(商品资料表!$C$1:$K$36,SMALL(IF(商品资料表!$C$1:$C$36=库存查询!$L$4,ROW(商品资料表!$C$1:$C$36)),ROW(74:74)),COLUMN(C:C)),"")} | N80: {=IFERROR(INDEX(商品资料表!$C$1:$K$36,SMALL(IF(商品资料表!$C$1:$C$36=库存查询!$L$4,ROW(商品资料表!$C$1:$C$36)),ROW(74:74)),COLUMN(D:D)),"")} | O80: {=IFERROR(INDEX(商品资料表!$C$1:$K$36,SMALL(IF(商品资料表!$C$1:$C$36=库存查询!$L$4,ROW(商品资料表!$C$1:$C$36)),ROW(74:74)),COLUMN(E:E)),"")} | P80: {=IFERROR(INDEX(商品资料表!$C$1:$K$36,SMALL(IF(商品资料表!$C$1:$C$36=库存查询!$L$4,ROW(商品资料表!$C$1:$C$36)),ROW(74:74)),COLUMN(F:F)),"")} | Q80: {=IFERROR(INDEX(商品资料表!$C$1:$K$36,SMALL(IF(商品资料表!$C$1:$C$36=库存查询!$L$4,ROW(商品资料表!$C$1:$C$36)),ROW(74:74)),COLUMN(G:G)),"")} | R80: {=IFERROR(INDEX(商品资料表!$C$1:$K$36,SMALL(IF(商品资料表!$C$1:$C$36=库存查询!$L$4,ROW(商品资料表!$C$1:$C$36)),ROW(74:74)),COLUMN(H:H)),"")} | S80: {=IFERROR(INDEX(商品资料表!$C$1:$K$36,SMALL(IF(商品资料表!$C$1:$C$36=库存查询!$L$4,ROW(商品资料表!$C$1:$C$36)),ROW(74:74)),COLUMN(I:I)),"")}
D81: {=IFERROR(INDEX(商品资料表!C:C,SMALL(IF(MATCH(INDIRECT("商品资料表!$C$2:$C$"&COUNTA(商品资料表!C:C)),INDIRECT("商品资料表!$C$2:$C$"&COUNTA(商品资料表!C:C)),)=ROW(INDIRECT("$1:$"&(COUNTA(商品资料表!C:C)-1))),ROW(INDIRECT("$2:$"&COUNTA(商品资料表!C:C))),4^8),ROW(A75)))&"","")} | E81: =IF(D81="","",IFERROR(SUMIFS(商品出入库表!G:G,商品出入库表!C:C,库存查询!D81,商品出入库表!E:E,库存查询!$F$6,商品出入库表!J:J,"<"&(库存查询!$E$4&TEXT(库存查询!$G$4,"00"))*1)-SUMIFS(商品出入库表!G:G,商品出入库表!C:C,库存查询!D81,商品出入库表!E:E,库存查询!$G$6,商品出入库表!J:J,"<"&(库存查询!$E$4&TEXT(库存查询!$G$4,"00"))*1),"")) | F81: =IF(D81="","",SUMIFS(商品出入库表!G:G,商品出入库表!C:C,库存查询!D81,商品出入库表!H:H,库存查询!$E$4,商品出入库表!I:I,库存查询!$G$4,商品出入库表!E:E,库存查询!$F$6)) | G81: =IF(D81="","",SUMIFS(商品出入库表!G:G,商品出入库表!C:C,库存查询!D81,商品出入库表!H:H,库存查询!$E$4,商品出入库表!I:I,库存查询!$G$4,商品出入库表!E:E,库存查询!$G$6)) | H81: =IFERROR(E81+F81-G81,"") | K81: {=IFERROR(INDEX(商品资料表!$C$1:$K$36,SMALL(IF(商品资料表!$C$1:$C$36=库存查询!$L$4,ROW(商品资料表!$C$1:$C$36)),ROW(75:75)),COLUMN(A:A)),"")} | L81: {=IFERROR(INDEX(商品资料表!$C$1:$K$36,SMALL(IF(商品资料表!$C$1:$C$36=库存查询!$L$4,ROW(商品资料表!$C$1:$C$36)),ROW(75:75)),COLUMN(B:B)),"")} | M81: {=IFERROR(INDEX(商品资料表!$C$1:$K$36,SMALL(IF(商品资料表!$C$1:$C$36=库存查询!$L$4,ROW(商品资料表!$C$1:$C$36)),ROW(75:75)),COLUMN(C:C)),"")} | N81: {=IFERROR(INDEX(商品资料表!$C$1:$K$36,SMALL(IF(商品资料表!$C$1:$C$36=库存查询!$L$4,ROW(商品资料表!$C$1:$C$36)),ROW(75:75)),COLUMN(D:D)),"")} | O81: {=IFERROR(INDEX(商品资料表!$C$1:$K$36,SMALL(IF(商品资料表!$C$1:$C$36=库存查询!$L$4,ROW(商品资料表!$C$1:$C$36)),ROW(75:75)),COLUMN(E:E)),"")} | P81: {=IFERROR(INDEX(商品资料表!$C$1:$K$36,SMALL(IF(商品资料表!$C$1:$C$36=库存查询!$L$4,ROW(商品资料表!$C$1:$C$36)),ROW(75:75)),COLUMN(F:F)),"")} | Q81: {=IFERROR(INDEX(商品资料表!$C$1:$K$36,SMALL(IF(商品资料表!$C$1:$C$36=库存查询!$L$4,ROW(商品资料表!$C$1:$C$36)),ROW(75:75)),COLUMN(G:G)),"")} | R81: {=IFERROR(INDEX(商品资料表!$C$1:$K$36,SMALL(IF(商品资料表!$C$1:$C$36=库存查询!$L$4,ROW(商品资料表!$C$1:$C$36)),ROW(75:75)),COLUMN(H:H)),"")} | S81: {=IFERROR(INDEX(商品资料表!$C$1:$K$36,SMALL(IF(商品资料表!$C$1:$C$36=库存查询!$L$4,ROW(商品资料表!$C$1:$C$36)),ROW(75:75)),COLUMN(I:I)),"")}
D82: {=IFERROR(INDEX(商品资料表!C:C,SMALL(IF(MATCH(INDIRECT("商品资料表!$C$2:$C$"&COUNTA(商品资料表!C:C)),INDIRECT("商品资料表!$C$2:$C$"&COUNTA(商品资料表!C:C)),)=ROW(INDIRECT("$1:$"&(COUNTA(商品资料表!C:C)-1))),ROW(INDIRECT("$2:$"&COUNTA(商品资料表!C:C))),4^8),ROW(A76)))&"","")} | E82: =IF(D82="","",IFERROR(SUMIFS(商品出入库表!G:G,商品出入库表!C:C,库存查询!D82,商品出入库表!E:E,库存查询!$F$6,商品出入库表!J:J,"<"&(库存查询!$E$4&TEXT(库存查询!$G$4,"00"))*1)-SUMIFS(商品出入库表!G:G,商品出入库表!C:C,库存查询!D82,商品出入库表!E:E,库存查询!$G$6,商品出入库表!J:J,"<"&(库存查询!$E$4&TEXT(库存查询!$G$4,"00"))*1),"")) | F82: =IF(D82="","",SUMIFS(商品出入库表!G:G,商品出入库表!C:C,库存查询!D82,商品出入库表!H:H,库存查询!$E$4,商品出入库表!I:I,库存查询!$G$4,商品出入库表!E:E,库存查询!$F$6)) | G82: =IF(D82="","",SUMIFS(商品出入库表!G:G,商品出入库表!C:C,库存查询!D82,商品出入库表!H:H,库存查询!$E$4,商品出入库表!I:I,库存查询!$G$4,商品出入库表!E:E,库存查询!$G$6)) | H82: =IFERROR(E82+F82-G82,"") | K82: {=IFERROR(INDEX(商品资料表!$C$1:$K$36,SMALL(IF(商品资料表!$C$1:$C$36=库存查询!$L$4,ROW(商品资料表!$C$1:$C$36)),ROW(76:76)),COLUMN(A:A)),"")} | L82: {=IFERROR(INDEX(商品资料表!$C$1:$K$36,SMALL(IF(商品资料表!$C$1:$C$36=库存查询!$L$4,ROW(商品资料表!$C$1:$C$36)),ROW(76:76)),COLUMN(B:B)),"")} | M82: {=IFERROR(INDEX(商品资料表!$C$1:$K$36,SMALL(IF(商品资料表!$C$1:$C$36=库存查询!$L$4,ROW(商品资料表!$C$1:$C$36)),ROW(76:76)),COLUMN(C:C)),"")} | N82: {=IFERROR(INDEX(商品资料表!$C$1:$K$36,SMALL(IF(商品资料表!$C$1:$C$36=库存查询!$L$4,ROW(商品资料表!$C$1:$C$36)),ROW(76:76)),COLUMN(D:D)),"")} | O82: {=IFERROR(INDEX(商品资料表!$C$1:$K$36,SMALL(IF(商品资料表!$C$1:$C$36=库存查询!$L$4,ROW(商品资料表!$C$1:$C$36)),ROW(76:76)),COLUMN(E:E)),"")} | P82: {=IFERROR(INDEX(商品资料表!$C$1:$K$36,SMALL(IF(商品资料表!$C$1:$C$36=库存查询!$L$4,ROW(商品资料表!$C$1:$C$36)),ROW(76:76)),COLUMN(F:F)),"")} | Q82: {=IFERROR(INDEX(商品资料表!$C$1:$K$36,SMALL(IF(商品资料表!$C$1:$C$36=库存查询!$L$4,ROW(商品资料表!$C$1:$C$36)),ROW(76:76)),COLUMN(G:G)),"")} | R82: {=IFERROR(INDEX(商品资料表!$C$1:$K$36,SMALL(IF(商品资料表!$C$1:$C$36=库存查询!$L$4,ROW(商品资料表!$C$1:$C$36)),ROW(76:76)),COLUMN(H:H)),"")} | S82: {=IFERROR(INDEX(商品资料表!$C$1:$K$36,SMALL(IF(商品资料表!$C$1:$C$36=库存查询!$L$4,ROW(商品资料表!$C$1:$C$36)),ROW(76:76)),COLUMN(I:I)),"")}
D83: {=IFERROR(INDEX(商品资料表!C:C,SMALL(IF(MATCH(INDIRECT("商品资料表!$C$2:$C$"&COUNTA(商品资料表!C:C)),INDIRECT("商品资料表!$C$2:$C$"&COUNTA(商品资料表!C:C)),)=ROW(INDIRECT("$1:$"&(COUNTA(商品资料表!C:C)-1))),ROW(INDIRECT("$2:$"&COUNTA(商品资料表!C:C))),4^8),ROW(A77)))&"","")} | E83: =IF(D83="","",IFERROR(SUMIFS(商品出入库表!G:G,商品出入库表!C:C,库存查询!D83,商品出入库表!E:E,库存查询!$F$6,商品出入库表!J:J,"<"&(库存查询!$E$4&TEXT(库存查询!$G$4,"00"))*1)-SUMIFS(商品出入库表!G:G,商品出入库表!C:C,库存查询!D83,商品出入库表!E:E,库存查询!$G$6,商品出入库表!J:J,"<"&(库存查询!$E$4&TEXT(库存查询!$G$4,"00"))*1),"")) | F83: =IF(D83="","",SUMIFS(商品出入库表!G:G,商品出入库表!C:C,库存查询!D83,商品出入库表!H:H,库存查询!$E$4,商品出入库表!I:I,库存查询!$G$4,商品出入库表!E:E,库存查询!$F$6)) | G83: =IF(D83="","",SUMIFS(商品出入库表!G:G,商品出入库表!C:C,库存查询!D83,商品出入库表!H:H,库存查询!$E$4,商品出入库表!I:I,库存查询!$G$4,商品出入库表!E:E,库存查询!$G$6)) | H83: =IFERROR(E83+F83-G83,"") | K83: {=IFERROR(INDEX(商品资料表!$C$1:$K$36,SMALL(IF(商品资料表!$C$1:$C$36=库存查询!$L$4,ROW(商品资料表!$C$1:$C$36)),ROW(77:77)),COLUMN(A:A)),"")} | L83: {=IFERROR(INDEX(商品资料表!$C$1:$K$36,SMALL(IF(商品资料表!$C$1:$C$36=库存查询!$L$4,ROW(商品资料表!$C$1:$C$36)),ROW(77:77)),COLUMN(B:B)),"")} | M83: {=IFERROR(INDEX(商品资料表!$C$1:$K$36,SMALL(IF(商品资料表!$C$1:$C$36=库存查询!$L$4,ROW(商品资料表!$C$1:$C$36)),ROW(77:77)),COLUMN(C:C)),"")} | N83: {=IFERROR(INDEX(商品资料表!$C$1:$K$36,SMALL(IF(商品资料表!$C$1:$C$36=库存查询!$L$4,ROW(商品资料表!$C$1:$C$36)),ROW(77:77)),COLUMN(D:D)),"")} | O83: {=IFERROR(INDEX(商品资料表!$C$1:$K$36,SMALL(IF(商品资料表!$C$1:$C$36=库存查询!$L$4,ROW(商品资料表!$C$1:$C$36)),ROW(77:77)),COLUMN(E:E)),"")} | P83: {=IFERROR(INDEX(商品资料表!$C$1:$K$36,SMALL(IF(商品资料表!$C$1:$C$36=库存查询!$L$4,ROW(商品资料表!$C$1:$C$36)),ROW(77:77)),COLUMN(F:F)),"")} | Q83: {=IFERROR(INDEX(商品资料表!$C$1:$K$36,SMALL(IF(商品资料表!$C$1:$C$36=库存查询!$L$4,ROW(商品资料表!$C$1:$C$36)),ROW(77:77)),COLUMN(G:G)),"")} | R83: {=IFERROR(INDEX(商品资料表!$C$1:$K$36,SMALL(IF(商品资料表!$C$1:$C$36=库存查询!$L$4,ROW(商品资料表!$C$1:$C$36)),ROW(77:77)),COLUMN(H:H)),"")} | S83: {=IFERROR(INDEX(商品资料表!$C$1:$K$36,SMALL(IF(商品资料表!$C$1:$C$36=库存查询!$L$4,ROW(商品资料表!$C$1:$C$36)),ROW(77:77)),COLUMN(I:I)),"")}
D84: {=IFERROR(INDEX(商品资料表!C:C,SMALL(IF(MATCH(INDIRECT("商品资料表!$C$2:$C$"&COUNTA(商品资料表!C:C)),INDIRECT("商品资料表!$C$2:$C$"&COUNTA(商品资料表!C:C)),)=ROW(INDIRECT("$1:$"&(COUNTA(商品资料表!C:C)-1))),ROW(INDIRECT("$2:$"&COUNTA(商品资料表!C:C))),4^8),ROW(A78)))&"","")} | E84: =IF(D84="","",IFERROR(SUMIFS(商品出入库表!G:G,商品出入库表!C:C,库存查询!D84,商品出入库表!E:E,库存查询!$F$6,商品出入库表!J:J,"<"&(库存查询!$E$4&TEXT(库存查询!$G$4,"00"))*1)-SUMIFS(商品出入库表!G:G,商品出入库表!C:C,库存查询!D84,商品出入库表!E:E,库存查询!$G$6,商品出入库表!J:J,"<"&(库存查询!$E$4&TEXT(库存查询!$G$4,"00"))*1),"")) | F84: =IF(D84="","",SUMIFS(商品出入库表!G:G,商品出入库表!C:C,库存查询!D84,商品出入库表!H:H,库存查询!$E$4,商品出入库表!I:I,库存查询!$G$4,商品出入库表!E:E,库存查询!$F$6)) | G84: =IF(D84="","",SUMIFS(商品出入库表!G:G,商品出入库表!C:C,库存查询!D84,商品出入库表!H:H,库存查询!$E$4,商品出入库表!I:I,库存查询!$G$4,商品出入库表!E:E,库存查询!$G$6)) | H84: =IFERROR(E84+F84-G84,"") | K84: {=IFERROR(INDEX(商品资料表!$C$1:$K$36,SMALL(IF(商品资料表!$C$1:$C$36=库存查询!$L$4,ROW(商品资料表!$C$1:$C$36)),ROW(78:78)),COLUMN(A:A)),"")} | L84: {=IFERROR(INDEX(商品资料表!$C$1:$K$36,SMALL(IF(商品资料表!$C$1:$C$36=库存查询!$L$4,ROW(商品资料表!$C$1:$C$36)),ROW(78:78)),COLUMN(B:B)),"")} | M84: {=IFERROR(INDEX(商品资料表!$C$1:$K$36,SMALL(IF(商品资料表!$C$1:$C$36=库存查询!$L$4,ROW(商品资料表!$C$1:$C$36)),ROW(78:78)),COLUMN(C:C)),"")} | N84: {=IFERROR(INDEX(商品资料表!$C$1:$K$36,SMALL(IF(商品资料表!$C$1:$C$36=库存查询!$L$4,ROW(商品资料表!$C$1:$C$36)),ROW(78:78)),COLUMN(D:D)),"")} | O84: {=IFERROR(INDEX(商品资料表!$C$1:$K$36,SMALL(IF(商品资料表!$C$1:$C$36=库存查询!$L$4,ROW(商品资料表!$C$1:$C$36)),ROW(78:78)),COLUMN(E:E)),"")} | P84: {=IFERROR(INDEX(商品资料表!$C$1:$K$36,SMALL(IF(商品资料表!$C$1:$C$36=库存查询!$L$4,ROW(商品资料表!$C$1:$C$36)),ROW(78:78)),COLUMN(F:F)),"")} | Q84: {=IFERROR(INDEX(商品资料表!$C$1:$K$36,SMALL(IF(商品资料表!$C$1:$C$36=库存查询!$L$4,ROW(商品资料表!$C$1:$C$36)),ROW(78:78)),COLUMN(G:G)),"")} | R84: {=IFERROR(INDEX(商品资料表!$C$1:$K$36,SMALL(IF(商品资料表!$C$1:$C$36=库存查询!$L$4,ROW(商品资料表!$C$1:$C$36)),ROW(78:78)),COLUMN(H:H)),"")} | S84: {=IFERROR(INDEX(商品资料表!$C$1:$K$36,SMALL(IF(商品资料表!$C$1:$C$36=库存查询!$L$4,ROW(商品资料表!$C$1:$C$36)),ROW(78:78)),COLUMN(I:I)),"")}
D85: {=IFERROR(INDEX(商品资料表!C:C,SMALL(IF(MATCH(INDIRECT("商品资料表!$C$2:$C$"&COUNTA(商品资料表!C:C)),INDIRECT("商品资料表!$C$2:$C$"&COUNTA(商品资料表!C:C)),)=ROW(INDIRECT("$1:$"&(COUNTA(商品资料表!C:C)-1))),ROW(INDIRECT("$2:$"&COUNTA(商品资料表!C:C))),4^8),ROW(A79)))&"","")} | E85: =IF(D85="","",IFERROR(SUMIFS(商品出入库表!G:G,商品出入库表!C:C,库存查询!D85,商品出入库表!E:E,库存查询!$F$6,商品出入库表!J:J,"<"&(库存查询!$E$4&TEXT(库存查询!$G$4,"00"))*1)-SUMIFS(商品出入库表!G:G,商品出入库表!C:C,库存查询!D85,商品出入库表!E:E,库存查询!$G$6,商品出入库表!J:J,"<"&(库存查询!$E$4&TEXT(库存查询!$G$4,"00"))*1),"")) | F85: =IF(D85="","",SUMIFS(商品出入库表!G:G,商品出入库表!C:C,库存查询!D85,商品出入库表!H:H,库存查询!$E$4,商品出入库表!I:I,库存查询!$G$4,商品出入库表!E:E,库存查询!$F$6)) | G85: =IF(D85="","",SUMIFS(商品出入库表!G:G,商品出入库表!C:C,库存查询!D85,商品出入库表!H:H,库存查询!$E$4,商品出入库表!I:I,库存查询!$G$4,商品出入库表!E:E,库存查询!$G$6)) | H85: =IFERROR(E85+F85-G85,"") | K85: {=IFERROR(INDEX(商品资料表!$C$1:$K$36,SMALL(IF(商品资料表!$C$1:$C$36=库存查询!$L$4,ROW(商品资料表!$C$1:$C$36)),ROW(79:79)),COLUMN(A:A)),"")} | L85: {=IFERROR(INDEX(商品资料表!$C$1:$K$36,SMALL(IF(商品资料表!$C$1:$C$36=库存查询!$L$4,ROW(商品资料表!$C$1:$C$36)),ROW(79:79)),COLUMN(B:B)),"")} | M85: {=IFERROR(INDEX(商品资料表!$C$1:$K$36,SMALL(IF(商品资料表!$C$1:$C$36=库存查询!$L$4,ROW(商品资料表!$C$1:$C$36)),ROW(79:79)),COLUMN(C:C)),"")} | N85: {=IFERROR(INDEX(商品资料表!$C$1:$K$36,SMALL(IF(商品资料表!$C$1:$C$36=库存查询!$L$4,ROW(商品资料表!$C$1:$C$36)),ROW(79:79)),COLUMN(D:D)),"")} | O85: {=IFERROR(INDEX(商品资料表!$C$1:$K$36,SMALL(IF(商品资料表!$C$1:$C$36=库存查询!$L$4,ROW(商品资料表!$C$1:$C$36)),ROW(79:79)),COLUMN(E:E)),"")} | P85: {=IFERROR(INDEX(商品资料表!$C$1:$K$36,SMALL(IF(商品资料表!$C$1:$C$36=库存查询!$L$4,ROW(商品资料表!$C$1:$C$36)),ROW(79:79)),COLUMN(F:F)),"")} | Q85: {=IFERROR(INDEX(商品资料表!$C$1:$K$36,SMALL(IF(商品资料表!$C$1:$C$36=库存查询!$L$4,ROW(商品资料表!$C$1:$C$36)),ROW(79:79)),COLUMN(G:G)),"")} | R85: {=IFERROR(INDEX(商品资料表!$C$1:$K$36,SMALL(IF(商品资料表!$C$1:$C$36=库存查询!$L$4,ROW(商品资料表!$C$1:$C$36)),ROW(79:79)),COLUMN(H:H)),"")} | S85: {=IFERROR(INDEX(商品资料表!$C$1:$K$36,SMALL(IF(商品资料表!$C$1:$C$36=库存查询!$L$4,ROW(商品资料表!$C$1:$C$36)),ROW(79:79)),COLUMN(I:I)),"")}
D86: {=IFERROR(INDEX(商品资料表!C:C,SMALL(IF(MATCH(INDIRECT("商品资料表!$C$2:$C$"&COUNTA(商品资料表!C:C)),INDIRECT("商品资料表!$C$2:$C$"&COUNTA(商品资料表!C:C)),)=ROW(INDIRECT("$1:$"&(COUNTA(商品资料表!C:C)-1))),ROW(INDIRECT("$2:$"&COUNTA(商品资料表!C:C))),4^8),ROW(A80)))&"","")} | E86: =IF(D86="","",IFERROR(SUMIFS(商品出入库表!G:G,商品出入库表!C:C,库存查询!D86,商品出入库表!E:E,库存查询!$F$6,商品出入库表!J:J,"<"&(库存查询!$E$4&TEXT(库存查询!$G$4,"00"))*1)-SUMIFS(商品出入库表!G:G,商品出入库表!C:C,库存查询!D86,商品出入库表!E:E,库存查询!$G$6,商品出入库表!J:J,"<"&(库存查询!$E$4&TEXT(库存查询!$G$4,"00"))*1),"")) | F86: =IF(D86="","",SUMIFS(商品出入库表!G:G,商品出入库表!C:C,库存查询!D86,商品出入库表!H:H,库存查询!$E$4,商品出入库表!I:I,库存查询!$G$4,商品出入库表!E:E,库存查询!$F$6)) | G86: =IF(D86="","",SUMIFS(商品出入库表!G:G,商品出入库表!C:C,库存查询!D86,商品出入库表!H:H,库存查询!$E$4,商品出入库表!I:I,库存查询!$G$4,商品出入库表!E:E,库存查询!$G$6)) | H86: =IFERROR(E86+F86-G86,"") | K86: {=IFERROR(INDEX(商品资料表!$C$1:$K$36,SMALL(IF(商品资料表!$C$1:$C$36=库存查询!$L$4,ROW(商品资料表!$C$1:$C$36)),ROW(80:80)),COLUMN(A:A)),"")} | L86: {=IFERROR(INDEX(商品资料表!$C$1:$K$36,SMALL(IF(商品资料表!$C$1:$C$36=库存查询!$L$4,ROW(商品资料表!$C$1:$C$36)),ROW(80:80)),COLUMN(B:B)),"")} | M86: {=IFERROR(INDEX(商品资料表!$C$1:$K$36,SMALL(IF(商品资料表!$C$1:$C$36=库存查询!$L$4,ROW(商品资料表!$C$1:$C$36)),ROW(80:80)),COLUMN(C:C)),"")} | N86: {=IFERROR(INDEX(商品资料表!$C$1:$K$36,SMALL(IF(商品资料表!$C$1:$C$36=库存查询!$L$4,ROW(商品资料表!$C$1:$C$36)),ROW(80:80)),COLUMN(D:D)),"")} | O86: {=IFERROR(INDEX(商品资料表!$C$1:$K$36,SMALL(IF(商品资料表!$C$1:$C$36=库存查询!$L$4,ROW(商品资料表!$C$1:$C$36)),ROW(80:80)),COLUMN(E:E)),"")} | P86: {=IFERROR(INDEX(商品资料表!$C$1:$K$36,SMALL(IF(商品资料表!$C$1:$C$36=库存查询!$L$4,ROW(商品资料表!$C$1:$C$36)),ROW(80:80)),COLUMN(F:F)),"")} | Q86: {=IFERROR(INDEX(商品资料表!$C$1:$K$36,SMALL(IF(商品资料表!$C$1:$C$36=库存查询!$L$4,ROW(商品资料表!$C$1:$C$36)),ROW(80:80)),COLUMN(G:G)),"")} | R86: {=IFERROR(INDEX(商品资料表!$C$1:$K$36,SMALL(IF(商品资料表!$C$1:$C$36=库存查询!$L$4,ROW(商品资料表!$C$1:$C$36)),ROW(80:80)),COLUMN(H:H)),"")} | S86: {=IFERROR(INDEX(商品资料表!$C$1:$K$36,SMALL(IF(商品资料表!$C$1:$C$36=库存查询!$L$4,ROW(商品资料表!$C$1:$C$36)),ROW(80:80)),COLUMN(I:I)),"")}
D87: {=IFERROR(INDEX(商品资料表!C:C,SMALL(IF(MATCH(INDIRECT("商品资料表!$C$2:$C$"&COUNTA(商品资料表!C:C)),INDIRECT("商品资料表!$C$2:$C$"&COUNTA(商品资料表!C:C)),)=ROW(INDIRECT("$1:$"&(COUNTA(商品资料表!C:C)-1))),ROW(INDIRECT("$2:$"&COUNTA(商品资料表!C:C))),4^8),ROW(A81)))&"","")} | E87: =IF(D87="","",IFERROR(SUMIFS(商品出入库表!G:G,商品出入库表!C:C,库存查询!D87,商品出入库表!E:E,库存查询!$F$6,商品出入库表!J:J,"<"&(库存查询!$E$4&TEXT(库存查询!$G$4,"00"))*1)-SUMIFS(商品出入库表!G:G,商品出入库表!C:C,库存查询!D87,商品出入库表!E:E,库存查询!$G$6,商品出入库表!J:J,"<"&(库存查询!$E$4&TEXT(库存查询!$G$4,"00"))*1),"")) | F87: =IF(D87="","",SUMIFS(商品出入库表!G:G,商品出入库表!C:C,库存查询!D87,商品出入库表!H:H,库存查询!$E$4,商品出入库表!I:I,库存查询!$G$4,商品出入库表!E:E,库存查询!$F$6)) | G87: =IF(D87="","",SUMIFS(商品出入库表!G:G,商品出入库表!C:C,库存查询!D87,商品出入库表!H:H,库存查询!$E$4,商品出入库表!I:I,库存查询!$G$4,商品出入库表!E:E,库存查询!$G$6)) | H87: =IFERROR(E87+F87-G87,"") | K87: {=IFERROR(INDEX(商品资料表!$C$1:$K$36,SMALL(IF(商品资料表!$C$1:$C$36=库存查询!$L$4,ROW(商品资料表!$C$1:$C$36)),ROW(81:81)),COLUMN(A:A)),"")} | L87: {=IFERROR(INDEX(商品资料表!$C$1:$K$36,SMALL(IF(商品资料表!$C$1:$C$36=库存查询!$L$4,ROW(商品资料表!$C$1:$C$36)),ROW(81:81)),COLUMN(B:B)),"")} | M87: {=IFERROR(INDEX(商品资料表!$C$1:$K$36,SMALL(IF(商品资料表!$C$1:$C$36=库存查询!$L$4,ROW(商品资料表!$C$1:$C$36)),ROW(81:81)),COLUMN(C:C)),"")} | N87: {=IFERROR(INDEX(商品资料表!$C$1:$K$36,SMALL(IF(商品资料表!$C$1:$C$36=库存查询!$L$4,ROW(商品资料表!$C$1:$C$36)),ROW(81:81)),COLUMN(D:D)),"")} | O87: {=IFERROR(INDEX(商品资料表!$C$1:$K$36,SMALL(IF(商品资料表!$C$1:$C$36=库存查询!$L$4,ROW(商品资料表!$C$1:$C$36)),ROW(81:81)),COLUMN(E:E)),"")} | P87: {=IFERROR(INDEX(商品资料表!$C$1:$K$36,SMALL(IF(商品资料表!$C$1:$C$36=库存查询!$L$4,ROW(商品资料表!$C$1:$C$36)),ROW(81:81)),COLUMN(F:F)),"")} | Q87: {=IFERROR(INDEX(商品资料表!$C$1:$K$36,SMALL(IF(商品资料表!$C$1:$C$36=库存查询!$L$4,ROW(商品资料表!$C$1:$C$36)),ROW(81:81)),COLUMN(G:G)),"")} | R87: {=IFERROR(INDEX(商品资料表!$C$1:$K$36,SMALL(IF(商品资料表!$C$1:$C$36=库存查询!$L$4,ROW(商品资料表!$C$1:$C$36)),ROW(81:81)),COLUMN(H:H)),"")} | S87: {=IFERROR(INDEX(商品资料表!$C$1:$K$36,SMALL(IF(商品资料表!$C$1:$C$36=库存查询!$L$4,ROW(商品资料表!$C$1:$C$36)),ROW(81:81)),COLUMN(I:I)),"")}
D88: {=IFERROR(INDEX(商品资料表!C:C,SMALL(IF(MATCH(INDIRECT("商品资料表!$C$2:$C$"&COUNTA(商品资料表!C:C)),INDIRECT("商品资料表!$C$2:$C$"&COUNTA(商品资料表!C:C)),)=ROW(INDIRECT("$1:$"&(COUNTA(商品资料表!C:C)-1))),ROW(INDIRECT("$2:$"&COUNTA(商品资料表!C:C))),4^8),ROW(A82)))&"","")} | E88: =IF(D88="","",IFERROR(SUMIFS(商品出入库表!G:G,商品出入库表!C:C,库存查询!D88,商品出入库表!E:E,库存查询!$F$6,商品出入库表!J:J,"<"&(库存查询!$E$4&TEXT(库存查询!$G$4,"00"))*1)-SUMIFS(商品出入库表!G:G,商品出入库表!C:C,库存查询!D88,商品出入库表!E:E,库存查询!$G$6,商品出入库表!J:J,"<"&(库存查询!$E$4&TEXT(库存查询!$G$4,"00"))*1),"")) | F88: =IF(D88="","",SUMIFS(商品出入库表!G:G,商品出入库表!C:C,库存查询!D88,商品出入库表!H:H,库存查询!$E$4,商品出入库表!I:I,库存查询!$G$4,商品出入库表!E:E,库存查询!$F$6)) | G88: =IF(D88="","",SUMIFS(商品出入库表!G:G,商品出入库表!C:C,库存查询!D88,商品出入库表!H:H,库存查询!$E$4,商品出入库表!I:I,库存查询!$G$4,商品出入库表!E:E,库存查询!$G$6)) | H88: =IFERROR(E88+F88-G88,"") | K88: {=IFERROR(INDEX(商品资料表!$C$1:$K$36,SMALL(IF(商品资料表!$C$1:$C$36=库存查询!$L$4,ROW(商品资料表!$C$1:$C$36)),ROW(82:82)),COLUMN(A:A)),"")} | L88: {=IFERROR(INDEX(商品资料表!$C$1:$K$36,SMALL(IF(商品资料表!$C$1:$C$36=库存查询!$L$4,ROW(商品资料表!$C$1:$C$36)),ROW(82:82)),COLUMN(B:B)),"")} | M88: {=IFERROR(INDEX(商品资料表!$C$1:$K$36,SMALL(IF(商品资料表!$C$1:$C$36=库存查询!$L$4,ROW(商品资料表!$C$1:$C$36)),ROW(82:82)),COLUMN(C:C)),"")} | N88: {=IFERROR(INDEX(商品资料表!$C$1:$K$36,SMALL(IF(商品资料表!$C$1:$C$36=库存查询!$L$4,ROW(商品资料表!$C$1:$C$36)),ROW(82:82)),COLUMN(D:D)),"")} | O88: {=IFERROR(INDEX(商品资料表!$C$1:$K$36,SMALL(IF(商品资料表!$C$1:$C$36=库存查询!$L$4,ROW(商品资料表!$C$1:$C$36)),ROW(82:82)),COLUMN(E:E)),"")} | P88: {=IFERROR(INDEX(商品资料表!$C$1:$K$36,SMALL(IF(商品资料表!$C$1:$C$36=库存查询!$L$4,ROW(商品资料表!$C$1:$C$36)),ROW(82:82)),COLUMN(F:F)),"")} | Q88: {=IFERROR(INDEX(商品资料表!$C$1:$K$36,SMALL(IF(商品资料表!$C$1:$C$36=库存查询!$L$4,ROW(商品资料表!$C$1:$C$36)),ROW(82:82)),COLUMN(G:G)),"")} | R88: {=IFERROR(INDEX(商品资料表!$C$1:$K$36,SMALL(IF(商品资料表!$C$1:$C$36=库存查询!$L$4,ROW(商品资料表!$C$1:$C$36)),ROW(82:82)),COLUMN(H:H)),"")} | S88: {=IFERROR(INDEX(商品资料表!$C$1:$K$36,SMALL(IF(商品资料表!$C$1:$C$36=库存查询!$L$4,ROW(商品资料表!$C$1:$C$36)),ROW(82:82)),COLUMN(I:I)),"")}
D89: {=IFERROR(INDEX(商品资料表!C:C,SMALL(IF(MATCH(INDIRECT("商品资料表!$C$2:$C$"&COUNTA(商品资料表!C:C)),INDIRECT("商品资料表!$C$2:$C$"&COUNTA(商品资料表!C:C)),)=ROW(INDIRECT("$1:$"&(COUNTA(商品资料表!C:C)-1))),ROW(INDIRECT("$2:$"&COUNTA(商品资料表!C:C))),4^8),ROW(A83)))&"","")} | E89: =IF(D89="","",IFERROR(SUMIFS(商品出入库表!G:G,商品出入库表!C:C,库存查询!D89,商品出入库表!E:E,库存查询!$F$6,商品出入库表!J:J,"<"&(库存查询!$E$4&TEXT(库存查询!$G$4,"00"))*1)-SUMIFS(商品出入库表!G:G,商品出入库表!C:C,库存查询!D89,商品出入库表!E:E,库存查询!$G$6,商品出入库表!J:J,"<"&(库存查询!$E$4&TEXT(库存查询!$G$4,"00"))*1),"")) | F89: =IF(D89="","",SUMIFS(商品出入库表!G:G,商品出入库表!C:C,库存查询!D89,商品出入库表!H:H,库存查询!$E$4,商品出入库表!I:I,库存查询!$G$4,商品出入库表!E:E,库存查询!$F$6)) | G89: =IF(D89="","",SUMIFS(商品出入库表!G:G,商品出入库表!C:C,库存查询!D89,商品出入库表!H:H,库存查询!$E$4,商品出入库表!I:I,库存查询!$G$4,商品出入库表!E:E,库存查询!$G$6)) | H89: =IFERROR(E89+F89-G89,"") | K89: {=IFERROR(INDEX(商品资料表!$C$1:$K$36,SMALL(IF(商品资料表!$C$1:$C$36=库存查询!$L$4,ROW(商品资料表!$C$1:$C$36)),ROW(83:83)),COLUMN(A:A)),"")} | L89: {=IFERROR(INDEX(商品资料表!$C$1:$K$36,SMALL(IF(商品资料表!$C$1:$C$36=库存查询!$L$4,ROW(商品资料表!$C$1:$C$36)),ROW(83:83)),COLUMN(B:B)),"")} | M89: {=IFERROR(INDEX(商品资料表!$C$1:$K$36,SMALL(IF(商品资料表!$C$1:$C$36=库存查询!$L$4,ROW(商品资料表!$C$1:$C$36)),ROW(83:83)),COLUMN(C:C)),"")} | N89: {=IFERROR(INDEX(商品资料表!$C$1:$K$36,SMALL(IF(商品资料表!$C$1:$C$36=库存查询!$L$4,ROW(商品资料表!$C$1:$C$36)),ROW(83:83)),COLUMN(D:D)),"")} | O89: {=IFERROR(INDEX(商品资料表!$C$1:$K$36,SMALL(IF(商品资料表!$C$1:$C$36=库存查询!$L$4,ROW(商品资料表!$C$1:$C$36)),ROW(83:83)),COLUMN(E:E)),"")} | P89: {=IFERROR(INDEX(商品资料表!$C$1:$K$36,SMALL(IF(商品资料表!$C$1:$C$36=库存查询!$L$4,ROW(商品资料表!$C$1:$C$36)),ROW(83:83)),COLUMN(F:F)),"")} | Q89: {=IFERROR(INDEX(商品资料表!$C$1:$K$36,SMALL(IF(商品资料表!$C$1:$C$36=库存查询!$L$4,ROW(商品资料表!$C$1:$C$36)),ROW(83:83)),COLUMN(G:G)),"")} | R89: {=IFERROR(INDEX(商品资料表!$C$1:$K$36,SMALL(IF(商品资料表!$C$1:$C$36=库存查询!$L$4,ROW(商品资料表!$C$1:$C$36)),ROW(83:83)),COLUMN(H:H)),"")} | S89: {=IFERROR(INDEX(商品资料表!$C$1:$K$36,SMALL(IF(商品资料表!$C$1:$C$36=库存查询!$L$4,ROW(商品资料表!$C$1:$C$36)),ROW(83:83)),COLUMN(I:I)),"")}
D90: {=IFERROR(INDEX(商品资料表!C:C,SMALL(IF(MATCH(INDIRECT("商品资料表!$C$2:$C$"&COUNTA(商品资料表!C:C)),INDIRECT("商品资料表!$C$2:$C$"&COUNTA(商品资料表!C:C)),)=ROW(INDIRECT("$1:$"&(COUNTA(商品资料表!C:C)-1))),ROW(INDIRECT("$2:$"&COUNTA(商品资料表!C:C))),4^8),ROW(A84)))&"","")} | E90: =IF(D90="","",IFERROR(SUMIFS(商品出入库表!G:G,商品出入库表!C:C,库存查询!D90,商品出入库表!E:E,库存查询!$F$6,商品出入库表!J:J,"<"&(库存查询!$E$4&TEXT(库存查询!$G$4,"00"))*1)-SUMIFS(商品出入库表!G:G,商品出入库表!C:C,库存查询!D90,商品出入库表!E:E,库存查询!$G$6,商品出入库表!J:J,"<"&(库存查询!$E$4&TEXT(库存查询!$G$4,"00"))*1),"")) | F90: =IF(D90="","",SUMIFS(商品出入库表!G:G,商品出入库表!C:C,库存查询!D90,商品出入库表!H:H,库存查询!$E$4,商品出入库表!I:I,库存查询!$G$4,商品出入库表!E:E,库存查询!$F$6)) | G90: =IF(D90="","",SUMIFS(商品出入库表!G:G,商品出入库表!C:C,库存查询!D90,商品出入库表!H:H,库存查询!$E$4,商品出入库表!I:I,库存查询!$G$4,商品出入库表!E:E,库存查询!$G$6)) | H90: =IFERROR(E90+F90-G90,"") | K90: {=IFERROR(INDEX(商品资料表!$C$1:$K$36,SMALL(IF(商品资料表!$C$1:$C$36=库存查询!$L$4,ROW(商品资料表!$C$1:$C$36)),ROW(84:84)),COLUMN(A:A)),"")} | L90: {=IFERROR(INDEX(商品资料表!$C$1:$K$36,SMALL(IF(商品资料表!$C$1:$C$36=库存查询!$L$4,ROW(商品资料表!$C$1:$C$36)),ROW(84:84)),COLUMN(B:B)),"")} | M90: {=IFERROR(INDEX(商品资料表!$C$1:$K$36,SMALL(IF(商品资料表!$C$1:$C$36=库存查询!$L$4,ROW(商品资料表!$C$1:$C$36)),ROW(84:84)),COLUMN(C:C)),"")} | N90: {=IFERROR(INDEX(商品资料表!$C$1:$K$36,SMALL(IF(商品资料表!$C$1:$C$36=库存查询!$L$4,ROW(商品资料表!$C$1:$C$36)),ROW(84:84)),COLUMN(D:D)),"")} | O90: {=IFERROR(INDEX(商品资料表!$C$1:$K$36,SMALL(IF(商品资料表!$C$1:$C$36=库存查询!$L$4,ROW(商品资料表!$C$1:$C$36)),ROW(84:84)),COLUMN(E:E)),"")} | P90: {=IFERROR(INDEX(商品资料表!$C$1:$K$36,SMALL(IF(商品资料表!$C$1:$C$36=库存查询!$L$4,ROW(商品资料表!$C$1:$C$36)),ROW(84:84)),COLUMN(F:F)),"")} | Q90: {=IFERROR(INDEX(商品资料表!$C$1:$K$36,SMALL(IF(商品资料表!$C$1:$C$36=库存查询!$L$4,ROW(商品资料表!$C$1:$C$36)),ROW(84:84)),COLUMN(G:G)),"")} | R90: {=IFERROR(INDEX(商品资料表!$C$1:$K$36,SMALL(IF(商品资料表!$C$1:$C$36=库存查询!$L$4,ROW(商品资料表!$C$1:$C$36)),ROW(84:84)),COLUMN(H:H)),"")} | S90: {=IFERROR(INDEX(商品资料表!$C$1:$K$36,SMALL(IF(商品资料表!$C$1:$C$36=库存查询!$L$4,ROW(商品资料表!$C$1:$C$36)),ROW(84:84)),COLUMN(I:I)),"")}
D91: {=IFERROR(INDEX(商品资料表!C:C,SMALL(IF(MATCH(INDIRECT("商品资料表!$C$2:$C$"&COUNTA(商品资料表!C:C)),INDIRECT("商品资料表!$C$2:$C$"&COUNTA(商品资料表!C:C)),)=ROW(INDIRECT("$1:$"&(COUNTA(商品资料表!C:C)-1))),ROW(INDIRECT("$2:$"&COUNTA(商品资料表!C:C))),4^8),ROW(A85)))&"","")} | E91: =IF(D91="","",IFERROR(SUMIFS(商品出入库表!G:G,商品出入库表!C:C,库存查询!D91,商品出入库表!E:E,库存查询!$F$6,商品出入库表!J:J,"<"&(库存查询!$E$4&TEXT(库存查询!$G$4,"00"))*1)-SUMIFS(商品出入库表!G:G,商品出入库表!C:C,库存查询!D91,商品出入库表!E:E,库存查询!$G$6,商品出入库表!J:J,"<"&(库存查询!$E$4&TEXT(库存查询!$G$4,"00"))*1),"")) | F91: =IF(D91="","",SUMIFS(商品出入库表!G:G,商品出入库表!C:C,库存查询!D91,商品出入库表!H:H,库存查询!$E$4,商品出入库表!I:I,库存查询!$G$4,商品出入库表!E:E,库存查询!$F$6)) | G91: =IF(D91="","",SUMIFS(商品出入库表!G:G,商品出入库表!C:C,库存查询!D91,商品出入库表!H:H,库存查询!$E$4,商品出入库表!I:I,库存查询!$G$4,商品出入库表!E:E,库存查询!$G$6)) | H91: =IFERROR(E91+F91-G91,"") | K91: {=IFERROR(INDEX(商品资料表!$C$1:$K$36,SMALL(IF(商品资料表!$C$1:$C$36=库存查询!$L$4,ROW(商品资料表!$C$1:$C$36)),ROW(85:85)),COLUMN(A:A)),"")} | L91: {=IFERROR(INDEX(商品资料表!$C$1:$K$36,SMALL(IF(商品资料表!$C$1:$C$36=库存查询!$L$4,ROW(商品资料表!$C$1:$C$36)),ROW(85:85)),COLUMN(B:B)),"")} | M91: {=IFERROR(INDEX(商品资料表!$C$1:$K$36,SMALL(IF(商品资料表!$C$1:$C$36=库存查询!$L$4,ROW(商品资料表!$C$1:$C$36)),ROW(85:85)),COLUMN(C:C)),"")} | N91: {=IFERROR(INDEX(商品资料表!$C$1:$K$36,SMALL(IF(商品资料表!$C$1:$C$36=库存查询!$L$4,ROW(商品资料表!$C$1:$C$36)),ROW(85:85)),COLUMN(D:D)),"")} | O91: {=IFERROR(INDEX(商品资料表!$C$1:$K$36,SMALL(IF(商品资料表!$C$1:$C$36=库存查询!$L$4,ROW(商品资料表!$C$1:$C$36)),ROW(85:85)),COLUMN(E:E)),"")} | P91: {=IFERROR(INDEX(商品资料表!$C$1:$K$36,SMALL(IF(商品资料表!$C$1:$C$36=库存查询!$L$4,ROW(商品资料表!$C$1:$C$36)),ROW(85:85)),COLUMN(F:F)),"")} | Q91: {=IFERROR(INDEX(商品资料表!$C$1:$K$36,SMALL(IF(商品资料表!$C$1:$C$36=库存查询!$L$4,ROW(商品资料表!$C$1:$C$36)),ROW(85:85)),COLUMN(G:G)),"")} | R91: {=IFERROR(INDEX(商品资料表!$C$1:$K$36,SMALL(IF(商品资料表!$C$1:$C$36=库存查询!$L$4,ROW(商品资料表!$C$1:$C$36)),ROW(85:85)),COLUMN(H:H)),"")} | S91: {=IFERROR(INDEX(商品资料表!$C$1:$K$36,SMALL(IF(商品资料表!$C$1:$C$36=库存查询!$L$4,ROW(商品资料表!$C$1:$C$36)),ROW(85:85)),COLUMN(I:I)),"")}
D92: {=IFERROR(INDEX(商品资料表!C:C,SMALL(IF(MATCH(INDIRECT("商品资料表!$C$2:$C$"&COUNTA(商品资料表!C:C)),INDIRECT("商品资料表!$C$2:$C$"&COUNTA(商品资料表!C:C)),)=ROW(INDIRECT("$1:$"&(COUNTA(商品资料表!C:C)-1))),ROW(INDIRECT("$2:$"&COUNTA(商品资料表!C:C))),4^8),ROW(A86)))&"","")} | E92: =IF(D92="","",IFERROR(SUMIFS(商品出入库表!G:G,商品出入库表!C:C,库存查询!D92,商品出入库表!E:E,库存查询!$F$6,商品出入库表!J:J,"<"&(库存查询!$E$4&TEXT(库存查询!$G$4,"00"))*1)-SUMIFS(商品出入库表!G:G,商品出入库表!C:C,库存查询!D92,商品出入库表!E:E,库存查询!$G$6,商品出入库表!J:J,"<"&(库存查询!$E$4&TEXT(库存查询!$G$4,"00"))*1),"")) | F92: =IF(D92="","",SUMIFS(商品出入库表!G:G,商品出入库表!C:C,库存查询!D92,商品出入库表!H:H,库存查询!$E$4,商品出入库表!I:I,库存查询!$G$4,商品出入库表!E:E,库存查询!$F$6)) | G92: =IF(D92="","",SUMIFS(商品出入库表!G:G,商品出入库表!C:C,库存查询!D92,商品出入库表!H:H,库存查询!$E$4,商品出入库表!I:I,库存查询!$G$4,商品出入库表!E:E,库存查询!$G$6)) | H92: =IFERROR(E92+F92-G92,"") | K92: {=IFERROR(INDEX(商品资料表!$C$1:$K$36,SMALL(IF(商品资料表!$C$1:$C$36=库存查询!$L$4,ROW(商品资料表!$C$1:$C$36)),ROW(86:86)),COLUMN(A:A)),"")} | L92: {=IFERROR(INDEX(商品资料表!$C$1:$K$36,SMALL(IF(商品资料表!$C$1:$C$36=库存查询!$L$4,ROW(商品资料表!$C$1:$C$36)),ROW(86:86)),COLUMN(B:B)),"")} | M92: {=IFERROR(INDEX(商品资料表!$C$1:$K$36,SMALL(IF(商品资料表!$C$1:$C$36=库存查询!$L$4,ROW(商品资料表!$C$1:$C$36)),ROW(86:86)),COLUMN(C:C)),"")} | N92: {=IFERROR(INDEX(商品资料表!$C$1:$K$36,SMALL(IF(商品资料表!$C$1:$C$36=库存查询!$L$4,ROW(商品资料表!$C$1:$C$36)),ROW(86:86)),COLUMN(D:D)),"")} | O92: {=IFERROR(INDEX(商品资料表!$C$1:$K$36,SMALL(IF(商品资料表!$C$1:$C$36=库存查询!$L$4,ROW(商品资料表!$C$1:$C$36)),ROW(86:86)),COLUMN(E:E)),"")} | P92: {=IFERROR(INDEX(商品资料表!$C$1:$K$36,SMALL(IF(商品资料表!$C$1:$C$36=库存查询!$L$4,ROW(商品资料表!$C$1:$C$36)),ROW(86:86)),COLUMN(F:F)),"")} | Q92: {=IFERROR(INDEX(商品资料表!$C$1:$K$36,SMALL(IF(商品资料表!$C$1:$C$36=库存查询!$L$4,ROW(商品资料表!$C$1:$C$36)),ROW(86:86)),COLUMN(G:G)),"")} | R92: {=IFERROR(INDEX(商品资料表!$C$1:$K$36,SMALL(IF(商品资料表!$C$1:$C$36=库存查询!$L$4,ROW(商品资料表!$C$1:$C$36)),ROW(86:86)),COLUMN(H:H)),"")} | S92: {=IFERROR(INDEX(商品资料表!$C$1:$K$36,SMALL(IF(商品资料表!$C$1:$C$36=库存查询!$L$4,ROW(商品资料表!$C$1:$C$36)),ROW(86:86)),COLUMN(I:I)),"")}
D93: {=IFERROR(INDEX(商品资料表!C:C,SMALL(IF(MATCH(INDIRECT("商品资料表!$C$2:$C$"&COUNTA(商品资料表!C:C)),INDIRECT("商品资料表!$C$2:$C$"&COUNTA(商品资料表!C:C)),)=ROW(INDIRECT("$1:$"&(COUNTA(商品资料表!C:C)-1))),ROW(INDIRECT("$2:$"&COUNTA(商品资料表!C:C))),4^8),ROW(A87)))&"","")} | E93: =IF(D93="","",IFERROR(SUMIFS(商品出入库表!G:G,商品出入库表!C:C,库存查询!D93,商品出入库表!E:E,库存查询!$F$6,商品出入库表!J:J,"<"&(库存查询!$E$4&TEXT(库存查询!$G$4,"00"))*1)-SUMIFS(商品出入库表!G:G,商品出入库表!C:C,库存查询!D93,商品出入库表!E:E,库存查询!$G$6,商品出入库表!J:J,"<"&(库存查询!$E$4&TEXT(库存查询!$G$4,"00"))*1),"")) | F93: =IF(D93="","",SUMIFS(商品出入库表!G:G,商品出入库表!C:C,库存查询!D93,商品出入库表!H:H,库存查询!$E$4,商品出入库表!I:I,库存查询!$G$4,商品出入库表!E:E,库存查询!$F$6)) | G93: =IF(D93="","",SUMIFS(商品出入库表!G:G,商品出入库表!C:C,库存查询!D93,商品出入库表!H:H,库存查询!$E$4,商品出入库表!I:I,库存查询!$G$4,商品出入库表!E:E,库存查询!$G$6)) | H93: =IFERROR(E93+F93-G93,"") | K93: {=IFERROR(INDEX(商品资料表!$C$1:$K$36,SMALL(IF(商品资料表!$C$1:$C$36=库存查询!$L$4,ROW(商品资料表!$C$1:$C$36)),ROW(87:87)),COLUMN(A:A)),"")} | L93: {=IFERROR(INDEX(商品资料表!$C$1:$K$36,SMALL(IF(商品资料表!$C$1:$C$36=库存查询!$L$4,ROW(商品资料表!$C$1:$C$36)),ROW(87:87)),COLUMN(B:B)),"")} | M93: {=IFERROR(INDEX(商品资料表!$C$1:$K$36,SMALL(IF(商品资料表!$C$1:$C$36=库存查询!$L$4,ROW(商品资料表!$C$1:$C$36)),ROW(87:87)),COLUMN(C:C)),"")} | N93: {=IFERROR(INDEX(商品资料表!$C$1:$K$36,SMALL(IF(商品资料表!$C$1:$C$36=库存查询!$L$4,ROW(商品资料表!$C$1:$C$36)),ROW(87:87)),COLUMN(D:D)),"")} | O93: {=IFERROR(INDEX(商品资料表!$C$1:$K$36,SMALL(IF(商品资料表!$C$1:$C$36=库存查询!$L$4,ROW(商品资料表!$C$1:$C$36)),ROW(87:87)),COLUMN(E:E)),"")} | P93: {=IFERROR(INDEX(商品资料表!$C$1:$K$36,SMALL(IF(商品资料表!$C$1:$C$36=库存查询!$L$4,ROW(商品资料表!$C$1:$C$36)),ROW(87:87)),COLUMN(F:F)),"")} | Q93: {=IFERROR(INDEX(商品资料表!$C$1:$K$36,SMALL(IF(商品资料表!$C$1:$C$36=库存查询!$L$4,ROW(商品资料表!$C$1:$C$36)),ROW(87:87)),COLUMN(G:G)),"")} | R93: {=IFERROR(INDEX(商品资料表!$C$1:$K$36,SMALL(IF(商品资料表!$C$1:$C$36=库存查询!$L$4,ROW(商品资料表!$C$1:$C$36)),ROW(87:87)),COLUMN(H:H)),"")} | S93: {=IFERROR(INDEX(商品资料表!$C$1:$K$36,SMALL(IF(商品资料表!$C$1:$C$36=库存查询!$L$4,ROW(商品资料表!$C$1:$C$36)),ROW(87:87)),COLUMN(I:I)),"")}
D94: {=IFERROR(INDEX(商品资料表!C:C,SMALL(IF(MATCH(INDIRECT("商品资料表!$C$2:$C$"&COUNTA(商品资料表!C:C)),INDIRECT("商品资料表!$C$2:$C$"&COUNTA(商品资料表!C:C)),)=ROW(INDIRECT("$1:$"&(COUNTA(商品资料表!C:C)-1))),ROW(INDIRECT("$2:$"&COUNTA(商品资料表!C:C))),4^8),ROW(A88)))&"","")} | E94: =IF(D94="","",IFERROR(SUMIFS(商品出入库表!G:G,商品出入库表!C:C,库存查询!D94,商品出入库表!E:E,库存查询!$F$6,商品出入库表!J:J,"<"&(库存查询!$E$4&TEXT(库存查询!$G$4,"00"))*1)-SUMIFS(商品出入库表!G:G,商品出入库表!C:C,库存查询!D94,商品出入库表!E:E,库存查询!$G$6,商品出入库表!J:J,"<"&(库存查询!$E$4&TEXT(库存查询!$G$4,"00"))*1),"")) | F94: =IF(D94="","",SUMIFS(商品出入库表!G:G,商品出入库表!C:C,库存查询!D94,商品出入库表!H:H,库存查询!$E$4,商品出入库表!I:I,库存查询!$G$4,商品出入库表!E:E,库存查询!$F$6)) | G94: =IF(D94="","",SUMIFS(商品出入库表!G:G,商品出入库表!C:C,库存查询!D94,商品出入库表!H:H,库存查询!$E$4,商品出入库表!I:I,库存查询!$G$4,商品出入库表!E:E,库存查询!$G$6)) | H94: =IFERROR(E94+F94-G94,"") | K94: {=IFERROR(INDEX(商品资料表!$C$1:$K$36,SMALL(IF(商品资料表!$C$1:$C$36=库存查询!$L$4,ROW(商品资料表!$C$1:$C$36)),ROW(88:88)),COLUMN(A:A)),"")} | L94: {=IFERROR(INDEX(商品资料表!$C$1:$K$36,SMALL(IF(商品资料表!$C$1:$C$36=库存查询!$L$4,ROW(商品资料表!$C$1:$C$36)),ROW(88:88)),COLUMN(B:B)),"")} | M94: {=IFERROR(INDEX(商品资料表!$C$1:$K$36,SMALL(IF(商品资料表!$C$1:$C$36=库存查询!$L$4,ROW(商品资料表!$C$1:$C$36)),ROW(88:88)),COLUMN(C:C)),"")} | N94: {=IFERROR(INDEX(商品资料表!$C$1:$K$36,SMALL(IF(商品资料表!$C$1:$C$36=库存查询!$L$4,ROW(商品资料表!$C$1:$C$36)),ROW(88:88)),COLUMN(D:D)),"")} | O94: {=IFERROR(INDEX(商品资料表!$C$1:$K$36,SMALL(IF(商品资料表!$C$1:$C$36=库存查询!$L$4,ROW(商品资料表!$C$1:$C$36)),ROW(88:88)),COLUMN(E:E)),"")} | P94: {=IFERROR(INDEX(商品资料表!$C$1:$K$36,SMALL(IF(商品资料表!$C$1:$C$36=库存查询!$L$4,ROW(商品资料表!$C$1:$C$36)),ROW(88:88)),COLUMN(F:F)),"")} | Q94: {=IFERROR(INDEX(商品资料表!$C$1:$K$36,SMALL(IF(商品资料表!$C$1:$C$36=库存查询!$L$4,ROW(商品资料表!$C$1:$C$36)),ROW(88:88)),COLUMN(G:G)),"")} | R94: {=IFERROR(INDEX(商品资料表!$C$1:$K$36,SMALL(IF(商品资料表!$C$1:$C$36=库存查询!$L$4,ROW(商品资料表!$C$1:$C$36)),ROW(88:88)),COLUMN(H:H)),"")} | S94: {=IFERROR(INDEX(商品资料表!$C$1:$K$36,SMALL(IF(商品资料表!$C$1:$C$36=库存查询!$L$4,ROW(商品资料表!$C$1:$C$36)),ROW(88:88)),COLUMN(I:I)),"")}
D95: {=IFERROR(INDEX(商品资料表!C:C,SMALL(IF(MATCH(INDIRECT("商品资料表!$C$2:$C$"&COUNTA(商品资料表!C:C)),INDIRECT("商品资料表!$C$2:$C$"&COUNTA(商品资料表!C:C)),)=ROW(INDIRECT("$1:$"&(COUNTA(商品资料表!C:C)-1))),ROW(INDIRECT("$2:$"&COUNTA(商品资料表!C:C))),4^8),ROW(A89)))&"","")} | E95: =IF(D95="","",IFERROR(SUMIFS(商品出入库表!G:G,商品出入库表!C:C,库存查询!D95,商品出入库表!E:E,库存查询!$F$6,商品出入库表!J:J,"<"&(库存查询!$E$4&TEXT(库存查询!$G$4,"00"))*1)-SUMIFS(商品出入库表!G:G,商品出入库表!C:C,库存查询!D95,商品出入库表!E:E,库存查询!$G$6,商品出入库表!J:J,"<"&(库存查询!$E$4&TEXT(库存查询!$G$4,"00"))*1),"")) | F95: =IF(D95="","",SUMIFS(商品出入库表!G:G,商品出入库表!C:C,库存查询!D95,商品出入库表!H:H,库存查询!$E$4,商品出入库表!I:I,库存查询!$G$4,商品出入库表!E:E,库存查询!$F$6)) | G95: =IF(D95="","",SUMIFS(商品出入库表!G:G,商品出入库表!C:C,库存查询!D95,商品出入库表!H:H,库存查询!$E$4,商品出入库表!I:I,库存查询!$G$4,商品出入库表!E:E,库存查询!$G$6)) | H95: =IFERROR(E95+F95-G95,"") | K95: {=IFERROR(INDEX(商品资料表!$C$1:$K$36,SMALL(IF(商品资料表!$C$1:$C$36=库存查询!$L$4,ROW(商品资料表!$C$1:$C$36)),ROW(89:89)),COLUMN(A:A)),"")} | L95: {=IFERROR(INDEX(商品资料表!$C$1:$K$36,SMALL(IF(商品资料表!$C$1:$C$36=库存查询!$L$4,ROW(商品资料表!$C$1:$C$36)),ROW(89:89)),COLUMN(B:B)),"")} | M95: {=IFERROR(INDEX(商品资料表!$C$1:$K$36,SMALL(IF(商品资料表!$C$1:$C$36=库存查询!$L$4,ROW(商品资料表!$C$1:$C$36)),ROW(89:89)),COLUMN(C:C)),"")} | N95: {=IFERROR(INDEX(商品资料表!$C$1:$K$36,SMALL(IF(商品资料表!$C$1:$C$36=库存查询!$L$4,ROW(商品资料表!$C$1:$C$36)),ROW(89:89)),COLUMN(D:D)),"")} | O95: {=IFERROR(INDEX(商品资料表!$C$1:$K$36,SMALL(IF(商品资料表!$C$1:$C$36=库存查询!$L$4,ROW(商品资料表!$C$1:$C$36)),ROW(89:89)),COLUMN(E:E)),"")} | P95: {=IFERROR(INDEX(商品资料表!$C$1:$K$36,SMALL(IF(商品资料表!$C$1:$C$36=库存查询!$L$4,ROW(商品资料表!$C$1:$C$36)),ROW(89:89)),COLUMN(F:F)),"")} | Q95: {=IFERROR(INDEX(商品资料表!$C$1:$K$36,SMALL(IF(商品资料表!$C$1:$C$36=库存查询!$L$4,ROW(商品资料表!$C$1:$C$36)),ROW(89:89)),COLUMN(G:G)),"")} | R95: {=IFERROR(INDEX(商品资料表!$C$1:$K$36,SMALL(IF(商品资料表!$C$1:$C$36=库存查询!$L$4,ROW(商品资料表!$C$1:$C$36)),ROW(89:89)),COLUMN(H:H)),"")} | S95: {=IFERROR(INDEX(商品资料表!$C$1:$K$36,SMALL(IF(商品资料表!$C$1:$C$36=库存查询!$L$4,ROW(商品资料表!$C$1:$C$36)),ROW(89:89)),COLUMN(I:I)),"")}
D96: {=IFERROR(INDEX(商品资料表!C:C,SMALL(IF(MATCH(INDIRECT("商品资料表!$C$2:$C$"&COUNTA(商品资料表!C:C)),INDIRECT("商品资料表!$C$2:$C$"&COUNTA(商品资料表!C:C)),)=ROW(INDIRECT("$1:$"&(COUNTA(商品资料表!C:C)-1))),ROW(INDIRECT("$2:$"&COUNTA(商品资料表!C:C))),4^8),ROW(A90)))&"","")} | E96: =IF(D96="","",IFERROR(SUMIFS(商品出入库表!G:G,商品出入库表!C:C,库存查询!D96,商品出入库表!E:E,库存查询!$F$6,商品出入库表!J:J,"<"&(库存查询!$E$4&TEXT(库存查询!$G$4,"00"))*1)-SUMIFS(商品出入库表!G:G,商品出入库表!C:C,库存查询!D96,商品出入库表!E:E,库存查询!$G$6,商品出入库表!J:J,"<"&(库存查询!$E$4&TEXT(库存查询!$G$4,"00"))*1),"")) | F96: =IF(D96="","",SUMIFS(商品出入库表!G:G,商品出入库表!C:C,库存查询!D96,商品出入库表!H:H,库存查询!$E$4,商品出入库表!I:I,库存查询!$G$4,商品出入库表!E:E,库存查询!$F$6)) | G96: =IF(D96="","",SUMIFS(商品出入库表!G:G,商品出入库表!C:C,库存查询!D96,商品出入库表!H:H,库存查询!$E$4,商品出入库表!I:I,库存查询!$G$4,商品出入库表!E:E,库存查询!$G$6)) | H96: =IFERROR(E96+F96-G96,"") | K96: {=IFERROR(INDEX(商品资料表!$C$1:$K$36,SMALL(IF(商品资料表!$C$1:$C$36=库存查询!$L$4,ROW(商品资料表!$C$1:$C$36)),ROW(90:90)),COLUMN(A:A)),"")} | L96: {=IFERROR(INDEX(商品资料表!$C$1:$K$36,SMALL(IF(商品资料表!$C$1:$C$36=库存查询!$L$4,ROW(商品资料表!$C$1:$C$36)),ROW(90:90)),COLUMN(B:B)),"")} | M96: {=IFERROR(INDEX(商品资料表!$C$1:$K$36,SMALL(IF(商品资料表!$C$1:$C$36=库存查询!$L$4,ROW(商品资料表!$C$1:$C$36)),ROW(90:90)),COLUMN(C:C)),"")} | N96: {=IFERROR(INDEX(商品资料表!$C$1:$K$36,SMALL(IF(商品资料表!$C$1:$C$36=库存查询!$L$4,ROW(商品资料表!$C$1:$C$36)),ROW(90:90)),COLUMN(D:D)),"")} | O96: {=IFERROR(INDEX(商品资料表!$C$1:$K$36,SMALL(IF(商品资料表!$C$1:$C$36=库存查询!$L$4,ROW(商品资料表!$C$1:$C$36)),ROW(90:90)),COLUMN(E:E)),"")} | P96: {=IFERROR(INDEX(商品资料表!$C$1:$K$36,SMALL(IF(商品资料表!$C$1:$C$36=库存查询!$L$4,ROW(商品资料表!$C$1:$C$36)),ROW(90:90)),COLUMN(F:F)),"")} | Q96: {=IFERROR(INDEX(商品资料表!$C$1:$K$36,SMALL(IF(商品资料表!$C$1:$C$36=库存查询!$L$4,ROW(商品资料表!$C$1:$C$36)),ROW(90:90)),COLUMN(G:G)),"")} | R96: {=IFERROR(INDEX(商品资料表!$C$1:$K$36,SMALL(IF(商品资料表!$C$1:$C$36=库存查询!$L$4,ROW(商品资料表!$C$1:$C$36)),ROW(90:90)),COLUMN(H:H)),"")} | S96: {=IFERROR(INDEX(商品资料表!$C$1:$K$36,SMALL(IF(商品资料表!$C$1:$C$36=库存查询!$L$4,ROW(商品资料表!$C$1:$C$36)),ROW(90:90)),COLUMN(I:I)),"")}
D97: {=IFERROR(INDEX(商品资料表!C:C,SMALL(IF(MATCH(INDIRECT("商品资料表!$C$2:$C$"&COUNTA(商品资料表!C:C)),INDIRECT("商品资料表!$C$2:$C$"&COUNTA(商品资料表!C:C)),)=ROW(INDIRECT("$1:$"&(COUNTA(商品资料表!C:C)-1))),ROW(INDIRECT("$2:$"&COUNTA(商品资料表!C:C))),4^8),ROW(A91)))&"","")} | E97: =IF(D97="","",IFERROR(SUMIFS(商品出入库表!G:G,商品出入库表!C:C,库存查询!D97,商品出入库表!E:E,库存查询!$F$6,商品出入库表!J:J,"<"&(库存查询!$E$4&TEXT(库存查询!$G$4,"00"))*1)-SUMIFS(商品出入库表!G:G,商品出入库表!C:C,库存查询!D97,商品出入库表!E:E,库存查询!$G$6,商品出入库表!J:J,"<"&(库存查询!$E$4&TEXT(库存查询!$G$4,"00"))*1),"")) | F97: =IF(D97="","",SUMIFS(商品出入库表!G:G,商品出入库表!C:C,库存查询!D97,商品出入库表!H:H,库存查询!$E$4,商品出入库表!I:I,库存查询!$G$4,商品出入库表!E:E,库存查询!$F$6)) | G97: =IF(D97="","",SUMIFS(商品出入库表!G:G,商品出入库表!C:C,库存查询!D97,商品出入库表!H:H,库存查询!$E$4,商品出入库表!I:I,库存查询!$G$4,商品出入库表!E:E,库存查询!$G$6)) | H97: =IFERROR(E97+F97-G97,"") | K97: {=IFERROR(INDEX(商品资料表!$C$1:$K$36,SMALL(IF(商品资料表!$C$1:$C$36=库存查询!$L$4,ROW(商品资料表!$C$1:$C$36)),ROW(91:91)),COLUMN(A:A)),"")} | L97: {=IFERROR(INDEX(商品资料表!$C$1:$K$36,SMALL(IF(商品资料表!$C$1:$C$36=库存查询!$L$4,ROW(商品资料表!$C$1:$C$36)),ROW(91:91)),COLUMN(B:B)),"")} | M97: {=IFERROR(INDEX(商品资料表!$C$1:$K$36,SMALL(IF(商品资料表!$C$1:$C$36=库存查询!$L$4,ROW(商品资料表!$C$1:$C$36)),ROW(91:91)),COLUMN(C:C)),"")} | N97: {=IFERROR(INDEX(商品资料表!$C$1:$K$36,SMALL(IF(商品资料表!$C$1:$C$36=库存查询!$L$4,ROW(商品资料表!$C$1:$C$36)),ROW(91:91)),COLUMN(D:D)),"")} | O97: {=IFERROR(INDEX(商品资料表!$C$1:$K$36,SMALL(IF(商品资料表!$C$1:$C$36=库存查询!$L$4,ROW(商品资料表!$C$1:$C$36)),ROW(91:91)),COLUMN(E:E)),"")} | P97: {=IFERROR(INDEX(商品资料表!$C$1:$K$36,SMALL(IF(商品资料表!$C$1:$C$36=库存查询!$L$4,ROW(商品资料表!$C$1:$C$36)),ROW(91:91)),COLUMN(F:F)),"")} | Q97: {=IFERROR(INDEX(商品资料表!$C$1:$K$36,SMALL(IF(商品资料表!$C$1:$C$36=库存查询!$L$4,ROW(商品资料表!$C$1:$C$36)),ROW(91:91)),COLUMN(G:G)),"")} | R97: {=IFERROR(INDEX(商品资料表!$C$1:$K$36,SMALL(IF(商品资料表!$C$1:$C$36=库存查询!$L$4,ROW(商品资料表!$C$1:$C$36)),ROW(91:91)),COLUMN(H:H)),"")} | S97: {=IFERROR(INDEX(商品资料表!$C$1:$K$36,SMALL(IF(商品资料表!$C$1:$C$36=库存查询!$L$4,ROW(商品资料表!$C$1:$C$36)),ROW(91:91)),COLUMN(I:I)),"")}
D98: {=IFERROR(INDEX(商品资料表!C:C,SMALL(IF(MATCH(INDIRECT("商品资料表!$C$2:$C$"&COUNTA(商品资料表!C:C)),INDIRECT("商品资料表!$C$2:$C$"&COUNTA(商品资料表!C:C)),)=ROW(INDIRECT("$1:$"&(COUNTA(商品资料表!C:C)-1))),ROW(INDIRECT("$2:$"&COUNTA(商品资料表!C:C))),4^8),ROW(A92)))&"","")} | E98: =IF(D98="","",IFERROR(SUMIFS(商品出入库表!G:G,商品出入库表!C:C,库存查询!D98,商品出入库表!E:E,库存查询!$F$6,商品出入库表!J:J,"<"&(库存查询!$E$4&TEXT(库存查询!$G$4,"00"))*1)-SUMIFS(商品出入库表!G:G,商品出入库表!C:C,库存查询!D98,商品出入库表!E:E,库存查询!$G$6,商品出入库表!J:J,"<"&(库存查询!$E$4&TEXT(库存查询!$G$4,"00"))*1),"")) | F98: =IF(D98="","",SUMIFS(商品出入库表!G:G,商品出入库表!C:C,库存查询!D98,商品出入库表!H:H,库存查询!$E$4,商品出入库表!I:I,库存查询!$G$4,商品出入库表!E:E,库存查询!$F$6)) | G98: =IF(D98="","",SUMIFS(商品出入库表!G:G,商品出入库表!C:C,库存查询!D98,商品出入库表!H:H,库存查询!$E$4,商品出入库表!I:I,库存查询!$G$4,商品出入库表!E:E,库存查询!$G$6)) | H98: =IFERROR(E98+F98-G98,"") | K98: {=IFERROR(INDEX(商品资料表!$C$1:$K$36,SMALL(IF(商品资料表!$C$1:$C$36=库存查询!$L$4,ROW(商品资料表!$C$1:$C$36)),ROW(92:92)),COLUMN(A:A)),"")} | L98: {=IFERROR(INDEX(商品资料表!$C$1:$K$36,SMALL(IF(商品资料表!$C$1:$C$36=库存查询!$L$4,ROW(商品资料表!$C$1:$C$36)),ROW(92:92)),COLUMN(B:B)),"")} | M98: {=IFERROR(INDEX(商品资料表!$C$1:$K$36,SMALL(IF(商品资料表!$C$1:$C$36=库存查询!$L$4,ROW(商品资料表!$C$1:$C$36)),ROW(92:92)),COLUMN(C:C)),"")} | N98: {=IFERROR(INDEX(商品资料表!$C$1:$K$36,SMALL(IF(商品资料表!$C$1:$C$36=库存查询!$L$4,ROW(商品资料表!$C$1:$C$36)),ROW(92:92)),COLUMN(D:D)),"")} | O98: {=IFERROR(INDEX(商品资料表!$C$1:$K$36,SMALL(IF(商品资料表!$C$1:$C$36=库存查询!$L$4,ROW(商品资料表!$C$1:$C$36)),ROW(92:92)),COLUMN(E:E)),"")} | P98: {=IFERROR(INDEX(商品资料表!$C$1:$K$36,SMALL(IF(商品资料表!$C$1:$C$36=库存查询!$L$4,ROW(商品资料表!$C$1:$C$36)),ROW(92:92)),COLUMN(F:F)),"")} | Q98: {=IFERROR(INDEX(商品资料表!$C$1:$K$36,SMALL(IF(商品资料表!$C$1:$C$36=库存查询!$L$4,ROW(商品资料表!$C$1:$C$36)),ROW(92:92)),COLUMN(G:G)),"")} | R98: {=IFERROR(INDEX(商品资料表!$C$1:$K$36,SMALL(IF(商品资料表!$C$1:$C$36=库存查询!$L$4,ROW(商品资料表!$C$1:$C$36)),ROW(92:92)),COLUMN(H:H)),"")} | S98: {=IFERROR(INDEX(商品资料表!$C$1:$K$36,SMALL(IF(商品资料表!$C$1:$C$36=库存查询!$L$4,ROW(商品资料表!$C$1:$C$36)),ROW(92:92)),COLUMN(I:I)),"")}
D99: {=IFERROR(INDEX(商品资料表!C:C,SMALL(IF(MATCH(INDIRECT("商品资料表!$C$2:$C$"&COUNTA(商品资料表!C:C)),INDIRECT("商品资料表!$C$2:$C$"&COUNTA(商品资料表!C:C)),)=ROW(INDIRECT("$1:$"&(COUNTA(商品资料表!C:C)-1))),ROW(INDIRECT("$2:$"&COUNTA(商品资料表!C:C))),4^8),ROW(A93)))&"","")} | E99: =IF(D99="","",IFERROR(SUMIFS(商品出入库表!G:G,商品出入库表!C:C,库存查询!D99,商品出入库表!E:E,库存查询!$F$6,商品出入库表!J:J,"<"&(库存查询!$E$4&TEXT(库存查询!$G$4,"00"))*1)-SUMIFS(商品出入库表!G:G,商品出入库表!C:C,库存查询!D99,商品出入库表!E:E,库存查询!$G$6,商品出入库表!J:J,"<"&(库存查询!$E$4&TEXT(库存查询!$G$4,"00"))*1),"")) | F99: =IF(D99="","",SUMIFS(商品出入库表!G:G,商品出入库表!C:C,库存查询!D99,商品出入库表!H:H,库存查询!$E$4,商品出入库表!I:I,库存查询!$G$4,商品出入库表!E:E,库存查询!$F$6)) | G99: =IF(D99="","",SUMIFS(商品出入库表!G:G,商品出入库表!C:C,库存查询!D99,商品出入库表!H:H,库存查询!$E$4,商品出入库表!I:I,库存查询!$G$4,商品出入库表!E:E,库存查询!$G$6)) | H99: =IFERROR(E99+F99-G99,"") | K99: {=IFERROR(INDEX(商品资料表!$C$1:$K$36,SMALL(IF(商品资料表!$C$1:$C$36=库存查询!$L$4,ROW(商品资料表!$C$1:$C$36)),ROW(93:93)),COLUMN(A:A)),"")} | L99: {=IFERROR(INDEX(商品资料表!$C$1:$K$36,SMALL(IF(商品资料表!$C$1:$C$36=库存查询!$L$4,ROW(商品资料表!$C$1:$C$36)),ROW(93:93)),COLUMN(B:B)),"")} | M99: {=IFERROR(INDEX(商品资料表!$C$1:$K$36,SMALL(IF(商品资料表!$C$1:$C$36=库存查询!$L$4,ROW(商品资料表!$C$1:$C$36)),ROW(93:93)),COLUMN(C:C)),"")} | N99: {=IFERROR(INDEX(商品资料表!$C$1:$K$36,SMALL(IF(商品资料表!$C$1:$C$36=库存查询!$L$4,ROW(商品资料表!$C$1:$C$36)),ROW(93:93)),COLUMN(D:D)),"")} | O99: {=IFERROR(INDEX(商品资料表!$C$1:$K$36,SMALL(IF(商品资料表!$C$1:$C$36=库存查询!$L$4,ROW(商品资料表!$C$1:$C$36)),ROW(93:93)),COLUMN(E:E)),"")} | P99: {=IFERROR(INDEX(商品资料表!$C$1:$K$36,SMALL(IF(商品资料表!$C$1:$C$36=库存查询!$L$4,ROW(商品资料表!$C$1:$C$36)),ROW(93:93)),COLUMN(F:F)),"")} | Q99: {=IFERROR(INDEX(商品资料表!$C$1:$K$36,SMALL(IF(商品资料表!$C$1:$C$36=库存查询!$L$4,ROW(商品资料表!$C$1:$C$36)),ROW(93:93)),COLUMN(G:G)),"")} | R99: {=IFERROR(INDEX(商品资料表!$C$1:$K$36,SMALL(IF(商品资料表!$C$1:$C$36=库存查询!$L$4,ROW(商品资料表!$C$1:$C$36)),ROW(93:93)),COLUMN(H:H)),"")} | S99: {=IFERROR(INDEX(商品资料表!$C$1:$K$36,SMALL(IF(商品资料表!$C$1:$C$36=库存查询!$L$4,ROW(商品资料表!$C$1:$C$36)),ROW(93:93)),COLUMN(I:I)),"")}
D100: {=IFERROR(INDEX(商品资料表!C:C,SMALL(IF(MATCH(INDIRECT("商品资料表!$C$2:$C$"&COUNTA(商品资料表!C:C)),INDIRECT("商品资料表!$C$2:$C$"&COUNTA(商品资料表!C:C)),)=ROW(INDIRECT("$1:$"&(COUNTA(商品资料表!C:C)-1))),ROW(INDIRECT("$2:$"&COUNTA(商品资料表!C:C))),4^8),ROW(A94)))&"","")} | E100: =IF(D100="","",IFERROR(SUMIFS(商品出入库表!G:G,商品出入库表!C:C,库存查询!D100,商品出入库表!E:E,库存查询!$F$6,商品出入库表!J:J,"<"&(库存查询!$E$4&TEXT(库存查询!$G$4,"00"))*1)-SUMIFS(商品出入库表!G:G,商品出入库表!C:C,库存查询!D100,商品出入库表!E:E,库存查询!$G$6,商品出入库表!J:J,"<"&(库存查询!$E$4&TEXT(库存查询!$G$4,"00"))*1),"")) | F100: =IF(D100="","",SUMIFS(商品出入库表!G:G,商品出入库表!C:C,库存查询!D100,商品出入库表!H:H,库存查询!$E$4,商品出入库表!I:I,库存查询!$G$4,商品出入库表!E:E,库存查询!$F$6)) | G100: =IF(D100="","",SUMIFS(商品出入库表!G:G,商品出入库表!C:C,库存查询!D100,商品出入库表!H:H,库存查询!$E$4,商品出入库表!I:I,库存查询!$G$4,商品出入库表!E:E,库存查询!$G$6)) | H100: =IFERROR(E100+F100-G100,"") | K100: {=IFERROR(INDEX(商品资料表!$C$1:$K$36,SMALL(IF(商品资料表!$C$1:$C$36=库存查询!$L$4,ROW(商品资料表!$C$1:$C$36)),ROW(94:94)),COLUMN(A:A)),"")} | L100: {=IFERROR(INDEX(商品资料表!$C$1:$K$36,SMALL(IF(商品资料表!$C$1:$C$36=库存查询!$L$4,ROW(商品资料表!$C$1:$C$36)),ROW(94:94)),COLUMN(B:B)),"")} | M100: {=IFERROR(INDEX(商品资料表!$C$1:$K$36,SMALL(IF(商品资料表!$C$1:$C$36=库存查询!$L$4,ROW(商品资料表!$C$1:$C$36)),ROW(94:94)),COLUMN(C:C)),"")} | N100: {=IFERROR(INDEX(商品资料表!$C$1:$K$36,SMALL(IF(商品资料表!$C$1:$C$36=库存查询!$L$4,ROW(商品资料表!$C$1:$C$36)),ROW(94:94)),COLUMN(D:D)),"")} | O100: {=IFERROR(INDEX(商品资料表!$C$1:$K$36,SMALL(IF(商品资料表!$C$1:$C$36=库存查询!$L$4,ROW(商品资料表!$C$1:$C$36)),ROW(94:94)),COLUMN(E:E)),"")} | P100: {=IFERROR(INDEX(商品资料表!$C$1:$K$36,SMALL(IF(商品资料表!$C$1:$C$36=库存查询!$L$4,ROW(商品资料表!$C$1:$C$36)),ROW(94:94)),COLUMN(F:F)),"")} | Q100: {=IFERROR(INDEX(商品资料表!$C$1:$K$36,SMALL(IF(商品资料表!$C$1:$C$36=库存查询!$L$4,ROW(商品资料表!$C$1:$C$36)),ROW(94:94)),COLUMN(G:G)),"")} | R100: {=IFERROR(INDEX(商品资料表!$C$1:$K$36,SMALL(IF(商品资料表!$C$1:$C$36=库存查询!$L$4,ROW(商品资料表!$C$1:$C$36)),ROW(94:94)),COLUMN(H:H)),"")} | S100: {=IFERROR(INDEX(商品资料表!$C$1:$K$36,SMALL(IF(商品资料表!$C$1:$C$36=库存查询!$L$4,ROW(商品资料表!$C$1:$C$36)),ROW(94:94)),COLUMN(I:I)),"")}
D101: {=IFERROR(INDEX(商品资料表!C:C,SMALL(IF(MATCH(INDIRECT("商品资料表!$C$2:$C$"&COUNTA(商品资料表!C:C)),INDIRECT("商品资料表!$C$2:$C$"&COUNTA(商品资料表!C:C)),)=ROW(INDIRECT("$1:$"&(COUNTA(商品资料表!C:C)-1))),ROW(INDIRECT("$2:$"&COUNTA(商品资料表!C:C))),4^8),ROW(A95)))&"","")} | E101: =IF(D101="","",IFERROR(SUMIFS(商品出入库表!G:G,商品出入库表!C:C,库存查询!D101,商品出入库表!E:E,库存查询!$F$6,商品出入库表!J:J,"<"&(库存查询!$E$4&TEXT(库存查询!$G$4,"00"))*1)-SUMIFS(商品出入库表!G:G,商品出入库表!C:C,库存查询!D101,商品出入库表!E:E,库存查询!$G$6,商品出入库表!J:J,"<"&(库存查询!$E$4&TEXT(库存查询!$G$4,"00"))*1),"")) | F101: =IF(D101="","",SUMIFS(商品出入库表!G:G,商品出入库表!C:C,库存查询!D101,商品出入库表!H:H,库存查询!$E$4,商品出入库表!I:I,库存查询!$G$4,商品出入库表!E:E,库存查询!$F$6)) | G101: =IF(D101="","",SUMIFS(商品出入库表!G:G,商品出入库表!C:C,库存查询!D101,商品出入库表!H:H,库存查询!$E$4,商品出入库表!I:I,库存查询!$G$4,商品出入库表!E:E,库存查询!$G$6)) | H101: =IFERROR(E101+F101-G101,"") | K101: {=IFERROR(INDEX(商品资料表!$C$1:$K$36,SMALL(IF(商品资料表!$C$1:$C$36=库存查询!$L$4,ROW(商品资料表!$C$1:$C$36)),ROW(95:95)),COLUMN(A:A)),"")} | L101: {=IFERROR(INDEX(商品资料表!$C$1:$K$36,SMALL(IF(商品资料表!$C$1:$C$36=库存查询!$L$4,ROW(商品资料表!$C$1:$C$36)),ROW(95:95)),COLUMN(B:B)),"")} | M101: {=IFERROR(INDEX(商品资料表!$C$1:$K$36,SMALL(IF(商品资料表!$C$1:$C$36=库存查询!$L$4,ROW(商品资料表!$C$1:$C$36)),ROW(95:95)),COLUMN(C:C)),"")} | N101: {=IFERROR(INDEX(商品资料表!$C$1:$K$36,SMALL(IF(商品资料表!$C$1:$C$36=库存查询!$L$4,ROW(商品资料表!$C$1:$C$36)),ROW(95:95)),COLUMN(D:D)),"")} | O101: {=IFERROR(INDEX(商品资料表!$C$1:$K$36,SMALL(IF(商品资料表!$C$1:$C$36=库存查询!$L$4,ROW(商品资料表!$C$1:$C$36)),ROW(95:95)),COLUMN(E:E)),"")} | P101: {=IFERROR(INDEX(商品资料表!$C$1:$K$36,SMALL(IF(商品资料表!$C$1:$C$36=库存查询!$L$4,ROW(商品资料表!$C$1:$C$36)),ROW(95:95)),COLUMN(F:F)),"")} | Q101: {=IFERROR(INDEX(商品资料表!$C$1:$K$36,SMALL(IF(商品资料表!$C$1:$C$36=库存查询!$L$4,ROW(商品资料表!$C$1:$C$36)),ROW(95:95)),COLUMN(G:G)),"")} | R101: {=IFERROR(INDEX(商品资料表!$C$1:$K$36,SMALL(IF(商品资料表!$C$1:$C$36=库存查询!$L$4,ROW(商品资料表!$C$1:$C$36)),ROW(95:95)),COLUMN(H:H)),"")} | S101: {=IFERROR(INDEX(商品资料表!$C$1:$K$36,SMALL(IF(商品资料表!$C$1:$C$36=库存查询!$L$4,ROW(商品资料表!$C$1:$C$36)),ROW(95:95)),COLUMN(I:I)),"")}
D102: {=IFERROR(INDEX(商品资料表!C:C,SMALL(IF(MATCH(INDIRECT("商品资料表!$C$2:$C$"&COUNTA(商品资料表!C:C)),INDIRECT("商品资料表!$C$2:$C$"&COUNTA(商品资料表!C:C)),)=ROW(INDIRECT("$1:$"&(COUNTA(商品资料表!C:C)-1))),ROW(INDIRECT("$2:$"&COUNTA(商品资料表!C:C))),4^8),ROW(A96)))&"","")} | E102: =IF(D102="","",IFERROR(SUMIFS(商品出入库表!G:G,商品出入库表!C:C,库存查询!D102,商品出入库表!E:E,库存查询!$F$6,商品出入库表!J:J,"<"&(库存查询!$E$4&TEXT(库存查询!$G$4,"00"))*1)-SUMIFS(商品出入库表!G:G,商品出入库表!C:C,库存查询!D102,商品出入库表!E:E,库存查询!$G$6,商品出入库表!J:J,"<"&(库存查询!$E$4&TEXT(库存查询!$G$4,"00"))*1),"")) | F102: =IF(D102="","",SUMIFS(商品出入库表!G:G,商品出入库表!C:C,库存查询!D102,商品出入库表!H:H,库存查询!$E$4,商品出入库表!I:I,库存查询!$G$4,商品出入库表!E:E,库存查询!$F$6)) | G102: =IF(D102="","",SUMIFS(商品出入库表!G:G,商品出入库表!C:C,库存查询!D102,商品出入库表!H:H,库存查询!$E$4,商品出入库表!I:I,库存查询!$G$4,商品出入库表!E:E,库存查询!$G$6)) | H102: =IFERROR(E102+F102-G102,"") | K102: {=IFERROR(INDEX(商品资料表!$C$1:$K$36,SMALL(IF(商品资料表!$C$1:$C$36=库存查询!$L$4,ROW(商品资料表!$C$1:$C$36)),ROW(96:96)),COLUMN(A:A)),"")} | L102: {=IFERROR(INDEX(商品资料表!$C$1:$K$36,SMALL(IF(商品资料表!$C$1:$C$36=库存查询!$L$4,ROW(商品资料表!$C$1:$C$36)),ROW(96:96)),COLUMN(B:B)),"")} | M102: {=IFERROR(INDEX(商品资料表!$C$1:$K$36,SMALL(IF(商品资料表!$C$1:$C$36=库存查询!$L$4,ROW(商品资料表!$C$1:$C$36)),ROW(96:96)),COLUMN(C:C)),"")} | N102: {=IFERROR(INDEX(商品资料表!$C$1:$K$36,SMALL(IF(商品资料表!$C$1:$C$36=库存查询!$L$4,ROW(商品资料表!$C$1:$C$36)),ROW(96:96)),COLUMN(D:D)),"")} | O102: {=IFERROR(INDEX(商品资料表!$C$1:$K$36,SMALL(IF(商品资料表!$C$1:$C$36=库存查询!$L$4,ROW(商品资料表!$C$1:$C$36)),ROW(96:96)),COLUMN(E:E)),"")} | P102: {=IFERROR(INDEX(商品资料表!$C$1:$K$36,SMALL(IF(商品资料表!$C$1:$C$36=库存查询!$L$4,ROW(商品资料表!$C$1:$C$36)),ROW(96:96)),COLUMN(F:F)),"")} | Q102: {=IFERROR(INDEX(商品资料表!$C$1:$K$36,SMALL(IF(商品资料表!$C$1:$C$36=库存查询!$L$4,ROW(商品资料表!$C$1:$C$36)),ROW(96:96)),COLUMN(G:G)),"")} | R102: {=IFERROR(INDEX(商品资料表!$C$1:$K$36,SMALL(IF(商品资料表!$C$1:$C$36=库存查询!$L$4,ROW(商品资料表!$C$1:$C$36)),ROW(96:96)),COLUMN(H:H)),"")} | S102: {=IFERROR(INDEX(商品资料表!$C$1:$K$36,SMALL(IF(商品资料表!$C$1:$C$36=库存查询!$L$4,ROW(商品资料表!$C$1:$C$36)),ROW(96:96)),COLUMN(I:I)),"")}
D103: {=IFERROR(INDEX(商品资料表!C:C,SMALL(IF(MATCH(INDIRECT("商品资料表!$C$2:$C$"&COUNTA(商品资料表!C:C)),INDIRECT("商品资料表!$C$2:$C$"&COUNTA(商品资料表!C:C)),)=ROW(INDIRECT("$1:$"&(COUNTA(商品资料表!C:C)-1))),ROW(INDIRECT("$2:$"&COUNTA(商品资料表!C:C))),4^8),ROW(A97)))&"","")} | E103: =IF(D103="","",IFERROR(SUMIFS(商品出入库表!G:G,商品出入库表!C:C,库存查询!D103,商品出入库表!E:E,库存查询!$F$6,商品出入库表!J:J,"<"&(库存查询!$E$4&TEXT(库存查询!$G$4,"00"))*1)-SUMIFS(商品出入库表!G:G,商品出入库表!C:C,库存查询!D103,商品出入库表!E:E,库存查询!$G$6,商品出入库表!J:J,"<"&(库存查询!$E$4&TEXT(库存查询!$G$4,"00"))*1),"")) | F103: =IF(D103="","",SUMIFS(商品出入库表!G:G,商品出入库表!C:C,库存查询!D103,商品出入库表!H:H,库存查询!$E$4,商品出入库表!I:I,库存查询!$G$4,商品出入库表!E:E,库存查询!$F$6)) | G103: =IF(D103="","",SUMIFS(商品出入库表!G:G,商品出入库表!C:C,库存查询!D103,商品出入库表!H:H,库存查询!$E$4,商品出入库表!I:I,库存查询!$G$4,商品出入库表!E:E,库存查询!$G$6)) | H103: =IFERROR(E103+F103-G103,"") | K103: {=IFERROR(INDEX(商品资料表!$C$1:$K$36,SMALL(IF(商品资料表!$C$1:$C$36=库存查询!$L$4,ROW(商品资料表!$C$1:$C$36)),ROW(97:97)),COLUMN(A:A)),"")} | L103: {=IFERROR(INDEX(商品资料表!$C$1:$K$36,SMALL(IF(商品资料表!$C$1:$C$36=库存查询!$L$4,ROW(商品资料表!$C$1:$C$36)),ROW(97:97)),COLUMN(B:B)),"")} | M103: {=IFERROR(INDEX(商品资料表!$C$1:$K$36,SMALL(IF(商品资料表!$C$1:$C$36=库存查询!$L$4,ROW(商品资料表!$C$1:$C$36)),ROW(97:97)),COLUMN(C:C)),"")} | N103: {=IFERROR(INDEX(商品资料表!$C$1:$K$36,SMALL(IF(商品资料表!$C$1:$C$36=库存查询!$L$4,ROW(商品资料表!$C$1:$C$36)),ROW(97:97)),COLUMN(D:D)),"")} | O103: {=IFERROR(INDEX(商品资料表!$C$1:$K$36,SMALL(IF(商品资料表!$C$1:$C$36=库存查询!$L$4,ROW(商品资料表!$C$1:$C$36)),ROW(97:97)),COLUMN(E:E)),"")} | P103: {=IFERROR(INDEX(商品资料表!$C$1:$K$36,SMALL(IF(商品资料表!$C$1:$C$36=库存查询!$L$4,ROW(商品资料表!$C$1:$C$36)),ROW(97:97)),COLUMN(F:F)),"")} | Q103: {=IFERROR(INDEX(商品资料表!$C$1:$K$36,SMALL(IF(商品资料表!$C$1:$C$36=库存查询!$L$4,ROW(商品资料表!$C$1:$C$36)),ROW(97:97)),COLUMN(G:G)),"")} | R103: {=IFERROR(INDEX(商品资料表!$C$1:$K$36,SMALL(IF(商品资料表!$C$1:$C$36=库存查询!$L$4,ROW(商品资料表!$C$1:$C$36)),ROW(97:97)),COLUMN(H:H)),"")} | S103: {=IFERROR(INDEX(商品资料表!$C$1:$K$36,SMALL(IF(商品资料表!$C$1:$C$36=库存查询!$L$4,ROW(商品资料表!$C$1:$C$36)),ROW(97:97)),COLUMN(I:I)),"")}
...

Sheet 库存预警
D1: 安全存量SS计算公式：
D6: 库存预警
D9: 商品名称 | E9: 日销售 标准差 | F9: 月销售 标准差 | G9: 季度销售 标准差 | H9: 提前期 | I9: 服务水平 | J9: 安全系数 | K9: 安全存量 （按日） | L9: 安全存量 （按月） | M9: 安全存量 （按季度） | N9: 当前库存
D10: {=IFERROR(INDEX(商品资料表!C:C,SMALL(IF(MATCH(INDIRECT("商品资料表!$C$2:$C$"&COUNTA(商品资料表!C:C)),INDIRECT("商品资料表!$C$2:$C$"&COUNTA(商品资料表!C:C)),)=ROW(INDIRECT("$1:$"&(COUNTA(商品资料表!C:C)-1))),ROW(INDIRECT("$2:$"&COUNTA(商品资料表!C:C))),4^8),ROW(A1)))&"","")} -> A | E10: {=IFERROR(STDEV(IF(一月内商品日销售出库情况[商品]=库存预警!D10,一月内商品日销售出库情况[数量])),"")} -> 1.8270006 | F10: {=IFERROR(STDEV(IF(一年内商品各月销售出库情况[商品]=库存预警!D10,一年内商品各月销售出库情况[数量])),"")} -> 11.158636 | G10: {=IFERROR(STDEV(IF(一年内各季度商品销售出库情况[商品]=库存预警!D10,一年内各季度商品销售出库情况[数量])),"")} -> 20.72036 | H10: =IF(表23[[#This Row],[商品名称]]="","",说明!$E$4) -> 3 | I10: =IF(表23[[#This Row],[商品名称]]="","",说明!$H$4) -> 95 | J10: =IF(表23[[#This Row],[商品名称]]="","",VLOOKUP(I10,顾客服务水平表[#All],2,0)) -> 1.65 | K10: =IFERROR(E10*SQRT($H10)*$J10,"") -> 5.2213554 | L10: =IFERROR(F10*SQRT($H10)*$J10,"") -> 31.890085 | M10: =IFERROR(G10*SQRT($H10)*$J10,"") -> 59.216383 | N10: =IF(表23[[#This Row],[商品名称]]="","",SUMIFS(商品资料表[库存],商品资料表[商品名称],表23[[#This Row],[商品名称]])) -> 26
D11: {=IFERROR(INDEX(商品资料表!C:C,SMALL(IF(MATCH(INDIRECT("商品资料表!$C$2:$C$"&COUNTA(商品资料表!C:C)),INDIRECT("商品资料表!$C$2:$C$"&COUNTA(商品资料表!C:C)),)=ROW(INDIRECT("$1:$"&(COUNTA(商品资料表!C:C)-1))),ROW(INDIRECT("$2:$"&COUNTA(商品资料表!C:C))),4^8),ROW(A2)))&"","")} -> B | E11: {=IFERROR(STDEV(IF(一月内商品日销售出库情况[商品]=库存预警!D11,一月内商品日销售出库情况[数量])),"")} -> 1.7207323 | F11: {=IFERROR(STDEV(IF(一年内商品各月销售出库情况[商品]=库存预警!D11,一年内商品各月销售出库情况[数量])),"")} -> 8.4257002 | G11: {=IFERROR(STDEV(IF(一年内各季度商品销售出库情况[商品]=库存预警!D11,一年内各季度商品销售出库情况[数量])),"")} -> 25.370587 | H11: =IF(表23[[#This Row],[商品名称]]="","",说明!$E$4) -> 3 | I11: =IF(表23[[#This Row],[商品名称]]="","",说明!$H$4) -> 95 | J11: =IF(表23[[#This Row],[商品名称]]="","",VLOOKUP(I11,顾客服务水平表[#All],2,0)) -> 1.65 | K11: =IFERROR(E11*SQRT($H11)*$J11,"") -> 4.9176529 | L11: =IFERROR(F11*SQRT($H11)*$J11,"") -> 24.079672 | M11: =IFERROR(G11*SQRT($H11)*$J11,"") -> 72.506189 | N11: =IF(表23[[#This Row],[商品名称]]="","",SUMIFS(商品资料表[库存],商品资料表[商品名称],表23[[#This Row],[商品名称]])) -> 3
D12: {=IFERROR(INDEX(商品资料表!C:C,SMALL(IF(MATCH(INDIRECT("商品资料表!$C$2:$C$"&COUNTA(商品资料表!C:C)),INDIRECT("商品资料表!$C$2:$C$"&COUNTA(商品资料表!C:C)),)=ROW(INDIRECT("$1:$"&(COUNTA(商品资料表!C:C)-1))),ROW(INDIRECT("$2:$"&COUNTA(商品资料表!C:C))),4^8),ROW(A3)))&"","")} -> C | E12: {=IFERROR(STDEV(IF(一月内商品日销售出库情况[商品]=库存预警!D12,一月内商品日销售出库情况[数量])),"")} | F12: {=IFERROR(STDEV(IF(一年内商品各月销售出库情况[商品]=库存预警!D12,一年内商品各月销售出库情况[数量])),"")} | G12: {=IFERROR(STDEV(IF(一年内各季度商品销售出库情况[商品]=库存预警!D12,一年内各季度商品销售出库情况[数量])),"")} | H12: =IF(表23[[#This Row],[商品名称]]="","",说明!$E$4) -> 3 | I12: =IF(表23[[#This Row],[商品名称]]="","",说明!$H$4) -> 95 | J12: =IF(表23[[#This Row],[商品名称]]="","",VLOOKUP(I12,顾客服务水平表[#All],2,0)) -> 1.65 | K12: =IFERROR(E12*SQRT($H12)*$J12,"") | L12: =IFERROR(F12*SQRT($H12)*$J12,"") | M12: =IFERROR(G12*SQRT($H12)*$J12,"") | N12: =IF(表23[[#This Row],[商品名称]]="","",SUMIFS(商品资料表[库存],商品资料表[商品名称],表23[[#This Row],[商品名称]])) -> 0
D13: {=IFERROR(INDEX(商品资料表!C:C,SMALL(IF(MATCH(INDIRECT("商品资料表!$C$2:$C$"&COUNTA(商品资料表!C:C)),INDIRECT("商品资料表!$C$2:$C$"&COUNTA(商品资料表!C:C)),)=ROW(INDIRECT("$1:$"&(COUNTA(商品资料表!C:C)-1))),ROW(INDIRECT("$2:$"&COUNTA(商品资料表!C:C))),4^8),ROW(A4)))&"","")} | E13: {=IFERROR(STDEV(IF(一月内商品日销售出库情况[商品]=库存预警!D13,一月内商品日销售出库情况[数量])),"")} | F13: {=IFERROR(STDEV(IF(一年内商品各月销售出库情况[商品]=库存预警!D13,一年内商品各月销售出库情况[数量])),"")} | G13: {=IFERROR(STDEV(IF(一年内各季度商品销售出库情况[商品]=库存预警!D13,一年内各季度商品销售出库情况[数量])),"")} | H13: =IF(表23[[#This Row],[商品名称]]="","",说明!$E$4) | I13: =IF(表23[[#This Row],[商品名称]]="","",说明!$H$4) | J13: =IF(表23[[#This Row],[商品名称]]="","",VLOOKUP(I13,顾客服务水平表[#All],2,0)) | K13: =IFERROR(E13*SQRT($H13)*$J13,"") | L13: =IFERROR(F13*SQRT($H13)*$J13,"") | M13: =IFERROR(G13*SQRT($H13)*$J13,"") | N13: =IF(表23[[#This Row],[商品名称]]="","",SUMIFS(商品资料表[库存],商品资料表[商品名称],表23[[#This Row],[商品名称]]))
D14: {=IFERROR(INDEX(商品资料表!C:C,SMALL(IF(MATCH(INDIRECT("商品资料表!$C$2:$C$"&COUNTA(商品资料表!C:C)),INDIRECT("商品资料表!$C$2:$C$"&COUNTA(商品资料表!C:C)),)=ROW(INDIRECT("$1:$"&(COUNTA(商品资料表!C:C)-1))),ROW(INDIRECT("$2:$"&COUNTA(商品资料表!C:C))),4^8),ROW(A5)))&"","")} | E14: {=IFERROR(STDEV(IF(一月内商品日销售出库情况[商品]=库存预警!D14,一月内商品日销售出库情况[数量])),"")} | F14: {=IFERROR(STDEV(IF(一年内商品各月销售出库情况[商品]=库存预警!D14,一年内商品各月销售出库情况[数量])),"")} | G14: {=IFERROR(STDEV(IF(一年内各季度商品销售出库情况[商品]=库存预警!D14,一年内各季度商品销售出库情况[数量])),"")} | H14: =IF(表23[[#This Row],[商品名称]]="","",说明!$E$4) | I14: =IF(表23[[#This Row],[商品名称]]="","",说明!$H$4) | J14: =IF(表23[[#This Row],[商品名称]]="","",VLOOKUP(I14,顾客服务水平表[#All],2,0)) | K14: =IFERROR(E14*SQRT($H14)*$J14,"") | L14: =IFERROR(F14*SQRT($H14)*$J14,"") | M14: =IFERROR(G14*SQRT($H14)*$J14,"") | N14: =IF(表23[[#This Row],[商品名称]]="","",SUMIFS(商品资料表[库存],商品资料表[商品名称],表23[[#This Row],[商品名称]]))
D15: {=IFERROR(INDEX(商品资料表!C:C,SMALL(IF(MATCH(INDIRECT("商品资料表!$C$2:$C$"&COUNTA(商品资料表!C:C)),INDIRECT("商品资料表!$C$2:$C$"&COUNTA(商品资料表!C:C)),)=ROW(INDIRECT("$1:$"&(COUNTA(商品资料表!C:C)-1))),ROW(INDIRECT("$2:$"&COUNTA(商品资料表!C:C))),4^8),ROW(A6)))&"","")} | E15: {=IFERROR(STDEV(IF(一月内商品日销售出库情况[商品]=库存预警!D15,一月内商品日销售出库情况[数量])),"")} | F15: {=IFERROR(STDEV(IF(一年内商品各月销售出库情况[商品]=库存预警!D15,一年内商品各月销售出库情况[数量])),"")} | G15: {=IFERROR(STDEV(IF(一年内各季度商品销售出库情况[商品]=库存预警!D15,一年内各季度商品销售出库情况[数量])),"")} | H15: =IF(表23[[#This Row],[商品名称]]="","",说明!$E$4) | I15: =IF(表23[[#This Row],[商品名称]]="","",说明!$H$4) | J15: =IF(表23[[#This Row],[商品名称]]="","",VLOOKUP(I15,顾客服务水平表[#All],2,0)) | K15: =IFERROR(E15*SQRT($H15)*$J15,"") | L15: =IFERROR(F15*SQRT($H15)*$J15,"") | M15: =IFERROR(G15*SQRT($H15)*$J15,"") | N15: =IF(表23[[#This Row],[商品名称]]="","",SUMIFS(商品资料表[库存],商品资料表[商品名称],表23[[#This Row],[商品名称]]))
D16: {=IFERROR(INDEX(商品资料表!C:C,SMALL(IF(MATCH(INDIRECT("商品资料表!$C$2:$C$"&COUNTA(商品资料表!C:C)),INDIRECT("商品资料表!$C$2:$C$"&COUNTA(商品资料表!C:C)),)=ROW(INDIRECT("$1:$"&(COUNTA(商品资料表!C:C)-1))),ROW(INDIRECT("$2:$"&COUNTA(商品资料表!C:C))),4^8),ROW(A7)))&"","")} | E16: {=IFERROR(STDEV(IF(一月内商品日销售出库情况[商品]=库存预警!D16,一月内商品日销售出库情况[数量])),"")} | F16: {=IFERROR(STDEV(IF(一年内商品各月销售出库情况[商品]=库存预警!D16,一年内商品各月销售出库情况[数量])),"")} | G16: {=IFERROR(STDEV(IF(一年内各季度商品销售出库情况[商品]=库存预警!D16,一年内各季度商品销售出库情况[数量])),"")} | H16: =IF(表23[[#This Row],[商品名称]]="","",说明!$E$4) | I16: =IF(表23[[#This Row],[商品名称]]="","",说明!$H$4) | J16: =IF(表23[[#This Row],[商品名称]]="","",VLOOKUP(I16,顾客服务水平表[#All],2,0)) | K16: =IFERROR(E16*SQRT($H16)*$J16,"") | L16: =IFERROR(F16*SQRT($H16)*$J16,"") | M16: =IFERROR(G16*SQRT($H16)*$J16,"") | N16: =IF(表23[[#This Row],[商品名称]]="","",SUMIFS(商品资料表[库存],商品资料表[商品名称],表23[[#This Row],[商品名称]]))
D17: {=IFERROR(INDEX(商品资料表!C:C,SMALL(IF(MATCH(INDIRECT("商品资料表!$C$2:$C$"&COUNTA(商品资料表!C:C)),INDIRECT("商品资料表!$C$2:$C$"&COUNTA(商品资料表!C:C)),)=ROW(INDIRECT("$1:$"&(COUNTA(商品资料表!C:C)-1))),ROW(INDIRECT("$2:$"&COUNTA(商品资料表!C:C))),4^8),ROW(A8)))&"","")} | E17: {=IFERROR(STDEV(IF(一月内商品日销售出库情况[商品]=库存预警!D17,一月内商品日销售出库情况[数量])),"")} | F17: {=IFERROR(STDEV(IF(一年内商品各月销售出库情况[商品]=库存预警!D17,一年内商品各月销售出库情况[数量])),"")} | G17: {=IFERROR(STDEV(IF(一年内各季度商品销售出库情况[商品]=库存预警!D17,一年内各季度商品销售出库情况[数量])),"")} | H17: =IF(表23[[#This Row],[商品名称]]="","",说明!$E$4) | I17: =IF(表23[[#This Row],[商品名称]]="","",说明!$H$4) | J17: =IF(表23[[#This Row],[商品名称]]="","",VLOOKUP(I17,顾客服务水平表[#All],2,0)) | K17: =IFERROR(E17*SQRT($H17)*$J17,"") | L17: =IFERROR(F17*SQRT($H17)*$J17,"") | M17: =IFERROR(G17*SQRT($H17)*$J17,"") | N17: =IF(表23[[#This Row],[商品名称]]="","",SUMIFS(商品资料表[库存],商品资料表[商品名称],表23[[#This Row],[商品名称]]))
D18: {=IFERROR(INDEX(商品资料表!C:C,SMALL(IF(MATCH(INDIRECT("商品资料表!$C$2:$C$"&COUNTA(商品资料表!C:C)),INDIRECT("商品资料表!$C$2:$C$"&COUNTA(商品资料表!C:C)),)=ROW(INDIRECT("$1:$"&(COUNTA(商品资料表!C:C)-1))),ROW(INDIRECT("$2:$"&COUNTA(商品资料表!C:C))),4^8),ROW(A9)))&"","")} | E18: {=IFERROR(STDEV(IF(一月内商品日销售出库情况[商品]=库存预警!D18,一月内商品日销售出库情况[数量])),"")} | F18: {=IFERROR(STDEV(IF(一年内商品各月销售出库情况[商品]=库存预警!D18,一年内商品各月销售出库情况[数量])),"")} | G18: {=IFERROR(STDEV(IF(一年内各季度商品销售出库情况[商品]=库存预警!D18,一年内各季度商品销售出库情况[数量])),"")} | H18: =IF(表23[[#This Row],[商品名称]]="","",说明!$E$4) | I18: =IF(表23[[#This Row],[商品名称]]="","",说明!$H$4) | J18: =IF(表23[[#This Row],[商品名称]]="","",VLOOKUP(I18,顾客服务水平表[#All],2,0)) | K18: =IFERROR(E18*SQRT($H18)*$J18,"") | L18: =IFERROR(F18*SQRT($H18)*$J18,"") | M18: =IFERROR(G18*SQRT($H18)*$J18,"") | N18: =IF(表23[[#This Row],[商品名称]]="","",SUMIFS(商品资料表[库存],商品资料表[商品名称],表23[[#This Row],[商品名称]]))
D19: {=IFERROR(INDEX(商品资料表!C:C,SMALL(IF(MATCH(INDIRECT("商品资料表!$C$2:$C$"&COUNTA(商品资料表!C:C)),INDIRECT("商品资料表!$C$2:$C$"&COUNTA(商品资料表!C:C)),)=ROW(INDIRECT("$1:$"&(COUNTA(商品资料表!C:C)-1))),ROW(INDIRECT("$2:$"&COUNTA(商品资料表!C:C))),4^8),ROW(A10)))&"","")} | E19: {=IFERROR(STDEV(IF(一月内商品日销售出库情况[商品]=库存预警!D19,一月内商品日销售出库情况[数量])),"")} | F19: {=IFERROR(STDEV(IF(一年内商品各月销售出库情况[商品]=库存预警!D19,一年内商品各月销售出库情况[数量])),"")} | G19: {=IFERROR(STDEV(IF(一年内各季度商品销售出库情况[商品]=库存预警!D19,一年内各季度商品销售出库情况[数量])),"")} | H19: =IF(表23[[#This Row],[商品名称]]="","",说明!$E$4) | I19: =IF(表23[[#This Row],[商品名称]]="","",说明!$H$4) | J19: =IF(表23[[#This Row],[商品名称]]="","",VLOOKUP(I19,顾客服务水平表[#All],2,0)) | K19: =IFERROR(E19*SQRT($H19)*$J19,"") | L19: =IFERROR(F19*SQRT($H19)*$J19,"") | M19: =IFERROR(G19*SQRT($H19)*$J19,"") | N19: =IF(表23[[#This Row],[商品名称]]="","",SUMIFS(商品资料表[库存],商品资料表[商品名称],表23[[#This Row],[商品名称]]))
D20: {=IFERROR(INDEX(商品资料表!C:C,SMALL(IF(MATCH(INDIRECT("商品资料表!$C$2:$C$"&COUNTA(商品资料表!C:C)),INDIRECT("商品资料表!$C$2:$C$"&COUNTA(商品资料表!C:C)),)=ROW(INDIRECT("$1:$"&(COUNTA(商品资料表!C:C)-1))),ROW(INDIRECT("$2:$"&COUNTA(商品资料表!C:C))),4^8),ROW(A11)))&"","")} | E20: {=IFERROR(STDEV(IF(一月内商品日销售出库情况[商品]=库存预警!D20,一月内商品日销售出库情况[数量])),"")} | F20: {=IFERROR(STDEV(IF(一年内商品各月销售出库情况[商品]=库存预警!D20,一年内商品各月销售出库情况[数量])),"")} | G20: {=IFERROR(STDEV(IF(一年内各季度商品销售出库情况[商品]=库存预警!D20,一年内各季度商品销售出库情况[数量])),"")} | H20: =IF(表23[[#This Row],[商品名称]]="","",说明!$E$4) | I20: =IF(表23[[#This Row],[商品名称]]="","",说明!$H$4) | J20: =IF(表23[[#This Row],[商品名称]]="","",VLOOKUP(I20,顾客服务水平表[#All],2,0)) | K20: =IFERROR(E20*SQRT($H20)*$J20,"") | L20: =IFERROR(F20*SQRT($H20)*$J20,"") | M20: =IFERROR(G20*SQRT($H20)*$J20,"") | N20: =IF(表23[[#This Row],[商品名称]]="","",SUMIFS(商品资料表[库存],商品资料表[商品名称],表23[[#This Row],[商品名称]]))
