Workbook

Sheet 首页
B2: 进销存—出入库管理系统
D4: 库存汇总表 | F4: 入库明细
D6: 领料明细 | F6: 物品清单

Sheet 库存汇总表
B1: 库存汇总
B2: 序号 | C2: 编号 | D2: 名称 | E2: 规格 | F2: 计量单位 | G2: 期初数 | J2: 入库 | M2: 出库 | P2: 库存 | S2: 备注
G3: 期初数量 | H3: 单价 | I3: 金额 | J3: 数量 | K3: 单价 | L3: 金额 | M3: 数量 | N3: 单价 | O3: 金额 | P3: 数量 | Q3: 单价 | R3: 金额

Sheet 清单名称
B1: 物品清单
B2: 一级编号 | C2: 一级科目 | D2: 二级编号 | E2: 名称 | F2: 规格 | G2: 单位 | H2: 单价 | I2: 用途 | J2: 备注

Sheet 入库明细
B1: 出入库明细
B2: 序号 | C2: 日期 | D2: 编号 | E2: 名称 | F2: 规格 | G2: 计量单位 | H2: 入库数量 | I2: 单价 | J2: 金额 | K2: 备注
E42: =VLOOKUP(D42,清单名称!D:E,2,0) -> #N/A | F42: =VLOOKUP(D42,清单名称!D:F,3,0) -> #N/A | G42: =VLOOKUP(D42,清单名称!D:G,4,0) -> #N/A | I42: =VLOOKUP(D42,清单名称!D:H,5,0) -> #N/A | J42: =ROUND((H42*I42),2) -> #N/A
E43: =VLOOKUP(D43,清单名称!D:E,2,0) -> #N/A | F43: =VLOOKUP(D43,清单名称!D:F,3,0) -> #N/A | G43: =VLOOKUP(D43,清单名称!D:G,4,0) -> #N/A | I43: =VLOOKUP(D43,清单名称!D:H,5,0) -> #N/A | J43: =ROUND((H43*I43),2) -> #N/A
E44: =VLOOKUP(D44,清单名称!D:E,2,0) -> #N/A | F44: =VLOOKUP(D44,清单名称!D:F,3,0) -> #N/A | G44: =VLOOKUP(D44,清单名称!D:G,4,0) -> #N/A | I44: =VLOOKUP(D44,清单名称!D:H,5,0) -> #N/A | J44: =ROUND((H44*I44),2) -> #N/A
E45: =VLOOKUP(D45,清单名称!D:E,2,0) -> #N/A | F45: =VLOOKUP(D45,清单名称!D:F,3,0) -> #N/A | G45: =VLOOKUP(D45,清单名称!D:G,4,0) -> #N/A | I45: =VLOOKUP(D45,清单名称!D:H,5,0) -> #N/A | J45: =ROUND((H45*I45),2) -> #N/A
E46: =VLOOKUP(D46,清单名称!D:E,2,0) -> #N/A | F46: =VLOOKUP(D46,清单名称!D:F,3,0) -> #N/A | G46: =VLOOKUP(D46,清单名称!D:G,4,0) -> #N/A | I46: =VLOOKUP(D46,清单名称!D:H,5,0) -> #N/A | J46: =ROUND((H46*I46),2) -> #N/A
E47: =VLOOKUP(D47,清单名称!D:E,2,0) -> #N/A | F47: =VLOOKUP(D47,清单名称!D:F,3,0) -> #N/A | G47: =VLOOKUP(D47,清单名称!D:G,4,0) -> #N/A | I47: =VLOOKUP(D47,清单名称!D:H,5,0) -> #N/A | J47: =ROUND((H47*I47),2) -> #N/A
E48: =VLOOKUP(D48,清单名称!D:E,2,0) -> #N/A | F48: =VLOOKUP(D48,清单名称!D:F,3,0) -> #N/A | G48: =VLOOKUP(D48,清单名称!D:G,4,0) -> #N/A | I48: =VLOOKUP(D48,清单名称!D:H,5,0) -> #N/A | J48: =ROUND((H48*I48),2) -> #N/A
E49: =VLOOKUP(D49,清单名称!D:E,2,0) -> #N/A | F49: =VLOOKUP(D49,清单名称!D:F,3,0) -> #N/A | G49: =VLOOKUP(D49,清单名称!D:G,4,0) -> #N/A | I49: =VLOOKUP(D49,清单名称!D:H,5,0) -> #N/A | J49: =ROUND((H49*I49),2) -> #N/A
E50: =VLOOKUP(D50,清单名称!D:E,2,0) -> #N/A | F50: =VLOOKUP(D50,清单名称!D:F,3,0) -> #N/A | G50: =VLOOKUP(D50,清单名称!D:G,4,0) -> #N/A | I50: =VLOOKUP(D50,清单名称!D:H,5,0) -> #N/A | J50: =ROUND((H50*I50),2) -> #N/A
E51: =VLOOKUP(D51,清单名称!D:E,2,0) -> #N/A | F51: =VLOOKUP(D51,清单名称!D:F,3,0) -> #N/A | G51: =VLOOKUP(D51,清单名称!D:G,4,0) -> #N/A | I51: =VLOOKUP(D51,清单名称!D:H,5,0) -> #N/A | J51: =ROUND((H51*I51),2) -> #N/A
E52: =VLOOKUP(D52,清单名称!D:E,2,0) -> #N/A | F52: =VLOOKUP(D52,清单名称!D:F,3,0) -> #N/A | G52: =VLOOKUP(D52,清单名称!D:G,4,0) -> #N/A | I52: =VLOOKUP(D52,清单名称!D:H,5,0) -> #N/A | J52: =ROUND((H52*I52),2) -> #N/A
E53: =VLOOKUP(D53,清单名称!D:E,2,0) -> #N/A | F53: =VLOOKUP(D53,清单名称!D:F,3,0) -> #N/A | G53: =VLOOKUP(D53,清单名称!D:G,4,0) -> #N/A | I53: =VLOOKUP(D53,清单名称!D:H,5,0) -> #N/A | J53: =ROUND((H53*I53),2) -> #N/A
... E133: =VLOOKUP(D133,清单名称!D:E,2,0) -> #N/A | F133: =VLOOKUP(D133,清单名称!D:F,3,0) -> #N/A | G133: =VLOOKUP(D133,清单名称!D:G,4,0) -> #N/A | I133: =VLOOKUP(D133,清单名称!D:H,5,0) -> #N/A | J133: =ROUND((H133*I133),2) -> #N/A

Sheet 领料明细
B1: 领料明细
B2: 序号 | C2: 日期 | D2: 领用编号 | E2: 领用部门 | F2: 领用姓名 | G2: 编号 | H2: 名称 | I2: 规格 | J2: 计量单位 | K2: 出库 | N2: 用途 | O2: 备注
K3: 出库数量 | L3: 单价 | M3: 金额
H4: =VLOOKUP(G4,清单名称!D:E,2,0) -> #N/A | I4: =VLOOKUP(G4,清单名称!D:F,3,0) -> #N/A | J4: =VLOOKUP(G4,清单名称!D:G,4,0) -> #N/A | L4: =VLOOKUP(G4,清单名称!D:H,5,0) -> #N/A | M4: =ROUND((K4*L4),2) -> #N/A | N4: =VLOOKUP(G4,清单名称!D:I,6,0) -> #N/A
H5: =VLOOKUP(G5,清单名称!D:E,2,0) -> #N/A | I5: =VLOOKUP(G5,清单名称!D:F,3,0) -> #N/A | J5: =VLOOKUP(G5,清单名称!D:G,4,0) -> #N/A | L5: =VLOOKUP(G5,清单名称!D:H,5,0) -> #N/A | M5: =ROUND((K5*L5),2) -> #N/A | N5: =VLOOKUP(G5,清单名称!D:I,6,0) -> #N/A
H6: =VLOOKUP(G6,清单名称!D:E,2,0) -> #N/A | I6: =VLOOKUP(G6,清单名称!D:F,3,0) -> #N/A | J6: =VLOOKUP(G6,清单名称!D:G,4,0) -> #N/A | L6: =VLOOKUP(G6,清单名称!D:H,5,0) -> #N/A | M6: =ROUND((K6*L6),2) -> #N/A | N6: =VLOOKUP(G6,清单名称!D:I,6,0) -> #N/A
H7: =VLOOKUP(G7,清单名称!D:E,2,0) -> #N/A | I7: =VLOOKUP(G7,清单名称!D:F,3,0) -> #N/A | J7: =VLOOKUP(G7,清单名称!D:G,4,0) -> #N/A | L7: =VLOOKUP(G7,清单名称!D:H,5,0) -> #N/A | M7: =ROUND((K7*L7),2) -> #N/A | N7: =VLOOKUP(G7,清单名称!D:I,6,0) -> #N/A
H8: =VLOOKUP(G8,清单名称!D:E,2,0) -> #N/A | I8: =VLOOKUP(G8,清单名称!D:F,3,0) -> #N/A | J8: =VLOOKUP(G8,清单名称!D:G,4,0) -> #N/A | L8: =VLOOKUP(G8,清单名称!D:H,5,0) -> #N/A | M8: =ROUND((K8*L8),2) -> #N/A | N8: =VLOOKUP(G8,清单名称!D:I,6,0) -> #N/A
H9: =VLOOKUP(G9,清单名称!D:E,2,0) -> #N/A | I9: =VLOOKUP(G9,清单名称!D:F,3,0) -> #N/A | J9: =VLOOKUP(G9,清单名称!D:G,4,0) -> #N/A | L9: =VLOOKUP(G9,清单名称!D:H,5,0) -> #N/A | M9: =ROUND((K9*L9),2) -> #N/A | N9: =VLOOKUP(G9,清单名称!D:I,6,0) -> #N/A
H10: =VLOOKUP(G10,清单名称!D:E,2,0) -> #N/A | I10: =VLOOKUP(G10,清单名称!D:F,3,0) -> #N/A | J10: =VLOOKUP(G10,清单名称!D:G,4,0) -> #N/A | L10: =VLOOKUP(G10,清单名称!D:H,5,0) -> #N/A | M10: =ROUND((K10*L10),2) -> #N/A | N10: =VLOOKUP(G10,清单名称!D:I,6,0) -> #N/A
H11: =VLOOKUP(G11,清单名称!D:E,2,0) -> #N/A | I11: =VLOOKUP(G11,清单名称!D:F,3,0) -> #N/A | J11: =VLOOKUP(G11,清单名称!D:G,4,0) -> #N/A | L11: =VLOOKUP(G11,清单名称!D:H,5,0) -> #N/A | M11: =ROUND((K11*L11),2) -> #N/A | N11: =VLOOKUP(G11,清单名称!D:I,6,0) -> #N/A
H12: =VLOOKUP(G12,清单名称!D:E,2,0) -> #N/A | I12: =VLOOKUP(G12,清单名称!D:F,3,0) -> #N/A | J12: =VLOOKUP(G12,清单名称!D:G,4,0) -> #N/A | L12: =VLOOKUP(G12,清单名称!D:H,5,0) -> #N/A | M12: =ROUND((K12*L12),2) -> #N/A | N12: =VLOOKUP(G12,清单名称!D:I,6,0) -> #N/A
H13: =VLOOKUP(G13,清单名称!D:E,2,0) -> #N/A | I13: =VLOOKUP(G13,清单名称!D:F,3,0) -> #N/A | J13: =VLOOKUP(G13,清单名称!D:G,4,0) -> #N/A | L13: =VLOOKUP(G13,清单名称!D:H,5,0) -> #N/A | M13: =ROUND((K13*L13),2) -> #N/A | N13: =VLOOKUP(G13,清单名称!D:I,6,0) -> #N/A
H14: =VLOOKUP(G14,清单名称!D:E,2,0) -> #N/A | I14: =VLOOKUP(G14,清单名称!D:F,3,0) -> #N/A | J14: =VLOOKUP(G14,清单名称!D:G,4,0) -> #N/A | L14: =VLOOKUP(G14,清单名称!D:H,5,0) -> #N/A | M14: =ROUND((K14*L14),2) -> #N/A | N14: =VLOOKUP(G14,清单名称!D:I,6,0) -> #N/A
H15: =VLOOKUP(G15,清单名称!D:E,2,0) -> #N/A | I15: =VLOOKUP(G15,清单名称!D:F,3,0) -> #N/A | J15: =VLOOKUP(G15,清单名称!D:G,4,0) -> #N/A | L15: =VLOOKUP(G15,清单名称!D:H,5,0) -> #N/A | M15: =ROUND((K15*L15),2) -> #N/A | N15: =VLOOKUP(G15,清单名称!D:I,6,0) -> #N/A
... H449: =VLOOKUP(G449,清单名称!D:E,2,0) -> #N/A | I449: =VLOOKUP(G449,清单名称!D:F,3,0) -> #N/A | J449: =VLOOKUP(G449,清单名称!D:G,4,0) -> #N/A | L449: =VLOOKUP(G449,清单名称!D:H,5,0) -> #N/A | M449: =ROUND((K449*L449),2) -> #N/A | N449: =VLOOKUP(G449,清单名称!D:I,6,0) -> #N/A
