Workbook

Sheet 首页

Sheet 入库记录
A1: 辅助列 | B1: 日期 | C1: 产品编码 | D1: 类别 | E1: 产品名称 | F1: 产品规格 | G1: 数量 | H1: 入库人
A2: =COUNTIF($C$1:C2,C2)&C2 -> 1A0001 | C2: A0001 | D2: =IFERROR(VLOOKUP(C2,参数表!$A:$E,2,0),"") -> A | E2: =IFERROR(VLOOKUP(C2,参数表!$A:$E,3,0),"") -> AA | F2: =IFERROR(VLOOKUP(C2,参数表!$A:$E,4,0),"") -> AAA
A3: =COUNTIF($C$1:C3,C3)&C3 -> 0 | D3: =IFERROR(VLOOKUP(C3,参数表!$A:$E,2,0),"") | E3: =IFERROR(VLOOKUP(C3,参数表!$A:$E,3,0),"") | F3: =IFERROR(VLOOKUP(C3,参数表!$A:$E,4,0),"")
A4: =COUNTIF($C$1:C4,C4)&C4 -> 0 | D4: =IFERROR(VLOOKUP(C4,参数表!$A:$E,2,0),"") | E4: =IFERROR(VLOOKUP(C4,参数表!$A:$E,3,0),"") | F4: =IFERROR(VLOOKUP(C4,参数表!$A:$E,4,0),"")
A5: =COUNTIF($C$1:C5,C5)&C5 -> 0 | D5: =IFERROR(VLOOKUP(C5,参数表!$A:$E,2,0),"") | E5: =IFERROR(VLOOKUP(C5,参数表!$A:$E,3,0),"") | F5: =IFERROR(VLOOKUP(C5,参数表!$A:$E,4,0),"")
A6: =COUNTIF($C$1:C6,C6)&C6 -> 0 | D6: =IFERROR(VLOOKUP(C6,参数表!$A:$E,2,0),"") | E6: =IFERROR(VLOOKUP(C6,参数表!$A:$E,3,0),"") | F6: =IFERROR(VLOOKUP(C6,参数表!$A:$E,4,0),"")
A7: =COUNTIF($C$1:C7,C7)&C7 -> 0 | D7: =IFERROR(VLOOKUP(C7,参数表!$A:$E,2,0),"") | E7: =IFERROR(VLOOKUP(C7,参数表!$A:$E,3,0),"") | F7: =IFERROR(VLOOKUP(C7,参数表!$A:$E,4,0),"")
A8: =COUNTIF($C$1:C8,C8)&C8 -> 0 | D8: =IFERROR(VLOOKUP(C8,参数表!$A:$E,2,0),"") | E8: =IFERROR(VLOOKUP(C8,参数表!$A:$E,3,0),"") | F8: =IFERROR(VLOOKUP(C8,参数表!$A:$E,4,0),"")
A9: =COUNTIF($C$1:C9,C9)&C9 -> 0 | D9: =IFERROR(VLOOKUP(C9,参数表!$A:$E,2,0),"") | E9: =IFERROR(VLOOKUP(C9,参数表!$A:$E,3,0),"") | F9: =IFERROR(VLOOKUP(C9,参数表!$A:$E,4,0),"")
A10: =COUNTIF($C$1:C10,C10)&C10 -> 0 | D10: =IFERROR(VLOOKUP(C10,参数表!$A:$E,2,0),"") | E10: =IFERROR(VLOOKUP(C10,参数表!$A:$E,3,0),"") | F10: =IFERROR(VLOOKUP(C10,参数表!$A:$E,4,0),"")
A11: =COUNTIF($C$1:C11,C11)&C11 -> 0 | D11: =IFERROR(VLOOKUP(C11,参数表!$A:$E,2,0),"") | E11: =IFERROR(VLOOKUP(C11,参数表!$A:$E,3,0),"") | F11: =IFERROR(VLOOKUP(C11,参数表!$A:$E,4,0),"")
A12: =COUNTIF($C$1:C12,C12)&C12 -> 0 | D12: =IFERROR(VLOOKUP(C12,参数表!$A:$E,2,0),"") | E12: =IFERROR(VLOOKUP(C12,参数表!$A:$E,3,0),"") | F12: =IFERROR(VLOOKUP(C12,参数表!$A:$E,4,0),"")
A13: =COUNTIF($C$1:C13,C13)&C13 -> 0 | D13: =IFERROR(VLOOKUP(C13,参数表!$A:$E,2,0),"") | E13: =IFERROR(VLOOKUP(C13,参数表!$A:$E,3,0),"") | F13: =IFERROR(VLOOKUP(C13,参数表!$A:$E,4,0),"")
A14: =COUNTIF($C$1:C14,C14)&C14 -> 0 | D14: =IFERROR(VLOOKUP(C14,参数表!$A:$E,2,0),"") | E14: =IFERROR(VLOOKUP(C14,参数表!$A:$E,3,0),"") | F14: =IFERROR(VLOOKUP(C14,参数表!$A:$E,4,0),"")
... A93: =COUNTIF($C$1:C93,C93)&C93 -> 0 | D93: =IFERROR(VLOOKUP(C93,参数表!$A:$E,2,0),"") | E93: =IFERROR(VLOOKUP(C93,参数表!$A:$E,3,0),"") | F93: =IFERROR(VLOOKUP(C93,参数表!$A:$E,4,0),"")
A94: =COUNTIF($C$1:C94,C94)&C94 -> 0 | D94: A | E94: AA | F94: AAA
A95: =COUNTIF($C$1:C95,C95)&C95 -> 0
A96: =COUNTIF($C$1:C96,C96)&C96 -> 0
A97: =COUNTIF($C$1:C97,C97)&C97 -> 0
A98: =COUNTIF($C$1:C98,C98)&C98 -> 0
A99: =COUNTIF($C$1:C99,C99)&C99 -> 0
A100: =COUNTIF($C$1:C100,C100)&C100 -> 0
A101: =COUNTIF($C$1:C101,C101)&C101 -> 0
A102: =COUNTIF($C$1:C102,C102)&C102 -> 0
A103: =COUNTIF($C$1:C103,C103)&C103 -> 0
A104: =COUNTIF($C$1:C104,C104)&C104 -> 0
A105: =COUNTIF($C$1:C105,C105)&C105 -> 0
A106: =COUNTIF($C$1:C106,C106)&C106 -> 0
... A133: =COUNTIF($C$1:C133,C133)&C133 -> 0
A134: =COUNTIF($C$1:C134,C134)&C134 -> 0 | D134: =IFERROR(VLOOKUP(C134,参数表!A:D,2,0),"") | E134: =IFERROR(VLOOKUP(C134,参数表!A:D,3,0),"") | F134: =IFERROR(VLOOKUP(C134,参数表!A:D,4,0),"")
A135: =COUNTIF($C$1:C135,C135)&C135 -> 0 | D135: =IFERROR(VLOOKUP(C135,参数表!A:D,2,0),"") | E135: =IFERROR(VLOOKUP(C135,参数表!A:D,3,0),"") | F135: =IFERROR(VLOOKUP(C135,参数表!A:D,4,0),"")
A136: =COUNTIF($C$1:C136,C136)&C136 -> 0 | D136: =IFERROR(VLOOKUP(C136,参数表!A:D,2,0),"") | E136: =IFERROR(VLOOKUP(C136,参数表!A:D,3,0),"") | F136: =IFERROR(VLOOKUP(C136,参数表!A:D,4,0),"")
A137: =COUNTIF($C$1:C137,C137)&C137 -> 0 | D137: =IFERROR(VLOOKUP(C137,参数表!A:D,2,0),"") | E137: =IFERROR(VLOOKUP(C137,参数表!A:D,3,0),"") | F137: =IFERROR(VLOOKUP(C137,参数表!A:D,4,0),"")
A138: =COUNTIF($C$1:C138,C138)&C138 -> 0 | D138: =IFERROR(VLOOKUP(C138,参数表!A:D,2,0),"") | E138: =IFERROR(VLOOKUP(C138,参数表!A:D,3,0),"") | F138: =IFERROR(VLOOKUP(C138,参数表!A:D,4,0),"")
A139: =COUNTIF($C$1:C139,C139)&C139 -> 0 | D139: =IFERROR(VLOOKUP(C139,参数表!A:D,2,0),"") | E139: =IFERROR(VLOOKUP(C139,参数表!A:D,3,0),"") | F139: =IFERROR(VLOOKUP(C139,参数表!A:D,4,0),"")
A140: =COUNTIF($C$1:C140,C140)&C140 -> 0 | D140: =IFERROR(VLOOKUP(C140,参数表!A:D,2,0),"") | E140: =IFERROR(VLOOKUP(C140,参数表!A:D,3,0),"") | F140: =IFERROR(VLOOKUP(C140,参数表!A:D,4,0),"")
A141: =COUNTIF($C$1:C141,C141)&C141 -> 0 | D141: =IFERROR(VLOOKUP(C141,参数表!A:D,2,0),"") | E141: =IFERROR(VLOOKUP(C141,参数表!A:D,3,0),"") | F141: =IFERROR(VLOOKUP(C141,参数表!A:D,4,0),"")
A142: =COUNTIF($C$1:C142,C142)&C142 -> 0 | D142: =IFERROR(VLOOKUP(C142,参数表!A:D,2,0),"") | E142: =IFERROR(VLOOKUP(C142,参数表!A:D,3,0),"") | F142: =IFERROR(VLOOKUP(C142,参数表!A:D,4,0),"")
A143: =COUNTIF($C$1:C143,C143)&C143 -> 0 | D143: =IFERROR(VLOOKUP(C143,参数表!A:D,2,0),"") | E143: =IFERROR(VLOOKUP(C143,参数表!A:D,3,0),"") | F143: =IFERROR(VLOOKUP(C143,参数表!A:D,4,0),"")
A144: =COUNTIF($C$1:C144,C144)&C144 -> 0 | D144: =IFERROR(VLOOKUP(C144,参数表!A:D,2,0),"") | E144: =IFERROR(VLOOKUP(C144,参数表!A:D,3,0),"") | F144: =IFERROR(VLOOKUP(C144,参数表!A:D,4,0),"")
...

Sheet 出库记录
A1: 辅助列 | B1: 日期 | C1: 产品编码 | D1: 类别 | E1: 产品名称 | F1: 产品规格 | G1: 数量 | H1: 出库人
A2: =COUNTIF($C$1:C2,C2)&C2 -> 1A0001 | B2: 43466 | C2: A0001 | D2: =IFERROR(VLOOKUP(C2,参数表!$A:$E,2,0),"") -> A | E2: =IFERROR(VLOOKUP(C2,参数表!$A:$E,3,0),"") -> AA | F2: =IFERROR(VLOOKUP(C2,参数表!$A:$E,4,0),"") -> AAA | G2: 4 | H2: 大熊猫
A3: =COUNTIF($C$1:C3,C3)&C3 -> 0 | D3: =IFERROR(VLOOKUP(C3,参数表!$A:$E,2,0),"") | E3: =IFERROR(VLOOKUP(C3,参数表!$A:$E,3,0),"") | F3: =IFERROR(VLOOKUP(C3,参数表!$A:$E,4,0),"")
A4: =COUNTIF($C$1:C4,C4)&C4 -> 0 | D4: =IFERROR(VLOOKUP(C4,参数表!$A:$E,2,0),"") | E4: =IFERROR(VLOOKUP(C4,参数表!$A:$E,3,0),"") | F4: =IFERROR(VLOOKUP(C4,参数表!$A:$E,4,0),"")
A5: =COUNTIF($C$1:C5,C5)&C5 -> 0 | D5: =IFERROR(VLOOKUP(C5,参数表!$A:$E,2,0),"") | E5: =IFERROR(VLOOKUP(C5,参数表!$A:$E,3,0),"") | F5: =IFERROR(VLOOKUP(C5,参数表!$A:$E,4,0),"")
A6: =COUNTIF($C$1:C6,C6)&C6 -> 0 | D6: =IFERROR(VLOOKUP(C6,参数表!$A:$E,2,0),"") | E6: =IFERROR(VLOOKUP(C6,参数表!$A:$E,3,0),"") | F6: =IFERROR(VLOOKUP(C6,参数表!$A:$E,4,0),"")
A7: =COUNTIF($C$1:C7,C7)&C7 -> 0 | D7: =IFERROR(VLOOKUP(C7,参数表!$A:$E,2,0),"") | E7: =IFERROR(VLOOKUP(C7,参数表!$A:$E,3,0),"") | F7: =IFERROR(VLOOKUP(C7,参数表!$A:$E,4,0),"")
A8: =COUNTIF($C$1:C8,C8)&C8 -> 0 | D8: =IFERROR(VLOOKUP(C8,参数表!$A:$E,2,0),"") | E8: =IFERROR(VLOOKUP(C8,参数表!$A:$E,3,0),"") | F8: =IFERROR(VLOOKUP(C8,参数表!$A:$E,4,0),"")
A9: =COUNTIF($C$1:C9,C9)&C9 -> 0 | D9: =IFERROR(VLOOKUP(C9,参数表!$A:$E,2,0),"") | E9: =IFERROR(VLOOKUP(C9,参数表!$A:$E,3,0),"") | F9: =IFERROR(VLOOKUP(C9,参数表!$A:$E,4,0),"")
A10: =COUNTIF($C$1:C10,C10)&C10 -> 0 | D10: =IFERROR(VLOOKUP(C10,参数表!$A:$E,2,0),"") | E10: =IFERROR(VLOOKUP(C10,参数表!$A:$E,3,0),"") | F10: =IFERROR(VLOOKUP(C10,参数表!$A:$E,4,0),"")
A11: =COUNTIF($C$1:C11,C11)&C11 -> 0 | D11: =IFERROR(VLOOKUP(C11,参数表!$A:$E,2,0),"") | E11: =IFERROR(VLOOKUP(C11,参数表!$A:$E,3,0),"") | F11: =IFERROR(VLOOKUP(C11,参数表!$A:$E,4,0),"")
A12: =COUNTIF($C$1:C12,C12)&C12 -> 0 | D12: =IFERROR(VLOOKUP(C12,参数表!$A:$E,2,0),"") | E12: =IFERROR(VLOOKUP(C12,参数表!$A:$E,3,0),"") | F12: =IFERROR(VLOOKUP(C12,参数表!$A:$E,4,0),"")
A13: =COUNTIF($C$1:C13,C13)&C13 -> 0 | D13: =IFERROR(VLOOKUP(C13,参数表!$A:$E,2,0),"") | E13: =IFERROR(VLOOKUP(C13,参数表!$A:$E,3,0),"") | F13: =IFERROR(VLOOKUP(C13,参数表!$A:$E,4,0),"")
A14: =COUNTIF($C$1:C14,C14)&C14 -> 0 | D14: =IFERROR(VLOOKUP(C14,参数表!$A:$E,2,0),"") | E14: =IFERROR(VLOOKUP(C14,参数表!$A:$E,3,0),"") | F14: =IFERROR(VLOOKUP(C14,参数表!$A:$E,4,0),"")
... A87: =COUNTIF($C$1:C87,C87)&C87 -> 0 | D87: =IFERROR(VLOOKUP(C87,参数表!$A:$E,2,0),"") | E87: =IFERROR(VLOOKUP(C87,参数表!$A:$E,3,0),"") | F87: =IFERROR(VLOOKUP(C87,参数表!$A:$E,4,0),"")
A88: =COUNTIF($C$1:C87,C2)&C2 -> 1A0001 | D88: =IFERROR(VLOOKUP(C88,参数表!$A:$E,2,0),"") | E88: =IFERROR(VLOOKUP(C88,参数表!$A:$E,3,0),"") | F88: =IFERROR(VLOOKUP(C88,参数表!$A:$E,4,0),"")
A89: =COUNTIF($C$1:C89,C89)&C89 -> 0 | D89: =IFERROR(VLOOKUP(C89,参数表!$A:$E,2,0),"") | E89: =IFERROR(VLOOKUP(C89,参数表!$A:$E,3,0),"") | F89: =IFERROR(VLOOKUP(C89,参数表!$A:$E,4,0),"")
A90: =COUNTIF($C$1:C90,C90)&C90 -> 0 | D90: =IFERROR(VLOOKUP(C90,参数表!$A:$E,2,0),"") | E90: =IFERROR(VLOOKUP(C90,参数表!$A:$E,3,0),"") | F90: =IFERROR(VLOOKUP(C90,参数表!$A:$E,4,0),"")
A91: =COUNTIF($C$1:C91,C91)&C91 -> 0 | D91: =IFERROR(VLOOKUP(C91,参数表!$A:$E,2,0),"") | E91: =IFERROR(VLOOKUP(C91,参数表!$A:$E,3,0),"") | F91: =IFERROR(VLOOKUP(C91,参数表!$A:$E,4,0),"")
A92: =COUNTIF($C$1:C92,C92)&C92 -> 0 | D92: =IFERROR(VLOOKUP(C92,参数表!$A:$E,2,0),"") | E92: =IFERROR(VLOOKUP(C92,参数表!$A:$E,3,0),"") | F92: =IFERROR(VLOOKUP(C92,参数表!$A:$E,4,0),"")
A93: =COUNTIF($C$1:C93,C93)&C93 -> 0 | D93: =IFERROR(VLOOKUP(C93,参数表!$A:$E,2,0),"") | E93: =IFERROR(VLOOKUP(C93,参数表!$A:$E,3,0),"") | F93: =IFERROR(VLOOKUP(C93,参数表!$A:$E,4,0),"")
A94: =COUNTIF($C$1:C94,C94)&C94 -> 0 | D94: =IFERROR(VLOOKUP(C94,参数表!$A:$E,2,0),"") | E94: =IFERROR(VLOOKUP(C94,参数表!$A:$E,3,0),"") | F94: =IFERROR(VLOOKUP(C94,参数表!$A:$E,4,0),"")
A95: =COUNTIF($C$1:C95,C95)&C95 -> 0 | D95: =IFERROR(VLOOKUP(C95,参数表!$A:$E,2,0),"") | E95: =IFERROR(VLOOKUP(C95,参数表!$A:$E,3,0),"") | F95: =IFERROR(VLOOKUP(C95,参数表!$A:$E,4,0),"")
A96: =COUNTIF($C$1:C96,C96)&C96 -> 0 | D96: =IFERROR(VLOOKUP(C96,参数表!$A:$E,2,0),"") | E96: =IFERROR(VLOOKUP(C96,参数表!$A:$E,3,0),"") | F96: =IFERROR(VLOOKUP(C96,参数表!$A:$E,4,0),"")
A97: =COUNTIF($C$1:C97,C97)&C97 -> 0 | D97: =IFERROR(VLOOKUP(C97,参数表!$A:$E,2,0),"") | E97: =IFERROR(VLOOKUP(C97,参数表!$A:$E,3,0),"") | F97: =IFERROR(VLOOKUP(C97,参数表!$A:$E,4,0),"")
A98: =COUNTIF($C$1:C98,C98)&C98 -> 0 | D98: =IFERROR(VLOOKUP(C98,参数表!$A:$E,2,0),"") | E98: =IFERROR(VLOOKUP(C98,参数表!$A:$E,3,0),"") | F98: =IFERROR(VLOOKUP(C98,参数表!$A:$E,4,0),"")
A99: =COUNTIF($C$1:C99,C99)&C99 -> 0 | D99: =IFERROR(VLOOKUP(C99,参数表!$A:$E,2,0),"") | E99: =IFERROR(VLOOKUP(C99,参数表!$A:$E,3,0),"") | F99: =IFERROR(VLOOKUP(C99,参数表!$A:$E,4,0),"")
A100: =COUNTIF($C$1:C100,C100)&C100 -> 0 | D100: =IFERROR(VLOOKUP(C100,参数表!$A:$E,2,0),"") | E100: =IFERROR(VLOOKUP(C100,参数表!$A:$E,3,0),"") | F100: =IFERROR(VLOOKUP(C100,参数表!$A:$E,4,0),"")
... A9017: =COUNTIF($C$1:C9017,C9017)&C9017 -> 0 | D9017: =IFERROR(VLOOKUP(C9017,参数表!$A:$E,2,0),"") | E9017: =IFERROR(VLOOKUP(C9017,参数表!$A:$E,3,0),"") | F9017: =IFERROR(VLOOKUP(C9017,参数表!$A:$E,4,0),"")
D9018: =IFERROR(VLOOKUP(C9018,参数表!$A:$E,2,0),"") | E9018: =IFERROR(VLOOKUP(C9018,参数表!$A:$E,3,0),"") | F9018: =IFERROR(VLOOKUP(C9018,参数表!$A:$E,4,0),"")
D9019: =IFERROR(VLOOKUP(C9019,参数表!$A:$E,2,0),"") | E9019: =IFERROR(VLOOKUP(C9019,参数表!$A:$E,3,0),"") | F9019: =IFERROR(VLOOKUP(C9019,参数表!$A:$E,4,0),"")
D9020: =IFERROR(VLOOKUP(C9020,参数表!$A:$E,2,0),"") | E9020: =IFERROR(VLOOKUP(C9020,参数表!$A:$E,3,0),"") | F9020: =IFERROR(VLOOKUP(C9020,参数表!$A:$E,4,0),"")
D9021: =IFERROR(VLOOKUP(C9021,参数表!$A:$E,2,0),"") | E9021: =IFERROR(VLOOKUP(C9021,参数表!$A:$E,3,0),"") | F9021: =IFERROR(VLOOKUP(C9021,参数表!$A:$E,4,0),"")
D9022: =IFERROR(VLOOKUP(C9022,参数表!$A:$E,2,0),"") | E9022: =IFERROR(VLOOKUP(C9022,参数表!$A:$E,3,0),"") | F9022: =IFERROR(VLOOKUP(C9022,参数表!$A:$E,4,0),"")
D9023: =IFERROR(VLOOKUP(C9023,参数表!$A:$E,2,0),"") | E9023: =IFERROR(VLOOKUP(C9023,参数表!$A:$E,3,0),"") | F9023: =IFERROR(VLOOKUP(C9023,参数表!$A:$E,4,0),"")
D9024: =IFERROR(VLOOKUP(C9024,参数表!$A:$E,2,0),"") | E9024: =IFERROR(VLOOKUP(C9024,参数表!$A:$E,3,0),"") | F9024: =IFERROR(VLOOKUP(C9024,参数表!$A:$E,4,0),"")
D9025: =IFERROR(VLOOKUP(C9025,参数表!$A:$E,2,0),"") | E9025: =IFERROR(VLOOKUP(C9025,参数表!$A:$E,3,0),"") | F9025: =IFERROR(VLOOKUP(C9025,参数表!$A:$E,4,0),"")
D9026: =IFERROR(VLOOKUP(C9026,参数表!$A:$E,2,0),"") | E9026: =IFERROR(VLOOKUP(C9026,参数表!$A:$E,3,0),"") | F9026: =IFERROR(VLOOKUP(C9026,参数表!$A:$E,4,0),"")
D9027: =IFERROR(VLOOKUP(C9027,参数表!$A:$E,2,0),"") | E9027: =IFERROR(VLOOKUP(C9027,参数表!$A:$E,3,0),"") | F9027: =IFERROR(VLOOKUP(C9027,参数表!$A:$E,4,0),"")
D9028: =IFERROR(VLOOKUP(C9028,参数表!$A:$E,2,0),"") | E9028: =IFERROR(VLOOKUP(C9028,参数表!$A:$E,3,0),"") | F9028: =IFERROR(VLOOKUP(C9028,参数表!$A:$E,4,0),"")
...

Sheet 产品库存统计
A1: 辅助列 | B1: 产品编码 | C1: 类别 | D1: 产品名称 | E1: 产品规格 | F1: 存放位置 | G1: 期初库存 | H1: 入库数量 | I1: 出库数量 | J1: 库存数量 | K1: 最低库存 | L1: 是否达低于最低库存
A2: =COUNTIF($L$1:L2,L2)&L2 -> 1是 | B2: A0001 | C2: =IFERROR(VLOOKUP(B2,参数表!A:D,2,0),"") -> A | D2: =IFERROR(VLOOKUP(B2,参数表!A:D,3,0),"") -> AA | E2: =IFERROR(VLOOKUP(B2,参数表!A:D,4,0),"") -> AAA | F2: =IFERROR(VLOOKUP(B2,参数表!A:E,5,0),"") -> 1 | H2: =SUMIFS(入库记录!G:G,入库记录!C:C,B2) -> 0 | I2: =SUMIFS(出库记录!G:G,出库记录!C:C,B2) -> 4 | J2: =G2+H2-I2 -> -4 | K2: 2 | L2: =IF(J2="","",IF(J2<K2,"是","否")) -> 是
A3: =COUNTIF($L$1:L3,L3)&L3 -> 2是 | B3: A0002 | C3: =IFERROR(VLOOKUP(B3,参数表!A:D,2,0),"") | D3: =IFERROR(VLOOKUP(B3,参数表!A:D,3,0),"") | E3: =IFERROR(VLOOKUP(B3,参数表!A:D,4,0),"") | F3: =IFERROR(VLOOKUP(B3,参数表!A:E,5,0),"") | H3: =SUMIFS(入库记录!G:G,入库记录!C:C,B3) -> 0 | I3: =SUMIFS(出库记录!G:G,出库记录!C:C,B3) -> 0 | J3: =G3+H3-I3 -> 0 | K3: 3 | L3: =IF(J3="","",IF(J3<K3,"是","否")) -> 是
A4: =COUNTIF($L$1:L4,L4)&L4 -> 3是 | B4: A0003 | C4: =IFERROR(VLOOKUP(B4,参数表!A:D,2,0),"") | D4: =IFERROR(VLOOKUP(B4,参数表!A:D,3,0),"") | E4: =IFERROR(VLOOKUP(B4,参数表!A:D,4,0),"") | F4: =IFERROR(VLOOKUP(B4,参数表!A:E,5,0),"") | H4: =SUMIFS(入库记录!G:G,入库记录!C:C,B4) -> 0 | I4: =SUMIFS(出库记录!G:G,出库记录!C:C,B4) -> 0 | J4: =G4+H4-I4 -> 0 | K4: 4 | L4: =IF(J4="","",IF(J4<K4,"是","否")) -> 是
A5: =COUNTIF($L$1:L5,L5)&L5 -> 1否 | B5: A0004 | C5: =IFERROR(VLOOKUP(B5,参数表!A:D,2,0),"") | D5: =IFERROR(VLOOKUP(B5,参数表!A:D,3,0),"") | E5: =IFERROR(VLOOKUP(B5,参数表!A:D,4,0),"") | F5: =IFERROR(VLOOKUP(B5,参数表!A:E,5,0),"") | H5: =SUMIFS(入库记录!G:G,入库记录!C:C,B5) -> 0 | I5: =SUMIFS(出库记录!G:G,出库记录!C:C,B5) -> 0 | J5: =G5+H5-I5 -> 0 | L5: =IF(J5="","",IF(J5<K5,"是","否")) -> 否
A6: =COUNTIF($L$1:L6,L6)&L6 -> 2否 | B6: A0005 | C6: =IFERROR(VLOOKUP(B6,参数表!A:D,2,0),"") | D6: =IFERROR(VLOOKUP(B6,参数表!A:D,3,0),"") | E6: =IFERROR(VLOOKUP(B6,参数表!A:D,4,0),"") | F6: =IFERROR(VLOOKUP(B6,参数表!A:E,5,0),"") | H6: =SUMIFS(入库记录!G:G,入库记录!C:C,B6) -> 0 | I6: =SUMIFS(出库记录!G:G,出库记录!C:C,B6) -> 0 | J6: =G6+H6-I6 -> 0 | L6: =IF(J6="","",IF(J6<K6,"是","否")) -> 否
A7: =COUNTIF($L$1:L7,L7)&L7 -> 3否 | B7: A0006 | C7: =IFERROR(VLOOKUP(B7,参数表!A:D,2,0),"") | D7: =IFERROR(VLOOKUP(B7,参数表!A:D,3,0),"") | E7: =IFERROR(VLOOKUP(B7,参数表!A:D,4,0),"") | F7: =IFERROR(VLOOKUP(B7,参数表!A:E,5,0),"") | H7: =SUMIFS(入库记录!G:G,入库记录!C:C,B7) -> 0 | I7: =SUMIFS(出库记录!G:G,出库记录!C:C,B7) -> 0 | J7: =G7+H7-I7 -> 0 | L7: =IF(J7="","",IF(J7<K7,"是","否")) -> 否
A8: =COUNTIF($L$1:L8,L8)&L8 -> 4否 | B8: A0007 | C8: =IFERROR(VLOOKUP(B8,参数表!A:D,2,0),"") | D8: =IFERROR(VLOOKUP(B8,参数表!A:D,3,0),"") | E8: =IFERROR(VLOOKUP(B8,参数表!A:D,4,0),"") | F8: =IFERROR(VLOOKUP(B8,参数表!A:E,5,0),"") | H8: =SUMIFS(入库记录!G:G,入库记录!C:C,B8) -> 0 | I8: =SUMIFS(出库记录!G:G,出库记录!C:C,B8) -> 0 | J8: =G8+H8-I8 -> 0 | L8: =IF(J8="","",IF(J8<K8,"是","否")) -> 否
A9: =COUNTIF($L$1:L9,L9)&L9 -> 5否 | B9: A0008 | C9: =IFERROR(VLOOKUP(B9,参数表!A:D,2,0),"") | D9: =IFERROR(VLOOKUP(B9,参数表!A:D,3,0),"") | E9: =IFERROR(VLOOKUP(B9,参数表!A:D,4,0),"") | F9: =IFERROR(VLOOKUP(B9,参数表!A:E,5,0),"") | H9: =SUMIFS(入库记录!G:G,入库记录!C:C,B9) -> 0 | I9: =SUMIFS(出库记录!G:G,出库记录!C:C,B9) -> 0 | J9: =G9+H9-I9 -> 0 | L9: =IF(J9="","",IF(J9<K9,"是","否")) -> 否
A10: =COUNTIF($L$1:L10,L10)&L10 -> 6否 | B10: A0009 | C10: =IFERROR(VLOOKUP(B10,参数表!A:D,2,0),"") | D10: =IFERROR(VLOOKUP(B10,参数表!A:D,3,0),"") | E10: =IFERROR(VLOOKUP(B10,参数表!A:D,4,0),"") | F10: =IFERROR(VLOOKUP(B10,参数表!A:E,5,0),"") | H10: =SUMIFS(入库记录!G:G,入库记录!C:C,B10) -> 0 | I10: =SUMIFS(出库记录!G:G,出库记录!C:C,B10) -> 0 | J10: =G10+H10-I10 -> 0 | L10: =IF(J10="","",IF(J10<K10,"是","否")) -> 否
A11: =COUNTIF($L$1:L11,L11)&L11 -> 7否 | B11: A0010 | C11: =IFERROR(VLOOKUP(B11,参数表!A:D,2,0),"") | D11: =IFERROR(VLOOKUP(B11,参数表!A:D,3,0),"") | E11: =IFERROR(VLOOKUP(B11,参数表!A:D,4,0),"") | F11: =IFERROR(VLOOKUP(B11,参数表!A:E,5,0),"") | H11: =SUMIFS(入库记录!G:G,入库记录!C:C,B11) -> 0 | I11: =SUMIFS(出库记录!G:G,出库记录!C:C,B11) -> 0 | J11: =G11+H11-I11 -> 0 | L11: =IF(J11="","",IF(J11<K11,"是","否")) -> 否
A12: =COUNTIF($L$1:L12,L12)&L12 -> 8否 | B12: A0011 | C12: =IFERROR(VLOOKUP(B12,参数表!A:D,2,0),"") | D12: =IFERROR(VLOOKUP(B12,参数表!A:D,3,0),"") | E12: =IFERROR(VLOOKUP(B12,参数表!A:D,4,0),"") | F12: =IFERROR(VLOOKUP(B12,参数表!A:E,5,0),"") | H12: =SUMIFS(入库记录!G:G,入库记录!C:C,B12) -> 0 | I12: =SUMIFS(出库记录!G:G,出库记录!C:C,B12) -> 0 | J12: =G12+H12-I12 -> 0 | L12: =IF(J12="","",IF(J12<K12,"是","否")) -> 否
A13: =COUNTIF($L$1:L13,L13)&L13 -> 9否 | B13: A0012 | C13: =IFERROR(VLOOKUP(B13,参数表!A:D,2,0),"") | D13: =IFERROR(VLOOKUP(B13,参数表!A:D,3,0),"") | E13: =IFERROR(VLOOKUP(B13,参数表!A:D,4,0),"") | F13: =IFERROR(VLOOKUP(B13,参数表!A:E,5,0),"") | H13: =SUMIFS(入库记录!G:G,入库记录!C:C,B13) -> 0 | I13: =SUMIFS(出库记录!G:G,出库记录!C:C,B13) -> 0 | J13: =G13+H13-I13 -> 0 | L13: =IF(J13="","",IF(J13<K13,"是","否")) -> 否
A14: =COUNTIF($L$1:L14,L14)&L14 -> 10否 | B14: A0013 | C14: =IFERROR(VLOOKUP(B14,参数表!A:D,2,0),"") | D14: =IFERROR(VLOOKUP(B14,参数表!A:D,3,0),"") | E14: =IFERROR(VLOOKUP(B14,参数表!A:D,4,0),"") | F14: =IFERROR(VLOOKUP(B14,参数表!A:E,5,0),"") | H14: =SUMIFS(入库记录!G:G,入库记录!C:C,B14) -> 0 | I14: =SUMIFS(出库记录!G:G,出库记录!C:C,B14) -> 0 | J14: =G14+H14-I14 -> 0 | L14: =IF(J14="","",IF(J14<K14,"是","否")) -> 否
A15: =COUNTIF($L$1:L15,L15)&L15 -> 11否 | B15: A0014 | C15: =IFERROR(VLOOKUP(B15,参数表!A:D,2,0),"") | D15: =IFERROR(VLOOKUP(B15,参数表!A:D,3,0),"") | E15: =IFERROR(VLOOKUP(B15,参数表!A:D,4,0),"") | F15: =IFERROR(VLOOKUP(B15,参数表!A:E,5,0),"") | H15: =SUMIFS(入库记录!G:G,入库记录!C:C,B15) -> 0 | I15: =SUMIFS(出库记录!G:G,出库记录!C:C,B15) -> 0 | J15: =G15+H15-I15 -> 0 | L15: =IF(J15="","",IF(J15<K15,"是","否")) -> 否
A16: =COUNTIF($L$1:L16,L16)&L16 -> 12否 | B16: A0015 | C16: =IFERROR(VLOOKUP(B16,参数表!A:D,2,0),"") | D16: =IFERROR(VLOOKUP(B16,参数表!A:D,3,0),"") | E16: =IFERROR(VLOOKUP(B16,参数表!A:D,4,0),"") | F16: =IFERROR(VLOOKUP(B16,参数表!A:E,5,0),"") | H16: =SUMIFS(入库记录!G:G,入库记录!C:C,B16) -> 0 | I16: =SUMIFS(出库记录!G:G,出库记录!C:C,B16) -> 0 | J16: =G16+H16-I16 -> 0 | L16: =IF(J16="","",IF(J16<K16,"是","否")) -> 否
... A66: =COUNTIF($L$1:L66,L66)&L66 -> 62否 | B66: A0065 | C66: =IFERROR(VLOOKUP(B66,参数表!A:D,2,0),"") | D66: =IFERROR(VLOOKUP(B66,参数表!A:D,3,0),"") | E66: =IFERROR(VLOOKUP(B66,参数表!A:D,4,0),"") | F66: =IFERROR(VLOOKUP(B66,参数表!A:E,5,0),"") | H66: =SUMIFS(入库记录!G:G,入库记录!C:C,B66) -> 0 | I66: =SUMIFS(出库记录!G:G,出库记录!C:C,B66) -> 0 | J66: =G66+H66-I66 -> 0 | L66: =IF(J66="","",IF(J66<K66,"是","否")) -> 否
A67: =COUNTIF($L$1:L66,#REF!)&#REF! -> #REF! | B67: A0066 | C67: =IFERROR(VLOOKUP(B67,参数表!A:D,2,0),"") | D67: =IFERROR(VLOOKUP(B67,参数表!A:D,3,0),"") | E67: =IFERROR(VLOOKUP(B67,参数表!A:D,4,0),"") | F67: =IFERROR(VLOOKUP(B67,参数表!A:E,5,0),"") | H67: =SUMIFS(入库记录!G:G,入库记录!C:C,B67) -> 0 | I67: =SUMIFS(出库记录!G:G,出库记录!C:C,B67) -> 0 | J67: =G67+H67-I67 -> 0 | L67: =IF(J67="","",IF(J67<K67,"是","否")) -> 否
A68: =COUNTIF($L$1:L67,L67)&L67 -> 63否 | B68: A0067 | C68: =IFERROR(VLOOKUP(B68,参数表!A:D,2,0),"") | D68: =IFERROR(VLOOKUP(B68,参数表!A:D,3,0),"") | E68: =IFERROR(VLOOKUP(B68,参数表!A:D,4,0),"") | F68: =IFERROR(VLOOKUP(B68,参数表!A:E,5,0),"") | H68: =SUMIFS(入库记录!G:G,入库记录!C:C,B68) -> 0 | I68: =SUMIFS(出库记录!G:G,出库记录!C:C,B68) -> 0 | J68: =G68+H68-I68 -> 0 | L68: =IF(J68="","",IF(J68<K68,"是","否")) -> 否
A69: =COUNTIF($L$1:L68,L68)&L68 -> 64否 | B69: A0068 | C69: =IFERROR(VLOOKUP(B69,参数表!A:D,2,0),"") | D69: =IFERROR(VLOOKUP(B69,参数表!A:D,3,0),"") | E69: =IFERROR(VLOOKUP(B69,参数表!A:D,4,0),"") | F69: =IFERROR(VLOOKUP(B69,参数表!A:E,5,0),"") | H69: =SUMIFS(入库记录!G:G,入库记录!C:C,B69) -> 0 | I69: =SUMIFS(出库记录!G:G,出库记录!C:C,B69) -> 0 | J69: =G69+H69-I69 -> 0 | L69: =IF(J69="","",IF(J69<K69,"是","否")) -> 否
A70: =COUNTIF($L$1:L69,L69)&L69 -> 65否 | B70: A0069 | C70: =IFERROR(VLOOKUP(B70,参数表!A:D,2,0),"") | D70: =IFERROR(VLOOKUP(B70,参数表!A:D,3,0),"") | E70: =IFERROR(VLOOKUP(B70,参数表!A:D,4,0),"") | F70: =IFERROR(VLOOKUP(B70,参数表!A:E,5,0),"") | H70: =SUMIFS(入库记录!G:G,入库记录!C:C,B70) -> 0 | I70: =SUMIFS(出库记录!G:G,出库记录!C:C,B70) -> 0 | J70: =G70+H70-I70 -> 0 | L70: =IF(J70="","",IF(J70<K70,"是","否")) -> 否
A71: =COUNTIF($L$1:L70,L70)&L70 -> 66否 | B71: A0070 | C71: =IFERROR(VLOOKUP(B71,参数表!A:D,2,0),"") | D71: =IFERROR(VLOOKUP(B71,参数表!A:D,3,0),"") | E71: =IFERROR(VLOOKUP(B71,参数表!A:D,4,0),"") | F71: =IFERROR(VLOOKUP(B71,参数表!A:E,5,0),"") | H71: =SUMIFS(入库记录!G:G,入库记录!C:C,B71) -> 0 | I71: =SUMIFS(出库记录!G:G,出库记录!C:C,B71) -> 0 | J71: =G71+H71-I71 -> 0 | L71: =IF(J71="","",IF(J71<K71,"是","否")) -> 否
A72: =COUNTIF($L$1:L71,L71)&L71 -> 67否 | B72: A0071 | C72: =IFERROR(VLOOKUP(B72,参数表!A:D,2,0),"") | D72: =IFERROR(VLOOKUP(B72,参数表!A:D,3,0),"") | E72: =IFERROR(VLOOKUP(B72,参数表!A:D,4,0),"") | F72: =IFERROR(VLOOKUP(B72,参数表!A:E,5,0),"") | H72: =SUMIFS(入库记录!G:G,入库记录!C:C,B72) -> 0 | I72: =SUMIFS(出库记录!G:G,出库记录!C:C,B72) -> 0 | J72: =G72+H72-I72 -> 0 | L72: =IF(J72="","",IF(J72<K72,"是","否")) -> 否
A73: =COUNTIF($L$1:L72,L72)&L72 -> 68否 | B73: A0072 | C73: =IFERROR(VLOOKUP(B73,参数表!A:D,2,0),"") | D73: =IFERROR(VLOOKUP(B73,参数表!A:D,3,0),"") | E73: =IFERROR(VLOOKUP(B73,参数表!A:D,4,0),"") | F73: =IFERROR(VLOOKUP(B73,参数表!A:E,5,0),"") | H73: =SUMIFS(入库记录!G:G,入库记录!C:C,B73) -> 0 | I73: =SUMIFS(出库记录!G:G,出库记录!C:C,B73) -> 0 | J73: =G73+H73-I73 -> 0 | L73: =IF(J73="","",IF(J73<K73,"是","否")) -> 否
A74: =COUNTIF($L$1:L73,L73)&L73 -> 69否 | B74: A0073 | C74: =IFERROR(VLOOKUP(B74,参数表!A:D,2,0),"") | D74: =IFERROR(VLOOKUP(B74,参数表!A:D,3,0),"") | E74: =IFERROR(VLOOKUP(B74,参数表!A:D,4,0),"") | F74: =IFERROR(VLOOKUP(B74,参数表!A:E,5,0),"") | H74: =SUMIFS(入库记录!G:G,入库记录!C:C,B74) -> 0 | I74: =SUMIFS(出库记录!G:G,出库记录!C:C,B74) -> 0 | J74: =G74+H74-I74 -> 0 | L74: =IF(J74="","",IF(J74<K74,"是","否")) -> 否
A75: =COUNTIF($L$1:L74,L74)&L74 -> 70否 | B75: A0074 | C75: =IFERROR(VLOOKUP(B75,参数表!A:D,2,0),"") | D75: =IFERROR(VLOOKUP(B75,参数表!A:D,3,0),"") | E75: =IFERROR(VLOOKUP(B75,参数表!A:D,4,0),"") | F75: =IFERROR(VLOOKUP(B75,参数表!A:E,5,0),"") | H75: =SUMIFS(入库记录!G:G,入库记录!C:C,B75) -> 0 | I75: =SUMIFS(出库记录!G:G,出库记录!C:C,B75) -> 0 | J75: =G75+H75-I75 -> 0 | L75: =IF(J75="","",IF(J75<K75,"是","否")) -> 否
A76: =COUNTIF($L$1:L75,L75)&L75 -> 71否 | B76: A0075 | C76: =IFERROR(VLOOKUP(B76,参数表!A:D,2,0),"") | D76: =IFERROR(VLOOKUP(B76,参数表!A:D,3,0),"") | E76: =IFERROR(VLOOKUP(B76,参数表!A:D,4,0),"") | F76: =IFERROR(VLOOKUP(B76,参数表!A:E,5,0),"") | H76: =SUMIFS(入库记录!G:G,入库记录!C:C,B76) -> 0 | I76: =SUMIFS(出库记录!G:G,出库记录!C:C,B76) -> 0 | J76: =G76+H76-I76 -> 0 | L76: =IF(J76="","",IF(J76<K76,"是","否")) -> 否
A77: =COUNTIF($L$1:L76,L76)&L76 -> 72否 | B77: A0076 | C77: =IFERROR(VLOOKUP(B77,参数表!A:D,2,0),"") | D77: =IFERROR(VLOOKUP(B77,参数表!A:D,3,0),"") | E77: =IFERROR(VLOOKUP(B77,参数表!A:D,4,0),"") | F77: =IFERROR(VLOOKUP(B77,参数表!A:E,5,0),"") | H77: =SUMIFS(入库记录!G:G,入库记录!C:C,B77) -> 0 | I77: =SUMIFS(出库记录!G:G,出库记录!C:C,B77) -> 0 | J77: =G77+H77-I77 -> 0 | L77: =IF(J77="","",IF(J77<K77,"是","否")) -> 否
A78: =COUNTIF($L$1:L77,L77)&L77 -> 73否 | B78: A0077 | C78: =IFERROR(VLOOKUP(B78,参数表!A:D,2,0),"") | D78: =IFERROR(VLOOKUP(B78,参数表!A:D,3,0),"") | E78: =IFERROR(VLOOKUP(B78,参数表!A:D,4,0),"") | F78: =IFERROR(VLOOKUP(B78,参数表!A:E,5,0),"") | H78: =SUMIFS(入库记录!G:G,入库记录!C:C,B78) -> 0 | I78: =SUMIFS(出库记录!G:G,出库记录!C:C,B78) -> 0 | J78: =G78+H78-I78 -> 0 | L78: =IF(J78="","",IF(J78<K78,"是","否")) -> 否
A79: =COUNTIF($L$1:L78,L78)&L78 -> 74否 | B79: A0078 | C79: =IFERROR(VLOOKUP(B79,参数表!A:D,2,0),"") | D79: =IFERROR(VLOOKUP(B79,参数表!A:D,3,0),"") | E79: =IFERROR(VLOOKUP(B79,参数表!A:D,4,0),"") | F79: =IFERROR(VLOOKUP(B79,参数表!A:E,5,0),"") | H79: =SUMIFS(入库记录!G:G,入库记录!C:C,B79) -> 0 | I79: =SUMIFS(出库记录!G:G,出库记录!C:C,B79) -> 0 | J79: =G79+H79-I79 -> 0 | L79: =IF(J79="","",IF(J79<K79,"是","否")) -> 否
... A201: =COUNTIF($L$1:L200,L200)&L200 -> 196否 | B201: A0200 | C201: =IFERROR(VLOOKUP(B201,参数表!A:D,2,0),"") | D201: =IFERROR(VLOOKUP(B201,参数表!A:D,3,0),"") | E201: =IFERROR(VLOOKUP(B201,参数表!A:D,4,0),"") | F201: =IFERROR(VLOOKUP(B201,参数表!A:E,5,0),"") | H201: =SUMIFS(入库记录!G:G,入库记录!C:C,B201) -> 0 | I201: =SUMIFS(出库记录!G:G,出库记录!C:C,B201) -> 0 | J201: =G201+H201-I201 -> 0 | L201: =IF(J201="","",IF(J201<K201,"是","否")) -> 否
A202: =COUNTIF($L$1:L201,L201)&L201 -> 197否 | C202: =IFERROR(VLOOKUP(B202,参数表!A:D,2,0),"") | D202: =IFERROR(VLOOKUP(B202,参数表!A:D,3,0),"") | E202: =IFERROR(VLOOKUP(B202,参数表!A:D,4,0),"") | F202: =IFERROR(VLOOKUP(B202,参数表!A:E,5,0),"") | H202: =SUMIFS(入库记录!G:G,入库记录!C:C,B202) -> 0 | I202: =SUMIFS(出库记录!G:G,出库记录!C:C,B202) -> 0 | J202: =G202+H202-I202 -> 0 | L202: =IF(J202="","",IF(J202<K202,"是","否")) -> 否
A203: =COUNTIF($L$1:L202,L202)&L202 -> 198否 | C203: =IFERROR(VLOOKUP(B203,参数表!A:D,2,0),"") | D203: =IFERROR(VLOOKUP(B203,参数表!A:D,3,0),"") | E203: =IFERROR(VLOOKUP(B203,参数表!A:D,4,0),"") | F203: =IFERROR(VLOOKUP(B203,参数表!A:E,5,0),"") | H203: =SUMIFS(入库记录!G:G,入库记录!C:C,B203) -> 0 | I203: =SUMIFS(出库记录!G:G,出库记录!C:C,B203) -> 0 | J203: =G203+H203-I203 -> 0 | L203: =IF(J203="","",IF(J203<K203,"是","否")) -> 否
A204: =COUNTIF($L$1:L203,L203)&L203 -> 199否 | C204: =IFERROR(VLOOKUP(B204,参数表!A:D,2,0),"") | D204: =IFERROR(VLOOKUP(B204,参数表!A:D,3,0),"") | E204: =IFERROR(VLOOKUP(B204,参数表!A:D,4,0),"") | F204: =IFERROR(VLOOKUP(B204,参数表!A:E,5,0),"") | H204: =SUMIFS(入库记录!G:G,入库记录!C:C,B204) -> 0 | I204: =SUMIFS(出库记录!G:G,出库记录!C:C,B204) -> 0 | J204: =G204+H204-I204 -> 0 | L204: =IF(J204="","",IF(J204<K204,"是","否")) -> 否
A205: =COUNTIF($L$1:L204,L204)&L204 -> 200否 | C205: =IFERROR(VLOOKUP(B205,参数表!A:D,2,0),"") | D205: =IFERROR(VLOOKUP(B205,参数表!A:D,3,0),"") | E205: =IFERROR(VLOOKUP(B205,参数表!A:D,4,0),"") | F205: =IFERROR(VLOOKUP(B205,参数表!A:E,5,0),"") | H205: =SUMIFS(入库记录!G:G,入库记录!C:C,B205) -> 0 | I205: =SUMIFS(出库记录!G:G,出库记录!C:C,B205) -> 0 | J205: =G205+H205-I205 -> 0 | L205: =IF(J205="","",IF(J205<K205,"是","否")) -> 否
A206: =COUNTIF($L$1:L205,L205)&L205 -> 201否 | C206: =IFERROR(VLOOKUP(B206,参数表!A:D,2,0),"") | D206: =IFERROR(VLOOKUP(B206,参数表!A:D,3,0),"") | E206: =IFERROR(VLOOKUP(B206,参数表!A:D,4,0),"") | F206: =IFERROR(VLOOKUP(B206,参数表!A:E,5,0),"") | H206: =SUMIFS(入库记录!G:G,入库记录!C:C,B206) -> 0 | I206: =SUMIFS(出库记录!G:G,出库记录!C:C,B206) -> 0 | J206: =G206+H206-I206 -> 0 | L206: =IF(J206="","",IF(J206<K206,"是","否")) -> 否
A207: =COUNTIF($L$1:L206,L206)&L206 -> 202否 | C207: =IFERROR(VLOOKUP(B207,参数表!A:D,2,0),"") | D207: =IFERROR(VLOOKUP(B207,参数表!A:D,3,0),"") | E207: =IFERROR(VLOOKUP(B207,参数表!A:D,4,0),"") | F207: =IFERROR(VLOOKUP(B207,参数表!A:E,5,0),"") | H207: =SUMIFS(入库记录!G:G,入库记录!C:C,B207) -> 0 | I207: =SUMIFS(出库记录!G:G,出库记录!C:C,B207) -> 0 | J207: =G207+H207-I207 -> 0 | L207: =IF(J207="","",IF(J207<K207,"是","否")) -> 否
A208: =COUNTIF($L$1:L207,L207)&L207 -> 203否 | C208: =IFERROR(VLOOKUP(B208,参数表!A:D,2,0),"") | D208: =IFERROR(VLOOKUP(B208,参数表!A:D,3,0),"") | E208: =IFERROR(VLOOKUP(B208,参数表!A:D,4,0),"") | F208: =IFERROR(VLOOKUP(B208,参数表!A:E,5,0),"") | H208: =SUMIFS(入库记录!G:G,入库记录!C:C,B208) -> 0 | I208: =SUMIFS(出库记录!G:G,出库记录!C:C,B208) -> 0 | J208: =G208+H208-I208 -> 0 | L208: =IF(J208="","",IF(J208<K208,"是","否")) -> 否
A209: =COUNTIF($L$1:L208,L208)&L208 -> 204否 | C209: =IFERROR(VLOOKUP(B209,参数表!A:D,2,0),"") | D209: =IFERROR(VLOOKUP(B209,参数表!A:D,3,0),"") | E209: =IFERROR(VLOOKUP(B209,参数表!A:D,4,0),"") | F209: =IFERROR(VLOOKUP(B209,参数表!A:E,5,0),"") | H209: =SUMIFS(入库记录!G:G,入库记录!C:C,B209) -> 0 | I209: =SUMIFS(出库记录!G:G,出库记录!C:C,B209) -> 0 | J209: =G209+H209-I209 -> 0 | L209: =IF(J209="","",IF(J209<K209,"是","否")) -> 否
A210: =COUNTIF($L$1:L209,L209)&L209 -> 205否 | C210: =IFERROR(VLOOKUP(B210,参数表!A:D,2,0),"") | D210: =IFERROR(VLOOKUP(B210,参数表!A:D,3,0),"") | E210: =IFERROR(VLOOKUP(B210,参数表!A:D,4,0),"") | F210: =IFERROR(VLOOKUP(B210,参数表!A:E,5,0),"") | H210: =SUMIFS(入库记录!G:G,入库记录!C:C,B210) -> 0 | I210: =SUMIFS(出库记录!G:G,出库记录!C:C,B210) -> 0 | J210: =G210+H210-I210 -> 0 | L210: =IF(J210="","",IF(J210<K210,"是","否")) -> 否
...

Sheet 产品信息查询
A2: 产品编码 | B2: A0001
A4: 产品名称 | B4: 类别 | C4: 产品规格 | D4: 位置 | E4: 入库数量 | F4: 出库数量 | G4: 库存数量 | H4: 最低库存 | I4: 是否低于最低库存
A5: =IFERROR(VLOOKUP(B2,产品库存统计!B:L,2,FALSE),"") -> A | B5: =IFERROR(VLOOKUP(B2,产品库存统计!B:L,3,FALSE),"") -> AA | C5: =IFERROR(VLOOKUP(B2,产品库存统计!B:L,4,FALSE),"") -> AAA | D5: =IFERROR(VLOOKUP(B2,产品库存统计!B:L,5,FALSE),"") -> 1 | E5: =IFERROR(VLOOKUP(B2,产品库存统计!B:L,7,FALSE),"") -> 0 | F5: =IFERROR(VLOOKUP(B2,产品库存统计!B:L,8,FALSE),"") -> 4 | G5: =IFERROR(VLOOKUP(B2,产品库存统计!B:L,9,FALSE),"") -> -4 | H5: =IFERROR(VLOOKUP(B2,产品库存统计!B:L,10,FALSE),"") -> 2 | I5: =IFERROR(VLOOKUP(B2,产品库存统计!B:L,11,FALSE),"") -> 是

Sheet 产品出入库明细查询
B1: 入库记录查询 | K1: 出库记录查询
B2: 请输入产品编码： | E2: A0001 | K2: 请输入产品编码： | N2: A0001
B4: 日期 | C4: 产品编码 | D4: 类别 | E4: 产品名称 | F4: 产品规格 | G4: 数量 | H4: 入库人 | K4: 日期 | L4: 产品编码 | M4: 类别 | N4: 产品名称 | O4: 产品规格 | P4: 数量 | Q4: 出库人
A5: {=IFERROR(INDEX(入库记录!A:A,LARGE(IF(入库记录!$C$2:$C$9000=$E$2,ROW($2:$9000),""),ROW(A1)))&"","")} -> 1A0001 | B5: =IF(A5="","",VLOOKUP(A5,入库记录!A:H,2,FALSE)) -> 0 | C5: =IF(A5="","",VLOOKUP(A5,入库记录!A:H,3,FALSE)) -> A0001 | D5: =IF(A5="","",VLOOKUP(A5,入库记录!A:H,4,FALSE)) -> A | E5: =IF(A5="","",VLOOKUP(A5,入库记录!A:H,5,FALSE)) -> AA | F5: =IF(A5="","",VLOOKUP(A5,入库记录!A:H,6,FALSE)) -> AAA | G5: =IF(A5="","",VLOOKUP(A5,入库记录!A:H,7,FALSE)) -> 0 | H5: =IF(A5="","",VLOOKUP(A5,入库记录!A:H,8,FALSE)) -> 0 | J5: {=IFERROR(INDEX(出库记录!A:A,LARGE(IF(出库记录!$C$2:$C$9000=$N$2,ROW($2:$9000),""),ROW(A1)))&"","")} -> 1A0001 | K5: =IF(J5="","",VLOOKUP(J5,出库记录!A:H,2,FALSE)) -> 43466 | L5: =IF(J5="","",VLOOKUP(J5,出库记录!A:H,3,FALSE)) -> A0001 | M5: =IF(J5="","",VLOOKUP(J5,出库记录!A:H,4,FALSE)) -> A | N5: =IF(J5="","",VLOOKUP(J5,出库记录!A:H,5,FALSE)) -> AA | O5: =IF(J5="","",VLOOKUP(J5,出库记录!A:H,6,FALSE)) -> AAA | P5: =IF(J5="","",VLOOKUP(J5,出库记录!A:H,7,FALSE)) -> 4 | Q5: =IF(J5="","",VLOOKUP(J5,出库记录!A:H,8,FALSE)) -> 大熊猫
A6: {=IFERROR(INDEX(入库记录!A:A,LARGE(IF(入库记录!$C$2:$C$9000=$E$2,ROW($2:$9000),""),ROW(A2)))&"","")} | B6: =IF(A6="","",VLOOKUP(A6,入库记录!A:H,2,FALSE)) | C6: =IF(A6="","",VLOOKUP(A6,入库记录!A:H,3,FALSE)) | D6: =IF(A6="","",VLOOKUP(A6,入库记录!A:H,4,FALSE)) | E6: =IF(A6="","",VLOOKUP(A6,入库记录!A:H,5,FALSE)) | F6: =IF(A6="","",VLOOKUP(A6,入库记录!A:H,6,FALSE)) | G6: =IF(A6="","",VLOOKUP(A6,入库记录!A:H,7,FALSE)) | H6: =IF(A6="","",VLOOKUP(A6,入库记录!A:H,8,FALSE)) | J6: {=IFERROR(INDEX(出库记录!A:A,LARGE(IF(出库记录!$C$2:$C$9000=$N$2,ROW($2:$9000),""),ROW(A2)))&"","")} | K6: =IF(J6="","",VLOOKUP(J6,出库记录!A:H,2,FALSE)) | L6: =IF(J6="","",VLOOKUP(J6,出库记录!A:H,3,FALSE)) | M6: =IF(J6="","",VLOOKUP(J6,出库记录!A:H,4,FALSE)) | N6: =IF(J6="","",VLOOKUP(J6,出库记录!A:H,5,FALSE)) | O6: =IF(J6="","",VLOOKUP(J6,出库记录!A:H,6,FALSE)) | P6: =IF(J6="","",VLOOKUP(J6,出库记录!A:H,7,FALSE)) | Q6: =IF(J6="","",VLOOKUP(J6,出库记录!A:H,8,FALSE))
A7: {=IFERROR(INDEX(入库记录!A:A,LARGE(IF(入库记录!$C$2:$C$9000=$E$2,ROW($2:$9000),""),ROW(A3)))&"","")} | B7: =IF(A7="","",VLOOKUP(A7,入库记录!A:H,2,FALSE)) | C7: =IF(A7="","",VLOOKUP(A7,入库记录!A:H,3,FALSE)) | D7: =IF(A7="","",VLOOKUP(A7,入库记录!A:H,4,FALSE)) | E7: =IF(A7="","",VLOOKUP(A7,入库记录!A:H,5,FALSE)) | F7: =IF(A7="","",VLOOKUP(A7,入库记录!A:H,6,FALSE)) | G7: =IF(A7="","",VLOOKUP(A7,入库记录!A:H,7,FALSE)) | H7: =IF(A7="","",VLOOKUP(A7,入库记录!A:H,8,FALSE)) | J7: {=IFERROR(INDEX(出库记录!A:A,LARGE(IF(出库记录!$C$2:$C$9000=$N$2,ROW($2:$9000),""),ROW(A3)))&"","")} | K7: =IF(J7="","",VLOOKUP(J7,出库记录!A:H,2,FALSE)) | L7: =IF(J7="","",VLOOKUP(J7,出库记录!A:H,3,FALSE)) | M7: =IF(J7="","",VLOOKUP(J7,出库记录!A:H,4,FALSE)) | N7: =IF(J7="","",VLOOKUP(J7,出库记录!A:H,5,FALSE)) | O7: =IF(J7="","",VLOOKUP(J7,出库记录!A:H,6,FALSE)) | P7: =IF(J7="","",VLOOKUP(J7,出库记录!A:H,7,FALSE)) | Q7: =IF(J7="","",VLOOKUP(J7,出库记录!A:H,8,FALSE))
A8: {=IFERROR(INDEX(入库记录!A:A,LARGE(IF(入库记录!$C$2:$C$9000=$E$2,ROW($2:$9000),""),ROW(A4)))&"","")} | B8: =IF(A8="","",VLOOKUP(A8,入库记录!A:H,2,FALSE)) | C8: =IF(A8="","",VLOOKUP(A8,入库记录!A:H,3,FALSE)) | D8: =IF(A8="","",VLOOKUP(A8,入库记录!A:H,4,FALSE)) | E8: =IF(A8="","",VLOOKUP(A8,入库记录!A:H,5,FALSE)) | F8: =IF(A8="","",VLOOKUP(A8,入库记录!A:H,6,FALSE)) | G8: =IF(A8="","",VLOOKUP(A8,入库记录!A:H,7,FALSE)) | H8: =IF(A8="","",VLOOKUP(A8,入库记录!A:H,8,FALSE)) | J8: {=IFERROR(INDEX(出库记录!A:A,LARGE(IF(出库记录!$C$2:$C$9000=$N$2,ROW($2:$9000),""),ROW(A4)))&"","")} | K8: =IF(J8="","",VLOOKUP(J8,出库记录!A:H,2,FALSE)) | L8: =IF(J8="","",VLOOKUP(J8,出库记录!A:H,3,FALSE)) | M8: =IF(J8="","",VLOOKUP(J8,出库记录!A:H,4,FALSE)) | N8: =IF(J8="","",VLOOKUP(J8,出库记录!A:H,5,FALSE)) | O8: =IF(J8="","",VLOOKUP(J8,出库记录!A:H,6,FALSE)) | P8: =IF(J8="","",VLOOKUP(J8,出库记录!A:H,7,FALSE)) | Q8: =IF(J8="","",VLOOKUP(J8,出库记录!A:H,8,FALSE))
A9: {=IFERROR(INDEX(入库记录!A:A,LARGE(IF(入库记录!$C$2:$C$9000=$E$2,ROW($2:$9000),""),ROW(A5)))&"","")} | B9: =IF(A9="","",VLOOKUP(A9,入库记录!A:H,2,FALSE)) | C9: =IF(A9="","",VLOOKUP(A9,入库记录!A:H,3,FALSE)) | D9: =IF(A9="","",VLOOKUP(A9,入库记录!A:H,4,FALSE)) | E9: =IF(A9="","",VLOOKUP(A9,入库记录!A:H,5,FALSE)) | F9: =IF(A9="","",VLOOKUP(A9,入库记录!A:H,6,FALSE)) | G9: =IF(A9="","",VLOOKUP(A9,入库记录!A:H,7,FALSE)) | H9: =IF(A9="","",VLOOKUP(A9,入库记录!A:H,8,FALSE)) | J9: {=IFERROR(INDEX(出库记录!A:A,LARGE(IF(出库记录!$C$2:$C$9000=$N$2,ROW($2:$9000),""),ROW(A5)))&"","")} | K9: =IF(J9="","",VLOOKUP(J9,出库记录!A:H,2,FALSE)) | L9: =IF(J9="","",VLOOKUP(J9,出库记录!A:H,3,FALSE)) | M9: =IF(J9="","",VLOOKUP(J9,出库记录!A:H,4,FALSE)) | N9: =IF(J9="","",VLOOKUP(J9,出库记录!A:H,5,FALSE)) | O9: =IF(J9="","",VLOOKUP(J9,出库记录!A:H,6,FALSE)) | P9: =IF(J9="","",VLOOKUP(J9,出库记录!A:H,7,FALSE)) | Q9: =IF(J9="","",VLOOKUP(J9,出库记录!A:H,8,FALSE))
A10: {=IFERROR(INDEX(入库记录!A:A,LARGE(IF(入库记录!$C$2:$C$9000=$E$2,ROW($2:$9000),""),ROW(A6)))&"","")} | B10: =IF(A10="","",VLOOKUP(A10,入库记录!A:H,2,FALSE)) | C10: =IF(A10="","",VLOOKUP(A10,入库记录!A:H,3,FALSE)) | D10: =IF(A10="","",VLOOKUP(A10,入库记录!A:H,4,FALSE)) | E10: =IF(A10="","",VLOOKUP(A10,入库记录!A:H,5,FALSE)) | F10: =IF(A10="","",VLOOKUP(A10,入库记录!A:H,6,FALSE)) | G10: =IF(A10="","",VLOOKUP(A10,入库记录!A:H,7,FALSE)) | H10: =IF(A10="","",VLOOKUP(A10,入库记录!A:H,8,FALSE)) | J10: {=IFERROR(INDEX(出库记录!A:A,LARGE(IF(出库记录!$C$2:$C$9000=$N$2,ROW($2:$9000),""),ROW(A6)))&"","")} | K10: =IF(J10="","",VLOOKUP(J10,出库记录!A:H,2,FALSE)) | L10: =IF(J10="","",VLOOKUP(J10,出库记录!A:H,3,FALSE)) | M10: =IF(J10="","",VLOOKUP(J10,出库记录!A:H,4,FALSE)) | N10: =IF(J10="","",VLOOKUP(J10,出库记录!A:H,5,FALSE)) | O10: =IF(J10="","",VLOOKUP(J10,出库记录!A:H,6,FALSE)) | P10: =IF(J10="","",VLOOKUP(J10,出库记录!A:H,7,FALSE)) | Q10: =IF(J10="","",VLOOKUP(J10,出库记录!A:H,8,FALSE))
A11: {=IFERROR(INDEX(入库记录!A:A,LARGE(IF(入库记录!$C$2:$C$9000=$E$2,ROW($2:$9000),""),ROW(A7)))&"","")} | B11: =IF(A11="","",VLOOKUP(A11,入库记录!A:H,2,FALSE)) | C11: =IF(A11="","",VLOOKUP(A11,入库记录!A:H,3,FALSE)) | D11: =IF(A11="","",VLOOKUP(A11,入库记录!A:H,4,FALSE)) | E11: =IF(A11="","",VLOOKUP(A11,入库记录!A:H,5,FALSE)) | F11: =IF(A11="","",VLOOKUP(A11,入库记录!A:H,6,FALSE)) | G11: =IF(A11="","",VLOOKUP(A11,入库记录!A:H,7,FALSE)) | H11: =IF(A11="","",VLOOKUP(A11,入库记录!A:H,8,FALSE)) | J11: {=IFERROR(INDEX(出库记录!A:A,LARGE(IF(出库记录!$C$2:$C$9000=$N$2,ROW($2:$9000),""),ROW(A7)))&"","")} | K11: =IF(J11="","",VLOOKUP(J11,出库记录!A:H,2,FALSE)) | L11: =IF(J11="","",VLOOKUP(J11,出库记录!A:H,3,FALSE)) | M11: =IF(J11="","",VLOOKUP(J11,出库记录!A:H,4,FALSE)) | N11: =IF(J11="","",VLOOKUP(J11,出库记录!A:H,5,FALSE)) | O11: =IF(J11="","",VLOOKUP(J11,出库记录!A:H,6,FALSE)) | P11: =IF(J11="","",VLOOKUP(J11,出库记录!A:H,7,FALSE)) | Q11: =IF(J11="","",VLOOKUP(J11,出库记录!A:H,8,FALSE))
A12: {=IFERROR(INDEX(入库记录!A:A,LARGE(IF(入库记录!$C$2:$C$9000=$E$2,ROW($2:$9000),""),ROW(A8)))&"","")} | B12: =IF(A12="","",VLOOKUP(A12,入库记录!A:H,2,FALSE)) | C12: =IF(A12="","",VLOOKUP(A12,入库记录!A:H,3,FALSE)) | D12: =IF(A12="","",VLOOKUP(A12,入库记录!A:H,4,FALSE)) | E12: =IF(A12="","",VLOOKUP(A12,入库记录!A:H,5,FALSE)) | F12: =IF(A12="","",VLOOKUP(A12,入库记录!A:H,6,FALSE)) | G12: =IF(A12="","",VLOOKUP(A12,入库记录!A:H,7,FALSE)) | H12: =IF(A12="","",VLOOKUP(A12,入库记录!A:H,8,FALSE)) | J12: {=IFERROR(INDEX(出库记录!A:A,LARGE(IF(出库记录!$C$2:$C$9000=$N$2,ROW($2:$9000),""),ROW(A8)))&"","")} | K12: =IF(J12="","",VLOOKUP(J12,出库记录!A:H,2,FALSE)) | L12: =IF(J12="","",VLOOKUP(J12,出库记录!A:H,3,FALSE)) | M12: =IF(J12="","",VLOOKUP(J12,出库记录!A:H,4,FALSE)) | N12: =IF(J12="","",VLOOKUP(J12,出库记录!A:H,5,FALSE)) | O12: =IF(J12="","",VLOOKUP(J12,出库记录!A:H,6,FALSE)) | P12: =IF(J12="","",VLOOKUP(J12,出库记录!A:H,7,FALSE)) | Q12: =IF(J12="","",VLOOKUP(J12,出库记录!A:H,8,FALSE))
A13: {=IFERROR(INDEX(入库记录!A:A,LARGE(IF(入库记录!$C$2:$C$9000=$E$2,ROW($2:$9000),""),ROW(A9)))&"","")} | B13: =IF(A13="","",VLOOKUP(A13,入库记录!A:H,2,FALSE)) | C13: =IF(A13="","",VLOOKUP(A13,入库记录!A:H,3,FALSE)) | D13: =IF(A13="","",VLOOKUP(A13,入库记录!A:H,4,FALSE)) | E13: =IF(A13="","",VLOOKUP(A13,入库记录!A:H,5,FALSE)) | F13: =IF(A13="","",VLOOKUP(A13,入库记录!A:H,6,FALSE)) | G13: =IF(A13="","",VLOOKUP(A13,入库记录!A:H,7,FALSE)) | H13: =IF(A13="","",VLOOKUP(A13,入库记录!A:H,8,FALSE)) | J13: {=IFERROR(INDEX(出库记录!A:A,LARGE(IF(出库记录!$C$2:$C$9000=$N$2,ROW($2:$9000),""),ROW(A9)))&"","")} | K13: =IF(J13="","",VLOOKUP(J13,出库记录!A:H,2,FALSE)) | L13: =IF(J13="","",VLOOKUP(J13,出库记录!A:H,3,FALSE)) | M13: =IF(J13="","",VLOOKUP(J13,出库记录!A:H,4,FALSE)) | N13: =IF(J13="","",VLOOKUP(J13,出库记录!A:H,5,FALSE)) | O13: =IF(J13="","",VLOOKUP(J13,出库记录!A:H,6,FALSE)) | P13: =IF(J13="","",VLOOKUP(J13,出库记录!A:H,7,FALSE)) | Q13: =IF(J13="","",VLOOKUP(J13,出库记录!A:H,8,FALSE))
A14: {=IFERROR(INDEX(入库记录!A:A,LARGE(IF(入库记录!$C$2:$C$9000=$E$2,ROW($2:$9000),""),ROW(A10)))&"","")} | B14: =IF(A14="","",VLOOKUP(A14,入库记录!A:H,2,FALSE)) | C14: =IF(A14="","",VLOOKUP(A14,入库记录!A:H,3,FALSE)) | D14: =IF(A14="","",VLOOKUP(A14,入库记录!A:H,4,FALSE)) | E14: =IF(A14="","",VLOOKUP(A14,入库记录!A:H,5,FALSE)) | F14: =IF(A14="","",VLOOKUP(A14,入库记录!A:H,6,FALSE)) | G14: =IF(A14="","",VLOOKUP(A14,入库记录!A:H,7,FALSE)) | H14: =IF(A14="","",VLOOKUP(A14,入库记录!A:H,8,FALSE)) | J14: {=IFERROR(INDEX(出库记录!A:A,LARGE(IF(出库记录!$C$2:$C$9000=$N$2,ROW($2:$9000),""),ROW(A10)))&"","")} | K14: =IF(J14="","",VLOOKUP(J14,出库记录!A:H,2,FALSE)) | L14: =IF(J14="","",VLOOKUP(J14,出库记录!A:H,3,FALSE)) | M14: =IF(J14="","",VLOOKUP(J14,出库记录!A:H,4,FALSE)) | N14: =IF(J14="","",VLOOKUP(J14,出库记录!A:H,5,FALSE)) | O14: =IF(J14="","",VLOOKUP(J14,出库记录!A:H,6,FALSE)) | P14: =IF(J14="","",VLOOKUP(J14,出库记录!A:H,7,FALSE)) | Q14: =IF(J14="","",VLOOKUP(J14,出库记录!A:H,8,FALSE))
A15: {=IFERROR(INDEX(入库记录!A:A,LARGE(IF(入库记录!$C$2:$C$9000=$E$2,ROW($2:$9000),""),ROW(A11)))&"","")} | B15: =IF(A15="","",VLOOKUP(A15,入库记录!A:H,2,FALSE)) | C15: =IF(A15="","",VLOOKUP(A15,入库记录!A:H,3,FALSE)) | D15: =IF(A15="","",VLOOKUP(A15,入库记录!A:H,4,FALSE)) | E15: =IF(A15="","",VLOOKUP(A15,入库记录!A:H,5,FALSE)) | F15: =IF(A15="","",VLOOKUP(A15,入库记录!A:H,6,FALSE)) | G15: =IF(A15="","",VLOOKUP(A15,入库记录!A:H,7,FALSE)) | H15: =IF(A15="","",VLOOKUP(A15,入库记录!A:H,8,FALSE)) | J15: {=IFERROR(INDEX(出库记录!A:A,LARGE(IF(出库记录!$C$2:$C$9000=$N$2,ROW($2:$9000),""),ROW(A11)))&"","")} | K15: =IF(J15="","",VLOOKUP(J15,出库记录!A:H,2,FALSE)) | L15: =IF(J15="","",VLOOKUP(J15,出库记录!A:H,3,FALSE)) | M15: =IF(J15="","",VLOOKUP(J15,出库记录!A:H,4,FALSE)) | N15: =IF(J15="","",VLOOKUP(J15,出库记录!A:H,5,FALSE)) | O15: =IF(J15="","",VLOOKUP(J15,出库记录!A:H,6,FALSE)) | P15: =IF(J15="","",VLOOKUP(J15,出库记录!A:H,7,FALSE)) | Q15: =IF(J15="","",VLOOKUP(J15,出库记录!A:H,8,FALSE))
A16: {=IFERROR(INDEX(入库记录!A:A,LARGE(IF(入库记录!$C$2:$C$9000=$E$2,ROW($2:$9000),""),ROW(A12)))&"","")} | B16: =IF(A16="","",VLOOKUP(A16,入库记录!A:H,2,FALSE)) | C16: =IF(A16="","",VLOOKUP(A16,入库记录!A:H,3,FALSE)) | D16: =IF(A16="","",VLOOKUP(A16,入库记录!A:H,4,FALSE)) | E16: =IF(A16="","",VLOOKUP(A16,入库记录!A:H,5,FALSE)) | F16: =IF(A16="","",VLOOKUP(A16,入库记录!A:H,6,FALSE)) | G16: =IF(A16="","",VLOOKUP(A16,入库记录!A:H,7,FALSE)) | H16: =IF(A16="","",VLOOKUP(A16,入库记录!A:H,8,FALSE)) | J16: {=IFERROR(INDEX(出库记录!A:A,LARGE(IF(出库记录!$C$2:$C$9000=$N$2,ROW($2:$9000),""),ROW(A12)))&"","")} | K16: =IF(J16="","",VLOOKUP(J16,出库记录!A:H,2,FALSE)) | L16: =IF(J16="","",VLOOKUP(J16,出库记录!A:H,3,FALSE)) | M16: =IF(J16="","",VLOOKUP(J16,出库记录!A:H,4,FALSE)) | N16: =IF(J16="","",VLOOKUP(J16,出库记录!A:H,5,FALSE)) | O16: =IF(J16="","",VLOOKUP(J16,出库记录!A:H,6,FALSE)) | P16: =IF(J16="","",VLOOKUP(J16,出库记录!A:H,7,FALSE)) | Q16: =IF(J16="","",VLOOKUP(J16,出库记录!A:H,8,FALSE))
... A108: {=IFERROR(INDEX(入库记录!A:A,LARGE(IF(入库记录!$C$2:$C$9000=$E$2,ROW($2:$9000),""),ROW(A104)))&"","")} | B108: =IF(A108="","",VLOOKUP(A108,入库记录!A:H,2,FALSE)) | C108: =IF(A108="","",VLOOKUP(A108,入库记录!A:H,3,FALSE)) | D108: =IF(A108="","",VLOOKUP(A108,入库记录!A:H,4,FALSE)) | E108: =IF(A108="","",VLOOKUP(A108,入库记录!A:H,5,FALSE)) | F108: =IF(A108="","",VLOOKUP(A108,入库记录!A:H,6,FALSE)) | G108: =IF(A108="","",VLOOKUP(A108,入库记录!A:H,7,FALSE)) | H108: =IF(A108="","",VLOOKUP(A108,入库记录!A:H,8,FALSE)) | J108: {=IFERROR(INDEX(出库记录!A:A,LARGE(IF(出库记录!$C$2:$C$9000=$N$2,ROW($2:$9000),""),ROW(A104)))&"","")} | K108: =IF(J108="","",VLOOKUP(J108,出库记录!A:H,2,FALSE)) | L108: =IF(J108="","",VLOOKUP(J108,出库记录!A:H,3,FALSE)) | M108: =IF(J108="","",VLOOKUP(J108,出库记录!A:H,4,FALSE)) | N108: =IF(J108="","",VLOOKUP(J108,出库记录!A:H,5,FALSE)) | O108: =IF(J108="","",VLOOKUP(J108,出库记录!A:H,6,FALSE)) | P108: =IF(J108="","",VLOOKUP(J108,出库记录!A:H,7,FALSE)) | Q108: =IF(J108="","",VLOOKUP(J108,出库记录!A:H,8,FALSE))
A109: {=IFERROR(INDEX(入库记录!A:A,LARGE(IF(入库记录!$C$2:$C$9000=$E$2,ROW($2:$9000),""),ROW(A105)))&"","")} | B109: =IF(A109="","",VLOOKUP(A109,入库记录!A:H,2,FALSE)) | C109: =IF(A109="","",VLOOKUP(A109,入库记录!A:H,3,FALSE)) | D109: =IF(A109="","",VLOOKUP(A109,入库记录!A:H,4,FALSE)) | E109: =IF(A109="","",VLOOKUP(A109,入库记录!A:H,5,FALSE)) | F109: =IF(A109="","",VLOOKUP(A109,入库记录!A:H,6,FALSE)) | G109: =IF(A109="","",VLOOKUP(A109,入库记录!A:H,7,FALSE)) | H109: =IF(A109="","",VLOOKUP(A109,入库记录!A:H,8,FALSE))
A110: {=IFERROR(INDEX(入库记录!A:A,LARGE(IF(入库记录!$C$2:$C$9000=$E$2,ROW($2:$9000),""),ROW(A106)))&"","")} | B110: =IF(A110="","",VLOOKUP(A110,入库记录!A:H,2,FALSE)) | C110: =IF(A110="","",VLOOKUP(A110,入库记录!A:H,3,FALSE)) | D110: =IF(A110="","",VLOOKUP(A110,入库记录!A:H,4,FALSE)) | E110: =IF(A110="","",VLOOKUP(A110,入库记录!A:H,5,FALSE)) | F110: =IF(A110="","",VLOOKUP(A110,入库记录!A:H,6,FALSE)) | G110: =IF(A110="","",VLOOKUP(A110,入库记录!A:H,7,FALSE)) | H110: =IF(A110="","",VLOOKUP(A110,入库记录!A:H,8,FALSE))
A111: {=IFERROR(INDEX(入库记录!A:A,LARGE(IF(入库记录!$C$2:$C$9000=$E$2,ROW($2:$9000),""),ROW(A107)))&"","")} | B111: =IF(A111="","",VLOOKUP(A111,入库记录!A:H,2,FALSE)) | C111: =IF(A111="","",VLOOKUP(A111,入库记录!A:H,3,FALSE)) | D111: =IF(A111="","",VLOOKUP(A111,入库记录!A:H,4,FALSE)) | E111: =IF(A111="","",VLOOKUP(A111,入库记录!A:H,5,FALSE)) | F111: =IF(A111="","",VLOOKUP(A111,入库记录!A:H,6,FALSE)) | G111: =IF(A111="","",VLOOKUP(A111,入库记录!A:H,7,FALSE)) | H111: =IF(A111="","",VLOOKUP(A111,入库记录!A:H,8,FALSE))
A112: {=IFERROR(INDEX(入库记录!A:A,LARGE(IF(入库记录!$C$2:$C$9000=$E$2,ROW($2:$9000),""),ROW(A108)))&"","")} | B112: =IF(A112="","",VLOOKUP(A112,入库记录!A:H,2,FALSE)) | C112: =IF(A112="","",VLOOKUP(A112,入库记录!A:H,3,FALSE)) | D112: =IF(A112="","",VLOOKUP(A112,入库记录!A:H,4,FALSE)) | E112: =IF(A112="","",VLOOKUP(A112,入库记录!A:H,5,FALSE)) | F112: =IF(A112="","",VLOOKUP(A112,入库记录!A:H,6,FALSE)) | G112: =IF(A112="","",VLOOKUP(A112,入库记录!A:H,7,FALSE)) | H112: =IF(A112="","",VLOOKUP(A112,入库记录!A:H,8,FALSE))
A113: {=IFERROR(INDEX(入库记录!A:A,LARGE(IF(入库记录!$C$2:$C$9000=$E$2,ROW($2:$9000),""),ROW(A109)))&"","")} | B113: =IF(A113="","",VLOOKUP(A113,入库记录!A:H,2,FALSE)) | C113: =IF(A113="","",VLOOKUP(A113,入库记录!A:H,3,FALSE)) | D113: =IF(A113="","",VLOOKUP(A113,入库记录!A:H,4,FALSE)) | E113: =IF(A113="","",VLOOKUP(A113,入库记录!A:H,5,FALSE)) | F113: =IF(A113="","",VLOOKUP(A113,入库记录!A:H,6,FALSE)) | G113: =IF(A113="","",VLOOKUP(A113,入库记录!A:H,7,FALSE)) | H113: =IF(A113="","",VLOOKUP(A113,入库记录!A:H,8,FALSE))
A114: {=IFERROR(INDEX(入库记录!A:A,LARGE(IF(入库记录!$C$2:$C$9000=$E$2,ROW($2:$9000),""),ROW(A110)))&"","")} | B114: =IF(A114="","",VLOOKUP(A114,入库记录!A:H,2,FALSE)) | C114: =IF(A114="","",VLOOKUP(A114,入库记录!A:H,3,FALSE)) | D114: =IF(A114="","",VLOOKUP(A114,入库记录!A:H,4,FALSE)) | E114: =IF(A114="","",VLOOKUP(A114,入库记录!A:H,5,FALSE)) | F114: =IF(A114="","",VLOOKUP(A114,入库记录!A:H,6,FALSE)) | G114: =IF(A114="","",VLOOKUP(A114,入库记录!A:H,7,FALSE)) | H114: =IF(A114="","",VLOOKUP(A114,入库记录!A:H,8,FALSE))
A115: {=IFERROR(INDEX(入库记录!A:A,LARGE(IF(入库记录!$C$2:$C$9000=$E$2,ROW($2:$9000),""),ROW(A111)))&"","")} | B115: =IF(A115="","",VLOOKUP(A115,入库记录!A:H,2,FALSE)) | C115: =IF(A115="","",VLOOKUP(A115,入库记录!A:H,3,FALSE)) | D115: =IF(A115="","",VLOOKUP(A115,入库记录!A:H,4,FALSE)) | E115: =IF(A115="","",VLOOKUP(A115,入库记录!A:H,5,FALSE)) | F115: =IF(A115="","",VLOOKUP(A115,入库记录!A:H,6,FALSE)) | G115: =IF(A115="","",VLOOKUP(A115,入库记录!A:H,7,FALSE)) | H115: =IF(A115="","",VLOOKUP(A115,入库记录!A:H,8,FALSE))
A116: {=IFERROR(INDEX(入库记录!A:A,LARGE(IF(入库记录!$C$2:$C$9000=$E$2,ROW($2:$9000),""),ROW(A112)))&"","")} | B116: =IF(A116="","",VLOOKUP(A116,入库记录!A:H,2,FALSE)) | C116: =IF(A116="","",VLOOKUP(A116,入库记录!A:H,3,FALSE)) | D116: =IF(A116="","",VLOOKUP(A116,入库记录!A:H,4,FALSE)) | E116: =IF(A116="","",VLOOKUP(A116,入库记录!A:H,5,FALSE)) | F116: =IF(A116="","",VLOOKUP(A116,入库记录!A:H,6,FALSE)) | G116: =IF(A116="","",VLOOKUP(A116,入库记录!A:H,7,FALSE)) | H116: =IF(A116="","",VLOOKUP(A116,入库记录!A:H,8,FALSE))
A117: {=IFERROR(INDEX(入库记录!A:A,LARGE(IF(入库记录!$C$2:$C$9000=$E$2,ROW($2:$9000),""),ROW(A113)))&"","")} | B117: =IF(A117="","",VLOOKUP(A117,入库记录!A:H,2,FALSE)) | C117: =IF(A117="","",VLOOKUP(A117,入库记录!A:H,3,FALSE)) | D117: =IF(A117="","",VLOOKUP(A117,入库记录!A:H,4,FALSE)) | E117: =IF(A117="","",VLOOKUP(A117,入库记录!A:H,5,FALSE)) | F117: =IF(A117="","",VLOOKUP(A117,入库记录!A:H,6,FALSE)) | G117: =IF(A117="","",VLOOKUP(A117,入库记录!A:H,7,FALSE)) | H117: =IF(A117="","",VLOOKUP(A117,入库记录!A:H,8,FALSE))
A118: {=IFERROR(INDEX(入库记录!A:A,LARGE(IF(入库记录!$C$2:$C$9000=$E$2,ROW($2:$9000),""),ROW(A114)))&"","")} | B118: =IF(A118="","",VLOOKUP(A118,入库记录!A:H,2,FALSE)) | C118: =IF(A118="","",VLOOKUP(A118,入库记录!A:H,3,FALSE)) | D118: =IF(A118="","",VLOOKUP(A118,入库记录!A:H,4,FALSE)) | E118: =IF(A118="","",VLOOKUP(A118,入库记录!A:H,5,FALSE)) | F118: =IF(A118="","",VLOOKUP(A118,入库记录!A:H,6,FALSE)) | G118: =IF(A118="","",VLOOKUP(A118,入库记录!A:H,7,FALSE)) | H118: =IF(A118="","",VLOOKUP(A118,入库记录!A:H,8,FALSE))
A119: {=IFERROR(INDEX(入库记录!A:A,LARGE(IF(入库记录!$C$2:$C$9000=$E$2,ROW($2:$9000),""),ROW(A115)))&"","")} | B119: =IF(A119="","",VLOOKUP(A119,入库记录!A:H,2,FALSE)) | C119: =IF(A119="","",VLOOKUP(A119,入库记录!A:H,3,FALSE)) | D119: =IF(A119="","",VLOOKUP(A119,入库记录!A:H,4,FALSE)) | E119: =IF(A119="","",VLOOKUP(A119,入库记录!A:H,5,FALSE)) | F119: =IF(A119="","",VLOOKUP(A119,入库记录!A:H,6,FALSE)) | G119: =IF(A119="","",VLOOKUP(A119,入库记录!A:H,7,FALSE)) | H119: =IF(A119="","",VLOOKUP(A119,入库记录!A:H,8,FALSE))
A120: {=IFERROR(INDEX(入库记录!A:A,LARGE(IF(入库记录!$C$2:$C$9000=$E$2,ROW($2:$9000),""),ROW(A116)))&"","")} | B120: =IF(A120="","",VLOOKUP(A120,入库记录!A:H,2,FALSE)) | C120: =IF(A120="","",VLOOKUP(A120,入库记录!A:H,3,FALSE)) | D120: =IF(A120="","",VLOOKUP(A120,入库记录!A:H,4,FALSE)) | E120: =IF(A120="","",VLOOKUP(A120,入库记录!A:H,5,FALSE)) | F120: =IF(A120="","",VLOOKUP(A120,入库记录!A:H,6,FALSE)) | G120: =IF(A120="","",VLOOKUP(A120,入库记录!A:H,7,FALSE)) | H120: =IF(A120="","",VLOOKUP(A120,入库记录!A:H,8,FALSE))
... A131: {=IFERROR(INDEX(入库记录!A:A,LARGE(IF(入库记录!$C$2:$C$9000=$E$2,ROW($2:$9000),""),ROW(A127)))&"","")} | B131: =IF(A131="","",VLOOKUP(A131,入库记录!A:H,2,FALSE)) | C131: =IF(A131="","",VLOOKUP(A131,入库记录!A:H,3,FALSE)) | D131: =IF(A131="","",VLOOKUP(A131,入库记录!A:H,4,FALSE)) | E131: =IF(A131="","",VLOOKUP(A131,入库记录!A:H,5,FALSE)) | F131: =IF(A131="","",VLOOKUP(A131,入库记录!A:H,6,FALSE)) | G131: =IF(A131="","",VLOOKUP(A131,入库记录!A:H,7,FALSE)) | H131: =IF(A131="","",VLOOKUP(A131,入库记录!A:H,8,FALSE))

Sheet 急需购买物资统计
B1: 产品编码 | C1: 产品名称 | D1: 类别 | E1: 产品规格 | F1: 库存数量 | G1: 最低库存 | H1: 最低购买数量
A2: {=IFERROR(INDEX(产品库存统计!A:A,LARGE(IF(产品库存统计!$L$2:$L$9000="是",ROW($2:$9000),""),ROW(A1)))&"","")} -> 3是 | B2: {=IF(A2="","",VLOOKUP(A2,产品库存统计!A:H,2,FALSE))} -> A0003 | C2: =IF(A2="","",VLOOKUP(A2,产品库存统计!A:H,3,FALSE)) | D2: =IF(A2="","",VLOOKUP(A2,产品库存统计!A:H,4,FALSE)) | E2: =IF(A2="","",VLOOKUP(A2,产品库存统计!A:H,5,FALSE)) | F2: =IF(A2="","",VLOOKUP(A2,产品库存统计!A:P,10,FALSE)) -> 0 | G2: =IF(A2="","",VLOOKUP(A2,产品库存统计!A:P,11,FALSE)) -> 4 | H2: =IF(A2="","",G2-F2) -> 4
A3: {=IFERROR(INDEX(产品库存统计!A:A,LARGE(IF(产品库存统计!$L$2:$L$9000="是",ROW($2:$9000),""),ROW(A2)))&"","")} -> 2是 | B3: {=IF(A3="","",VLOOKUP(A3,产品库存统计!A:H,2,FALSE))} -> A0002 | C3: =IF(A3="","",VLOOKUP(A3,产品库存统计!A:H,3,FALSE)) | D3: =IF(A3="","",VLOOKUP(A3,产品库存统计!A:H,4,FALSE)) | E3: =IF(A3="","",VLOOKUP(A3,产品库存统计!A:H,5,FALSE)) | F3: =IF(A3="","",VLOOKUP(A3,产品库存统计!A:P,10,FALSE)) -> 0 | G3: =IF(A3="","",VLOOKUP(A3,产品库存统计!A:P,11,FALSE)) -> 3 | H3: =IF(A3="","",G3-F3) -> 3
A4: {=IFERROR(INDEX(产品库存统计!A:A,LARGE(IF(产品库存统计!$L$2:$L$9000="是",ROW($2:$9000),""),ROW(A3)))&"","")} -> 1是 | B4: {=IF(A4="","",VLOOKUP(A4,产品库存统计!A:H,2,FALSE))} -> A0001 | C4: =IF(A4="","",VLOOKUP(A4,产品库存统计!A:H,3,FALSE)) -> A | D4: =IF(A4="","",VLOOKUP(A4,产品库存统计!A:H,4,FALSE)) -> AA | E4: =IF(A4="","",VLOOKUP(A4,产品库存统计!A:H,5,FALSE)) -> AAA | F4: =IF(A4="","",VLOOKUP(A4,产品库存统计!A:P,10,FALSE)) -> -4 | G4: =IF(A4="","",VLOOKUP(A4,产品库存统计!A:P,11,FALSE)) -> 2 | H4: =IF(A4="","",G4-F4) -> 6
A5: {=IFERROR(INDEX(产品库存统计!A:A,LARGE(IF(产品库存统计!$L$2:$L$9000="是",ROW($2:$9000),""),ROW(A4)))&"","")} | B5: {=IF(A5="","",VLOOKUP(A5,产品库存统计!A:H,2,FALSE))} | C5: =IF(A5="","",VLOOKUP(A5,产品库存统计!A:H,3,FALSE)) | D5: =IF(A5="","",VLOOKUP(A5,产品库存统计!A:H,4,FALSE)) | E5: =IF(A5="","",VLOOKUP(A5,产品库存统计!A:H,5,FALSE)) | F5: =IF(A5="","",VLOOKUP(A5,产品库存统计!A:P,10,FALSE)) | G5: =IF(A5="","",VLOOKUP(A5,产品库存统计!A:P,11,FALSE)) | H5: =IF(A5="","",G5-F5)
A6: {=IFERROR(INDEX(产品库存统计!A:A,LARGE(IF(产品库存统计!$L$2:$L$9000="是",ROW($2:$9000),""),ROW(A5)))&"","")} | B6: {=IF(A6="","",VLOOKUP(A6,产品库存统计!A:H,2,FALSE))} | C6: =IF(A6="","",VLOOKUP(A6,产品库存统计!A:H,3,FALSE)) | D6: =IF(A6="","",VLOOKUP(A6,产品库存统计!A:H,4,FALSE)) | E6: =IF(A6="","",VLOOKUP(A6,产品库存统计!A:H,5,FALSE)) | F6: =IF(A6="","",VLOOKUP(A6,产品库存统计!A:P,10,FALSE)) | G6: =IF(A6="","",VLOOKUP(A6,产品库存统计!A:P,11,FALSE)) | H6: =IF(A6="","",G6-F6)
A7: {=IFERROR(INDEX(产品库存统计!A:A,LARGE(IF(产品库存统计!$L$2:$L$9000="是",ROW($2:$9000),""),ROW(A6)))&"","")} | B7: {=IF(A7="","",VLOOKUP(A7,产品库存统计!A:H,2,FALSE))} | C7: =IF(A7="","",VLOOKUP(A7,产品库存统计!A:H,3,FALSE)) | D7: =IF(A7="","",VLOOKUP(A7,产品库存统计!A:H,4,FALSE)) | E7: =IF(A7="","",VLOOKUP(A7,产品库存统计!A:H,5,FALSE)) | F7: =IF(A7="","",VLOOKUP(A7,产品库存统计!A:P,10,FALSE)) | G7: =IF(A7="","",VLOOKUP(A7,产品库存统计!A:P,11,FALSE)) | H7: =IF(A7="","",G7-F7)
A8: {=IFERROR(INDEX(产品库存统计!A:A,LARGE(IF(产品库存统计!$L$2:$L$9000="是",ROW($2:$9000),""),ROW(A7)))&"","")} | B8: {=IF(A8="","",VLOOKUP(A8,产品库存统计!A:H,2,FALSE))} | C8: =IF(A8="","",VLOOKUP(A8,产品库存统计!A:H,3,FALSE)) | D8: =IF(A8="","",VLOOKUP(A8,产品库存统计!A:H,4,FALSE)) | E8: =IF(A8="","",VLOOKUP(A8,产品库存统计!A:H,5,FALSE)) | F8: =IF(A8="","",VLOOKUP(A8,产品库存统计!A:P,10,FALSE)) | G8: =IF(A8="","",VLOOKUP(A8,产品库存统计!A:P,11,FALSE)) | H8: =IF(A8="","",G8-F8)
A9: {=IFERROR(INDEX(产品库存统计!A:A,LARGE(IF(产品库存统计!$L$2:$L$9000="是",ROW($2:$9000),""),ROW(A8)))&"","")} | B9: {=IF(A9="","",VLOOKUP(A9,产品库存统计!A:H,2,FALSE))} | C9: =IF(A9="","",VLOOKUP(A9,产品库存统计!A:H,3,FALSE)) | D9: =IF(A9="","",VLOOKUP(A9,产品库存统计!A:H,4,FALSE)) | E9: =IF(A9="","",VLOOKUP(A9,产品库存统计!A:H,5,FALSE)) | F9: =IF(A9="","",VLOOKUP(A9,产品库存统计!A:P,10,FALSE)) | G9: =IF(A9="","",VLOOKUP(A9,产品库存统计!A:P,11,FALSE)) | H9: =IF(A9="","",G9-F9)
A10: {=IFERROR(INDEX(产品库存统计!A:A,LARGE(IF(产品库存统计!$L$2:$L$9000="是",ROW($2:$9000),""),ROW(A9)))&"","")} | B10: {=IF(A10="","",VLOOKUP(A10,产品库存统计!A:H,2,FALSE))} | C10: =IF(A10="","",VLOOKUP(A10,产品库存统计!A:H,3,FALSE)) | D10: =IF(A10="","",VLOOKUP(A10,产品库存统计!A:H,4,FALSE)) | E10: =IF(A10="","",VLOOKUP(A10,产品库存统计!A:H,5,FALSE)) | F10: =IF(A10="","",VLOOKUP(A10,产品库存统计!A:P,10,FALSE)) | G10: =IF(A10="","",VLOOKUP(A10,产品库存统计!A:P,11,FALSE)) | H10: =IF(A10="","",G10-F10)
A11: {=IFERROR(INDEX(产品库存统计!A:A,LARGE(IF(产品库存统计!$L$2:$L$9000="是",ROW($2:$9000),""),ROW(A10)))&"","")} | B11: {=IF(A11="","",VLOOKUP(A11,产品库存统计!A:H,2,FALSE))} | C11: =IF(A11="","",VLOOKUP(A11,产品库存统计!A:H,3,FALSE)) | D11: =IF(A11="","",VLOOKUP(A11,产品库存统计!A:H,4,FALSE)) | E11: =IF(A11="","",VLOOKUP(A11,产品库存统计!A:H,5,FALSE)) | F11: =IF(A11="","",VLOOKUP(A11,产品库存统计!A:P,10,FALSE)) | G11: =IF(A11="","",VLOOKUP(A11,产品库存统计!A:P,11,FALSE)) | H11: =IF(A11="","",G11-F11)
A12: {=IFERROR(INDEX(产品库存统计!A:A,LARGE(IF(产品库存统计!$L$2:$L$9000="是",ROW($2:$9000),""),ROW(A11)))&"","")} | B12: {=IF(A12="","",VLOOKUP(A12,产品库存统计!A:H,2,FALSE))} | C12: =IF(A12="","",VLOOKUP(A12,产品库存统计!A:H,3,FALSE)) | D12: =IF(A12="","",VLOOKUP(A12,产品库存统计!A:H,4,FALSE)) | E12: =IF(A12="","",VLOOKUP(A12,产品库存统计!A:H,5,FALSE)) | F12: =IF(A12="","",VLOOKUP(A12,产品库存统计!A:P,10,FALSE)) | G12: =IF(A12="","",VLOOKUP(A12,产品库存统计!A:P,11,FALSE)) | H12: =IF(A12="","",G12-F12)
A13: {=IFERROR(INDEX(产品库存统计!A:A,LARGE(IF(产品库存统计!$L$2:$L$9000="是",ROW($2:$9000),""),ROW(A12)))&"","")} | B13: {=IF(A13="","",VLOOKUP(A13,产品库存统计!A:H,2,FALSE))} | C13: =IF(A13="","",VLOOKUP(A13,产品库存统计!A:H,3,FALSE)) | D13: =IF(A13="","",VLOOKUP(A13,产品库存统计!A:H,4,FALSE)) | E13: =IF(A13="","",VLOOKUP(A13,产品库存统计!A:H,5,FALSE)) | F13: =IF(A13="","",VLOOKUP(A13,产品库存统计!A:P,10,FALSE)) | G13: =IF(A13="","",VLOOKUP(A13,产品库存统计!A:P,11,FALSE)) | H13: =IF(A13="","",G13-F13)
... A102: {=IFERROR(INDEX(产品库存统计!A:A,LARGE(IF(产品库存统计!$L$2:$L$9000="是",ROW($2:$9000),""),ROW(A101)))&"","")} | B102: {=IF(A102="","",VLOOKUP(A102,产品库存统计!A:H,2,FALSE))} | C102: =IF(A102="","",VLOOKUP(A102,产品库存统计!A:H,3,FALSE)) | D102: =IF(A102="","",VLOOKUP(A102,产品库存统计!A:H,4,FALSE)) | E102: =IF(A102="","",VLOOKUP(A102,产品库存统计!A:H,5,FALSE)) | F102: =IF(A102="","",VLOOKUP(A102,产品库存统计!A:P,10,FALSE)) | G102: =IF(A102="","",VLOOKUP(A102,产品库存统计!A:P,11,FALSE)) | H102: =IF(A102="","",G102-F102)

Sheet 参数表
A1: 产品编码 | B1: 类别 | C1: 产品名称 | D1: 产品规格 | E1: 存放位置
A2: A0001 | B2: A | C2: AA | D2: AAA | E2: 1

Sheet 使用说明
A1: 使用说明
A2: 1、首先需要在【参数表】中录入各种产品的基础信息：产品编码、类别、产品名称、产品规格、存放位置；
A3: 2、然后在【入库记录】中录入日期、产品编码、数量、入库人，其他均可自动显示；
A4: 3、在【出库记录】中录入日期、产品编码、数量、出库人，其他均可自动显示；
A5: 4、【产品库存统计】表中，需列出所有产品编码、期初库存（没有期初库存可以不用录入）、最低库存，其他均可自动显示
A6: 5、【产品信息查询】：可根据产品的编码查询出该种产品的全部信息
A7: 6、【产品出入库明细查询】：录入产品编码后，该产品的入库记录和出库记录可自动弹出
A8: 7、【急需购买物资统计】：可以自动显示出所有低于最低库存的产品明细，以及最低购买数量
