Workbook
Name a: [1]销售明细!$P$7:$P$5003

Sheet 使用说明
B2: 使用说明
B3: * 欢迎使用 [进销存管理系统] ，本表用函数制成无需使用宏！
B4: 1 | C4: 表格内有些测试数据，使用前可操作练习下；之后清除测试数据！如修改表格请在：[审阅]-[撤销工作表保护]
B5: 2 | C5: [基础设定]：此处为基础引用数据，请先设定引用的各类数据（商品、供应商和客户）。
B6: 3 | C6: [数据录入]：采购和销售的录入，以及收付款录入。
B7: 4 | C7: [库存情况]：填写期初库存数据；当前库存中可设定安全库存量，低于显示在紧急明细中。
B8: 5 | C8: [账款数据]：自动罗列汇总出应付和应收的数据明细。
B9: 6 | C9: [查询]：采购和销售汇总，以截至时间的方式汇总；以及商品、供应商和客户的查询。
B10: 7 | C10: 谢谢支持！希望你会喜欢！

Sheet 客户应收明细
B2: 辅助列 | C2: ="应收客户明细； 共有"&COUNT(C4:C303)&"条" -> 应收客户明细； 共有3条
B3: =IF(AND(客户应收数据库!G:G>1,客户应收数据库!G:G<>"-"),ROW(),"-") -> 3 | C3: NO: | D3: 公司名称 | E3: 姓名 | F3: 联系电话 | G3: 其它联系方式 | H3: 应收货款
B4: =IF(AND(客户应收数据库!G:G>1,客户应收数据库!G:G<>"-"),ROW(),"-") -> 4 | C4: =IF(D4="","",ROW(B1)) -> 1 | D4: =IFERROR(INDEX(客户应收数据库!$C:$G,SMALL($B:$B,ROW(B2)),MATCH(D$3,$D$3:$H$3,0)),"") -> 安居商贸（客户） | E4: =IFERROR(INDEX(客户应收数据库!$C:$G,SMALL($B:$B,ROW(C2)),MATCH(E$3,$D$3:$H$3,0)),"") -> 陈苗天 | F4: =IFERROR(INDEX(客户应收数据库!$C:$G,SMALL($B:$B,ROW(D2)),MATCH(F$3,$D$3:$H$3,0)),"") -> 13123433441 | G4: =IFERROR(INDEX(客户应收数据库!$C:$G,SMALL($B:$B,ROW(E2)),MATCH(G$3,$D$3:$H$3,0)),"") -> 13123433441@.qq.com | H4: =IFERROR(INDEX(客户应收数据库!$C:$G,SMALL($B:$B,ROW(F2)),MATCH(H$3,$D$3:$H$3,0)),"") -> 10480
B5: =IF(AND(客户应收数据库!G:G>1,客户应收数据库!G:G<>"-"),ROW(),"-") -> 5 | C5: =IF(D5="","",ROW(B2)) -> 2 | D5: =IFERROR(INDEX(客户应收数据库!$C:$G,SMALL($B:$B,ROW(B3)),MATCH(D$3,$D$3:$H$3,0)),"") -> 核心创辉（客户） | E5: =IFERROR(INDEX(客户应收数据库!$C:$G,SMALL($B:$B,ROW(C3)),MATCH(E$3,$D$3:$H$3,0)),"") -> 王昊月 | F5: =IFERROR(INDEX(客户应收数据库!$C:$G,SMALL($B:$B,ROW(D3)),MATCH(F$3,$D$3:$H$3,0)),"") -> 13123433442 | G5: =IFERROR(INDEX(客户应收数据库!$C:$G,SMALL($B:$B,ROW(E3)),MATCH(G$3,$D$3:$H$3,0)),"") -> 13123433442@.qq.com | H5: =IFERROR(INDEX(客户应收数据库!$C:$G,SMALL($B:$B,ROW(F3)),MATCH(H$3,$D$3:$H$3,0)),"") -> 520
B6: =IF(AND(客户应收数据库!G:G>1,客户应收数据库!G:G<>"-"),ROW(),"-") -> 6 | C6: =IF(D6="","",ROW(B3)) -> 3 | D6: =IFERROR(INDEX(客户应收数据库!$C:$G,SMALL($B:$B,ROW(B4)),MATCH(D$3,$D$3:$H$3,0)),"") -> 智慧谷游（客户） | E6: =IFERROR(INDEX(客户应收数据库!$C:$G,SMALL($B:$B,ROW(C4)),MATCH(E$3,$D$3:$H$3,0)),"") -> 张明欣 | F6: =IFERROR(INDEX(客户应收数据库!$C:$G,SMALL($B:$B,ROW(D4)),MATCH(F$3,$D$3:$H$3,0)),"") -> 13123433443 | G6: =IFERROR(INDEX(客户应收数据库!$C:$G,SMALL($B:$B,ROW(E4)),MATCH(G$3,$D$3:$H$3,0)),"") -> 13123433443@.qq.com | H6: =IFERROR(INDEX(客户应收数据库!$C:$G,SMALL($B:$B,ROW(F4)),MATCH(H$3,$D$3:$H$3,0)),"") -> 3000
B7: =IF(AND(客户应收数据库!G:G>1,客户应收数据库!G:G<>"-"),ROW(),"-") -> - | C7: =IF(D7="","",ROW(B4)) | D7: =IFERROR(INDEX(客户应收数据库!$C:$G,SMALL($B:$B,ROW(B5)),MATCH(D$3,$D$3:$H$3,0)),"") | E7: =IFERROR(INDEX(客户应收数据库!$C:$G,SMALL($B:$B,ROW(C5)),MATCH(E$3,$D$3:$H$3,0)),"") | F7: =IFERROR(INDEX(客户应收数据库!$C:$G,SMALL($B:$B,ROW(D5)),MATCH(F$3,$D$3:$H$3,0)),"") | G7: =IFERROR(INDEX(客户应收数据库!$C:$G,SMALL($B:$B,ROW(E5)),MATCH(G$3,$D$3:$H$3,0)),"") | H7: =IFERROR(INDEX(客户应收数据库!$C:$G,SMALL($B:$B,ROW(F5)),MATCH(H$3,$D$3:$H$3,0)),"")
B8: =IF(AND(客户应收数据库!G:G>1,客户应收数据库!G:G<>"-"),ROW(),"-") -> - | C8: =IF(D8="","",ROW(B5)) | D8: =IFERROR(INDEX(客户应收数据库!$C:$G,SMALL($B:$B,ROW(B6)),MATCH(D$3,$D$3:$H$3,0)),"") | E8: =IFERROR(INDEX(客户应收数据库!$C:$G,SMALL($B:$B,ROW(C6)),MATCH(E$3,$D$3:$H$3,0)),"") | F8: =IFERROR(INDEX(客户应收数据库!$C:$G,SMALL($B:$B,ROW(D6)),MATCH(F$3,$D$3:$H$3,0)),"") | G8: =IFERROR(INDEX(客户应收数据库!$C:$G,SMALL($B:$B,ROW(E6)),MATCH(G$3,$D$3:$H$3,0)),"") | H8: =IFERROR(INDEX(客户应收数据库!$C:$G,SMALL($B:$B,ROW(F6)),MATCH(H$3,$D$3:$H$3,0)),"")
B9: =IF(AND(客户应收数据库!G:G>1,客户应收数据库!G:G<>"-"),ROW(),"-") -> - | C9: =IF(D9="","",ROW(B6)) | D9: =IFERROR(INDEX(客户应收数据库!$C:$G,SMALL($B:$B,ROW(B7)),MATCH(D$3,$D$3:$H$3,0)),"") | E9: =IFERROR(INDEX(客户应收数据库!$C:$G,SMALL($B:$B,ROW(C7)),MATCH(E$3,$D$3:$H$3,0)),"") | F9: =IFERROR(INDEX(客户应收数据库!$C:$G,SMALL($B:$B,ROW(D7)),MATCH(F$3,$D$3:$H$3,0)),"") | G9: =IFERROR(INDEX(客户应收数据库!$C:$G,SMALL($B:$B,ROW(E7)),MATCH(G$3,$D$3:$H$3,0)),"") | H9: =IFERROR(INDEX(客户应收数据库!$C:$G,SMALL($B:$B,ROW(F7)),MATCH(H$3,$D$3:$H$3,0)),"")
B10: =IF(AND(客户应收数据库!G:G>1,客户应收数据库!G:G<>"-"),ROW(),"-") -> - | C10: =IF(D10="","",ROW(B7)) | D10: =IFERROR(INDEX(客户应收数据库!$C:$G,SMALL($B:$B,ROW(B8)),MATCH(D$3,$D$3:$H$3,0)),"") | E10: =IFERROR(INDEX(客户应收数据库!$C:$G,SMALL($B:$B,ROW(C8)),MATCH(E$3,$D$3:$H$3,0)),"") | F10: =IFERROR(INDEX(客户应收数据库!$C:$G,SMALL($B:$B,ROW(D8)),MATCH(F$3,$D$3:$H$3,0)),"") | G10: =IFERROR(INDEX(客户应收数据库!$C:$G,SMALL($B:$B,ROW(E8)),MATCH(G$3,$D$3:$H$3,0)),"") | H10: =IFERROR(INDEX(客户应收数据库!$C:$G,SMALL($B:$B,ROW(F8)),MATCH(H$3,$D$3:$H$3,0)),"")
B11: =IF(AND(客户应收数据库!G:G>1,客户应收数据库!G:G<>"-"),ROW(),"-") -> - | C11: =IF(D11="","",ROW(B8)) | D11: =IFERROR(INDEX(客户应收数据库!$C:$G,SMALL($B:$B,ROW(B9)),MATCH(D$3,$D$3:$H$3,0)),"") | E11: =IFERROR(INDEX(客户应收数据库!$C:$G,SMALL($B:$B,ROW(C9)),MATCH(E$3,$D$3:$H$3,0)),"") | F11: =IFERROR(INDEX(客户应收数据库!$C:$G,SMALL($B:$B,ROW(D9)),MATCH(F$3,$D$3:$H$3,0)),"") | G11: =IFERROR(INDEX(客户应收数据库!$C:$G,SMALL($B:$B,ROW(E9)),MATCH(G$3,$D$3:$H$3,0)),"") | H11: =IFERROR(INDEX(客户应收数据库!$C:$G,SMALL($B:$B,ROW(F9)),MATCH(H$3,$D$3:$H$3,0)),"")
B12: =IF(AND(客户应收数据库!G:G>1,客户应收数据库!G:G<>"-"),ROW(),"-") -> - | C12: =IF(D12="","",ROW(B9)) | D12: =IFERROR(INDEX(客户应收数据库!$C:$G,SMALL($B:$B,ROW(B10)),MATCH(D$3,$D$3:$H$3,0)),"") | E12: =IFERROR(INDEX(客户应收数据库!$C:$G,SMALL($B:$B,ROW(C10)),MATCH(E$3,$D$3:$H$3,0)),"") | F12: =IFERROR(INDEX(客户应收数据库!$C:$G,SMALL($B:$B,ROW(D10)),MATCH(F$3,$D$3:$H$3,0)),"") | G12: =IFERROR(INDEX(客户应收数据库!$C:$G,SMALL($B:$B,ROW(E10)),MATCH(G$3,$D$3:$H$3,0)),"") | H12: =IFERROR(INDEX(客户应收数据库!$C:$G,SMALL($B:$B,ROW(F10)),MATCH(H$3,$D$3:$H$3,0)),"")
B13: =IF(AND(客户应收数据库!G:G>1,客户应收数据库!G:G<>"-"),ROW(),"-") -> - | C13: =IF(D13="","",ROW(B10)) | D13: =IFERROR(INDEX(客户应收数据库!$C:$G,SMALL($B:$B,ROW(B11)),MATCH(D$3,$D$3:$H$3,0)),"") | E13: =IFERROR(INDEX(客户应收数据库!$C:$G,SMALL($B:$B,ROW(C11)),MATCH(E$3,$D$3:$H$3,0)),"") | F13: =IFERROR(INDEX(客户应收数据库!$C:$G,SMALL($B:$B,ROW(D11)),MATCH(F$3,$D$3:$H$3,0)),"") | G13: =IFERROR(INDEX(客户应收数据库!$C:$G,SMALL($B:$B,ROW(E11)),MATCH(G$3,$D$3:$H$3,0)),"") | H13: =IFERROR(INDEX(客户应收数据库!$C:$G,SMALL($B:$B,ROW(F11)),MATCH(H$3,$D$3:$H$3,0)),"")
B14: =IF(AND(客户应收数据库!G:G>1,客户应收数据库!G:G<>"-"),ROW(),"-") -> - | C14: =IF(D14="","",ROW(B11)) | D14: =IFERROR(INDEX(客户应收数据库!$C:$G,SMALL($B:$B,ROW(B12)),MATCH(D$3,$D$3:$H$3,0)),"") | E14: =IFERROR(INDEX(客户应收数据库!$C:$G,SMALL($B:$B,ROW(C12)),MATCH(E$3,$D$3:$H$3,0)),"") | F14: =IFERROR(INDEX(客户应收数据库!$C:$G,SMALL($B:$B,ROW(D12)),MATCH(F$3,$D$3:$H$3,0)),"") | G14: =IFERROR(INDEX(客户应收数据库!$C:$G,SMALL($B:$B,ROW(E12)),MATCH(G$3,$D$3:$H$3,0)),"") | H14: =IFERROR(INDEX(客户应收数据库!$C:$G,SMALL($B:$B,ROW(F12)),MATCH(H$3,$D$3:$H$3,0)),"")
B15: =IF(AND(客户应收数据库!G:G>1,客户应收数据库!G:G<>"-"),ROW(),"-") -> - | C15: =IF(D15="","",ROW(B12)) | D15: =IFERROR(INDEX(客户应收数据库!$C:$G,SMALL($B:$B,ROW(B13)),MATCH(D$3,$D$3:$H$3,0)),"") | E15: =IFERROR(INDEX(客户应收数据库!$C:$G,SMALL($B:$B,ROW(C13)),MATCH(E$3,$D$3:$H$3,0)),"") | F15: =IFERROR(INDEX(客户应收数据库!$C:$G,SMALL($B:$B,ROW(D13)),MATCH(F$3,$D$3:$H$3,0)),"") | G15: =IFERROR(INDEX(客户应收数据库!$C:$G,SMALL($B:$B,ROW(E13)),MATCH(G$3,$D$3:$H$3,0)),"") | H15: =IFERROR(INDEX(客户应收数据库!$C:$G,SMALL($B:$B,ROW(F13)),MATCH(H$3,$D$3:$H$3,0)),"")
... B303: =IF(AND(客户应收数据库!G:G>1,客户应收数据库!G:G<>"-"),ROW(),"-") -> - | C303: =IF(D303="","",ROW(B300)) | D303: =IFERROR(INDEX(客户应收数据库!$C:$G,SMALL($B:$B,ROW(B301)),MATCH(D$3,$D$3:$H$3,0)),"") | E303: =IFERROR(INDEX(客户应收数据库!$C:$G,SMALL($B:$B,ROW(C301)),MATCH(E$3,$D$3:$H$3,0)),"") | F303: =IFERROR(INDEX(客户应收数据库!$C:$G,SMALL($B:$B,ROW(D301)),MATCH(F$3,$D$3:$H$3,0)),"") | G303: =IFERROR(INDEX(客户应收数据库!$C:$G,SMALL($B:$B,ROW(E301)),MATCH(G$3,$D$3:$H$3,0)),"") | H303: =IFERROR(INDEX(客户应收数据库!$C:$G,SMALL($B:$B,ROW(F301)),MATCH(H$3,$D$3:$H$3,0)),"")
B304: =IF(AND(客户应收数据库!G:G>1,客户应收数据库!G:G<>"-"),ROW(),"-") -> -
B305: =IF(AND(客户应收数据库!G:G>1,客户应收数据库!G:G<>"-"),ROW(),"-") -> -
B306: =IF(AND(客户应收数据库!G:G>1,客户应收数据库!G:G<>"-"),ROW(),"-") -> -
B307: =IF(AND(客户应收数据库!G:G>1,客户应收数据库!G:G<>"-"),ROW(),"-") -> -
B308: =IF(AND(客户应收数据库!G:G>1,客户应收数据库!G:G<>"-"),ROW(),"-") -> -
B309: =IF(AND(客户应收数据库!G:G>1,客户应收数据库!G:G<>"-"),ROW(),"-") -> -
B310: =IF(AND(客户应收数据库!G:G>1,客户应收数据库!G:G<>"-"),ROW(),"-") -> -
B311: =IF(AND(客户应收数据库!G:G>1,客户应收数据库!G:G<>"-"),ROW(),"-") -> -

Sheet 客户应收数据库
B2: 客户应收数据库（累计汇总）
B3: NO: | C3: 公司名称 | D3: 姓名 | E3: 联系电话 | F3: 其它联系方式 | G3: 应收货款
B4: 1 | C4: =IF('基础-客户信息 '!C4="","-",'基础-客户信息 '!C4) -> 安居商贸（客户） | D4: =IF('基础-客户信息 '!D4="","-",'基础-客户信息 '!D4) -> 陈苗天 | E4: =IF('基础-客户信息 '!E4="","-",'基础-客户信息 '!E4) -> 13123433441 | F4: =IF('基础-客户信息 '!F4="","-",'基础-客户信息 '!F4) -> 13123433441@.qq.com | G4: =IF(C4="-","-",SUMIFS('销售录入（明细）'!K:K,'销售录入（明细）'!D:D,C4)-SUMIFS(客户收款录入!H:H,客户收款录入!C:C,C4)) -> 10480
B5: 2 | C5: =IF('基础-客户信息 '!C5="","-",'基础-客户信息 '!C5) -> 核心创辉（客户） | D5: =IF('基础-客户信息 '!D5="","-",'基础-客户信息 '!D5) -> 王昊月 | E5: =IF('基础-客户信息 '!E5="","-",'基础-客户信息 '!E5) -> 13123433442 | F5: =IF('基础-客户信息 '!F5="","-",'基础-客户信息 '!F5) -> 13123433442@.qq.com | G5: =IF(C5="-","-",SUMIFS('销售录入（明细）'!K:K,'销售录入（明细）'!D:D,C5)-SUMIFS(客户收款录入!H:H,客户收款录入!C:C,C5)) -> 520
B6: 3 | C6: =IF('基础-客户信息 '!C6="","-",'基础-客户信息 '!C6) -> 智慧谷游（客户） | D6: =IF('基础-客户信息 '!D6="","-",'基础-客户信息 '!D6) -> 张明欣 | E6: =IF('基础-客户信息 '!E6="","-",'基础-客户信息 '!E6) -> 13123433443 | F6: =IF('基础-客户信息 '!F6="","-",'基础-客户信息 '!F6) -> 13123433443@.qq.com | G6: =IF(C6="-","-",SUMIFS('销售录入（明细）'!K:K,'销售录入（明细）'!D:D,C6)-SUMIFS(客户收款录入!H:H,客户收款录入!C:C,C6)) -> 3000
B7: 4 | C7: =IF('基础-客户信息 '!C7="","-",'基础-客户信息 '!C7) -> - | D7: =IF('基础-客户信息 '!D7="","-",'基础-客户信息 '!D7) -> - | E7: =IF('基础-客户信息 '!E7="","-",'基础-客户信息 '!E7) -> - | F7: =IF('基础-客户信息 '!F7="","-",'基础-客户信息 '!F7) -> - | G7: =IF(C7="-","-",SUMIFS('销售录入（明细）'!K:K,'销售录入（明细）'!D:D,C7)-SUMIFS(客户收款录入!H:H,客户收款录入!C:C,C7)) -> -
B8: 5 | C8: =IF('基础-客户信息 '!C8="","-",'基础-客户信息 '!C8) -> - | D8: =IF('基础-客户信息 '!D8="","-",'基础-客户信息 '!D8) -> - | E8: =IF('基础-客户信息 '!E8="","-",'基础-客户信息 '!E8) -> - | F8: =IF('基础-客户信息 '!F8="","-",'基础-客户信息 '!F8) -> - | G8: =IF(C8="-","-",SUMIFS('销售录入（明细）'!K:K,'销售录入（明细）'!D:D,C8)-SUMIFS(客户收款录入!H:H,客户收款录入!C:C,C8)) -> -
B9: 6 | C9: =IF('基础-客户信息 '!C9="","-",'基础-客户信息 '!C9) -> - | D9: =IF('基础-客户信息 '!D9="","-",'基础-客户信息 '!D9) -> - | E9: =IF('基础-客户信息 '!E9="","-",'基础-客户信息 '!E9) -> - | F9: =IF('基础-客户信息 '!F9="","-",'基础-客户信息 '!F9) -> - | G9: =IF(C9="-","-",SUMIFS('销售录入（明细）'!K:K,'销售录入（明细）'!D:D,C9)-SUMIFS(客户收款录入!H:H,客户收款录入!C:C,C9)) -> -
B10: 7 | C10: =IF('基础-客户信息 '!C10="","-",'基础-客户信息 '!C10) -> - | D10: =IF('基础-客户信息 '!D10="","-",'基础-客户信息 '!D10) -> - | E10: =IF('基础-客户信息 '!E10="","-",'基础-客户信息 '!E10) -> - | F10: =IF('基础-客户信息 '!F10="","-",'基础-客户信息 '!F10) -> - | G10: =IF(C10="-","-",SUMIFS('销售录入（明细）'!K:K,'销售录入（明细）'!D:D,C10)-SUMIFS(客户收款录入!H:H,客户收款录入!C:C,C10)) -> -
B11: 8 | C11: =IF('基础-客户信息 '!C11="","-",'基础-客户信息 '!C11) -> - | D11: =IF('基础-客户信息 '!D11="","-",'基础-客户信息 '!D11) -> - | E11: =IF('基础-客户信息 '!E11="","-",'基础-客户信息 '!E11) -> - | F11: =IF('基础-客户信息 '!F11="","-",'基础-客户信息 '!F11) -> - | G11: =IF(C11="-","-",SUMIFS('销售录入（明细）'!K:K,'销售录入（明细）'!D:D,C11)-SUMIFS(客户收款录入!H:H,客户收款录入!C:C,C11)) -> -
B12: 9 | C12: =IF('基础-客户信息 '!C12="","-",'基础-客户信息 '!C12) -> - | D12: =IF('基础-客户信息 '!D12="","-",'基础-客户信息 '!D12) -> - | E12: =IF('基础-客户信息 '!E12="","-",'基础-客户信息 '!E12) -> - | F12: =IF('基础-客户信息 '!F12="","-",'基础-客户信息 '!F12) -> - | G12: =IF(C12="-","-",SUMIFS('销售录入（明细）'!K:K,'销售录入（明细）'!D:D,C12)-SUMIFS(客户收款录入!H:H,客户收款录入!C:C,C12)) -> -
B13: 10 | C13: =IF('基础-客户信息 '!C13="","-",'基础-客户信息 '!C13) -> - | D13: =IF('基础-客户信息 '!D13="","-",'基础-客户信息 '!D13) -> - | E13: =IF('基础-客户信息 '!E13="","-",'基础-客户信息 '!E13) -> - | F13: =IF('基础-客户信息 '!F13="","-",'基础-客户信息 '!F13) -> - | G13: =IF(C13="-","-",SUMIFS('销售录入（明细）'!K:K,'销售录入（明细）'!D:D,C13)-SUMIFS(客户收款录入!H:H,客户收款录入!C:C,C13)) -> -
B14: 11 | C14: =IF('基础-客户信息 '!C14="","-",'基础-客户信息 '!C14) -> - | D14: =IF('基础-客户信息 '!D14="","-",'基础-客户信息 '!D14) -> - | E14: =IF('基础-客户信息 '!E14="","-",'基础-客户信息 '!E14) -> - | F14: =IF('基础-客户信息 '!F14="","-",'基础-客户信息 '!F14) -> - | G14: =IF(C14="-","-",SUMIFS('销售录入（明细）'!K:K,'销售录入（明细）'!D:D,C14)-SUMIFS(客户收款录入!H:H,客户收款录入!C:C,C14)) -> -
B15: 12 | C15: =IF('基础-客户信息 '!C15="","-",'基础-客户信息 '!C15) -> - | D15: =IF('基础-客户信息 '!D15="","-",'基础-客户信息 '!D15) -> - | E15: =IF('基础-客户信息 '!E15="","-",'基础-客户信息 '!E15) -> - | F15: =IF('基础-客户信息 '!F15="","-",'基础-客户信息 '!F15) -> - | G15: =IF(C15="-","-",SUMIFS('销售录入（明细）'!K:K,'销售录入（明细）'!D:D,C15)-SUMIFS(客户收款录入!H:H,客户收款录入!C:C,C15)) -> -
... B303: 300 | C303: =IF('基础-客户信息 '!C303="","-",'基础-客户信息 '!C303) -> - | D303: =IF('基础-客户信息 '!D303="","-",'基础-客户信息 '!D303) -> - | E303: =IF('基础-客户信息 '!E303="","-",'基础-客户信息 '!E303) -> - | F303: =IF('基础-客户信息 '!F303="","-",'基础-客户信息 '!F303) -> - | G303: =IF(C303="-","-",SUMIFS('销售录入（明细）'!K:K,'销售录入（明细）'!D:D,C303)-SUMIFS(客户收款录入!H:H,客户收款录入!C:C,C303)) -> -

Sheet 应付供应商明细
C2: 辅助列 | D2: ="应付供应商明细； 共有"&COUNT(D4:D303)&"条" -> 应付供应商明细； 共有3条
C3: =IF(AND(供应商应付数据库!G:G>1,供应商应付数据库!G:G<>"-"),ROW(),"-") -> - | D3: NO: | E3: 公司名称 | F3: 联系人 | G3: 联系电话 | H3: 其它联系方式 | I3: 应付货款
C4: =IF(AND(供应商应付数据库!G:G>1,供应商应付数据库!G:G<>"-"),ROW(),"-") -> 4 | D4: =IF(E4="","",ROW(A1)) -> 1 | E4: =IFERROR(INDEX(供应商应付数据库!$C:$G,SMALL($C:$C,ROW(A1)),MATCH(E$3,$E$3:$I$3,0)),"") -> 上海科创发展XX | F4: =IFERROR(INDEX(供应商应付数据库!$C:$G,SMALL($C:$C,ROW(B1)),MATCH(F$3,$E$3:$I$3,0)),"") -> 薛爽竹 | G4: =IFERROR(INDEX(供应商应付数据库!$C:$G,SMALL($C:$C,ROW(C1)),MATCH(G$3,$E$3:$I$3,0)),"") -> 18128789089 | H4: =IFERROR(INDEX(供应商应付数据库!$C:$G,SMALL($C:$C,ROW(D1)),MATCH(H$3,$E$3:$I$3,0)),"") -> 18128789089@QQ.COM | I4: =IFERROR(INDEX(供应商应付数据库!$C:$G,SMALL($C:$C,ROW(E1)),MATCH(I$3,$E$3:$I$3,0)),"") -> 6800
C5: =IF(AND(供应商应付数据库!G:G>1,供应商应付数据库!G:G<>"-"),ROW(),"-") -> 5 | D5: =IF(E5="","",ROW(A2)) -> 2 | E5: =IFERROR(INDEX(供应商应付数据库!$C:$G,SMALL($C:$C,ROW(A2)),MATCH(E$3,$E$3:$I$3,0)),"") -> 移动设备汇销XX | F5: =IFERROR(INDEX(供应商应付数据库!$C:$G,SMALL($C:$C,ROW(B2)),MATCH(F$3,$E$3:$I$3,0)),"") -> 李慧青 | G5: =IFERROR(INDEX(供应商应付数据库!$C:$G,SMALL($C:$C,ROW(C2)),MATCH(G$3,$E$3:$I$3,0)),"") -> 18128789090 | H5: =IFERROR(INDEX(供应商应付数据库!$C:$G,SMALL($C:$C,ROW(D2)),MATCH(H$3,$E$3:$I$3,0)),"") -> 18128789090@QQ.COM | I5: =IFERROR(INDEX(供应商应付数据库!$C:$G,SMALL($C:$C,ROW(E2)),MATCH(I$3,$E$3:$I$3,0)),"") -> 78600
C6: =IF(AND(供应商应付数据库!G:G>1,供应商应付数据库!G:G<>"-"),ROW(),"-") -> 6 | D6: =IF(E6="","",ROW(A3)) -> 3 | E6: =IFERROR(INDEX(供应商应付数据库!$C:$G,SMALL($C:$C,ROW(A3)),MATCH(E$3,$E$3:$I$3,0)),"") -> XX财务系统 | F6: =IFERROR(INDEX(供应商应付数据库!$C:$G,SMALL($C:$C,ROW(B3)),MATCH(F$3,$E$3:$I$3,0)),"") -> 朱少皙 | G6: =IFERROR(INDEX(供应商应付数据库!$C:$G,SMALL($C:$C,ROW(C3)),MATCH(G$3,$E$3:$I$3,0)),"") -> 18128789091 | H6: =IFERROR(INDEX(供应商应付数据库!$C:$G,SMALL($C:$C,ROW(D3)),MATCH(H$3,$E$3:$I$3,0)),"") -> 18128789091@QQ.COM | I6: =IFERROR(INDEX(供应商应付数据库!$C:$G,SMALL($C:$C,ROW(E3)),MATCH(I$3,$E$3:$I$3,0)),"") -> 3600
C7: =IF(AND(供应商应付数据库!G:G>1,供应商应付数据库!G:G<>"-"),ROW(),"-") -> - | D7: =IF(E7="","",ROW(A4)) | E7: =IFERROR(INDEX(供应商应付数据库!$C:$G,SMALL($C:$C,ROW(A4)),MATCH(E$3,$E$3:$I$3,0)),"") | F7: =IFERROR(INDEX(供应商应付数据库!$C:$G,SMALL($C:$C,ROW(B4)),MATCH(F$3,$E$3:$I$3,0)),"") | G7: =IFERROR(INDEX(供应商应付数据库!$C:$G,SMALL($C:$C,ROW(C4)),MATCH(G$3,$E$3:$I$3,0)),"") | H7: =IFERROR(INDEX(供应商应付数据库!$C:$G,SMALL($C:$C,ROW(D4)),MATCH(H$3,$E$3:$I$3,0)),"") | I7: =IFERROR(INDEX(供应商应付数据库!$C:$G,SMALL($C:$C,ROW(E4)),MATCH(I$3,$E$3:$I$3,0)),"")
C8: =IF(AND(供应商应付数据库!G:G>1,供应商应付数据库!G:G<>"-"),ROW(),"-") -> - | D8: =IF(E8="","",ROW(A5)) | E8: =IFERROR(INDEX(供应商应付数据库!$C:$G,SMALL($C:$C,ROW(A5)),MATCH(E$3,$E$3:$I$3,0)),"") | F8: =IFERROR(INDEX(供应商应付数据库!$C:$G,SMALL($C:$C,ROW(B5)),MATCH(F$3,$E$3:$I$3,0)),"") | G8: =IFERROR(INDEX(供应商应付数据库!$C:$G,SMALL($C:$C,ROW(C5)),MATCH(G$3,$E$3:$I$3,0)),"") | H8: =IFERROR(INDEX(供应商应付数据库!$C:$G,SMALL($C:$C,ROW(D5)),MATCH(H$3,$E$3:$I$3,0)),"") | I8: =IFERROR(INDEX(供应商应付数据库!$C:$G,SMALL($C:$C,ROW(E5)),MATCH(I$3,$E$3:$I$3,0)),"")
C9: =IF(AND(供应商应付数据库!G:G>1,供应商应付数据库!G:G<>"-"),ROW(),"-") -> - | D9: =IF(E9="","",ROW(A6)) | E9: =IFERROR(INDEX(供应商应付数据库!$C:$G,SMALL($C:$C,ROW(A6)),MATCH(E$3,$E$3:$I$3,0)),"") | F9: =IFERROR(INDEX(供应商应付数据库!$C:$G,SMALL($C:$C,ROW(B6)),MATCH(F$3,$E$3:$I$3,0)),"") | G9: =IFERROR(INDEX(供应商应付数据库!$C:$G,SMALL($C:$C,ROW(C6)),MATCH(G$3,$E$3:$I$3,0)),"") | H9: =IFERROR(INDEX(供应商应付数据库!$C:$G,SMALL($C:$C,ROW(D6)),MATCH(H$3,$E$3:$I$3,0)),"") | I9: =IFERROR(INDEX(供应商应付数据库!$C:$G,SMALL($C:$C,ROW(E6)),MATCH(I$3,$E$3:$I$3,0)),"")
C10: =IF(AND(供应商应付数据库!G:G>1,供应商应付数据库!G:G<>"-"),ROW(),"-") -> - | D10: =IF(E10="","",ROW(A7)) | E10: =IFERROR(INDEX(供应商应付数据库!$C:$G,SMALL($C:$C,ROW(A7)),MATCH(E$3,$E$3:$I$3,0)),"") | F10: =IFERROR(INDEX(供应商应付数据库!$C:$G,SMALL($C:$C,ROW(B7)),MATCH(F$3,$E$3:$I$3,0)),"") | G10: =IFERROR(INDEX(供应商应付数据库!$C:$G,SMALL($C:$C,ROW(C7)),MATCH(G$3,$E$3:$I$3,0)),"") | H10: =IFERROR(INDEX(供应商应付数据库!$C:$G,SMALL($C:$C,ROW(D7)),MATCH(H$3,$E$3:$I$3,0)),"") | I10: =IFERROR(INDEX(供应商应付数据库!$C:$G,SMALL($C:$C,ROW(E7)),MATCH(I$3,$E$3:$I$3,0)),"")
C11: =IF(AND(供应商应付数据库!G:G>1,供应商应付数据库!G:G<>"-"),ROW(),"-") -> - | D11: =IF(E11="","",ROW(A8)) | E11: =IFERROR(INDEX(供应商应付数据库!$C:$G,SMALL($C:$C,ROW(A8)),MATCH(E$3,$E$3:$I$3,0)),"") | F11: =IFERROR(INDEX(供应商应付数据库!$C:$G,SMALL($C:$C,ROW(B8)),MATCH(F$3,$E$3:$I$3,0)),"") | G11: =IFERROR(INDEX(供应商应付数据库!$C:$G,SMALL($C:$C,ROW(C8)),MATCH(G$3,$E$3:$I$3,0)),"") | H11: =IFERROR(INDEX(供应商应付数据库!$C:$G,SMALL($C:$C,ROW(D8)),MATCH(H$3,$E$3:$I$3,0)),"") | I11: =IFERROR(INDEX(供应商应付数据库!$C:$G,SMALL($C:$C,ROW(E8)),MATCH(I$3,$E$3:$I$3,0)),"")
C12: =IF(AND(供应商应付数据库!G:G>1,供应商应付数据库!G:G<>"-"),ROW(),"-") -> - | D12: =IF(E12="","",ROW(A9)) | E12: =IFERROR(INDEX(供应商应付数据库!$C:$G,SMALL($C:$C,ROW(A9)),MATCH(E$3,$E$3:$I$3,0)),"") | F12: =IFERROR(INDEX(供应商应付数据库!$C:$G,SMALL($C:$C,ROW(B9)),MATCH(F$3,$E$3:$I$3,0)),"") | G12: =IFERROR(INDEX(供应商应付数据库!$C:$G,SMALL($C:$C,ROW(C9)),MATCH(G$3,$E$3:$I$3,0)),"") | H12: =IFERROR(INDEX(供应商应付数据库!$C:$G,SMALL($C:$C,ROW(D9)),MATCH(H$3,$E$3:$I$3,0)),"") | I12: =IFERROR(INDEX(供应商应付数据库!$C:$G,SMALL($C:$C,ROW(E9)),MATCH(I$3,$E$3:$I$3,0)),"")
C13: =IF(AND(供应商应付数据库!G:G>1,供应商应付数据库!G:G<>"-"),ROW(),"-") -> - | D13: =IF(E13="","",ROW(A10)) | E13: =IFERROR(INDEX(供应商应付数据库!$C:$G,SMALL($C:$C,ROW(A10)),MATCH(E$3,$E$3:$I$3,0)),"") | F13: =IFERROR(INDEX(供应商应付数据库!$C:$G,SMALL($C:$C,ROW(B10)),MATCH(F$3,$E$3:$I$3,0)),"") | G13: =IFERROR(INDEX(供应商应付数据库!$C:$G,SMALL($C:$C,ROW(C10)),MATCH(G$3,$E$3:$I$3,0)),"") | H13: =IFERROR(INDEX(供应商应付数据库!$C:$G,SMALL($C:$C,ROW(D10)),MATCH(H$3,$E$3:$I$3,0)),"") | I13: =IFERROR(INDEX(供应商应付数据库!$C:$G,SMALL($C:$C,ROW(E10)),MATCH(I$3,$E$3:$I$3,0)),"")
C14: =IF(AND(供应商应付数据库!G:G>1,供应商应付数据库!G:G<>"-"),ROW(),"-") -> - | D14: =IF(E14="","",ROW(A11)) | E14: =IFERROR(INDEX(供应商应付数据库!$C:$G,SMALL($C:$C,ROW(A11)),MATCH(E$3,$E$3:$I$3,0)),"") | F14: =IFERROR(INDEX(供应商应付数据库!$C:$G,SMALL($C:$C,ROW(B11)),MATCH(F$3,$E$3:$I$3,0)),"") | G14: =IFERROR(INDEX(供应商应付数据库!$C:$G,SMALL($C:$C,ROW(C11)),MATCH(G$3,$E$3:$I$3,0)),"") | H14: =IFERROR(INDEX(供应商应付数据库!$C:$G,SMALL($C:$C,ROW(D11)),MATCH(H$3,$E$3:$I$3,0)),"") | I14: =IFERROR(INDEX(供应商应付数据库!$C:$G,SMALL($C:$C,ROW(E11)),MATCH(I$3,$E$3:$I$3,0)),"")
C15: =IF(AND(供应商应付数据库!G:G>1,供应商应付数据库!G:G<>"-"),ROW(),"-") -> - | D15: =IF(E15="","",ROW(A12)) | E15: =IFERROR(INDEX(供应商应付数据库!$C:$G,SMALL($C:$C,ROW(A12)),MATCH(E$3,$E$3:$I$3,0)),"") | F15: =IFERROR(INDEX(供应商应付数据库!$C:$G,SMALL($C:$C,ROW(B12)),MATCH(F$3,$E$3:$I$3,0)),"") | G15: =IFERROR(INDEX(供应商应付数据库!$C:$G,SMALL($C:$C,ROW(C12)),MATCH(G$3,$E$3:$I$3,0)),"") | H15: =IFERROR(INDEX(供应商应付数据库!$C:$G,SMALL($C:$C,ROW(D12)),MATCH(H$3,$E$3:$I$3,0)),"") | I15: =IFERROR(INDEX(供应商应付数据库!$C:$G,SMALL($C:$C,ROW(E12)),MATCH(I$3,$E$3:$I$3,0)),"")
... C303: =IF(AND(供应商应付数据库!G:G>1,供应商应付数据库!G:G<>"-"),ROW(),"-") -> - | D303: =IF(E303="","",ROW(A300)) | E303: =IFERROR(INDEX(供应商应付数据库!$C:$G,SMALL($C:$C,ROW(A300)),MATCH(E$3,$E$3:$I$3,0)),"") | F303: =IFERROR(INDEX(供应商应付数据库!$C:$G,SMALL($C:$C,ROW(B300)),MATCH(F$3,$E$3:$I$3,0)),"") | G303: =IFERROR(INDEX(供应商应付数据库!$C:$G,SMALL($C:$C,ROW(C300)),MATCH(G$3,$E$3:$I$3,0)),"") | H303: =IFERROR(INDEX(供应商应付数据库!$C:$G,SMALL($C:$C,ROW(D300)),MATCH(H$3,$E$3:$I$3,0)),"") | I303: =IFERROR(INDEX(供应商应付数据库!$C:$G,SMALL($C:$C,ROW(E300)),MATCH(I$3,$E$3:$I$3,0)),"")
C304: =IF(AND(供应商应付数据库!G:G>1,供应商应付数据库!G:G<>"-"),ROW(),"-") -> -
C305: =IF(AND(供应商应付数据库!G:G>1,供应商应付数据库!G:G<>"-"),ROW(),"-") -> -
C306: =IF(AND(供应商应付数据库!G:G>1,供应商应付数据库!G:G<>"-"),ROW(),"-") -> -
C307: =IF(AND(供应商应付数据库!G:G>1,供应商应付数据库!G:G<>"-"),ROW(),"-") -> -
C308: =IF(AND(供应商应付数据库!G:G>1,供应商应付数据库!G:G<>"-"),ROW(),"-") -> -
C309: =IF(AND(供应商应付数据库!G:G>1,供应商应付数据库!G:G<>"-"),ROW(),"-") -> -
C310: =IF(AND(供应商应付数据库!G:G>1,供应商应付数据库!G:G<>"-"),ROW(),"-") -> -
C311: =IF(AND(供应商应付数据库!G:G>1,供应商应付数据库!G:G<>"-"),ROW(),"-") -> -
C312: =IF(AND(供应商应付数据库!G:G>1,供应商应付数据库!G:G<>"-"),ROW(),"-") -> -
C313: =IF(AND(供应商应付数据库!G:G>1,供应商应付数据库!G:G<>"-"),ROW(),"-") -> -
C314: =IF(AND(供应商应付数据库!G:G>1,供应商应付数据库!G:G<>"-"),ROW(),"-") -> -
C315: =IF(AND(供应商应付数据库!G:G>1,供应商应付数据库!G:G<>"-"),ROW(),"-") -> -
... C505: =IF(AND(供应商应付数据库!G:G>1,供应商应付数据库!G:G<>"-"),ROW(),"-") -> -

Sheet 供应商应付数据库
B2: 供应商应付数据库（累计总数据）
B3: NO: | C3: 公司名称 | D3: 联系人 | E3: 联系电话 | F3: 其它联系方式 | G3: 0
B4: 1 | C4: =IF('基础-供应商信息'!C4="","-",'基础-供应商信息'!C4) -> 上海科创发展XX | D4: =IF('基础-供应商信息'!D4="","-",'基础-供应商信息'!D4) -> 薛爽竹 | E4: =IF('基础-供应商信息'!E4="","-",'基础-供应商信息'!E4) -> 18128789089 | F4: =IF('基础-供应商信息'!F4="","-",'基础-供应商信息'!F4) -> 18128789089@QQ.COM | G4: =IF(C4="-","-",SUMIFS('采购录入（明细）'!K:K,'采购录入（明细）'!D:D,C4)-SUMIFS(供应商付款录入!H:H,供应商付款录入!C:C,C4)) -> 6800
B5: 2 | C5: =IF('基础-供应商信息'!C5="","-",'基础-供应商信息'!C5) -> 移动设备汇销XX | D5: =IF('基础-供应商信息'!D5="","-",'基础-供应商信息'!D5) -> 李慧青 | E5: =IF('基础-供应商信息'!E5="","-",'基础-供应商信息'!E5) -> 18128789090 | F5: =IF('基础-供应商信息'!F5="","-",'基础-供应商信息'!F5) -> 18128789090@QQ.COM | G5: =IF(C5="-","-",SUMIFS('采购录入（明细）'!K:K,'采购录入（明细）'!D:D,C5)-SUMIFS(供应商付款录入!H:H,供应商付款录入!C:C,C5)) -> 78600
B6: 3 | C6: =IF('基础-供应商信息'!C6="","-",'基础-供应商信息'!C6) -> XX财务系统 | D6: =IF('基础-供应商信息'!D6="","-",'基础-供应商信息'!D6) -> 朱少皙 | E6: =IF('基础-供应商信息'!E6="","-",'基础-供应商信息'!E6) -> 18128789091 | F6: =IF('基础-供应商信息'!F6="","-",'基础-供应商信息'!F6) -> 18128789091@QQ.COM | G6: =IF(C6="-","-",SUMIFS('采购录入（明细）'!K:K,'采购录入（明细）'!D:D,C6)-SUMIFS(供应商付款录入!H:H,供应商付款录入!C:C,C6)) -> 3600
B7: 4 | C7: =IF('基础-供应商信息'!C7="","-",'基础-供应商信息'!C7) -> - | D7: =IF('基础-供应商信息'!D7="","-",'基础-供应商信息'!D7) -> - | E7: =IF('基础-供应商信息'!E7="","-",'基础-供应商信息'!E7) -> - | F7: =IF('基础-供应商信息'!F7="","-",'基础-供应商信息'!F7) -> - | G7: =IF(C7="-","-",SUMIFS('采购录入（明细）'!K:K,'采购录入（明细）'!D:D,C7)-SUMIFS(供应商付款录入!H:H,供应商付款录入!C:C,C7)) -> -
B8: 5 | C8: =IF('基础-供应商信息'!C8="","-",'基础-供应商信息'!C8) -> - | D8: =IF('基础-供应商信息'!D8="","-",'基础-供应商信息'!D8) -> - | E8: =IF('基础-供应商信息'!E8="","-",'基础-供应商信息'!E8) -> - | F8: =IF('基础-供应商信息'!F8="","-",'基础-供应商信息'!F8) -> - | G8: =IF(C8="-","-",SUMIFS('采购录入（明细）'!K:K,'采购录入（明细）'!D:D,C8)-SUMIFS(供应商付款录入!H:H,供应商付款录入!C:C,C8)) -> -
B9: 6 | C9: =IF('基础-供应商信息'!C9="","-",'基础-供应商信息'!C9) -> - | D9: =IF('基础-供应商信息'!D9="","-",'基础-供应商信息'!D9) -> - | E9: =IF('基础-供应商信息'!E9="","-",'基础-供应商信息'!E9) -> - | F9: =IF('基础-供应商信息'!F9="","-",'基础-供应商信息'!F9) -> - | G9: =IF(C9="-","-",SUMIFS('采购录入（明细）'!K:K,'采购录入（明细）'!D:D,C9)-SUMIFS(供应商付款录入!H:H,供应商付款录入!C:C,C9)) -> -
B10: 7 | C10: =IF('基础-供应商信息'!C10="","-",'基础-供应商信息'!C10) -> - | D10: =IF('基础-供应商信息'!D10="","-",'基础-供应商信息'!D10) -> - | E10: =IF('基础-供应商信息'!E10="","-",'基础-供应商信息'!E10) -> - | F10: =IF('基础-供应商信息'!F10="","-",'基础-供应商信息'!F10) -> - | G10: =IF(C10="-","-",SUMIFS('采购录入（明细）'!K:K,'采购录入（明细）'!D:D,C10)-SUMIFS(供应商付款录入!H:H,供应商付款录入!C:C,C10)) -> -
B11: 8 | C11: =IF('基础-供应商信息'!C11="","-",'基础-供应商信息'!C11) -> - | D11: =IF('基础-供应商信息'!D11="","-",'基础-供应商信息'!D11) -> - | E11: =IF('基础-供应商信息'!E11="","-",'基础-供应商信息'!E11) -> - | F11: =IF('基础-供应商信息'!F11="","-",'基础-供应商信息'!F11) -> - | G11: =IF(C11="-","-",SUMIFS('采购录入（明细）'!K:K,'采购录入（明细）'!D:D,C11)-SUMIFS(供应商付款录入!H:H,供应商付款录入!C:C,C11)) -> -
B12: 9 | C12: =IF('基础-供应商信息'!C12="","-",'基础-供应商信息'!C12) -> - | D12: =IF('基础-供应商信息'!D12="","-",'基础-供应商信息'!D12) -> - | E12: =IF('基础-供应商信息'!E12="","-",'基础-供应商信息'!E12) -> - | F12: =IF('基础-供应商信息'!F12="","-",'基础-供应商信息'!F12) -> - | G12: =IF(C12="-","-",SUMIFS('采购录入（明细）'!K:K,'采购录入（明细）'!D:D,C12)-SUMIFS(供应商付款录入!H:H,供应商付款录入!C:C,C12)) -> -
B13: 10 | C13: =IF('基础-供应商信息'!C13="","-",'基础-供应商信息'!C13) -> - | D13: =IF('基础-供应商信息'!D13="","-",'基础-供应商信息'!D13) -> - | E13: =IF('基础-供应商信息'!E13="","-",'基础-供应商信息'!E13) -> - | F13: =IF('基础-供应商信息'!F13="","-",'基础-供应商信息'!F13) -> - | G13: =IF(C13="-","-",SUMIFS('采购录入（明细）'!K:K,'采购录入（明细）'!D:D,C13)-SUMIFS(供应商付款录入!H:H,供应商付款录入!C:C,C13)) -> -
B14: 11 | C14: =IF('基础-供应商信息'!C14="","-",'基础-供应商信息'!C14) -> - | D14: =IF('基础-供应商信息'!D14="","-",'基础-供应商信息'!D14) -> - | E14: =IF('基础-供应商信息'!E14="","-",'基础-供应商信息'!E14) -> - | F14: =IF('基础-供应商信息'!F14="","-",'基础-供应商信息'!F14) -> - | G14: =IF(C14="-","-",SUMIFS('采购录入（明细）'!K:K,'采购录入（明细）'!D:D,C14)-SUMIFS(供应商付款录入!H:H,供应商付款录入!C:C,C14)) -> -
B15: 12 | C15: =IF('基础-供应商信息'!C15="","-",'基础-供应商信息'!C15) -> - | D15: =IF('基础-供应商信息'!D15="","-",'基础-供应商信息'!D15) -> - | E15: =IF('基础-供应商信息'!E15="","-",'基础-供应商信息'!E15) -> - | F15: =IF('基础-供应商信息'!F15="","-",'基础-供应商信息'!F15) -> - | G15: =IF(C15="-","-",SUMIFS('采购录入（明细）'!K:K,'采购录入（明细）'!D:D,C15)-SUMIFS(供应商付款录入!H:H,供应商付款录入!C:C,C15)) -> -
... B303: 300 | C303: =IF('基础-供应商信息'!C303="","-",'基础-供应商信息'!C303) -> - | D303: =IF('基础-供应商信息'!D303="","-",'基础-供应商信息'!D303) -> - | E303: =IF('基础-供应商信息'!E303="","-",'基础-供应商信息'!E303) -> - | F303: =IF('基础-供应商信息'!F303="","-",'基础-供应商信息'!F303) -> - | G303: =IF(C303="-","-",SUMIFS('采购录入（明细）'!K:K,'采购录入（明细）'!D:D,C303)-SUMIFS(供应商付款录入!H:H,供应商付款录入!C:C,C303)) -> -

Sheet 客户收款录入
A1: 客户收款录入
A2: NO: | B2: 日期 | C2: 客户信息信息 | F2: 收款信息 | I2: 备注
C3: 客户名称 | D3: 联系人 | E3: 电话 | F3: 应付金额 | G3: 付款方式 | H3: 付款金额
A4: 1 | B4: 43210 | C4: 安居商贸（客户） | D4: =IFERROR(VLOOKUP($C4,'基础-客户信息 '!$C:$E,2,FALSE),"-") -> 陈苗天 | E4: =IFERROR(VLOOKUP($C4,'基础-客户信息 '!$C:$E,3,FALSE),"-") -> 13123433441 | F4: =IF(C4="","-",SUMIFS('销售录入（明细）'!K:K,'销售录入（明细）'!D:D,C4)-SUMIFS($H$3:H3,$C$3:C3,C4)) -> 52400 | G4: 银行账户 | H4: 41920 | I4: 首款8成
A5: 2 | B5: 43211 | C5: 核心创辉（客户） | D5: =IFERROR(VLOOKUP($C5,'基础-客户信息 '!$C:$E,2,FALSE),"-") -> 王昊月 | E5: =IFERROR(VLOOKUP($C5,'基础-客户信息 '!$C:$E,3,FALSE),"-") -> 13123433442 | F5: =IF(C5="","-",SUMIFS('销售录入（明细）'!K:K,'销售录入（明细）'!D:D,C5)-SUMIFS($H$3:H4,$C$3:C4,C5)) -> 2600 | G5: 银行账户 | H5: 2080 | I5: 首款8成
A6: 3 | C6: 安居商贸（客户） | D6: =IFERROR(VLOOKUP($C6,'基础-客户信息 '!$C:$E,2,FALSE),"-") -> 陈苗天 | E6: =IFERROR(VLOOKUP($C6,'基础-客户信息 '!$C:$E,3,FALSE),"-") -> 13123433441 | F6: =IF(C6="","-",SUMIFS('销售录入（明细）'!K:K,'销售录入（明细）'!D:D,C6)-SUMIFS($H$3:H5,$C$3:C5,C6)) -> 10480
A7: 4 | C7: 核心创辉（客户） | D7: =IFERROR(VLOOKUP($C7,'基础-客户信息 '!$C:$E,2,FALSE),"-") -> 王昊月 | E7: =IFERROR(VLOOKUP($C7,'基础-客户信息 '!$C:$E,3,FALSE),"-") -> 13123433442 | F7: =IF(C7="","-",SUMIFS('销售录入（明细）'!K:K,'销售录入（明细）'!D:D,C7)-SUMIFS($H$3:H6,$C$3:C6,C7)) -> 520
A8: 5 | D8: =IFERROR(VLOOKUP($C8,'基础-客户信息 '!$C:$E,2,FALSE),"-") -> - | E8: =IFERROR(VLOOKUP($C8,'基础-客户信息 '!$C:$E,3,FALSE),"-") -> - | F8: =IF(C8="","-",SUMIFS('销售录入（明细）'!K:K,'销售录入（明细）'!D:D,C8)-SUMIFS($H$3:H7,$C$3:C7,C8)) -> -
A9: 6 | D9: =IFERROR(VLOOKUP($C9,'基础-客户信息 '!$C:$E,2,FALSE),"-") -> - | E9: =IFERROR(VLOOKUP($C9,'基础-客户信息 '!$C:$E,3,FALSE),"-") -> - | F9: =IF(C9="","-",SUMIFS('销售录入（明细）'!K:K,'销售录入（明细）'!D:D,C9)-SUMIFS($H$3:H8,$C$3:C8,C9)) -> -
A10: 7 | D10: =IFERROR(VLOOKUP($C10,'基础-客户信息 '!$C:$E,2,FALSE),"-") -> - | E10: =IFERROR(VLOOKUP($C10,'基础-客户信息 '!$C:$E,3,FALSE),"-") -> - | F10: =IF(C10="","-",SUMIFS('销售录入（明细）'!K:K,'销售录入（明细）'!D:D,C10)-SUMIFS($H$3:H9,$C$3:C9,C10)) -> -
A11: 8 | D11: =IFERROR(VLOOKUP($C11,'基础-客户信息 '!$C:$E,2,FALSE),"-") -> - | E11: =IFERROR(VLOOKUP($C11,'基础-客户信息 '!$C:$E,3,FALSE),"-") -> - | F11: =IF(C11="","-",SUMIFS('销售录入（明细）'!K:K,'销售录入（明细）'!D:D,C11)-SUMIFS($H$3:H10,$C$3:C10,C11)) -> -
A12: 9 | D12: =IFERROR(VLOOKUP($C12,'基础-客户信息 '!$C:$E,2,FALSE),"-") -> - | E12: =IFERROR(VLOOKUP($C12,'基础-客户信息 '!$C:$E,3,FALSE),"-") -> - | F12: =IF(C12="","-",SUMIFS('销售录入（明细）'!K:K,'销售录入（明细）'!D:D,C12)-SUMIFS($H$3:H11,$C$3:C11,C12)) -> -
A13: 10 | D13: =IFERROR(VLOOKUP($C13,'基础-客户信息 '!$C:$E,2,FALSE),"-") -> - | E13: =IFERROR(VLOOKUP($C13,'基础-客户信息 '!$C:$E,3,FALSE),"-") -> - | F13: =IF(C13="","-",SUMIFS('销售录入（明细）'!K:K,'销售录入（明细）'!D:D,C13)-SUMIFS($H$3:H12,$C$3:C12,C13)) -> -
A14: 11 | D14: =IFERROR(VLOOKUP($C14,'基础-客户信息 '!$C:$E,2,FALSE),"-") -> - | E14: =IFERROR(VLOOKUP($C14,'基础-客户信息 '!$C:$E,3,FALSE),"-") -> - | F14: =IF(C14="","-",SUMIFS('销售录入（明细）'!K:K,'销售录入（明细）'!D:D,C14)-SUMIFS($H$3:H13,$C$3:C13,C14)) -> -
A15: 12 | D15: =IFERROR(VLOOKUP($C15,'基础-客户信息 '!$C:$E,2,FALSE),"-") -> - | E15: =IFERROR(VLOOKUP($C15,'基础-客户信息 '!$C:$E,3,FALSE),"-") -> - | F15: =IF(C15="","-",SUMIFS('销售录入（明细）'!K:K,'销售录入（明细）'!D:D,C15)-SUMIFS($H$3:H14,$C$3:C14,C15)) -> -
A16: 13 | D16: =IFERROR(VLOOKUP($C16,'基础-客户信息 '!$C:$E,2,FALSE),"-") -> - | E16: =IFERROR(VLOOKUP($C16,'基础-客户信息 '!$C:$E,3,FALSE),"-") -> - | F16: =IF(C16="","-",SUMIFS('销售录入（明细）'!K:K,'销售录入（明细）'!D:D,C16)-SUMIFS($H$3:H15,$C$3:C15,C16)) -> -
A17: 14 | D17: =IFERROR(VLOOKUP($C17,'基础-客户信息 '!$C:$E,2,FALSE),"-") -> - | E17: =IFERROR(VLOOKUP($C17,'基础-客户信息 '!$C:$E,3,FALSE),"-") -> - | F17: =IF(C17="","-",SUMIFS('销售录入（明细）'!K:K,'销售录入（明细）'!D:D,C17)-SUMIFS($H$3:H16,$C$3:C16,C17)) -> -
A18: 15 | D18: =IFERROR(VLOOKUP($C18,'基础-客户信息 '!$C:$E,2,FALSE),"-") -> - | E18: =IFERROR(VLOOKUP($C18,'基础-客户信息 '!$C:$E,3,FALSE),"-") -> - | F18: =IF(C18="","-",SUMIFS('销售录入（明细）'!K:K,'销售录入（明细）'!D:D,C18)-SUMIFS($H$3:H17,$C$3:C17,C18)) -> -
A19: 16 | D19: =IFERROR(VLOOKUP($C19,'基础-客户信息 '!$C:$E,2,FALSE),"-") -> - | E19: =IFERROR(VLOOKUP($C19,'基础-客户信息 '!$C:$E,3,FALSE),"-") -> - | F19: =IF(C19="","-",SUMIFS('销售录入（明细）'!K:K,'销售录入（明细）'!D:D,C19)-SUMIFS($H$3:H18,$C$3:C18,C19)) -> -
... A1003: 1000 | D1003: =IFERROR(VLOOKUP($C1003,'基础-客户信息 '!$C:$E,2,FALSE),"-") -> - | E1003: =IFERROR(VLOOKUP($C1003,'基础-客户信息 '!$C:$E,3,FALSE),"-") -> - | F1003: =IF(C1003="","-",SUMIFS('销售录入（明细）'!K:K,'销售录入（明细）'!D:D,C1003)-SUMIFS($H$3:H1002,$C$3:C1002,C1003)) -> -
A1004: 如果行不够；先在[审阅]-[撤销保护工作表]后，从上面一行往下填充！

Sheet 供应商付款录入
A1: 供应商付款录入
A2: NO: | B2: 日期 | C2: 供应商信息 | F2: 付款信息 | I2: 备注
C3: 供应商名称 | D3: 联系人 | E3: 电话 | F3: 应付金额 | G3: 付款方式 | H3: 付款金额
A4: 1 | B4: 43210 | C4: 上海科创发展XX | D4: =IFERROR(VLOOKUP($C4,'基础-供应商信息'!$C:$E,2,FALSE),"-") -> 薛爽竹 | E4: =IFERROR(VLOOKUP($C4,'基础-供应商信息'!$C:$E,3,FALSE),"-") -> 18128789089 | F4: =IF(C4="","-",SUMIFS('采购录入（明细）'!K:K,'采购录入（明细）'!D:D,C4)-SUMIFS($H$3:H3,$C$3:C3,C4)) -> 34000 | G4: 银行账户 | H4: 27200 | I4: 首款8成
A5: 2 | B5: 43211 | C5: XX财务系统 | D5: =IFERROR(VLOOKUP($C5,'基础-供应商信息'!$C:$E,2,FALSE),"-") -> 朱少皙 | E5: =IFERROR(VLOOKUP($C5,'基础-供应商信息'!$C:$E,3,FALSE),"-") -> 18128789091 | F5: =IF(C5="","-",SUMIFS('采购录入（明细）'!K:K,'采购录入（明细）'!D:D,C5)-SUMIFS($H$3:H4,$C$3:C4,C5)) -> 18000 | G5: 银行账户 | H5: 14400 | I5: 首款8成
A6: 3 | C6: 上海科创发展XX | D6: =IFERROR(VLOOKUP($C6,'基础-供应商信息'!$C:$E,2,FALSE),"-") -> 薛爽竹 | E6: =IFERROR(VLOOKUP($C6,'基础-供应商信息'!$C:$E,3,FALSE),"-") -> 18128789089 | F6: =IF(C6="","-",SUMIFS('采购录入（明细）'!K:K,'采购录入（明细）'!D:D,C6)-SUMIFS($H$3:H5,$C$3:C5,C6)) -> 6800
A7: 4 | D7: =IFERROR(VLOOKUP($C7,'基础-供应商信息'!$C:$E,2,FALSE),"-") -> - | E7: =IFERROR(VLOOKUP($C7,'基础-供应商信息'!$C:$E,3,FALSE),"-") -> - | F7: =IF(C7="","-",SUMIFS('采购录入（明细）'!K:K,'采购录入（明细）'!D:D,C7)-SUMIFS($H$3:H6,$C$3:C6,C7)) -> -
A8: 5 | D8: =IFERROR(VLOOKUP($C8,'基础-供应商信息'!$C:$E,2,FALSE),"-") -> - | E8: =IFERROR(VLOOKUP($C8,'基础-供应商信息'!$C:$E,3,FALSE),"-") -> - | F8: =IF(C8="","-",SUMIFS('采购录入（明细）'!K:K,'采购录入（明细）'!D:D,C8)-SUMIFS($H$3:H7,$C$3:C7,C8)) -> -
A9: 6 | D9: =IFERROR(VLOOKUP($C9,'基础-供应商信息'!$C:$E,2,FALSE),"-") -> - | E9: =IFERROR(VLOOKUP($C9,'基础-供应商信息'!$C:$E,3,FALSE),"-") -> - | F9: =IF(C9="","-",SUMIFS('采购录入（明细）'!K:K,'采购录入（明细）'!D:D,C9)-SUMIFS($H$3:H8,$C$3:C8,C9)) -> -
A10: 7 | D10: =IFERROR(VLOOKUP($C10,'基础-供应商信息'!$C:$E,2,FALSE),"-") -> - | E10: =IFERROR(VLOOKUP($C10,'基础-供应商信息'!$C:$E,3,FALSE),"-") -> - | F10: =IF(C10="","-",SUMIFS('采购录入（明细）'!K:K,'采购录入（明细）'!D:D,C10)-SUMIFS($H$3:H9,$C$3:C9,C10)) -> -
A11: 8 | D11: =IFERROR(VLOOKUP($C11,'基础-供应商信息'!$C:$E,2,FALSE),"-") -> - | E11: =IFERROR(VLOOKUP($C11,'基础-供应商信息'!$C:$E,3,FALSE),"-") -> - | F11: =IF(C11="","-",SUMIFS('采购录入（明细）'!K:K,'采购录入（明细）'!D:D,C11)-SUMIFS($H$3:H10,$C$3:C10,C11)) -> -
A12: 9 | D12: =IFERROR(VLOOKUP($C12,'基础-供应商信息'!$C:$E,2,FALSE),"-") -> - | E12: =IFERROR(VLOOKUP($C12,'基础-供应商信息'!$C:$E,3,FALSE),"-") -> - | F12: =IF(C12="","-",SUMIFS('采购录入（明细）'!K:K,'采购录入（明细）'!D:D,C12)-SUMIFS($H$3:H11,$C$3:C11,C12)) -> -
A13: 10 | D13: =IFERROR(VLOOKUP($C13,'基础-供应商信息'!$C:$E,2,FALSE),"-") -> - | E13: =IFERROR(VLOOKUP($C13,'基础-供应商信息'!$C:$E,3,FALSE),"-") -> - | F13: =IF(C13="","-",SUMIFS('采购录入（明细）'!K:K,'采购录入（明细）'!D:D,C13)-SUMIFS($H$3:H12,$C$3:C12,C13)) -> -
A14: 11 | D14: =IFERROR(VLOOKUP($C14,'基础-供应商信息'!$C:$E,2,FALSE),"-") -> - | E14: =IFERROR(VLOOKUP($C14,'基础-供应商信息'!$C:$E,3,FALSE),"-") -> - | F14: =IF(C14="","-",SUMIFS('采购录入（明细）'!K:K,'采购录入（明细）'!D:D,C14)-SUMIFS($H$3:H13,$C$3:C13,C14)) -> -
A15: 12 | D15: =IFERROR(VLOOKUP($C15,'基础-供应商信息'!$C:$E,2,FALSE),"-") -> - | E15: =IFERROR(VLOOKUP($C15,'基础-供应商信息'!$C:$E,3,FALSE),"-") -> - | F15: =IF(C15="","-",SUMIFS('采购录入（明细）'!K:K,'采购录入（明细）'!D:D,C15)-SUMIFS($H$3:H14,$C$3:C14,C15)) -> -
A16: 13 | D16: =IFERROR(VLOOKUP($C16,'基础-供应商信息'!$C:$E,2,FALSE),"-") -> - | E16: =IFERROR(VLOOKUP($C16,'基础-供应商信息'!$C:$E,3,FALSE),"-") -> - | F16: =IF(C16="","-",SUMIFS('采购录入（明细）'!K:K,'采购录入（明细）'!D:D,C16)-SUMIFS($H$3:H15,$C$3:C15,C16)) -> -
A17: 14 | D17: =IFERROR(VLOOKUP($C17,'基础-供应商信息'!$C:$E,2,FALSE),"-") -> - | E17: =IFERROR(VLOOKUP($C17,'基础-供应商信息'!$C:$E,3,FALSE),"-") -> - | F17: =IF(C17="","-",SUMIFS('采购录入（明细）'!K:K,'采购录入（明细）'!D:D,C17)-SUMIFS($H$3:H16,$C$3:C16,C17)) -> -
A18: 15 | D18: =IFERROR(VLOOKUP($C18,'基础-供应商信息'!$C:$E,2,FALSE),"-") -> - | E18: =IFERROR(VLOOKUP($C18,'基础-供应商信息'!$C:$E,3,FALSE),"-") -> - | F18: =IF(C18="","-",SUMIFS('采购录入（明细）'!K:K,'采购录入（明细）'!D:D,C18)-SUMIFS($H$3:H17,$C$3:C17,C18)) -> -
... A1003: 1000 | D1003: =IFERROR(VLOOKUP($C1003,'基础-供应商信息'!$C:$E,2,FALSE),"-") -> - | E1003: =IFERROR(VLOOKUP($C1003,'基础-供应商信息'!$C:$E,3,FALSE),"-") -> - | F1003: =IF(C1003="","-",SUMIFS('采购录入（明细）'!K:K,'采购录入（明细）'!D:D,C1003)-SUMIFS($H$3:H1002,$C$3:C1002,C1003)) -> -
A1004: 如果行不够；先在[审阅]-[撤销保护工作表]后，从上面一行往下填充！

Sheet 采购录入（明细）
B2: 采购录入（明细）
B3: NO: | C3: 日期 | D3: 供应商 | E3: 联系人 | F3: 商品名称 | G3: 单位 | H3: 型号 | I3: 单价 | J3: 数量 | K3: 金额 | L3: 备注 | M3: 辅助月
B4: 1 | C4: 43208 | D4: 上海科创发展XX | E4: =IFERROR(VLOOKUP(D4,'基础-供应商信息'!$C:$D,2,FALSE),"-") -> 薛爽竹 | F4: 联想笔记本 | G4: =IFERROR(VLOOKUP($F4,'基础-商品信息'!$C:$E,2,FALSE),"-") -> 台 | H4: =IFERROR(VLOOKUP($F4,'基础-商品信息'!$C:$E,3,FALSE),"-") -> S-897 | I4: 1700 | J4: 20 | K4: =IF(AND(I4<>"",J4<>""),I4*J4,"-") -> 34000 | M4: =C4-DAY(C4)+1 -> 43191
B5: 2 | C5: 43209 | D5: XX财务系统 | E5: =IFERROR(VLOOKUP(D5,'基础-供应商信息'!$C:$D,2,FALSE),"-") -> 朱少皙 | F5: 财务软件 | G5: =IFERROR(VLOOKUP($F5,'基础-商品信息'!$C:$E,2,FALSE),"-") -> 套 | H5: =IFERROR(VLOOKUP($F5,'基础-商品信息'!$C:$E,3,FALSE),"-") -> S-905 | I5: 900 | J5: 20 | K5: =IF(AND(I5<>"",J5<>""),I5*J5,"-") -> 18000 | M5: =C5-DAY(C5)+1 -> 43191
B6: 3 | C6: 43210 | D6: 移动设备汇销XX | E6: =IFERROR(VLOOKUP(D6,'基础-供应商信息'!$C:$D,2,FALSE),"-") -> 李慧青 | F6: 华为笔记本 | G6: =IFERROR(VLOOKUP($F6,'基础-商品信息'!$C:$E,2,FALSE),"-") -> 台 | H6: =IFERROR(VLOOKUP($F6,'基础-商品信息'!$C:$E,3,FALSE),"-") -> S-900 | I6: 1100 | J6: 30 | K6: =IF(AND(I6<>"",J6<>""),I6*J6,"-") -> 33000 | M6: =C6-DAY(C6)+1 -> 43191
B7: 4 | C7: 43211 | D7: 移动设备汇销XX | E7: =IFERROR(VLOOKUP(D7,'基础-供应商信息'!$C:$D,2,FALSE),"-") -> 李慧青 | F7: 华为手机 | G7: =IFERROR(VLOOKUP($F7,'基础-商品信息'!$C:$E,2,FALSE),"-") -> 台 | H7: =IFERROR(VLOOKUP($F7,'基础-商品信息'!$C:$E,3,FALSE),"-") -> S-902 | I7: 1100 | J7: 30 | K7: =IF(AND(I7<>"",J7<>""),I7*J7,"-") -> 33000 | M7: =C7-DAY(C7)+1 -> 43191
B8: 5 | C8: 43212 | D8: 移动设备汇销XX | E8: =IFERROR(VLOOKUP(D8,'基础-供应商信息'!$C:$D,2,FALSE),"-") -> 李慧青 | F8: 联想手机 | G8: =IFERROR(VLOOKUP($F8,'基础-商品信息'!$C:$E,2,FALSE),"-") -> 台 | H8: =IFERROR(VLOOKUP($F8,'基础-商品信息'!$C:$E,3,FALSE),"-") -> S-899 | I8: 1050 | J8: 12 | K8: =IF(AND(I8<>"",J8<>""),I8*J8,"-") -> 12600 | M8: =C8-DAY(C8)+1 -> 43191
B9: 6 | E9: =IFERROR(VLOOKUP(D9,'基础-供应商信息'!$C:$D,2,FALSE),"-") -> - | G9: =IFERROR(VLOOKUP($F9,'基础-商品信息'!$C:$E,2,FALSE),"-") -> - | H9: =IFERROR(VLOOKUP($F9,'基础-商品信息'!$C:$E,3,FALSE),"-") -> - | K9: =IF(AND(I9<>"",J9<>""),I9*J9,"-") -> - | M9: =C9-DAY(C9)+1 -> 1
B10: 7 | E10: =IFERROR(VLOOKUP(D10,'基础-供应商信息'!$C:$D,2,FALSE),"-") -> - | G10: =IFERROR(VLOOKUP($F10,'基础-商品信息'!$C:$E,2,FALSE),"-") -> - | H10: =IFERROR(VLOOKUP($F10,'基础-商品信息'!$C:$E,3,FALSE),"-") -> - | K10: =IF(AND(I10<>"",J10<>""),I10*J10,"-") -> - | M10: =C10-DAY(C10)+1 -> 1
B11: 8 | E11: =IFERROR(VLOOKUP(D11,'基础-供应商信息'!$C:$D,2,FALSE),"-") -> - | G11: =IFERROR(VLOOKUP($F11,'基础-商品信息'!$C:$E,2,FALSE),"-") -> - | H11: =IFERROR(VLOOKUP($F11,'基础-商品信息'!$C:$E,3,FALSE),"-") -> - | K11: =IF(AND(I11<>"",J11<>""),I11*J11,"-") -> - | M11: =C11-DAY(C11)+1 -> 1
B12: 9 | E12: =IFERROR(VLOOKUP(D12,'基础-供应商信息'!$C:$D,2,FALSE),"-") -> - | G12: =IFERROR(VLOOKUP($F12,'基础-商品信息'!$C:$E,2,FALSE),"-") -> - | H12: =IFERROR(VLOOKUP($F12,'基础-商品信息'!$C:$E,3,FALSE),"-") -> - | K12: =IF(AND(I12<>"",J12<>""),I12*J12,"-") -> - | M12: =C12-DAY(C12)+1 -> 1
B13: 10 | E13: =IFERROR(VLOOKUP(D13,'基础-供应商信息'!$C:$D,2,FALSE),"-") -> - | G13: =IFERROR(VLOOKUP($F13,'基础-商品信息'!$C:$E,2,FALSE),"-") -> - | H13: =IFERROR(VLOOKUP($F13,'基础-商品信息'!$C:$E,3,FALSE),"-") -> - | K13: =IF(AND(I13<>"",J13<>""),I13*J13,"-") -> - | M13: =C13-DAY(C13)+1 -> 1
B14: 11 | E14: =IFERROR(VLOOKUP(D14,'基础-供应商信息'!$C:$D,2,FALSE),"-") -> - | G14: =IFERROR(VLOOKUP($F14,'基础-商品信息'!$C:$E,2,FALSE),"-") -> - | H14: =IFERROR(VLOOKUP($F14,'基础-商品信息'!$C:$E,3,FALSE),"-") -> - | K14: =IF(AND(I14<>"",J14<>""),I14*J14,"-") -> - | M14: =C14-DAY(C14)+1 -> 1
B15: 12 | E15: =IFERROR(VLOOKUP(D15,'基础-供应商信息'!$C:$D,2,FALSE),"-") -> - | G15: =IFERROR(VLOOKUP($F15,'基础-商品信息'!$C:$E,2,FALSE),"-") -> - | H15: =IFERROR(VLOOKUP($F15,'基础-商品信息'!$C:$E,3,FALSE),"-") -> - | K15: =IF(AND(I15<>"",J15<>""),I15*J15,"-") -> - | M15: =C15-DAY(C15)+1 -> 1
B16: 13 | E16: =IFERROR(VLOOKUP(D16,'基础-供应商信息'!$C:$D,2,FALSE),"-") -> - | G16: =IFERROR(VLOOKUP($F16,'基础-商品信息'!$C:$E,2,FALSE),"-") -> - | H16: =IFERROR(VLOOKUP($F16,'基础-商品信息'!$C:$E,3,FALSE),"-") -> - | K16: =IF(AND(I16<>"",J16<>""),I16*J16,"-") -> - | M16: =C16-DAY(C16)+1 -> 1
B17: 14 | E17: =IFERROR(VLOOKUP(D17,'基础-供应商信息'!$C:$D,2,FALSE),"-") -> - | G17: =IFERROR(VLOOKUP($F17,'基础-商品信息'!$C:$E,2,FALSE),"-") -> - | H17: =IFERROR(VLOOKUP($F17,'基础-商品信息'!$C:$E,3,FALSE),"-") -> - | K17: =IF(AND(I17<>"",J17<>""),I17*J17,"-") -> - | M17: =C17-DAY(C17)+1 -> 1
B18: 15 | E18: =IFERROR(VLOOKUP(D18,'基础-供应商信息'!$C:$D,2,FALSE),"-") -> - | G18: =IFERROR(VLOOKUP($F18,'基础-商品信息'!$C:$E,2,FALSE),"-") -> - | H18: =IFERROR(VLOOKUP($F18,'基础-商品信息'!$C:$E,3,FALSE),"-") -> - | K18: =IF(AND(I18<>"",J18<>""),I18*J18,"-") -> - | M18: =C18-DAY(C18)+1 -> 1
B19: 16 | E19: =IFERROR(VLOOKUP(D19,'基础-供应商信息'!$C:$D,2,FALSE),"-") -> - | G19: =IFERROR(VLOOKUP($F19,'基础-商品信息'!$C:$E,2,FALSE),"-") -> - | H19: =IFERROR(VLOOKUP($F19,'基础-商品信息'!$C:$E,3,FALSE),"-") -> - | K19: =IF(AND(I19<>"",J19<>""),I19*J19,"-") -> - | M19: =C19-DAY(C19)+1 -> 1
B20: 17 | E20: =IFERROR(VLOOKUP(D20,'基础-供应商信息'!$C:$D,2,FALSE),"-") -> - | G20: =IFERROR(VLOOKUP($F20,'基础-商品信息'!$C:$E,2,FALSE),"-") -> - | H20: =IFERROR(VLOOKUP($F20,'基础-商品信息'!$C:$E,3,FALSE),"-") -> - | K20: =IF(AND(I20<>"",J20<>""),I20*J20,"-") -> - | M20: =C20-DAY(C20)+1 -> 1
... B1003: 1000 | E1003: =IFERROR(VLOOKUP(D1003,'基础-供应商信息'!$C:$D,2,FALSE),"-") -> - | G1003: =IFERROR(VLOOKUP($F1003,'基础-商品信息'!$C:$E,2,FALSE),"-") -> - | H1003: =IFERROR(VLOOKUP($F1003,'基础-商品信息'!$C:$E,3,FALSE),"-") -> - | K1003: =IF(AND(I1003<>"",J1003<>""),I1003*J1003,"-") -> - | M1003: =C1003-DAY(C1003)+1 -> 1
B1004: 如果行不够；先在[审阅]-[撤销保护工作表]后，取消影藏列从上面一行往下填充！

Sheet 基础-供应商信息
B2: ="供应商信息-设置 ( "&COUNTA(C4:C303)&"家供应商 )" -> 供应商信息-设置 ( 3家供应商 )
B3: NO: | C3: 公司名称 | D3: 姓名 | E3: 联系电话 | F3: 其它联系方式 | G3: 备注
B4: 1 | C4: 上海科创发展XX | D4: 薛爽竹 | E4: 18128789089 | F4: 18128789089@QQ.COM
B5: 2 | C5: 移动设备汇销XX | D5: 李慧青 | E5: 18128789090 | F5: 18128789090@QQ.COM
B6: 3 | C6: XX财务系统 | D6: 朱少皙 | E6: 18128789091 | F6: 18128789091@QQ.COM
B7: 4
B8: 5
B9: 6
B10: 7
B11: 8
B12: 9
B13: 10
B14: 11
B15: 12
B16: 13
B17: 14
B18: 15
... B303: 300

Sheet 基础-商品信息
B2: ="商品信息-设定（"&COUNTA(C4:C38)&"类商品）" -> 商品信息-设定（9类商品）
B3: NO: | C3: 商品名称 | D3: 单位 | E3: 型号 | F3: 备注
B4: 1 | C4: 联想笔记本 | D4: 台 | E4: S-897
B5: 2 | C5: 联想台式机 | D5: 台 | E5: S-898
B6: 3 | C6: 联想手机 | D6: 台 | E6: S-899
B7: 4 | C7: 华为笔记本 | D7: 台 | E7: S-900
B8: 5 | C8: 华为台式机 | D8: 台 | E8: S-901
B9: 6 | C9: 华为手机 | D9: 台 | E9: S-902
B10: 7 | C10: 苹果电脑 | D10: 台 | E10: S-903
B11: 8 | C11: 苹果手机 | D11: 台 | E11: S-904
B12: 9 | C12: 财务软件 | D12: 套 | E12: S-905
B13: 10
B14: 11
B15: 12
B16: 13
B17: 14
B18: 15
B19: 16
B20: 17
B21: 18
B22: 19
B23: 20
B24: 21
... B203: 200

Sheet 基础-客户信息 
B2: ="客户信息-设置 （ "&COUNTA(C4:C303)&"家客户 ）" -> 客户信息-设置 （ 3家客户 ）
B3: NO: | C3: 公司名称 | D3: 姓名 | E3: 联系电话 | F3: 其它联系方式 | G3: 备注
B4: 1 | C4: 安居商贸（客户） | D4: 陈苗天 | E4: 13123433441 | F4: 13123433441@.qq.com
B5: 2 | C5: 核心创辉（客户） | D5: 王昊月 | E5: 13123433442 | F5: 13123433442@.qq.com
B6: 3 | C6: 智慧谷游（客户） | D6: 张明欣 | E6: 13123433443 | F6: 13123433443@.qq.com
B7: 4
B8: 5
B9: 6
B10: 7
B11: 8
B12: 9
B13: 10
B14: 11
B15: 12
B16: 13
B17: 14
B18: 15
... B303: 300

Sheet 主页 
B2: 进销存管理系统
R4: 【 当前时间： | T4: =NOW() -> 44959.73 | V4: 】
O21: 当月采购： | R21: =SUMIFS('采购录入（明细）'!J:J,'采购录入（明细）'!M:M,TODAY()-DAY(TODAY())+1) -> 0 | S21: =SUMIFS('采购录入（明细）'!K:K,'采购录入（明细）'!M:M,TODAY()-DAY(TODAY())+1) -> 0
D22: ="【 今天是: "&TEXT(TODAY(),"yyyy年m月d日")&" "&TEXT(TODAY(),"aaaa")&" 】" -> 【 今天是: 2023年2月2日 星期四 】 | O22: 当月销售： | R22: =SUMIFS('销售录入（明细）'!J:J,'销售录入（明细）'!M:M,TODAY()-DAY(TODAY())+1) -> 0 | S22: =SUMIFS('销售录入（明细）'!K:K,'销售录入（明细）'!M:M,TODAY()-DAY(TODAY())+1) -> 0

Sheet 销售录入（明细）
B2: 销售录入（明细）
B3: NO: | C3: 日期 | D3: 客户名称 | E3: 联系人 | F3: 商品名称 | G3: 单位 | H3: 型号 | I3: 单价 | J3: 数量 | K3: 金额 | L3: 备注 | M3: 辅助月
B4: 1 | C4: 43212 | D4: 安居商贸（客户） | E4: =IFERROR(VLOOKUP(D4,'基础-客户信息 '!$C:$D,2,FALSE),"-") -> 陈苗天 | F4: 联想笔记本 | G4: =IFERROR(VLOOKUP($F4,'基础-商品信息'!$C:$E,2,FALSE),"-") -> 台 | H4: =IFERROR(VLOOKUP($F4,'基础-商品信息'!$C:$E,3,FALSE),"-") -> S-897 | I4: 4200 | J4: 10 | K4: =IF(AND(I4<>"",J4<>""),I4*J4,"-") -> 42000 | M4: =C4-DAY(C4)+1 -> 43191
B5: 2 | C5: 43213 | D5: 安居商贸（客户） | E5: =IFERROR(VLOOKUP(D5,'基础-客户信息 '!$C:$D,2,FALSE),"-") -> 陈苗天 | F5: 联想手机 | G5: =IFERROR(VLOOKUP($F5,'基础-商品信息'!$C:$E,2,FALSE),"-") -> 台 | H5: =IFERROR(VLOOKUP($F5,'基础-商品信息'!$C:$E,3,FALSE),"-") -> S-899 | I5: 1300 | J5: 8 | K5: =IF(AND(I5<>"",J5<>""),I5*J5,"-") -> 10400 | M5: =C5-DAY(C5)+1 -> 43191
B6: 3 | C6: 43214 | D6: 核心创辉（客户） | E6: =IFERROR(VLOOKUP(D6,'基础-客户信息 '!$C:$D,2,FALSE),"-") -> 王昊月 | F6: 联想手机 | G6: =IFERROR(VLOOKUP($F6,'基础-商品信息'!$C:$E,2,FALSE),"-") -> 台 | H6: =IFERROR(VLOOKUP($F6,'基础-商品信息'!$C:$E,3,FALSE),"-") -> S-899 | I6: 1300 | J6: 2 | K6: =IF(AND(I6<>"",J6<>""),I6*J6,"-") -> 2600 | M6: =C6-DAY(C6)+1 -> 43191
B7: 4 | C7: 43215 | D7: 智慧谷游（客户） | E7: =IFERROR(VLOOKUP(D7,'基础-客户信息 '!$C:$D,2,FALSE),"-") -> 张明欣 | F7: 华为手机 | G7: =IFERROR(VLOOKUP($F7,'基础-商品信息'!$C:$E,2,FALSE),"-") -> 台 | H7: =IFERROR(VLOOKUP($F7,'基础-商品信息'!$C:$E,3,FALSE),"-") -> S-902 | I7: 1500 | J7: 2 | K7: =IF(AND(I7<>"",J7<>""),I7*J7,"-") -> 3000 | M7: =C7-DAY(C7)+1 -> 43191
B8: 5 | E8: =IFERROR(VLOOKUP(D8,'基础-客户信息 '!$C:$D,2,FALSE),"-") -> - | G8: =IFERROR(VLOOKUP($F8,'基础-商品信息'!$C:$E,2,FALSE),"-") -> - | H8: =IFERROR(VLOOKUP($F8,'基础-商品信息'!$C:$E,3,FALSE),"-") -> - | K8: =IF(AND(I8<>"",J8<>""),I8*J8,"-") -> - | M8: =C8-DAY(C8)+1 -> 1
B9: 6 | E9: =IFERROR(VLOOKUP(D9,'基础-客户信息 '!$C:$D,2,FALSE),"-") -> - | G9: =IFERROR(VLOOKUP($F9,'基础-商品信息'!$C:$E,2,FALSE),"-") -> - | H9: =IFERROR(VLOOKUP($F9,'基础-商品信息'!$C:$E,3,FALSE),"-") -> - | K9: =IF(AND(I9<>"",J9<>""),I9*J9,"-") -> - | M9: =C9-DAY(C9)+1 -> 1
B10: 7 | E10: =IFERROR(VLOOKUP(D10,'基础-客户信息 '!$C:$D,2,FALSE),"-") -> - | G10: =IFERROR(VLOOKUP($F10,'基础-商品信息'!$C:$E,2,FALSE),"-") -> - | H10: =IFERROR(VLOOKUP($F10,'基础-商品信息'!$C:$E,3,FALSE),"-") -> - | K10: =IF(AND(I10<>"",J10<>""),I10*J10,"-") -> - | M10: =C10-DAY(C10)+1 -> 1
B11: 8 | E11: =IFERROR(VLOOKUP(D11,'基础-客户信息 '!$C:$D,2,FALSE),"-") -> - | G11: =IFERROR(VLOOKUP($F11,'基础-商品信息'!$C:$E,2,FALSE),"-") -> - | H11: =IFERROR(VLOOKUP($F11,'基础-商品信息'!$C:$E,3,FALSE),"-") -> - | K11: =IF(AND(I11<>"",J11<>""),I11*J11,"-") -> - | M11: =C11-DAY(C11)+1 -> 1
B12: 9 | E12: =IFERROR(VLOOKUP(D12,'基础-客户信息 '!$C:$D,2,FALSE),"-") -> - | G12: =IFERROR(VLOOKUP($F12,'基础-商品信息'!$C:$E,2,FALSE),"-") -> - | H12: =IFERROR(VLOOKUP($F12,'基础-商品信息'!$C:$E,3,FALSE),"-") -> - | K12: =IF(AND(I12<>"",J12<>""),I12*J12,"-") -> - | M12: =C12-DAY(C12)+1 -> 1
B13: 10 | E13: =IFERROR(VLOOKUP(D13,'基础-客户信息 '!$C:$D,2,FALSE),"-") -> - | G13: =IFERROR(VLOOKUP($F13,'基础-商品信息'!$C:$E,2,FALSE),"-") -> - | H13: =IFERROR(VLOOKUP($F13,'基础-商品信息'!$C:$E,3,FALSE),"-") -> - | K13: =IF(AND(I13<>"",J13<>""),I13*J13,"-") -> - | M13: =C13-DAY(C13)+1 -> 1
B14: 11 | E14: =IFERROR(VLOOKUP(D14,'基础-客户信息 '!$C:$D,2,FALSE),"-") -> - | G14: =IFERROR(VLOOKUP($F14,'基础-商品信息'!$C:$E,2,FALSE),"-") -> - | H14: =IFERROR(VLOOKUP($F14,'基础-商品信息'!$C:$E,3,FALSE),"-") -> - | K14: =IF(AND(I14<>"",J14<>""),I14*J14,"-") -> - | M14: =C14-DAY(C14)+1 -> 1
B15: 12 | E15: =IFERROR(VLOOKUP(D15,'基础-客户信息 '!$C:$D,2,FALSE),"-") -> - | G15: =IFERROR(VLOOKUP($F15,'基础-商品信息'!$C:$E,2,FALSE),"-") -> - | H15: =IFERROR(VLOOKUP($F15,'基础-商品信息'!$C:$E,3,FALSE),"-") -> - | K15: =IF(AND(I15<>"",J15<>""),I15*J15,"-") -> - | M15: =C15-DAY(C15)+1 -> 1
B16: 13 | E16: =IFERROR(VLOOKUP(D16,'基础-客户信息 '!$C:$D,2,FALSE),"-") -> - | G16: =IFERROR(VLOOKUP($F16,'基础-商品信息'!$C:$E,2,FALSE),"-") -> - | H16: =IFERROR(VLOOKUP($F16,'基础-商品信息'!$C:$E,3,FALSE),"-") -> - | K16: =IF(AND(I16<>"",J16<>""),I16*J16,"-") -> - | M16: =C16-DAY(C16)+1 -> 1
B17: 14 | E17: =IFERROR(VLOOKUP(D17,'基础-客户信息 '!$C:$D,2,FALSE),"-") -> - | G17: =IFERROR(VLOOKUP($F17,'基础-商品信息'!$C:$E,2,FALSE),"-") -> - | H17: =IFERROR(VLOOKUP($F17,'基础-商品信息'!$C:$E,3,FALSE),"-") -> - | K17: =IF(AND(I17<>"",J17<>""),I17*J17,"-") -> - | M17: =C17-DAY(C17)+1 -> 1
B18: 15 | E18: =IFERROR(VLOOKUP(D18,'基础-客户信息 '!$C:$D,2,FALSE),"-") -> - | G18: =IFERROR(VLOOKUP($F18,'基础-商品信息'!$C:$E,2,FALSE),"-") -> - | H18: =IFERROR(VLOOKUP($F18,'基础-商品信息'!$C:$E,3,FALSE),"-") -> - | K18: =IF(AND(I18<>"",J18<>""),I18*J18,"-") -> - | M18: =C18-DAY(C18)+1 -> 1
B19: 16 | E19: =IFERROR(VLOOKUP(D19,'基础-客户信息 '!$C:$D,2,FALSE),"-") -> - | G19: =IFERROR(VLOOKUP($F19,'基础-商品信息'!$C:$E,2,FALSE),"-") -> - | H19: =IFERROR(VLOOKUP($F19,'基础-商品信息'!$C:$E,3,FALSE),"-") -> - | K19: =IF(AND(I19<>"",J19<>""),I19*J19,"-") -> - | M19: =C19-DAY(C19)+1 -> 1
... B1003: 1000 | E1003: =IFERROR(VLOOKUP(D1003,'基础-客户信息 '!$C:$D,2,FALSE),"-") -> - | G1003: =IFERROR(VLOOKUP($F1003,'基础-商品信息'!$C:$E,2,FALSE),"-") -> - | H1003: =IFERROR(VLOOKUP($F1003,'基础-商品信息'!$C:$E,3,FALSE),"-") -> - | K1003: =IF(AND(I1003<>"",J1003<>""),I1003*J1003,"-") -> - | M1003: =C1003-DAY(C1003)+1 -> 1
B1004: 如果行不够；先在[审阅]-[撤销保护工作表]后，取消隐藏列从上面一行往下填充！

Sheet 销售汇总查询
B2: 销售汇总查询
B4: 输入查询的起止日期： | E4: 43018 | F4: 至 | G4: 43021
B6: NO: | C6: 商品名称 | D6: 单位 | E6: 型号 | F6: 数量 | G6: 销售金额
B7: 1 | C7: =IF('基础-商品信息'!C4="","-",'基础-商品信息'!C4) -> 联想笔记本 | D7: =IF('基础-商品信息'!D4="","-",'基础-商品信息'!D4) -> 台 | E7: =IF('基础-商品信息'!E4="","-",'基础-商品信息'!E4) -> S-897 | F7: =SUMIFS('销售录入（明细）'!$J:$J,'销售录入（明细）'!$F:$F,C7,'销售录入（明细）'!$C:$C,">="&$E$4,'销售录入（明细）'!$C:$C,"<="&$G$4) -> 0 | G7: =SUMIFS('销售录入（明细）'!$K:$K,'销售录入（明细）'!$F:$F,C7,'销售录入（明细）'!$C:$C,">="&$E$4,'销售录入（明细）'!$C:$C,"<="&$G$4) -> 0
B8: 2 | C8: =IF('基础-商品信息'!C5="","-",'基础-商品信息'!C5) -> 联想台式机 | D8: =IF('基础-商品信息'!D5="","-",'基础-商品信息'!D5) -> 台 | E8: =IF('基础-商品信息'!E5="","-",'基础-商品信息'!E5) -> S-898 | F8: =SUMIFS('销售录入（明细）'!$J:$J,'销售录入（明细）'!$F:$F,C8,'销售录入（明细）'!$C:$C,">="&$E$4,'销售录入（明细）'!$C:$C,"<="&$G$4) -> 0 | G8: =SUMIFS('销售录入（明细）'!$K:$K,'销售录入（明细）'!$F:$F,C8,'销售录入（明细）'!$C:$C,">="&$E$4,'销售录入（明细）'!$C:$C,"<="&$G$4) -> 0
B9: 3 | C9: =IF('基础-商品信息'!C6="","-",'基础-商品信息'!C6) -> 联想手机 | D9: =IF('基础-商品信息'!D6="","-",'基础-商品信息'!D6) -> 台 | E9: =IF('基础-商品信息'!E6="","-",'基础-商品信息'!E6) -> S-899 | F9: =SUMIFS('销售录入（明细）'!$J:$J,'销售录入（明细）'!$F:$F,C9,'销售录入（明细）'!$C:$C,">="&$E$4,'销售录入（明细）'!$C:$C,"<="&$G$4) -> 0 | G9: =SUMIFS('销售录入（明细）'!$K:$K,'销售录入（明细）'!$F:$F,C9,'销售录入（明细）'!$C:$C,">="&$E$4,'销售录入（明细）'!$C:$C,"<="&$G$4) -> 0
B10: 4 | C10: =IF('基础-商品信息'!C7="","-",'基础-商品信息'!C7) -> 华为笔记本 | D10: =IF('基础-商品信息'!D7="","-",'基础-商品信息'!D7) -> 台 | E10: =IF('基础-商品信息'!E7="","-",'基础-商品信息'!E7) -> S-900 | F10: =SUMIFS('销售录入（明细）'!$J:$J,'销售录入（明细）'!$F:$F,C10,'销售录入（明细）'!$C:$C,">="&$E$4,'销售录入（明细）'!$C:$C,"<="&$G$4) -> 0 | G10: =SUMIFS('销售录入（明细）'!$K:$K,'销售录入（明细）'!$F:$F,C10,'销售录入（明细）'!$C:$C,">="&$E$4,'销售录入（明细）'!$C:$C,"<="&$G$4) -> 0
B11: 5 | C11: =IF('基础-商品信息'!C8="","-",'基础-商品信息'!C8) -> 华为台式机 | D11: =IF('基础-商品信息'!D8="","-",'基础-商品信息'!D8) -> 台 | E11: =IF('基础-商品信息'!E8="","-",'基础-商品信息'!E8) -> S-901 | F11: =SUMIFS('销售录入（明细）'!$J:$J,'销售录入（明细）'!$F:$F,C11,'销售录入（明细）'!$C:$C,">="&$E$4,'销售录入（明细）'!$C:$C,"<="&$G$4) -> 0 | G11: =SUMIFS('销售录入（明细）'!$K:$K,'销售录入（明细）'!$F:$F,C11,'销售录入（明细）'!$C:$C,">="&$E$4,'销售录入（明细）'!$C:$C,"<="&$G$4) -> 0
B12: 6 | C12: =IF('基础-商品信息'!C9="","-",'基础-商品信息'!C9) -> 华为手机 | D12: =IF('基础-商品信息'!D9="","-",'基础-商品信息'!D9) -> 台 | E12: =IF('基础-商品信息'!E9="","-",'基础-商品信息'!E9) -> S-902 | F12: =SUMIFS('销售录入（明细）'!$J:$J,'销售录入（明细）'!$F:$F,C12,'销售录入（明细）'!$C:$C,">="&$E$4,'销售录入（明细）'!$C:$C,"<="&$G$4) -> 0 | G12: =SUMIFS('销售录入（明细）'!$K:$K,'销售录入（明细）'!$F:$F,C12,'销售录入（明细）'!$C:$C,">="&$E$4,'销售录入（明细）'!$C:$C,"<="&$G$4) -> 0
B13: 7 | C13: =IF('基础-商品信息'!C10="","-",'基础-商品信息'!C10) -> 苹果电脑 | D13: =IF('基础-商品信息'!D10="","-",'基础-商品信息'!D10) -> 台 | E13: =IF('基础-商品信息'!E10="","-",'基础-商品信息'!E10) -> S-903 | F13: =SUMIFS('销售录入（明细）'!$J:$J,'销售录入（明细）'!$F:$F,C13,'销售录入（明细）'!$C:$C,">="&$E$4,'销售录入（明细）'!$C:$C,"<="&$G$4) -> 0 | G13: =SUMIFS('销售录入（明细）'!$K:$K,'销售录入（明细）'!$F:$F,C13,'销售录入（明细）'!$C:$C,">="&$E$4,'销售录入（明细）'!$C:$C,"<="&$G$4) -> 0
B14: 8 | C14: =IF('基础-商品信息'!C11="","-",'基础-商品信息'!C11) -> 苹果手机 | D14: =IF('基础-商品信息'!D11="","-",'基础-商品信息'!D11) -> 台 | E14: =IF('基础-商品信息'!E11="","-",'基础-商品信息'!E11) -> S-904 | F14: =SUMIFS('销售录入（明细）'!$J:$J,'销售录入（明细）'!$F:$F,C14,'销售录入（明细）'!$C:$C,">="&$E$4,'销售录入（明细）'!$C:$C,"<="&$G$4) -> 0 | G14: =SUMIFS('销售录入（明细）'!$K:$K,'销售录入（明细）'!$F:$F,C14,'销售录入（明细）'!$C:$C,">="&$E$4,'销售录入（明细）'!$C:$C,"<="&$G$4) -> 0
B15: 9 | C15: =IF('基础-商品信息'!C12="","-",'基础-商品信息'!C12) -> 财务软件 | D15: =IF('基础-商品信息'!D12="","-",'基础-商品信息'!D12) -> 套 | E15: =IF('基础-商品信息'!E12="","-",'基础-商品信息'!E12) -> S-905 | F15: =SUMIFS('销售录入（明细）'!$J:$J,'销售录入（明细）'!$F:$F,C15,'销售录入（明细）'!$C:$C,">="&$E$4,'销售录入（明细）'!$C:$C,"<="&$G$4) -> 0 | G15: =SUMIFS('销售录入（明细）'!$K:$K,'销售录入（明细）'!$F:$F,C15,'销售录入（明细）'!$C:$C,">="&$E$4,'销售录入（明细）'!$C:$C,"<="&$G$4) -> 0
B16: 10 | C16: =IF('基础-商品信息'!C13="","-",'基础-商品信息'!C13) -> - | D16: =IF('基础-商品信息'!D13="","-",'基础-商品信息'!D13) -> - | E16: =IF('基础-商品信息'!E13="","-",'基础-商品信息'!E13) -> - | F16: =SUMIFS('销售录入（明细）'!$J:$J,'销售录入（明细）'!$F:$F,C16,'销售录入（明细）'!$C:$C,">="&$E$4,'销售录入（明细）'!$C:$C,"<="&$G$4) -> 0 | G16: =SUMIFS('销售录入（明细）'!$K:$K,'销售录入（明细）'!$F:$F,C16,'销售录入（明细）'!$C:$C,">="&$E$4,'销售录入（明细）'!$C:$C,"<="&$G$4) -> 0
B17: 11 | C17: =IF('基础-商品信息'!C14="","-",'基础-商品信息'!C14) -> - | D17: =IF('基础-商品信息'!D14="","-",'基础-商品信息'!D14) -> - | E17: =IF('基础-商品信息'!E14="","-",'基础-商品信息'!E14) -> - | F17: =SUMIFS('销售录入（明细）'!$J:$J,'销售录入（明细）'!$F:$F,C17,'销售录入（明细）'!$C:$C,">="&$E$4,'销售录入（明细）'!$C:$C,"<="&$G$4) -> 0 | G17: =SUMIFS('销售录入（明细）'!$K:$K,'销售录入（明细）'!$F:$F,C17,'销售录入（明细）'!$C:$C,">="&$E$4,'销售录入（明细）'!$C:$C,"<="&$G$4) -> 0
B18: 12 | C18: =IF('基础-商品信息'!C15="","-",'基础-商品信息'!C15) -> - | D18: =IF('基础-商品信息'!D15="","-",'基础-商品信息'!D15) -> - | E18: =IF('基础-商品信息'!E15="","-",'基础-商品信息'!E15) -> - | F18: =SUMIFS('销售录入（明细）'!$J:$J,'销售录入（明细）'!$F:$F,C18,'销售录入（明细）'!$C:$C,">="&$E$4,'销售录入（明细）'!$C:$C,"<="&$G$4) -> 0 | G18: =SUMIFS('销售录入（明细）'!$K:$K,'销售录入（明细）'!$F:$F,C18,'销售录入（明细）'!$C:$C,">="&$E$4,'销售录入（明细）'!$C:$C,"<="&$G$4) -> 0
... B206: 200 | C206: =IF('基础-商品信息'!C203="","-",'基础-商品信息'!C203) -> - | D206: =IF('基础-商品信息'!D203="","-",'基础-商品信息'!D203) -> - | E206: =IF('基础-商品信息'!E203="","-",'基础-商品信息'!E203) -> - | F206: =SUMIFS('销售录入（明细）'!$J:$J,'销售录入（明细）'!$F:$F,C206,'销售录入（明细）'!$C:$C,">="&$E$4,'销售录入（明细）'!$C:$C,"<="&$G$4) -> 0 | G206: =SUMIFS('销售录入（明细）'!$K:$K,'销售录入（明细）'!$F:$F,C206,'销售录入（明细）'!$C:$C,">="&$E$4,'销售录入（明细）'!$C:$C,"<="&$G$4) -> 0

Sheet 期初库存
B2: 期初库存（设置）
B3: NO: | C3: 商品名称 | D3: 单位 | E3: 型号 | F3: 期初数量（填写）
B4: 1 | C4: =IF('基础-商品信息'!C4="","-",'基础-商品信息'!C4) -> 联想笔记本 | D4: =IF('基础-商品信息'!D4="","-",'基础-商品信息'!D4) -> 台 | E4: =IF('基础-商品信息'!E4="","-",'基础-商品信息'!E4) -> S-897 | F4: 0
B5: 2 | C5: =IF('基础-商品信息'!C5="","-",'基础-商品信息'!C5) -> 联想台式机 | D5: =IF('基础-商品信息'!D5="","-",'基础-商品信息'!D5) -> 台 | E5: =IF('基础-商品信息'!E5="","-",'基础-商品信息'!E5) -> S-898 | F5: 0
B6: 3 | C6: =IF('基础-商品信息'!C6="","-",'基础-商品信息'!C6) -> 联想手机 | D6: =IF('基础-商品信息'!D6="","-",'基础-商品信息'!D6) -> 台 | E6: =IF('基础-商品信息'!E6="","-",'基础-商品信息'!E6) -> S-899 | F6: 0
B7: 4 | C7: =IF('基础-商品信息'!C7="","-",'基础-商品信息'!C7) -> 华为笔记本 | D7: =IF('基础-商品信息'!D7="","-",'基础-商品信息'!D7) -> 台 | E7: =IF('基础-商品信息'!E7="","-",'基础-商品信息'!E7) -> S-900 | F7: 0
B8: 5 | C8: =IF('基础-商品信息'!C8="","-",'基础-商品信息'!C8) -> 华为台式机 | D8: =IF('基础-商品信息'!D8="","-",'基础-商品信息'!D8) -> 台 | E8: =IF('基础-商品信息'!E8="","-",'基础-商品信息'!E8) -> S-901 | F8: 0
B9: 6 | C9: =IF('基础-商品信息'!C9="","-",'基础-商品信息'!C9) -> 华为手机 | D9: =IF('基础-商品信息'!D9="","-",'基础-商品信息'!D9) -> 台 | E9: =IF('基础-商品信息'!E9="","-",'基础-商品信息'!E9) -> S-902 | F9: 0
B10: 7 | C10: =IF('基础-商品信息'!C10="","-",'基础-商品信息'!C10) -> 苹果电脑 | D10: =IF('基础-商品信息'!D10="","-",'基础-商品信息'!D10) -> 台 | E10: =IF('基础-商品信息'!E10="","-",'基础-商品信息'!E10) -> S-903 | F10: 0
B11: 8 | C11: =IF('基础-商品信息'!C11="","-",'基础-商品信息'!C11) -> 苹果手机 | D11: =IF('基础-商品信息'!D11="","-",'基础-商品信息'!D11) -> 台 | E11: =IF('基础-商品信息'!E11="","-",'基础-商品信息'!E11) -> S-904 | F11: 0
B12: 9 | C12: =IF('基础-商品信息'!C12="","-",'基础-商品信息'!C12) -> 财务软件 | D12: =IF('基础-商品信息'!D12="","-",'基础-商品信息'!D12) -> 套 | E12: =IF('基础-商品信息'!E12="","-",'基础-商品信息'!E12) -> S-905 | F12: 0
B13: 10 | C13: =IF('基础-商品信息'!C13="","-",'基础-商品信息'!C13) -> - | D13: =IF('基础-商品信息'!D13="","-",'基础-商品信息'!D13) -> - | E13: =IF('基础-商品信息'!E13="","-",'基础-商品信息'!E13) -> -
B14: 11 | C14: =IF('基础-商品信息'!C14="","-",'基础-商品信息'!C14) -> - | D14: =IF('基础-商品信息'!D14="","-",'基础-商品信息'!D14) -> - | E14: =IF('基础-商品信息'!E14="","-",'基础-商品信息'!E14) -> -
B15: 12 | C15: =IF('基础-商品信息'!C15="","-",'基础-商品信息'!C15) -> - | D15: =IF('基础-商品信息'!D15="","-",'基础-商品信息'!D15) -> - | E15: =IF('基础-商品信息'!E15="","-",'基础-商品信息'!E15) -> -
B16: 13 | C16: =IF('基础-商品信息'!C16="","-",'基础-商品信息'!C16) -> - | D16: =IF('基础-商品信息'!D16="","-",'基础-商品信息'!D16) -> - | E16: =IF('基础-商品信息'!E16="","-",'基础-商品信息'!E16) -> -
B17: 14 | C17: =IF('基础-商品信息'!C17="","-",'基础-商品信息'!C17) -> - | D17: =IF('基础-商品信息'!D17="","-",'基础-商品信息'!D17) -> - | E17: =IF('基础-商品信息'!E17="","-",'基础-商品信息'!E17) -> -
B18: 15 | C18: =IF('基础-商品信息'!C18="","-",'基础-商品信息'!C18) -> - | D18: =IF('基础-商品信息'!D18="","-",'基础-商品信息'!D18) -> - | E18: =IF('基础-商品信息'!E18="","-",'基础-商品信息'!E18) -> -
B19: 16 | C19: =IF('基础-商品信息'!C19="","-",'基础-商品信息'!C19) -> - | D19: =IF('基础-商品信息'!D19="","-",'基础-商品信息'!D19) -> - | E19: =IF('基础-商品信息'!E19="","-",'基础-商品信息'!E19) -> -
B20: 17 | C20: =IF('基础-商品信息'!C20="","-",'基础-商品信息'!C20) -> - | D20: =IF('基础-商品信息'!D20="","-",'基础-商品信息'!D20) -> - | E20: =IF('基础-商品信息'!E20="","-",'基础-商品信息'!E20) -> -
B21: 18 | C21: =IF('基础-商品信息'!C21="","-",'基础-商品信息'!C21) -> - | D21: =IF('基础-商品信息'!D21="","-",'基础-商品信息'!D21) -> - | E21: =IF('基础-商品信息'!E21="","-",'基础-商品信息'!E21) -> -
B22: 19 | C22: =IF('基础-商品信息'!C22="","-",'基础-商品信息'!C22) -> - | D22: =IF('基础-商品信息'!D22="","-",'基础-商品信息'!D22) -> - | E22: =IF('基础-商品信息'!E22="","-",'基础-商品信息'!E22) -> -
B23: 20 | C23: =IF('基础-商品信息'!C23="","-",'基础-商品信息'!C23) -> - | D23: =IF('基础-商品信息'!D23="","-",'基础-商品信息'!D23) -> - | E23: =IF('基础-商品信息'!E23="","-",'基础-商品信息'!E23) -> -
B24: 21 | C24: =IF('基础-商品信息'!C24="","-",'基础-商品信息'!C24) -> - | D24: =IF('基础-商品信息'!D24="","-",'基础-商品信息'!D24) -> - | E24: =IF('基础-商品信息'!E24="","-",'基础-商品信息'!E24) -> -
... B202: 199 | C202: =IF('基础-商品信息'!C202="","-",'基础-商品信息'!C202) -> - | D202: =IF('基础-商品信息'!D202="","-",'基础-商品信息'!D202) -> - | E202: =IF('基础-商品信息'!E202="","-",'基础-商品信息'!E202) -> -
B203: 200 | C203: =IF('基础-商品信息'!C203="","-",'基础-商品信息'!C203) -> - | D203: =IF('基础-商品信息'!D203="","-",'基础-商品信息'!D203) -> - | E203: =IF('基础-商品信息'!E203="","-",'基础-商品信息'!E203) -> - | F203: 1

Sheet 当前库存
B2: ="当前库存 "&TEXT(NOW(),"e/m/d 上午/下午 hh:mm") -> 当前库存 2023/2/2 下午 05:30
B3: NO: | C3: 商品名称 | D3: 单位 | E3: 型号 | F3: 当前库存 | G3: 安全库存（设置） | H3: 是否采购
B4: 1 | C4: =IF('基础-商品信息'!C4="","-",'基础-商品信息'!C4) -> 联想笔记本 | D4: =IF('基础-商品信息'!D4="","-",'基础-商品信息'!D4) -> 台 | E4: =IF('基础-商品信息'!E4="","-",'基础-商品信息'!E4) -> S-897 | F4: =SUMIFS(期初库存!F:F,期初库存!C:C,C4)+SUMIFS('采购录入（明细）'!J:J,'采购录入（明细）'!F:F,C4)-SUMIFS('销售录入（明细）'!J:J,'销售录入（明细）'!F:F,C4) -> 10 | G4: 12 | H4: =IF(G4>F4,"采购","否") -> 采购
B5: 2 | C5: =IF('基础-商品信息'!C5="","-",'基础-商品信息'!C5) -> 联想台式机 | D5: =IF('基础-商品信息'!D5="","-",'基础-商品信息'!D5) -> 台 | E5: =IF('基础-商品信息'!E5="","-",'基础-商品信息'!E5) -> S-898 | F5: =SUMIFS(期初库存!F:F,期初库存!C:C,C5)+SUMIFS('采购录入（明细）'!J:J,'采购录入（明细）'!F:F,C5)-SUMIFS('销售录入（明细）'!J:J,'销售录入（明细）'!F:F,C5) -> 0 | G5: 12 | H5: =IF(G5>F5,"采购","否") -> 采购
B6: 3 | C6: =IF('基础-商品信息'!C6="","-",'基础-商品信息'!C6) -> 联想手机 | D6: =IF('基础-商品信息'!D6="","-",'基础-商品信息'!D6) -> 台 | E6: =IF('基础-商品信息'!E6="","-",'基础-商品信息'!E6) -> S-899 | F6: =SUMIFS(期初库存!F:F,期初库存!C:C,C6)+SUMIFS('采购录入（明细）'!J:J,'采购录入（明细）'!F:F,C6)-SUMIFS('销售录入（明细）'!J:J,'销售录入（明细）'!F:F,C6) -> 2 | G6: 12 | H6: =IF(G6>F6,"采购","否") -> 采购
B7: 4 | C7: =IF('基础-商品信息'!C7="","-",'基础-商品信息'!C7) -> 华为笔记本 | D7: =IF('基础-商品信息'!D7="","-",'基础-商品信息'!D7) -> 台 | E7: =IF('基础-商品信息'!E7="","-",'基础-商品信息'!E7) -> S-900 | F7: =SUMIFS(期初库存!F:F,期初库存!C:C,C7)+SUMIFS('采购录入（明细）'!J:J,'采购录入（明细）'!F:F,C7)-SUMIFS('销售录入（明细）'!J:J,'销售录入（明细）'!F:F,C7) -> 30 | G7: 12 | H7: =IF(G7>F7,"采购","否") -> 否
B8: 5 | C8: =IF('基础-商品信息'!C8="","-",'基础-商品信息'!C8) -> 华为台式机 | D8: =IF('基础-商品信息'!D8="","-",'基础-商品信息'!D8) -> 台 | E8: =IF('基础-商品信息'!E8="","-",'基础-商品信息'!E8) -> S-901 | F8: =SUMIFS(期初库存!F:F,期初库存!C:C,C8)+SUMIFS('采购录入（明细）'!J:J,'采购录入（明细）'!F:F,C8)-SUMIFS('销售录入（明细）'!J:J,'销售录入（明细）'!F:F,C8) -> 0 | G8: 12 | H8: =IF(G8>F8,"采购","否") -> 采购
B9: 6 | C9: =IF('基础-商品信息'!C9="","-",'基础-商品信息'!C9) -> 华为手机 | D9: =IF('基础-商品信息'!D9="","-",'基础-商品信息'!D9) -> 台 | E9: =IF('基础-商品信息'!E9="","-",'基础-商品信息'!E9) -> S-902 | F9: =SUMIFS(期初库存!F:F,期初库存!C:C,C9)+SUMIFS('采购录入（明细）'!J:J,'采购录入（明细）'!F:F,C9)-SUMIFS('销售录入（明细）'!J:J,'销售录入（明细）'!F:F,C9) -> 28 | G9: 12 | H9: =IF(G9>F9,"采购","否") -> 否
B10: 7 | C10: =IF('基础-商品信息'!C10="","-",'基础-商品信息'!C10) -> 苹果电脑 | D10: =IF('基础-商品信息'!D10="","-",'基础-商品信息'!D10) -> 台 | E10: =IF('基础-商品信息'!E10="","-",'基础-商品信息'!E10) -> S-903 | F10: =SUMIFS(期初库存!F:F,期初库存!C:C,C10)+SUMIFS('采购录入（明细）'!J:J,'采购录入（明细）'!F:F,C10)-SUMIFS('销售录入（明细）'!J:J,'销售录入（明细）'!F:F,C10) -> 0 | G10: 12 | H10: =IF(G10>F10,"采购","否") -> 采购
B11: 8 | C11: =IF('基础-商品信息'!C11="","-",'基础-商品信息'!C11) -> 苹果手机 | D11: =IF('基础-商品信息'!D11="","-",'基础-商品信息'!D11) -> 台 | E11: =IF('基础-商品信息'!E11="","-",'基础-商品信息'!E11) -> S-904 | F11: =SUMIFS(期初库存!F:F,期初库存!C:C,C11)+SUMIFS('采购录入（明细）'!J:J,'采购录入（明细）'!F:F,C11)-SUMIFS('销售录入（明细）'!J:J,'销售录入（明细）'!F:F,C11) -> 0 | G11: 12 | H11: =IF(G11>F11,"采购","否") -> 采购
B12: 9 | C12: =IF('基础-商品信息'!C12="","-",'基础-商品信息'!C12) -> 财务软件 | D12: =IF('基础-商品信息'!D12="","-",'基础-商品信息'!D12) -> 套 | E12: =IF('基础-商品信息'!E12="","-",'基础-商品信息'!E12) -> S-905 | F12: =SUMIFS(期初库存!F:F,期初库存!C:C,C12)+SUMIFS('采购录入（明细）'!J:J,'采购录入（明细）'!F:F,C12)-SUMIFS('销售录入（明细）'!J:J,'销售录入（明细）'!F:F,C12) -> 20 | G12: 12 | H12: =IF(G12>F12,"采购","否") -> 否
B13: 10 | C13: =IF('基础-商品信息'!C13="","-",'基础-商品信息'!C13) -> - | D13: =IF('基础-商品信息'!D13="","-",'基础-商品信息'!D13) -> - | E13: =IF('基础-商品信息'!E13="","-",'基础-商品信息'!E13) -> - | F13: =SUMIFS(期初库存!F:F,期初库存!C:C,C13)+SUMIFS('采购录入（明细）'!J:J,'采购录入（明细）'!F:F,C13)-SUMIFS('销售录入（明细）'!J:J,'销售录入（明细）'!F:F,C13) -> 1 | H13: =IF(G13>F13,"采购","否") -> 否
B14: 11 | C14: =IF('基础-商品信息'!C14="","-",'基础-商品信息'!C14) -> - | D14: =IF('基础-商品信息'!D14="","-",'基础-商品信息'!D14) -> - | E14: =IF('基础-商品信息'!E14="","-",'基础-商品信息'!E14) -> - | F14: =SUMIFS(期初库存!F:F,期初库存!C:C,C14)+SUMIFS('采购录入（明细）'!J:J,'采购录入（明细）'!F:F,C14)-SUMIFS('销售录入（明细）'!J:J,'销售录入（明细）'!F:F,C14) -> 1 | H14: =IF(G14>F14,"采购","否") -> 否
B15: 12 | C15: =IF('基础-商品信息'!C15="","-",'基础-商品信息'!C15) -> - | D15: =IF('基础-商品信息'!D15="","-",'基础-商品信息'!D15) -> - | E15: =IF('基础-商品信息'!E15="","-",'基础-商品信息'!E15) -> - | F15: =SUMIFS(期初库存!F:F,期初库存!C:C,C15)+SUMIFS('采购录入（明细）'!J:J,'采购录入（明细）'!F:F,C15)-SUMIFS('销售录入（明细）'!J:J,'销售录入（明细）'!F:F,C15) -> 1 | H15: =IF(G15>F15,"采购","否") -> 否
B16: 13 | C16: =IF('基础-商品信息'!C16="","-",'基础-商品信息'!C16) -> - | D16: =IF('基础-商品信息'!D16="","-",'基础-商品信息'!D16) -> - | E16: =IF('基础-商品信息'!E16="","-",'基础-商品信息'!E16) -> - | F16: =SUMIFS(期初库存!F:F,期初库存!C:C,C16)+SUMIFS('采购录入（明细）'!J:J,'采购录入（明细）'!F:F,C16)-SUMIFS('销售录入（明细）'!J:J,'销售录入（明细）'!F:F,C16) -> 1 | H16: =IF(G16>F16,"采购","否") -> 否
B17: 14 | C17: =IF('基础-商品信息'!C17="","-",'基础-商品信息'!C17) -> - | D17: =IF('基础-商品信息'!D17="","-",'基础-商品信息'!D17) -> - | E17: =IF('基础-商品信息'!E17="","-",'基础-商品信息'!E17) -> - | F17: =SUMIFS(期初库存!F:F,期初库存!C:C,C17)+SUMIFS('采购录入（明细）'!J:J,'采购录入（明细）'!F:F,C17)-SUMIFS('销售录入（明细）'!J:J,'销售录入（明细）'!F:F,C17) -> 1 | H17: =IF(G17>F17,"采购","否") -> 否
B18: 15 | C18: =IF('基础-商品信息'!C18="","-",'基础-商品信息'!C18) -> - | D18: =IF('基础-商品信息'!D18="","-",'基础-商品信息'!D18) -> - | E18: =IF('基础-商品信息'!E18="","-",'基础-商品信息'!E18) -> - | F18: =SUMIFS(期初库存!F:F,期初库存!C:C,C18)+SUMIFS('采购录入（明细）'!J:J,'采购录入（明细）'!F:F,C18)-SUMIFS('销售录入（明细）'!J:J,'销售录入（明细）'!F:F,C18) -> 1 | H18: =IF(G18>F18,"采购","否") -> 否
B19: 16 | C19: =IF('基础-商品信息'!C19="","-",'基础-商品信息'!C19) -> - | D19: =IF('基础-商品信息'!D19="","-",'基础-商品信息'!D19) -> - | E19: =IF('基础-商品信息'!E19="","-",'基础-商品信息'!E19) -> - | F19: =SUMIFS(期初库存!F:F,期初库存!C:C,C19)+SUMIFS('采购录入（明细）'!J:J,'采购录入（明细）'!F:F,C19)-SUMIFS('销售录入（明细）'!J:J,'销售录入（明细）'!F:F,C19) -> 1 | H19: =IF(G19>F19,"采购","否") -> 否
B20: 17 | C20: =IF('基础-商品信息'!C20="","-",'基础-商品信息'!C20) -> - | D20: =IF('基础-商品信息'!D20="","-",'基础-商品信息'!D20) -> - | E20: =IF('基础-商品信息'!E20="","-",'基础-商品信息'!E20) -> - | F20: =SUMIFS(期初库存!F:F,期初库存!C:C,C20)+SUMIFS('采购录入（明细）'!J:J,'采购录入（明细）'!F:F,C20)-SUMIFS('销售录入（明细）'!J:J,'销售录入（明细）'!F:F,C20) -> 1 | H20: =IF(G20>F20,"采购","否") -> 否
B21: 18 | C21: =IF('基础-商品信息'!C21="","-",'基础-商品信息'!C21) -> - | D21: =IF('基础-商品信息'!D21="","-",'基础-商品信息'!D21) -> - | E21: =IF('基础-商品信息'!E21="","-",'基础-商品信息'!E21) -> - | F21: =SUMIFS(期初库存!F:F,期初库存!C:C,C21)+SUMIFS('采购录入（明细）'!J:J,'采购录入（明细）'!F:F,C21)-SUMIFS('销售录入（明细）'!J:J,'销售录入（明细）'!F:F,C21) -> 1 | H21: =IF(G21>F21,"采购","否") -> 否
B22: 19 | C22: =IF('基础-商品信息'!C22="","-",'基础-商品信息'!C22) -> - | D22: =IF('基础-商品信息'!D22="","-",'基础-商品信息'!D22) -> - | E22: =IF('基础-商品信息'!E22="","-",'基础-商品信息'!E22) -> - | F22: =SUMIFS(期初库存!F:F,期初库存!C:C,C22)+SUMIFS('采购录入（明细）'!J:J,'采购录入（明细）'!F:F,C22)-SUMIFS('销售录入（明细）'!J:J,'销售录入（明细）'!F:F,C22) -> 1 | H22: =IF(G22>F22,"采购","否") -> 否
B23: 20 | C23: =IF('基础-商品信息'!C23="","-",'基础-商品信息'!C23) -> - | D23: =IF('基础-商品信息'!D23="","-",'基础-商品信息'!D23) -> - | E23: =IF('基础-商品信息'!E23="","-",'基础-商品信息'!E23) -> - | F23: =SUMIFS(期初库存!F:F,期初库存!C:C,C23)+SUMIFS('采购录入（明细）'!J:J,'采购录入（明细）'!F:F,C23)-SUMIFS('销售录入（明细）'!J:J,'销售录入（明细）'!F:F,C23) -> 1 | H23: =IF(G23>F23,"采购","否") -> 否
B24: 21 | C24: =IF('基础-商品信息'!C24="","-",'基础-商品信息'!C24) -> - | D24: =IF('基础-商品信息'!D24="","-",'基础-商品信息'!D24) -> - | E24: =IF('基础-商品信息'!E24="","-",'基础-商品信息'!E24) -> - | F24: =SUMIFS(期初库存!F:F,期初库存!C:C,C24)+SUMIFS('采购录入（明细）'!J:J,'采购录入（明细）'!F:F,C24)-SUMIFS('销售录入（明细）'!J:J,'销售录入（明细）'!F:F,C24) -> 1 | H24: =IF(G24>F24,"采购","否") -> 否
... B202: 199 | C202: =IF('基础-商品信息'!C202="","-",'基础-商品信息'!C202) -> - | D202: =IF('基础-商品信息'!D202="","-",'基础-商品信息'!D202) -> - | E202: =IF('基础-商品信息'!E202="","-",'基础-商品信息'!E202) -> - | F202: =SUMIFS(期初库存!F:F,期初库存!C:C,C202)+SUMIFS('采购录入（明细）'!J:J,'采购录入（明细）'!F:F,C202)-SUMIFS('销售录入（明细）'!J:J,'销售录入（明细）'!F:F,C202) -> 1 | H202: =IF(G202>F202,"采购","否") -> 否
B203: 200 | C203: =IF('基础-商品信息'!C203="","-",'基础-商品信息'!C203) -> - | D203: =IF('基础-商品信息'!D203="","-",'基础-商品信息'!D203) -> - | E203: =IF('基础-商品信息'!E203="","-",'基础-商品信息'!E203) -> - | F203: =SUMIFS(期初库存!F:F,期初库存!C:C,C203)+SUMIFS('采购录入（明细）'!J:J,'采购录入（明细）'!F:F,C203)-SUMIFS('销售录入（明细）'!J:J,'销售录入（明细）'!F:F,C203) -> 1 | G203: 1 | H203: =IF(G203>F203,"采购","否") -> 否

Sheet 紧急采购明细
B2: 辅助列 | C2: ="当前紧急采购明细; ( 合计 "&COUNT(H4:H203)&"条 )" -> 当前紧急采购明细; ( 合计 6条 )
B3: =IF(当前库存!H:H="采购",ROW(),"-") -> - | C3: NO: | D3: 商品名称 | E3: 单位 | F3: 型号 | G3: 当前库存 | H3: 安全库存 | I3: 是否采购
B4: =IF(当前库存!H:H="采购",ROW(),"-") -> 4 | C4: =IF(D4="","",ROW(A1)) -> 1 | D4: =IFERROR(INDEX(当前库存!$C:$H,SMALL($B:$B,ROW(B1)),MATCH(D$3,$D$3:$I$3,0)),"") -> 联想笔记本 | E4: =IFERROR(INDEX(当前库存!$C:$H,SMALL($B:$B,ROW(C1)),MATCH(E$3,$D$3:$I$3,0)),"") -> 台 | F4: =IFERROR(INDEX(当前库存!$C:$H,SMALL($B:$B,ROW(D1)),MATCH(F$3,$D$3:$I$3,0)),"") -> S-897 | G4: =IFERROR(INDEX(当前库存!$C:$H,SMALL($B:$B,ROW(E1)),MATCH(G$3,$D$3:$I$3,0)),"") -> 10 | H4: =IFERROR(INDEX(当前库存!$C:$H,SMALL($B:$B,ROW(F1)),MATCH(H$3,$D$3:$I$3,0)),"") -> 12 | I4: =IFERROR(INDEX(当前库存!$C:$H,SMALL($B:$B,ROW(G1)),MATCH(I$3,$D$3:$I$3,0)),"") -> 采购
B5: =IF(当前库存!H:H="采购",ROW(),"-") -> 5 | C5: =IF(D5="","",ROW(A2)) -> 2 | D5: =IFERROR(INDEX(当前库存!$C:$H,SMALL($B:$B,ROW(B2)),MATCH(D$3,$D$3:$I$3,0)),"") -> 联想台式机 | E5: =IFERROR(INDEX(当前库存!$C:$H,SMALL($B:$B,ROW(C2)),MATCH(E$3,$D$3:$I$3,0)),"") -> 台 | F5: =IFERROR(INDEX(当前库存!$C:$H,SMALL($B:$B,ROW(D2)),MATCH(F$3,$D$3:$I$3,0)),"") -> S-898 | G5: =IFERROR(INDEX(当前库存!$C:$H,SMALL($B:$B,ROW(E2)),MATCH(G$3,$D$3:$I$3,0)),"") -> 0 | H5: =IFERROR(INDEX(当前库存!$C:$H,SMALL($B:$B,ROW(F2)),MATCH(H$3,$D$3:$I$3,0)),"") -> 12 | I5: =IFERROR(INDEX(当前库存!$C:$H,SMALL($B:$B,ROW(G2)),MATCH(I$3,$D$3:$I$3,0)),"") -> 采购
B6: =IF(当前库存!H:H="采购",ROW(),"-") -> 6 | C6: =IF(D6="","",ROW(A3)) -> 3 | D6: =IFERROR(INDEX(当前库存!$C:$H,SMALL($B:$B,ROW(B3)),MATCH(D$3,$D$3:$I$3,0)),"") -> 联想手机 | E6: =IFERROR(INDEX(当前库存!$C:$H,SMALL($B:$B,ROW(C3)),MATCH(E$3,$D$3:$I$3,0)),"") -> 台 | F6: =IFERROR(INDEX(当前库存!$C:$H,SMALL($B:$B,ROW(D3)),MATCH(F$3,$D$3:$I$3,0)),"") -> S-899 | G6: =IFERROR(INDEX(当前库存!$C:$H,SMALL($B:$B,ROW(E3)),MATCH(G$3,$D$3:$I$3,0)),"") -> 2 | H6: =IFERROR(INDEX(当前库存!$C:$H,SMALL($B:$B,ROW(F3)),MATCH(H$3,$D$3:$I$3,0)),"") -> 12 | I6: =IFERROR(INDEX(当前库存!$C:$H,SMALL($B:$B,ROW(G3)),MATCH(I$3,$D$3:$I$3,0)),"") -> 采购
B7: =IF(当前库存!H:H="采购",ROW(),"-") -> - | C7: =IF(D7="","",ROW(A4)) -> 4 | D7: =IFERROR(INDEX(当前库存!$C:$H,SMALL($B:$B,ROW(B4)),MATCH(D$3,$D$3:$I$3,0)),"") -> 华为台式机 | E7: =IFERROR(INDEX(当前库存!$C:$H,SMALL($B:$B,ROW(C4)),MATCH(E$3,$D$3:$I$3,0)),"") -> 台 | F7: =IFERROR(INDEX(当前库存!$C:$H,SMALL($B:$B,ROW(D4)),MATCH(F$3,$D$3:$I$3,0)),"") -> S-901 | G7: =IFERROR(INDEX(当前库存!$C:$H,SMALL($B:$B,ROW(E4)),MATCH(G$3,$D$3:$I$3,0)),"") -> 0 | H7: =IFERROR(INDEX(当前库存!$C:$H,SMALL($B:$B,ROW(F4)),MATCH(H$3,$D$3:$I$3,0)),"") -> 12 | I7: =IFERROR(INDEX(当前库存!$C:$H,SMALL($B:$B,ROW(G4)),MATCH(I$3,$D$3:$I$3,0)),"") -> 采购
B8: =IF(当前库存!H:H="采购",ROW(),"-") -> 8 | C8: =IF(D8="","",ROW(A5)) -> 5 | D8: =IFERROR(INDEX(当前库存!$C:$H,SMALL($B:$B,ROW(B5)),MATCH(D$3,$D$3:$I$3,0)),"") -> 苹果电脑 | E8: =IFERROR(INDEX(当前库存!$C:$H,SMALL($B:$B,ROW(C5)),MATCH(E$3,$D$3:$I$3,0)),"") -> 台 | F8: =IFERROR(INDEX(当前库存!$C:$H,SMALL($B:$B,ROW(D5)),MATCH(F$3,$D$3:$I$3,0)),"") -> S-903 | G8: =IFERROR(INDEX(当前库存!$C:$H,SMALL($B:$B,ROW(E5)),MATCH(G$3,$D$3:$I$3,0)),"") -> 0 | H8: =IFERROR(INDEX(当前库存!$C:$H,SMALL($B:$B,ROW(F5)),MATCH(H$3,$D$3:$I$3,0)),"") -> 12 | I8: =IFERROR(INDEX(当前库存!$C:$H,SMALL($B:$B,ROW(G5)),MATCH(I$3,$D$3:$I$3,0)),"") -> 采购
B9: =IF(当前库存!H:H="采购",ROW(),"-") -> - | C9: =IF(D9="","",ROW(A6)) -> 6 | D9: =IFERROR(INDEX(当前库存!$C:$H,SMALL($B:$B,ROW(B6)),MATCH(D$3,$D$3:$I$3,0)),"") -> 苹果手机 | E9: =IFERROR(INDEX(当前库存!$C:$H,SMALL($B:$B,ROW(C6)),MATCH(E$3,$D$3:$I$3,0)),"") -> 台 | F9: =IFERROR(INDEX(当前库存!$C:$H,SMALL($B:$B,ROW(D6)),MATCH(F$3,$D$3:$I$3,0)),"") -> S-904 | G9: =IFERROR(INDEX(当前库存!$C:$H,SMALL($B:$B,ROW(E6)),MATCH(G$3,$D$3:$I$3,0)),"") -> 0 | H9: =IFERROR(INDEX(当前库存!$C:$H,SMALL($B:$B,ROW(F6)),MATCH(H$3,$D$3:$I$3,0)),"") -> 12 | I9: =IFERROR(INDEX(当前库存!$C:$H,SMALL($B:$B,ROW(G6)),MATCH(I$3,$D$3:$I$3,0)),"") -> 采购
B10: =IF(当前库存!H:H="采购",ROW(),"-") -> 10 | C10: =IF(D10="","",ROW(A7)) | D10: =IFERROR(INDEX(当前库存!$C:$H,SMALL($B:$B,ROW(B7)),MATCH(D$3,$D$3:$I$3,0)),"") | E10: =IFERROR(INDEX(当前库存!$C:$H,SMALL($B:$B,ROW(C7)),MATCH(E$3,$D$3:$I$3,0)),"") | F10: =IFERROR(INDEX(当前库存!$C:$H,SMALL($B:$B,ROW(D7)),MATCH(F$3,$D$3:$I$3,0)),"") | G10: =IFERROR(INDEX(当前库存!$C:$H,SMALL($B:$B,ROW(E7)),MATCH(G$3,$D$3:$I$3,0)),"") | H10: =IFERROR(INDEX(当前库存!$C:$H,SMALL($B:$B,ROW(F7)),MATCH(H$3,$D$3:$I$3,0)),"") | I10: =IFERROR(INDEX(当前库存!$C:$H,SMALL($B:$B,ROW(G7)),MATCH(I$3,$D$3:$I$3,0)),"")
B11: =IF(当前库存!H:H="采购",ROW(),"-") -> 11 | C11: =IF(D11="","",ROW(A8)) | D11: =IFERROR(INDEX(当前库存!$C:$H,SMALL($B:$B,ROW(B8)),MATCH(D$3,$D$3:$I$3,0)),"") | E11: =IFERROR(INDEX(当前库存!$C:$H,SMALL($B:$B,ROW(C8)),MATCH(E$3,$D$3:$I$3,0)),"") | F11: =IFERROR(INDEX(当前库存!$C:$H,SMALL($B:$B,ROW(D8)),MATCH(F$3,$D$3:$I$3,0)),"") | G11: =IFERROR(INDEX(当前库存!$C:$H,SMALL($B:$B,ROW(E8)),MATCH(G$3,$D$3:$I$3,0)),"") | H11: =IFERROR(INDEX(当前库存!$C:$H,SMALL($B:$B,ROW(F8)),MATCH(H$3,$D$3:$I$3,0)),"") | I11: =IFERROR(INDEX(当前库存!$C:$H,SMALL($B:$B,ROW(G8)),MATCH(I$3,$D$3:$I$3,0)),"")
B12: =IF(当前库存!H:H="采购",ROW(),"-") -> - | C12: =IF(D12="","",ROW(A9)) | D12: =IFERROR(INDEX(当前库存!$C:$H,SMALL($B:$B,ROW(B9)),MATCH(D$3,$D$3:$I$3,0)),"") | E12: =IFERROR(INDEX(当前库存!$C:$H,SMALL($B:$B,ROW(C9)),MATCH(E$3,$D$3:$I$3,0)),"") | F12: =IFERROR(INDEX(当前库存!$C:$H,SMALL($B:$B,ROW(D9)),MATCH(F$3,$D$3:$I$3,0)),"") | G12: =IFERROR(INDEX(当前库存!$C:$H,SMALL($B:$B,ROW(E9)),MATCH(G$3,$D$3:$I$3,0)),"") | H12: =IFERROR(INDEX(当前库存!$C:$H,SMALL($B:$B,ROW(F9)),MATCH(H$3,$D$3:$I$3,0)),"") | I12: =IFERROR(INDEX(当前库存!$C:$H,SMALL($B:$B,ROW(G9)),MATCH(I$3,$D$3:$I$3,0)),"")
B13: =IF(当前库存!H:H="采购",ROW(),"-") -> - | C13: =IF(D13="","",ROW(A10)) | D13: =IFERROR(INDEX(当前库存!$C:$H,SMALL($B:$B,ROW(B10)),MATCH(D$3,$D$3:$I$3,0)),"") | E13: =IFERROR(INDEX(当前库存!$C:$H,SMALL($B:$B,ROW(C10)),MATCH(E$3,$D$3:$I$3,0)),"") | F13: =IFERROR(INDEX(当前库存!$C:$H,SMALL($B:$B,ROW(D10)),MATCH(F$3,$D$3:$I$3,0)),"") | G13: =IFERROR(INDEX(当前库存!$C:$H,SMALL($B:$B,ROW(E10)),MATCH(G$3,$D$3:$I$3,0)),"") | H13: =IFERROR(INDEX(当前库存!$C:$H,SMALL($B:$B,ROW(F10)),MATCH(H$3,$D$3:$I$3,0)),"") | I13: =IFERROR(INDEX(当前库存!$C:$H,SMALL($B:$B,ROW(G10)),MATCH(I$3,$D$3:$I$3,0)),"")
B14: =IF(当前库存!H:H="采购",ROW(),"-") -> - | C14: =IF(D14="","",ROW(A11)) | D14: =IFERROR(INDEX(当前库存!$C:$H,SMALL($B:$B,ROW(B11)),MATCH(D$3,$D$3:$I$3,0)),"") | E14: =IFERROR(INDEX(当前库存!$C:$H,SMALL($B:$B,ROW(C11)),MATCH(E$3,$D$3:$I$3,0)),"") | F14: =IFERROR(INDEX(当前库存!$C:$H,SMALL($B:$B,ROW(D11)),MATCH(F$3,$D$3:$I$3,0)),"") | G14: =IFERROR(INDEX(当前库存!$C:$H,SMALL($B:$B,ROW(E11)),MATCH(G$3,$D$3:$I$3,0)),"") | H14: =IFERROR(INDEX(当前库存!$C:$H,SMALL($B:$B,ROW(F11)),MATCH(H$3,$D$3:$I$3,0)),"") | I14: =IFERROR(INDEX(当前库存!$C:$H,SMALL($B:$B,ROW(G11)),MATCH(I$3,$D$3:$I$3,0)),"")
B15: =IF(当前库存!H:H="采购",ROW(),"-") -> - | C15: =IF(D15="","",ROW(A12)) | D15: =IFERROR(INDEX(当前库存!$C:$H,SMALL($B:$B,ROW(B12)),MATCH(D$3,$D$3:$I$3,0)),"") | E15: =IFERROR(INDEX(当前库存!$C:$H,SMALL($B:$B,ROW(C12)),MATCH(E$3,$D$3:$I$3,0)),"") | F15: =IFERROR(INDEX(当前库存!$C:$H,SMALL($B:$B,ROW(D12)),MATCH(F$3,$D$3:$I$3,0)),"") | G15: =IFERROR(INDEX(当前库存!$C:$H,SMALL($B:$B,ROW(E12)),MATCH(G$3,$D$3:$I$3,0)),"") | H15: =IFERROR(INDEX(当前库存!$C:$H,SMALL($B:$B,ROW(F12)),MATCH(H$3,$D$3:$I$3,0)),"") | I15: =IFERROR(INDEX(当前库存!$C:$H,SMALL($B:$B,ROW(G12)),MATCH(I$3,$D$3:$I$3,0)),"")
... B203: =IF(当前库存!H:H="采购",ROW(),"-") -> - | C203: =IF(D203="","",ROW(A200)) | D203: =IFERROR(INDEX(当前库存!$C:$H,SMALL($B:$B,ROW(B200)),MATCH(D$3,$D$3:$I$3,0)),"") | E203: =IFERROR(INDEX(当前库存!$C:$H,SMALL($B:$B,ROW(C200)),MATCH(E$3,$D$3:$I$3,0)),"") | F203: =IFERROR(INDEX(当前库存!$C:$H,SMALL($B:$B,ROW(D200)),MATCH(F$3,$D$3:$I$3,0)),"") | G203: =IFERROR(INDEX(当前库存!$C:$H,SMALL($B:$B,ROW(E200)),MATCH(G$3,$D$3:$I$3,0)),"") | H203: =IFERROR(INDEX(当前库存!$C:$H,SMALL($B:$B,ROW(F200)),MATCH(H$3,$D$3:$I$3,0)),"") | I203: =IFERROR(INDEX(当前库存!$C:$H,SMALL($B:$B,ROW(G200)),MATCH(I$3,$D$3:$I$3,0)),"")
B204: =IF(当前库存!H:H="采购",ROW(),"-") -> -
B205: =IF(当前库存!H:H="采购",ROW(),"-") -> -
B206: =IF(当前库存!H:H="采购",ROW(),"-") -> -
B207: =IF(当前库存!H:H="采购",ROW(),"-") -> -
B208: =IF(当前库存!H:H="采购",ROW(),"-") -> -
B209: =IF(当前库存!H:H="采购",ROW(),"-") -> -
B210: =IF(当前库存!H:H="采购",ROW(),"-") -> -
B211: =IF(当前库存!H:H="采购",ROW(),"-") -> -
B212: =IF(当前库存!H:H="采购",ROW(),"-") -> -

Sheet 采购汇总查询
B2: 采购汇总查询
B4: 输入查询的起止日期： | E4: 43021 | F4: 至 | G4: 43021
B6: NO: | C6: 商品名称 | D6: 单位 | E6: 型号 | F6: 采购数量 | G6: 采购金额
B7: 1 | C7: =IF('基础-商品信息'!C4="","-",'基础-商品信息'!C4) -> 联想笔记本 | D7: =IF('基础-商品信息'!D4="","-",'基础-商品信息'!D4) -> 台 | E7: =IF('基础-商品信息'!E4="","-",'基础-商品信息'!E4) -> S-897 | F7: =SUMIFS('采购录入（明细）'!$J:$J,'采购录入（明细）'!$F:$F,C7,'采购录入（明细）'!$C:$C,">="&$E$4,'采购录入（明细）'!$C:$C,"<="&$G$4) -> 0 | G7: =SUMIFS('采购录入（明细）'!$K:$K,'采购录入（明细）'!$F:$F,C7,'采购录入（明细）'!$C:$C,">="&$E$4,'采购录入（明细）'!$C:$C,"<="&$G$4) -> 0
B8: 2 | C8: =IF('基础-商品信息'!C5="","-",'基础-商品信息'!C5) -> 联想台式机 | D8: =IF('基础-商品信息'!D5="","-",'基础-商品信息'!D5) -> 台 | E8: =IF('基础-商品信息'!E5="","-",'基础-商品信息'!E5) -> S-898 | F8: =SUMIFS('采购录入（明细）'!$J:$J,'采购录入（明细）'!$F:$F,C8,'采购录入（明细）'!$C:$C,">="&$E$4,'采购录入（明细）'!$C:$C,"<="&$G$4) -> 0 | G8: =SUMIFS('采购录入（明细）'!$K:$K,'采购录入（明细）'!$F:$F,C8,'采购录入（明细）'!$C:$C,">="&$E$4,'采购录入（明细）'!$C:$C,"<="&$G$4) -> 0
B9: 3 | C9: =IF('基础-商品信息'!C6="","-",'基础-商品信息'!C6) -> 联想手机 | D9: =IF('基础-商品信息'!D6="","-",'基础-商品信息'!D6) -> 台 | E9: =IF('基础-商品信息'!E6="","-",'基础-商品信息'!E6) -> S-899 | F9: =SUMIFS('采购录入（明细）'!$J:$J,'采购录入（明细）'!$F:$F,C9,'采购录入（明细）'!$C:$C,">="&$E$4,'采购录入（明细）'!$C:$C,"<="&$G$4) -> 0 | G9: =SUMIFS('采购录入（明细）'!$K:$K,'采购录入（明细）'!$F:$F,C9,'采购录入（明细）'!$C:$C,">="&$E$4,'采购录入（明细）'!$C:$C,"<="&$G$4) -> 0
B10: 4 | C10: =IF('基础-商品信息'!C7="","-",'基础-商品信息'!C7) -> 华为笔记本 | D10: =IF('基础-商品信息'!D7="","-",'基础-商品信息'!D7) -> 台 | E10: =IF('基础-商品信息'!E7="","-",'基础-商品信息'!E7) -> S-900 | F10: =SUMIFS('采购录入（明细）'!$J:$J,'采购录入（明细）'!$F:$F,C10,'采购录入（明细）'!$C:$C,">="&$E$4,'采购录入（明细）'!$C:$C,"<="&$G$4) -> 0 | G10: =SUMIFS('采购录入（明细）'!$K:$K,'采购录入（明细）'!$F:$F,C10,'采购录入（明细）'!$C:$C,">="&$E$4,'采购录入（明细）'!$C:$C,"<="&$G$4) -> 0
B11: 5 | C11: =IF('基础-商品信息'!C8="","-",'基础-商品信息'!C8) -> 华为台式机 | D11: =IF('基础-商品信息'!D8="","-",'基础-商品信息'!D8) -> 台 | E11: =IF('基础-商品信息'!E8="","-",'基础-商品信息'!E8) -> S-901 | F11: =SUMIFS('采购录入（明细）'!$J:$J,'采购录入（明细）'!$F:$F,C11,'采购录入（明细）'!$C:$C,">="&$E$4,'采购录入（明细）'!$C:$C,"<="&$G$4) -> 0 | G11: =SUMIFS('采购录入（明细）'!$K:$K,'采购录入（明细）'!$F:$F,C11,'采购录入（明细）'!$C:$C,">="&$E$4,'采购录入（明细）'!$C:$C,"<="&$G$4) -> 0
B12: 6 | C12: =IF('基础-商品信息'!C9="","-",'基础-商品信息'!C9) -> 华为手机 | D12: =IF('基础-商品信息'!D9="","-",'基础-商品信息'!D9) -> 台 | E12: =IF('基础-商品信息'!E9="","-",'基础-商品信息'!E9) -> S-902 | F12: =SUMIFS('采购录入（明细）'!$J:$J,'采购录入（明细）'!$F:$F,C12,'采购录入（明细）'!$C:$C,">="&$E$4,'采购录入（明细）'!$C:$C,"<="&$G$4) -> 0 | G12: =SUMIFS('采购录入（明细）'!$K:$K,'采购录入（明细）'!$F:$F,C12,'采购录入（明细）'!$C:$C,">="&$E$4,'采购录入（明细）'!$C:$C,"<="&$G$4) -> 0
B13: 7 | C13: =IF('基础-商品信息'!C10="","-",'基础-商品信息'!C10) -> 苹果电脑 | D13: =IF('基础-商品信息'!D10="","-",'基础-商品信息'!D10) -> 台 | E13: =IF('基础-商品信息'!E10="","-",'基础-商品信息'!E10) -> S-903 | F13: =SUMIFS('采购录入（明细）'!$J:$J,'采购录入（明细）'!$F:$F,C13,'采购录入（明细）'!$C:$C,">="&$E$4,'采购录入（明细）'!$C:$C,"<="&$G$4) -> 0 | G13: =SUMIFS('采购录入（明细）'!$K:$K,'采购录入（明细）'!$F:$F,C13,'采购录入（明细）'!$C:$C,">="&$E$4,'采购录入（明细）'!$C:$C,"<="&$G$4) -> 0
B14: 8 | C14: =IF('基础-商品信息'!C11="","-",'基础-商品信息'!C11) -> 苹果手机 | D14: =IF('基础-商品信息'!D11="","-",'基础-商品信息'!D11) -> 台 | E14: =IF('基础-商品信息'!E11="","-",'基础-商品信息'!E11) -> S-904 | F14: =SUMIFS('采购录入（明细）'!$J:$J,'采购录入（明细）'!$F:$F,C14,'采购录入（明细）'!$C:$C,">="&$E$4,'采购录入（明细）'!$C:$C,"<="&$G$4) -> 0 | G14: =SUMIFS('采购录入（明细）'!$K:$K,'采购录入（明细）'!$F:$F,C14,'采购录入（明细）'!$C:$C,">="&$E$4,'采购录入（明细）'!$C:$C,"<="&$G$4) -> 0
B15: 9 | C15: =IF('基础-商品信息'!C12="","-",'基础-商品信息'!C12) -> 财务软件 | D15: =IF('基础-商品信息'!D12="","-",'基础-商品信息'!D12) -> 套 | E15: =IF('基础-商品信息'!E12="","-",'基础-商品信息'!E12) -> S-905 | F15: =SUMIFS('采购录入（明细）'!$J:$J,'采购录入（明细）'!$F:$F,C15,'采购录入（明细）'!$C:$C,">="&$E$4,'采购录入（明细）'!$C:$C,"<="&$G$4) -> 0 | G15: =SUMIFS('采购录入（明细）'!$K:$K,'采购录入（明细）'!$F:$F,C15,'采购录入（明细）'!$C:$C,">="&$E$4,'采购录入（明细）'!$C:$C,"<="&$G$4) -> 0
B16: 10 | C16: =IF('基础-商品信息'!C13="","-",'基础-商品信息'!C13) -> - | D16: =IF('基础-商品信息'!D13="","-",'基础-商品信息'!D13) -> - | E16: =IF('基础-商品信息'!E13="","-",'基础-商品信息'!E13) -> - | F16: =SUMIFS('采购录入（明细）'!$J:$J,'采购录入（明细）'!$F:$F,C16,'采购录入（明细）'!$C:$C,">="&$E$4,'采购录入（明细）'!$C:$C,"<="&$G$4) -> 0 | G16: =SUMIFS('采购录入（明细）'!$K:$K,'采购录入（明细）'!$F:$F,C16,'采购录入（明细）'!$C:$C,">="&$E$4,'采购录入（明细）'!$C:$C,"<="&$G$4) -> 0
B17: 11 | C17: =IF('基础-商品信息'!C14="","-",'基础-商品信息'!C14) -> - | D17: =IF('基础-商品信息'!D14="","-",'基础-商品信息'!D14) -> - | E17: =IF('基础-商品信息'!E14="","-",'基础-商品信息'!E14) -> - | F17: =SUMIFS('采购录入（明细）'!$J:$J,'采购录入（明细）'!$F:$F,C17,'采购录入（明细）'!$C:$C,">="&$E$4,'采购录入（明细）'!$C:$C,"<="&$G$4) -> 0 | G17: =SUMIFS('采购录入（明细）'!$K:$K,'采购录入（明细）'!$F:$F,C17,'采购录入（明细）'!$C:$C,">="&$E$4,'采购录入（明细）'!$C:$C,"<="&$G$4) -> 0
B18: 12 | C18: =IF('基础-商品信息'!C15="","-",'基础-商品信息'!C15) -> - | D18: =IF('基础-商品信息'!D15="","-",'基础-商品信息'!D15) -> - | E18: =IF('基础-商品信息'!E15="","-",'基础-商品信息'!E15) -> - | F18: =SUMIFS('采购录入（明细）'!$J:$J,'采购录入（明细）'!$F:$F,C18,'采购录入（明细）'!$C:$C,">="&$E$4,'采购录入（明细）'!$C:$C,"<="&$G$4) -> 0 | G18: =SUMIFS('采购录入（明细）'!$K:$K,'采购录入（明细）'!$F:$F,C18,'采购录入（明细）'!$C:$C,">="&$E$4,'采购录入（明细）'!$C:$C,"<="&$G$4) -> 0
... B206: 200 | C206: =IF('基础-商品信息'!C203="","-",'基础-商品信息'!C203) -> - | D206: =IF('基础-商品信息'!D203="","-",'基础-商品信息'!D203) -> - | E206: =IF('基础-商品信息'!E203="","-",'基础-商品信息'!E203) -> - | F206: =SUMIFS('采购录入（明细）'!$J:$J,'采购录入（明细）'!$F:$F,C206,'采购录入（明细）'!$C:$C,">="&$E$4,'采购录入（明细）'!$C:$C,"<="&$G$4) -> 0 | G206: =SUMIFS('采购录入（明细）'!$K:$K,'采购录入（明细）'!$F:$F,C206,'采购录入（明细）'!$C:$C,">="&$E$4,'采购录入（明细）'!$C:$C,"<="&$G$4) -> 0

Sheet 查询
B2: 商品查询 | L2: 供应商查询 | V2: 客户查询
B4: 输入要查询的商品名称： | F4: 联想笔记本 | L4: 输入要查询的供应商名称： | P4: 上海科创发展XX | V4: 输入要查询的客户名称： | Z4: 安居商贸（客户）
B7: 商品基本信息 | L7: 供应商基本信息 | V7: 供应商基本信息
B8: 商品名称 | E8: 单位 | F8: 型号 | G8: 备注 | L8: 公司名称 | M8: 姓名 | N8: 联系电话 | O8: 其它联系方式 | P8: 备注 | V8: 公司名称 | W8: 姓名 | X8: 联系电话 | Y8: 其它联系方式 | Z8: 备注
B9: =IFERROR(VLOOKUP($F$4,'基础-商品信息'!$C:$F,1,FALSE),"") -> 联想笔记本 | E9: =IFERROR(VLOOKUP($F$4,'基础-商品信息'!$C:$F,2,FALSE),"") -> 台 | F9: =IFERROR(VLOOKUP($F$4,'基础-商品信息'!$C:$F,3,FALSE),"") -> S-897 | G9: =IFERROR(VLOOKUP($F$4,'基础-商品信息'!$C:$F,4,FALSE),"") -> 0 | L9: =IFERROR(VLOOKUP($P$4,'基础-供应商信息'!$C:$G,1,FALSE),"") -> 上海科创发展XX | M9: =IFERROR(VLOOKUP($P$4,'基础-供应商信息'!$C:$G,2,FALSE),"") -> 薛爽竹 | N9: =IFERROR(VLOOKUP($P$4,'基础-供应商信息'!$C:$G,3,FALSE),"") -> 18128789089 | O9: =IFERROR(VLOOKUP($P$4,'基础-供应商信息'!$C:$G,4,FALSE),"") -> 18128789089@QQ.COM | P9: =IFERROR(VLOOKUP($P$4,'基础-供应商信息'!$C:$G,5,FALSE),"") -> 0 | V9: =IFERROR(VLOOKUP($Z$4,'基础-客户信息 '!$C:$G,1,FALSE),"") -> 安居商贸（客户） | W9: =IFERROR(VLOOKUP($Z$4,'基础-客户信息 '!$C:$G,2,FALSE),"") -> 陈苗天 | X9: =IFERROR(VLOOKUP($Z$4,'基础-客户信息 '!$C:$G,3,FALSE),"") -> 13123433441 | Y9: =IFERROR(VLOOKUP($Z$4,'基础-客户信息 '!$C:$G,4,FALSE),"") -> 13123433441@.qq.com | Z9: =IFERROR(VLOOKUP($Z$4,'基础-客户信息 '!$C:$G,5,FALSE),"") -> 0
B11: 采购信息
B12: 采购总数量 | F12: 采购总金额 | L12: 采购总数据 | O12: 账款数据 | V12: 购买总数据 | Y12: 账款数据
B13: =IFERROR(SUMIFS('采购录入（明细）'!J:J,'采购录入（明细）'!F:F,F4),"") -> 20 | F13: =IFERROR(SUMIFS('采购录入（明细）'!K:K,'采购录入（明细）'!F:F,F4),"") -> 34000 | L13: 采购件数 | M13: 采购金额 | O13: 已付金额 | Q13: 应付金额 | V13: 购买件数 | W13: 购买金额 | Y13: 已付金额 | AA13: 应收金额
L14: =IFERROR(SUMIFS('采购录入（明细）'!J:J,'采购录入（明细）'!D:D,P4),"") -> 20 | M14: =IFERROR(SUMIFS('采购录入（明细）'!K:K,'采购录入（明细）'!D:D,P4),"") -> 34000 | O14: =IFERROR(SUMIFS(供应商付款录入!H:H,供应商付款录入!C:C,P4),"") -> 27200 | Q14: =M14-O14 -> 6800 | V14: =IFERROR(SUMIFS('销售录入（明细）'!J:J,'销售录入（明细）'!D:D,Z4),"") -> 18 | W14: =IFERROR(SUMIFS('销售录入（明细）'!K:K,'销售录入（明细）'!D:D,Z4),"") -> 52400 | Y14: =IFERROR(SUMIFS(客户收款录入!H:H,客户收款录入!C:C,Z4),"") -> 41920 | AA14: =W14-Y14 -> 10480
B15: 销售信息
B16: 销售总数量 | F16: 采购总金额
B17: =IFERROR(SUMIFS('销售录入（明细）'!J:J,'销售录入（明细）'!F:F,F4),"") -> 10 | F17: =IFERROR(SUMIFS('销售录入（明细）'!K:K,'销售录入（明细）'!F:F,F4),"") -> 42000
B19: 库存信息
B20: 当前库存 | F20: 安全库存
B21: =IFERROR(VLOOKUP(F4,当前库存!C:G,4,FALSE),"") -> 10 | F21: =IFERROR(VLOOKUP(F4,当前库存!C:G,5,FALSE),"") -> 12
