Workbook

Sheet 主页

Sheet 使用说明
A1: 使用说明
A2: 1填写基础资料：参数表、供应商信息表、客户信息表。物料编码必须有，不能重复，做账后不可修改，不要使用纯数字，可以像“a1001”这样 。
A3: 2入库记录：填写单号，日期，编码，入库数量，入库单价，经办人，供应商，备注，颜色部分自动生成，无需手动输入。
A4: 3出库记录：填写单号，日期，编码，出库数量，出库单价，经办人，客户，备注，颜色部分自动生成，无需手动输入。
A5: 4库存统计:设有公式，自动统计库存。低于安全库存，自动报警。
A6: 5盘点报表：只需输入实盘数量和经办人，颜色区域自动生成。仓库都是要定期或者循环盘点，以核对库存数据是否准确，这里提供了自动生成盘点表的功能，方便打印盘点报表。
A7: 6供应商对账单：请输入供应商名称和日期，颜色区域自动生成，无需手动输入。
A8: 7客户对账单：请输入客户名称和日期，颜色区域自动生成，无需手动输入。
A9: 8入库打印：填写单号，其它信息根据进货入库明细表自动生成。
A10: 9出库打印：填写单号，其它信息根据销售出库明细表自动生成。

Sheet 进货入库明细表
B1: 入库明细表
A2: 辅助列 | B2: 单号 | C2: 日期 | D2: 物料编码 | E2: 物料名称 | F2: 规格型号 | G2: 单位 | H2: 数量 | I2: 单价 | J2: 金额 | K2: 经办人 | L2: 供应商 | M2: 备注
A3: =IF(AND(L3=供应商对账单!$C$2,C3>=供应商对账单!$G$2,C3<=供应商对账单!$G$3),ROW(进货入库明细表!F3)&"-","") | B3: A1001 | C3: 43800 | D3: a1001 | E3: =IF($D3<>"",VLOOKUP($D3,参数表!$A:$G,2,0),"") -> 物料1 | F3: =IF($D3<>"",VLOOKUP($D3,参数表!$A:$G,3,0),"") -> AA | G3: =IF($D3<>"",VLOOKUP($D3,参数表!$A:$G,4,0),"") -> 个 | H3: 100 | I3: 59 | J3: =H3*I3 -> 5900 | K3: 张三 | L3: 供应商1
A4: =IF(AND(L4=供应商对账单!$C$2,C4>=供应商对账单!$G$2,C4<=供应商对账单!$G$3),ROW(进货入库明细表!F4)&"-","") | B4: A1001 | C4: 43801 | D4: a1002 | E4: =IF($D4<>"",VLOOKUP($D4,参数表!$A:$G,2,0),"") -> 物料2 | F4: =IF($D4<>"",VLOOKUP($D4,参数表!$A:$G,3,0),"") -> BB | G4: =IF($D4<>"",VLOOKUP($D4,参数表!$A:$G,4,0),"") -> 支 | H4: 50 | I4: 60 | J4: =H4*I4 -> 3000 | K4: 张三 | L4: 供应商1
A5: =IF(AND(L5=供应商对账单!$C$2,C5>=供应商对账单!$G$2,C5<=供应商对账单!$G$3),ROW(进货入库明细表!F5)&"-","") | B5: A1002 | C5: 43802 | D5: a1003 | E5: =IF($D5<>"",VLOOKUP($D5,参数表!$A:$G,2,0),"") -> 物料3 | F5: =IF($D5<>"",VLOOKUP($D5,参数表!$A:$G,3,0),"") -> CC | G5: =IF($D5<>"",VLOOKUP($D5,参数表!$A:$G,4,0),"") -> 袋 | H5: 36 | I5: 89 | J5: =H5*I5 -> 3204 | K5: 张三 | L5: 供应商2
A6: =IF(AND(L6=供应商对账单!$C$2,C6>=供应商对账单!$G$2,C6<=供应商对账单!$G$3),ROW(进货入库明细表!F6)&"-","") | B6: A1003 | C6: 43803 | D6: a1004 | E6: =IF($D6<>"",VLOOKUP($D6,参数表!$A:$G,2,0),"") -> 物料4 | F6: =IF($D6<>"",VLOOKUP($D6,参数表!$A:$G,3,0),"") -> DD | G6: =IF($D6<>"",VLOOKUP($D6,参数表!$A:$G,4,0),"") -> 个 | H6: 23 | I6: 70 | J6: =H6*I6 -> 1610 | K6: 张三 | L6: 供应商3
A7: =IF(AND(L7=供应商对账单!$C$2,C7>=供应商对账单!$G$2,C7<=供应商对账单!$G$3),ROW(进货入库明细表!F7)&"-","") | B7: A1004 | C7: 43804 | D7: a1005 | E7: =IF($D7<>"",VLOOKUP($D7,参数表!$A:$G,2,0),"") -> 物料5 | F7: =IF($D7<>"",VLOOKUP($D7,参数表!$A:$G,3,0),"") -> EE | G7: =IF($D7<>"",VLOOKUP($D7,参数表!$A:$G,4,0),"") -> 支 | H7: 12 | I7: 100 | J7: =H7*I7 -> 1200 | K7: 张三 | L7: 供应商4
A8: =IF(AND(L8=供应商对账单!$C$2,C8>=供应商对账单!$G$2,C8<=供应商对账单!$G$3),ROW(进货入库明细表!F8)&"-","") | E8: =IF($D8<>"",VLOOKUP($D8,参数表!$A:$G,2,0),"") | F8: =IF($D8<>"",VLOOKUP($D8,参数表!$A:$G,3,0),"") | G8: =IF($D8<>"",VLOOKUP($D8,参数表!$A:$G,4,0),"") | J8: =H8*I8 -> 0
A9: =IF(AND(L9=供应商对账单!$C$2,C9>=供应商对账单!$G$2,C9<=供应商对账单!$G$3),ROW(进货入库明细表!F9)&"-","") | E9: =IF($D9<>"",VLOOKUP($D9,参数表!$A:$G,2,0),"") | F9: =IF($D9<>"",VLOOKUP($D9,参数表!$A:$G,3,0),"") | G9: =IF($D9<>"",VLOOKUP($D9,参数表!$A:$G,4,0),"") | J9: =H9*I9 -> 0
A10: =IF(AND(L10=供应商对账单!$C$2,C10>=供应商对账单!$G$2,C10<=供应商对账单!$G$3),ROW(进货入库明细表!F10)&"-","") | E10: =IF($D10<>"",VLOOKUP($D10,参数表!$A:$G,2,0),"") | F10: =IF($D10<>"",VLOOKUP($D10,参数表!$A:$G,3,0),"") | G10: =IF($D10<>"",VLOOKUP($D10,参数表!$A:$G,4,0),"") | J10: =H10*I10 -> 0
A11: =IF(AND(L11=供应商对账单!$C$2,C11>=供应商对账单!$G$2,C11<=供应商对账单!$G$3),ROW(进货入库明细表!F11)&"-","") | E11: =IF($D11<>"",VLOOKUP($D11,参数表!$A:$G,2,0),"") | F11: =IF($D11<>"",VLOOKUP($D11,参数表!$A:$G,3,0),"") | G11: =IF($D11<>"",VLOOKUP($D11,参数表!$A:$G,4,0),"") | J11: =H11*I11 -> 0
A12: =IF(AND(L12=供应商对账单!$C$2,C12>=供应商对账单!$G$2,C12<=供应商对账单!$G$3),ROW(进货入库明细表!F12)&"-","") | E12: =IF($D12<>"",VLOOKUP($D12,参数表!$A:$G,2,0),"") | F12: =IF($D12<>"",VLOOKUP($D12,参数表!$A:$G,3,0),"") | G12: =IF($D12<>"",VLOOKUP($D12,参数表!$A:$G,4,0),"") | J12: =H12*I12 -> 0
A13: =IF(AND(L13=供应商对账单!$C$2,C13>=供应商对账单!$G$2,C13<=供应商对账单!$G$3),ROW(进货入库明细表!F13)&"-","") | E13: =IF($D13<>"",VLOOKUP($D13,参数表!$A:$G,2,0),"") | F13: =IF($D13<>"",VLOOKUP($D13,参数表!$A:$G,3,0),"") | G13: =IF($D13<>"",VLOOKUP($D13,参数表!$A:$G,4,0),"") | J13: =H13*I13 -> 0
A14: =IF(AND(L14=供应商对账单!$C$2,C14>=供应商对账单!$G$2,C14<=供应商对账单!$G$3),ROW(进货入库明细表!F14)&"-","") | E14: =IF($D14<>"",VLOOKUP($D14,参数表!$A:$G,2,0),"") | F14: =IF($D14<>"",VLOOKUP($D14,参数表!$A:$G,3,0),"") | G14: =IF($D14<>"",VLOOKUP($D14,参数表!$A:$G,4,0),"") | J14: =H14*I14 -> 0
A15: =IF(AND(L15=供应商对账单!$C$2,C15>=供应商对账单!$G$2,C15<=供应商对账单!$G$3),ROW(进货入库明细表!F15)&"-","") | E15: =IF($D15<>"",VLOOKUP($D15,参数表!$A:$G,2,0),"") | F15: =IF($D15<>"",VLOOKUP($D15,参数表!$A:$G,3,0),"") | G15: =IF($D15<>"",VLOOKUP($D15,参数表!$A:$G,4,0),"") | J15: =H15*I15 -> 0
A16: =IF(AND(L16=供应商对账单!$C$2,C16>=供应商对账单!$G$2,C16<=供应商对账单!$G$3),ROW(进货入库明细表!F16)&"-","") | E16: =IF($D16<>"",VLOOKUP($D16,参数表!$A:$G,2,0),"") | F16: =IF($D16<>"",VLOOKUP($D16,参数表!$A:$G,3,0),"") | G16: =IF($D16<>"",VLOOKUP($D16,参数表!$A:$G,4,0),"") | J16: =H16*I16 -> 0
A17: =IF(AND(L17=供应商对账单!$C$2,C17>=供应商对账单!$G$2,C17<=供应商对账单!$G$3),ROW(进货入库明细表!F17)&"-","") | E17: =IF($D17<>"",VLOOKUP($D17,参数表!$A:$G,2,0),"") | F17: =IF($D17<>"",VLOOKUP($D17,参数表!$A:$G,3,0),"") | G17: =IF($D17<>"",VLOOKUP($D17,参数表!$A:$G,4,0),"") | J17: =H17*I17 -> 0
A18: =IF(AND(L18=供应商对账单!$C$2,C18>=供应商对账单!$G$2,C18<=供应商对账单!$G$3),ROW(进货入库明细表!F18)&"-","") | E18: =IF($D18<>"",VLOOKUP($D18,参数表!$A:$G,2,0),"") | F18: =IF($D18<>"",VLOOKUP($D18,参数表!$A:$G,3,0),"") | G18: =IF($D18<>"",VLOOKUP($D18,参数表!$A:$G,4,0),"") | J18: =H18*I18 -> 0
A19: =IF(AND(L19=供应商对账单!$C$2,C19>=供应商对账单!$G$2,C19<=供应商对账单!$G$3),ROW(进货入库明细表!F19)&"-","") | E19: =IF($D19<>"",VLOOKUP($D19,参数表!$A:$G,2,0),"") | F19: =IF($D19<>"",VLOOKUP($D19,参数表!$A:$G,3,0),"") | G19: =IF($D19<>"",VLOOKUP($D19,参数表!$A:$G,4,0),"") | J19: =H19*I19 -> 0
... A500: =IF(AND(L500=供应商对账单!$C$2,C500>=供应商对账单!$G$2,C500<=供应商对账单!$G$3),ROW(进货入库明细表!F500)&"-","") | E500: =IF($D500<>"",VLOOKUP($D500,参数表!$A:$G,2,0),"") | F500: =IF($D500<>"",VLOOKUP($D500,参数表!$A:$G,3,0),"") | G500: =IF($D500<>"",VLOOKUP($D500,参数表!$A:$G,4,0),"") | J500: =H500*I500 -> 0

Sheet 销售出库明细表
B1: 销售出库明细表
A2: 辅助列 | B2: 单号 | C2: 日期 | D2: 编码 | E2: 物料名称 | F2: 规格型号 | G2: 单位 | H2: 数量 | I2: 单价 | J2: 金额 | K2: 经办人 | L2: 客户 | M2: 备注
A3: =IF(AND(L3=客户对账单!$C$2,C3>=客户对账单!$G$2,C3<=客户对账单!$G$3),ROW(销售出库明细表!F3)&"-","") -> 3- | B3: B1001 | C3: 43072 | D3: a1001 | E3: =IF($D3<>"",VLOOKUP($D3,参数表!$A:$G,2,0),"") -> 物料1 | F3: =IF($D3<>"",VLOOKUP($D3,参数表!$A:$G,3,0),"") -> AA | G3: =IF($D3<>"",VLOOKUP($D3,参数表!$A:$G,4,0),"") -> 个 | H3: 20 | I3: 99 | J3: =H3*I3 -> 1980 | K3: 李四 | L3: 客户1
A4: =IF(AND(L4=客户对账单!$C$2,C4>=客户对账单!$G$2,C4<=客户对账单!$G$3),ROW(销售出库明细表!F4)&"-","") -> 4- | B4: B1001 | C4: 43072 | D4: a1002 | E4: =IF($D4<>"",VLOOKUP($D4,参数表!$A:$G,2,0),"") -> 物料2 | F4: =IF($D4<>"",VLOOKUP($D4,参数表!$A:$G,3,0),"") -> BB | G4: =IF($D4<>"",VLOOKUP($D4,参数表!$A:$G,4,0),"") -> 支 | H4: 15 | I4: 99 | J4: =H4*I4 -> 1485 | K4: 李四 | L4: 客户1
A5: =IF(AND(L5=客户对账单!$C$2,C5>=客户对账单!$G$2,C5<=客户对账单!$G$3),ROW(销售出库明细表!F5)&"-","") | B5: B1002 | C5: 43073 | D5: a1003 | E5: =IF($D5<>"",VLOOKUP($D5,参数表!$A:$G,2,0),"") -> 物料3 | F5: =IF($D5<>"",VLOOKUP($D5,参数表!$A:$G,3,0),"") -> CC | G5: =IF($D5<>"",VLOOKUP($D5,参数表!$A:$G,4,0),"") -> 袋 | H5: 11 | I5: 109 | J5: =H5*I5 -> 1199 | K5: 李四 | L5: 客户2
A6: =IF(AND(L6=客户对账单!$C$2,C6>=客户对账单!$G$2,C6<=客户对账单!$G$3),ROW(销售出库明细表!F6)&"-","") | B6: B1003 | C6: 43074 | D6: a1004 | E6: =IF($D6<>"",VLOOKUP($D6,参数表!$A:$G,2,0),"") -> 物料4 | F6: =IF($D6<>"",VLOOKUP($D6,参数表!$A:$G,3,0),"") -> DD | G6: =IF($D6<>"",VLOOKUP($D6,参数表!$A:$G,4,0),"") -> 个 | H6: 9 | I6: 129 | J6: =H6*I6 -> 1161 | K6: 李四 | L6: 客户3
A7: =IF(AND(L7=客户对账单!$C$2,C7>=客户对账单!$G$2,C7<=客户对账单!$G$3),ROW(销售出库明细表!F7)&"-","") | B7: B1004 | C7: 43075 | D7: a1005 | E7: =IF($D7<>"",VLOOKUP($D7,参数表!$A:$G,2,0),"") -> 物料5 | F7: =IF($D7<>"",VLOOKUP($D7,参数表!$A:$G,3,0),"") -> EE | G7: =IF($D7<>"",VLOOKUP($D7,参数表!$A:$G,4,0),"") -> 支 | H7: 12 | I7: 139 | J7: =H7*I7 -> 1668 | K7: 李四 | L7: 客户4
A8: =IF(AND(L8=客户对账单!$C$2,C8>=客户对账单!$G$2,C8<=客户对账单!$G$3),ROW(销售出库明细表!F8)&"-","") | E8: =IF($D8<>"",VLOOKUP($D8,参数表!$A:$G,2,0),"") | F8: =IF($D8<>"",VLOOKUP($D8,参数表!$A:$G,3,0),"") | G8: =IF($D8<>"",VLOOKUP($D8,参数表!$A:$G,4,0),"") | J8: =H8*I8 -> 0
A9: =IF(AND(L9=客户对账单!$C$2,C9>=客户对账单!$G$2,C9<=客户对账单!$G$3),ROW(销售出库明细表!F9)&"-","") | E9: =IF($D9<>"",VLOOKUP($D9,参数表!$A:$G,2,0),"") | F9: =IF($D9<>"",VLOOKUP($D9,参数表!$A:$G,3,0),"") | G9: =IF($D9<>"",VLOOKUP($D9,参数表!$A:$G,4,0),"") | J9: =H9*I9 -> 0
A10: =IF(AND(L10=客户对账单!$C$2,C10>=客户对账单!$G$2,C10<=客户对账单!$G$3),ROW(销售出库明细表!F10)&"-","") | E10: =IF($D10<>"",VLOOKUP($D10,参数表!$A:$G,2,0),"") | F10: =IF($D10<>"",VLOOKUP($D10,参数表!$A:$G,3,0),"") | G10: =IF($D10<>"",VLOOKUP($D10,参数表!$A:$G,4,0),"") | J10: =H10*I10 -> 0
A11: =IF(AND(L11=客户对账单!$C$2,C11>=客户对账单!$G$2,C11<=客户对账单!$G$3),ROW(销售出库明细表!F11)&"-","") | E11: =IF($D11<>"",VLOOKUP($D11,参数表!$A:$G,2,0),"") | F11: =IF($D11<>"",VLOOKUP($D11,参数表!$A:$G,3,0),"") | G11: =IF($D11<>"",VLOOKUP($D11,参数表!$A:$G,4,0),"") | J11: =H11*I11 -> 0
A12: =IF(AND(L12=客户对账单!$C$2,C12>=客户对账单!$G$2,C12<=客户对账单!$G$3),ROW(销售出库明细表!F12)&"-","") | E12: =IF($D12<>"",VLOOKUP($D12,参数表!$A:$G,2,0),"") | F12: =IF($D12<>"",VLOOKUP($D12,参数表!$A:$G,3,0),"") | G12: =IF($D12<>"",VLOOKUP($D12,参数表!$A:$G,4,0),"") | J12: =H12*I12 -> 0
A13: =IF(AND(L13=客户对账单!$C$2,C13>=客户对账单!$G$2,C13<=客户对账单!$G$3),ROW(销售出库明细表!F13)&"-","") | E13: =IF($D13<>"",VLOOKUP($D13,参数表!$A:$G,2,0),"") | F13: =IF($D13<>"",VLOOKUP($D13,参数表!$A:$G,3,0),"") | G13: =IF($D13<>"",VLOOKUP($D13,参数表!$A:$G,4,0),"") | J13: =H13*I13 -> 0
A14: =IF(AND(L14=客户对账单!$C$2,C14>=客户对账单!$G$2,C14<=客户对账单!$G$3),ROW(销售出库明细表!F14)&"-","") | E14: =IF($D14<>"",VLOOKUP($D14,参数表!$A:$G,2,0),"") | F14: =IF($D14<>"",VLOOKUP($D14,参数表!$A:$G,3,0),"") | G14: =IF($D14<>"",VLOOKUP($D14,参数表!$A:$G,4,0),"") | J14: =H14*I14 -> 0
A15: =IF(AND(L15=客户对账单!$C$2,C15>=客户对账单!$G$2,C15<=客户对账单!$G$3),ROW(销售出库明细表!F15)&"-","") | E15: =IF($D15<>"",VLOOKUP($D15,参数表!$A:$G,2,0),"") | F15: =IF($D15<>"",VLOOKUP($D15,参数表!$A:$G,3,0),"") | G15: =IF($D15<>"",VLOOKUP($D15,参数表!$A:$G,4,0),"") | J15: =H15*I15 -> 0
A16: =IF(AND(L16=客户对账单!$C$2,C16>=客户对账单!$G$2,C16<=客户对账单!$G$3),ROW(销售出库明细表!F16)&"-","") | E16: =IF($D16<>"",VLOOKUP($D16,参数表!$A:$G,2,0),"") | F16: =IF($D16<>"",VLOOKUP($D16,参数表!$A:$G,3,0),"") | G16: =IF($D16<>"",VLOOKUP($D16,参数表!$A:$G,4,0),"") | J16: =H16*I16 -> 0
A17: =IF(AND(L17=客户对账单!$C$2,C17>=客户对账单!$G$2,C17<=客户对账单!$G$3),ROW(销售出库明细表!F17)&"-","") | E17: =IF($D17<>"",VLOOKUP($D17,参数表!$A:$G,2,0),"") | F17: =IF($D17<>"",VLOOKUP($D17,参数表!$A:$G,3,0),"") | G17: =IF($D17<>"",VLOOKUP($D17,参数表!$A:$G,4,0),"") | J17: =H17*I17 -> 0
A18: =IF(AND(L18=客户对账单!$C$2,C18>=客户对账单!$G$2,C18<=客户对账单!$G$3),ROW(销售出库明细表!F18)&"-","") | E18: =IF($D18<>"",VLOOKUP($D18,参数表!$A:$G,2,0),"") | F18: =IF($D18<>"",VLOOKUP($D18,参数表!$A:$G,3,0),"") | G18: =IF($D18<>"",VLOOKUP($D18,参数表!$A:$G,4,0),"") | J18: =H18*I18 -> 0
A19: =IF(AND(L19=客户对账单!$C$2,C19>=客户对账单!$G$2,C19<=客户对账单!$G$3),ROW(销售出库明细表!F19)&"-","") | E19: =IF($D19<>"",VLOOKUP($D19,参数表!$A:$G,2,0),"") | F19: =IF($D19<>"",VLOOKUP($D19,参数表!$A:$G,3,0),"") | G19: =IF($D19<>"",VLOOKUP($D19,参数表!$A:$G,4,0),"") | J19: =H19*I19 -> 0
... A500: =IF(AND(L500=客户对账单!$C$2,C500>=客户对账单!$G$2,C500<=客户对账单!$G$3),ROW(销售出库明细表!F500)&"-","") | E500: =IF($D500<>"",VLOOKUP($D500,参数表!$A:$G,2,0),"") | F500: =IF($D500<>"",VLOOKUP($D500,参数表!$A:$G,3,0),"") | G500: =IF($D500<>"",VLOOKUP($D500,参数表!$A:$G,4,0),"") | J500: =H500*I500 -> 0

Sheet 库存统计表
A1: 库存统计表
A2: 物料编码 | B2: 物料名称 | C2: 规格型号 | D2: 单位 | E2: 期初数量 | F2: 入库 | H2: 出库 | J2: 库存 | K2: 安全库存 | L2: 库存报警 | M2: 备注信息
F3: 入库数量 | G3: 入库金额 | H3: 出库数量 | I3: 出库金额
A4: =IF(参数表!A3="","",参数表!A3) -> a1001 | B4: =IFERROR(VLOOKUP(A4,参数表!A:G,2,FALSE),"") -> 物料1 | C4: =IF($A4<>"",VLOOKUP($A4,参数表!$A:$G,3,0),"") -> AA | D4: =IF($A4<>"",VLOOKUP($A4,参数表!$A:$G,4,0),"") -> 个 | E4: =IF($A4<>"",VLOOKUP($A4,参数表!$A:$G,5,0),"") -> 10 | F4: =SUMIF(进货入库明细表!D:D,A4,进货入库明细表!H:H) -> 100 | G4: =SUMIF(进货入库明细表!D:D,A4,进货入库明细表!J:J) -> 5900 | H4: =SUMIF(销售出库明细表!D:D,A4,销售出库明细表!H:H) -> 20 | I4: =SUMIF(销售出库明细表!D:D,A4,销售出库明细表!J:J) -> 1980 | J4: =E4+F4-H4 -> 90 | K4: =IF($A4<>"",VLOOKUP($A4,参数表!$A:$G,6,0),"") -> 100 | L4: =IF(K4="","",IF(J4<K4,"是","否")) -> 是
A5: =IF(参数表!A4="","",参数表!A4) -> a1002 | B5: =IFERROR(VLOOKUP(A5,参数表!A:G,2,FALSE),"") -> 物料2 | C5: =IF($A5<>"",VLOOKUP($A5,参数表!$A:$G,3,0),"") -> BB | D5: =IF($A5<>"",VLOOKUP($A5,参数表!$A:$G,4,0),"") -> 支 | E5: =IF($A5<>"",VLOOKUP($A5,参数表!$A:$G,5,0),"") -> 10 | F5: =SUMIF(进货入库明细表!D:D,A5,进货入库明细表!H:H) -> 50 | G5: =SUMIF(进货入库明细表!D:D,A5,进货入库明细表!J:J) -> 3000 | H5: =SUMIF(销售出库明细表!D:D,A5,销售出库明细表!H:H) -> 15 | I5: =SUMIF(销售出库明细表!D:D,A5,销售出库明细表!J:J) -> 1485 | J5: =E5+F5-H5 -> 45 | K5: =IF($A5<>"",VLOOKUP($A5,参数表!$A:$G,6,0),"") -> 20 | L5: =IF(K5="","",IF(J5<K5,"是","否")) -> 否
A6: =IF(参数表!A5="","",参数表!A5) -> a1003 | B6: =IFERROR(VLOOKUP(A6,参数表!A:G,2,FALSE),"") -> 物料3 | C6: =IF($A6<>"",VLOOKUP($A6,参数表!$A:$G,3,0),"") -> CC | D6: =IF($A6<>"",VLOOKUP($A6,参数表!$A:$G,4,0),"") -> 袋 | E6: =IF($A6<>"",VLOOKUP($A6,参数表!$A:$G,5,0),"") -> 10 | F6: =SUMIF(进货入库明细表!D:D,A6,进货入库明细表!H:H) -> 36 | G6: =SUMIF(进货入库明细表!D:D,A6,进货入库明细表!J:J) -> 3204 | H6: =SUMIF(销售出库明细表!D:D,A6,销售出库明细表!H:H) -> 11 | I6: =SUMIF(销售出库明细表!D:D,A6,销售出库明细表!J:J) -> 1199 | J6: =E6+F6-H6 -> 35 | K6: =IF($A6<>"",VLOOKUP($A6,参数表!$A:$G,6,0),"") -> 50 | L6: =IF(K6="","",IF(J6<K6,"是","否")) -> 是
A7: =IF(参数表!A6="","",参数表!A6) -> a1004 | B7: =IFERROR(VLOOKUP(A7,参数表!A:G,2,FALSE),"") -> 物料4 | C7: =IF($A7<>"",VLOOKUP($A7,参数表!$A:$G,3,0),"") -> DD | D7: =IF($A7<>"",VLOOKUP($A7,参数表!$A:$G,4,0),"") -> 个 | E7: =IF($A7<>"",VLOOKUP($A7,参数表!$A:$G,5,0),"") -> 20 | F7: =SUMIF(进货入库明细表!D:D,A7,进货入库明细表!H:H) -> 23 | G7: =SUMIF(进货入库明细表!D:D,A7,进货入库明细表!J:J) -> 1610 | H7: =SUMIF(销售出库明细表!D:D,A7,销售出库明细表!H:H) -> 9 | I7: =SUMIF(销售出库明细表!D:D,A7,销售出库明细表!J:J) -> 1161 | J7: =E7+F7-H7 -> 34 | K7: =IF($A7<>"",VLOOKUP($A7,参数表!$A:$G,6,0),"") -> 100 | L7: =IF(K7="","",IF(J7<K7,"是","否")) -> 是
A8: =IF(参数表!A7="","",参数表!A7) -> a1005 | B8: =IFERROR(VLOOKUP(A8,参数表!A:G,2,FALSE),"") -> 物料5 | C8: =IF($A8<>"",VLOOKUP($A8,参数表!$A:$G,3,0),"") -> EE | D8: =IF($A8<>"",VLOOKUP($A8,参数表!$A:$G,4,0),"") -> 支 | E8: =IF($A8<>"",VLOOKUP($A8,参数表!$A:$G,5,0),"") -> 20 | F8: =SUMIF(进货入库明细表!D:D,A8,进货入库明细表!H:H) -> 12 | G8: =SUMIF(进货入库明细表!D:D,A8,进货入库明细表!J:J) -> 1200 | H8: =SUMIF(销售出库明细表!D:D,A8,销售出库明细表!H:H) -> 12 | I8: =SUMIF(销售出库明细表!D:D,A8,销售出库明细表!J:J) -> 1668 | J8: =E8+F8-H8 -> 20 | K8: =IF($A8<>"",VLOOKUP($A8,参数表!$A:$G,6,0),"") -> 100 | L8: =IF(K8="","",IF(J8<K8,"是","否")) -> 是
A9: =IF(参数表!A8="","",参数表!A8) | B9: =IFERROR(VLOOKUP(A9,参数表!A:G,2,FALSE),"") | C9: =IF($A9<>"",VLOOKUP($A9,参数表!$A:$G,3,0),"") | D9: =IF($A9<>"",VLOOKUP($A9,参数表!$A:$G,4,0),"") | E9: =IF($A9<>"",VLOOKUP($A9,参数表!$A:$G,5,0),"") | F9: =SUMIF(进货入库明细表!D:D,A9,进货入库明细表!H:H) -> 0 | G9: =SUMIF(进货入库明细表!D:D,A9,进货入库明细表!J:J) -> 0 | H9: =SUMIF(销售出库明细表!D:D,A9,销售出库明细表!H:H) -> 0 | I9: =SUMIF(销售出库明细表!D:D,A9,销售出库明细表!J:J) -> 0 | J9: =E9+F9-H9 -> #VALUE! | K9: =IF($A9<>"",VLOOKUP($A9,参数表!$A:$G,6,0),"") | L9: =IF(K9="","",IF(J9<K9,"是","否"))
A10: =IF(参数表!A9="","",参数表!A9) | B10: =IFERROR(VLOOKUP(A10,参数表!A:G,2,FALSE),"") | C10: =IF($A10<>"",VLOOKUP($A10,参数表!$A:$G,3,0),"") | D10: =IF($A10<>"",VLOOKUP($A10,参数表!$A:$G,4,0),"") | E10: =IF($A10<>"",VLOOKUP($A10,参数表!$A:$G,5,0),"") | F10: =SUMIF(进货入库明细表!D:D,A10,进货入库明细表!H:H) -> 0 | G10: =SUMIF(进货入库明细表!D:D,A10,进货入库明细表!J:J) -> 0 | H10: =SUMIF(销售出库明细表!D:D,A10,销售出库明细表!H:H) -> 0 | I10: =SUMIF(销售出库明细表!D:D,A10,销售出库明细表!J:J) -> 0 | J10: =E10+F10-H10 -> #VALUE! | K10: =IF($A10<>"",VLOOKUP($A10,参数表!$A:$G,6,0),"") | L10: =IF(K10="","",IF(J10<K10,"是","否"))
A11: =IF(参数表!A10="","",参数表!A10) | B11: =IFERROR(VLOOKUP(A11,参数表!A:G,2,FALSE),"") | C11: =IF($A11<>"",VLOOKUP($A11,参数表!$A:$G,3,0),"") | D11: =IF($A11<>"",VLOOKUP($A11,参数表!$A:$G,4,0),"") | E11: =IF($A11<>"",VLOOKUP($A11,参数表!$A:$G,5,0),"") | F11: =SUMIF(进货入库明细表!D:D,A11,进货入库明细表!H:H) -> 0 | G11: =SUMIF(进货入库明细表!D:D,A11,进货入库明细表!J:J) -> 0 | H11: =SUMIF(销售出库明细表!D:D,A11,销售出库明细表!H:H) -> 0 | I11: =SUMIF(销售出库明细表!D:D,A11,销售出库明细表!J:J) -> 0 | J11: =E11+F11-H11 -> #VALUE! | K11: =IF($A11<>"",VLOOKUP($A11,参数表!$A:$G,6,0),"") | L11: =IF(K11="","",IF(J11<K11,"是","否"))
A12: =IF(参数表!A11="","",参数表!A11) | B12: =IFERROR(VLOOKUP(A12,参数表!A:G,2,FALSE),"") | C12: =IF($A12<>"",VLOOKUP($A12,参数表!$A:$G,3,0),"") | D12: =IF($A12<>"",VLOOKUP($A12,参数表!$A:$G,4,0),"") | E12: =IF($A12<>"",VLOOKUP($A12,参数表!$A:$G,5,0),"") | F12: =SUMIF(进货入库明细表!D:D,A12,进货入库明细表!H:H) -> 0 | G12: =SUMIF(进货入库明细表!D:D,A12,进货入库明细表!J:J) -> 0 | H12: =SUMIF(销售出库明细表!D:D,A12,销售出库明细表!H:H) -> 0 | I12: =SUMIF(销售出库明细表!D:D,A12,销售出库明细表!J:J) -> 0 | J12: =E12+F12-H12 -> #VALUE! | K12: =IF($A12<>"",VLOOKUP($A12,参数表!$A:$G,6,0),"") | L12: =IF(K12="","",IF(J12<K12,"是","否"))
A13: =IF(参数表!A12="","",参数表!A12) | B13: =IFERROR(VLOOKUP(A13,参数表!A:G,2,FALSE),"") | C13: =IF($A13<>"",VLOOKUP($A13,参数表!$A:$G,3,0),"") | D13: =IF($A13<>"",VLOOKUP($A13,参数表!$A:$G,4,0),"") | E13: =IF($A13<>"",VLOOKUP($A13,参数表!$A:$G,5,0),"") | F13: =SUMIF(进货入库明细表!D:D,A13,进货入库明细表!H:H) -> 0 | G13: =SUMIF(进货入库明细表!D:D,A13,进货入库明细表!J:J) -> 0 | H13: =SUMIF(销售出库明细表!D:D,A13,销售出库明细表!H:H) -> 0 | I13: =SUMIF(销售出库明细表!D:D,A13,销售出库明细表!J:J) -> 0 | J13: =E13+F13-H13 -> #VALUE! | K13: =IF($A13<>"",VLOOKUP($A13,参数表!$A:$G,6,0),"") | L13: =IF(K13="","",IF(J13<K13,"是","否"))
A14: =IF(参数表!A13="","",参数表!A13) | B14: =IFERROR(VLOOKUP(A14,参数表!A:G,2,FALSE),"") | C14: =IF($A14<>"",VLOOKUP($A14,参数表!$A:$G,3,0),"") | D14: =IF($A14<>"",VLOOKUP($A14,参数表!$A:$G,4,0),"") | E14: =IF($A14<>"",VLOOKUP($A14,参数表!$A:$G,5,0),"") | F14: =SUMIF(进货入库明细表!D:D,A14,进货入库明细表!H:H) -> 0 | G14: =SUMIF(进货入库明细表!D:D,A14,进货入库明细表!J:J) -> 0 | H14: =SUMIF(销售出库明细表!D:D,A14,销售出库明细表!H:H) -> 0 | I14: =SUMIF(销售出库明细表!D:D,A14,销售出库明细表!J:J) -> 0 | J14: =E14+F14-H14 -> #VALUE! | K14: =IF($A14<>"",VLOOKUP($A14,参数表!$A:$G,6,0),"") | L14: =IF(K14="","",IF(J14<K14,"是","否"))
A15: =IF(参数表!A14="","",参数表!A14) | B15: =IFERROR(VLOOKUP(A15,参数表!A:G,2,FALSE),"") | C15: =IF($A15<>"",VLOOKUP($A15,参数表!$A:$G,3,0),"") | D15: =IF($A15<>"",VLOOKUP($A15,参数表!$A:$G,4,0),"") | E15: =IF($A15<>"",VLOOKUP($A15,参数表!$A:$G,5,0),"") | F15: =SUMIF(进货入库明细表!D:D,A15,进货入库明细表!H:H) -> 0 | G15: =SUMIF(进货入库明细表!D:D,A15,进货入库明细表!J:J) -> 0 | H15: =SUMIF(销售出库明细表!D:D,A15,销售出库明细表!H:H) -> 0 | I15: =SUMIF(销售出库明细表!D:D,A15,销售出库明细表!J:J) -> 0 | J15: =E15+F15-H15 -> #VALUE! | K15: =IF($A15<>"",VLOOKUP($A15,参数表!$A:$G,6,0),"") | L15: =IF(K15="","",IF(J15<K15,"是","否"))
... A501: =IF(参数表!A500="","",参数表!A500) | B501: =IFERROR(VLOOKUP(A501,参数表!A:G,2,FALSE),"") | C501: =IF($A501<>"",VLOOKUP($A501,参数表!$A:$G,3,0),"") | D501: =IF($A501<>"",VLOOKUP($A501,参数表!$A:$G,4,0),"") | E501: =IF($A501<>"",VLOOKUP($A501,参数表!$A:$G,5,0),"") | F501: =SUMIF(进货入库明细表!D:D,A501,进货入库明细表!H:H) -> 0 | G501: =SUMIF(进货入库明细表!D:D,A501,进货入库明细表!J:J) -> 0 | H501: =SUMIF(销售出库明细表!D:D,A501,销售出库明细表!H:H) -> 0 | I501: =SUMIF(销售出库明细表!D:D,A501,销售出库明细表!J:J) -> 0 | J501: =E501+F501-H501 -> #VALUE! | K501: =IF($A501<>"",VLOOKUP($A501,参数表!$A:$G,6,0),"") | L501: =IF(K501="","",IF(J501<K501,"是","否"))

Sheet 盘点报表
A1: 盘点报表
A2: 物料编码 | B2: 物料名称 | C2: 规格型号 | D2: 单位 | E2: 账目库存 | F2: 账目金额 | G2: 实盘数量 | H2: 盈亏数量 | I2: 状态 | J2: 盘点人 | K2: 备注
A3: =IF(参数表!A3="","",参数表!A3) -> a1001 | B3: =IFERROR(VLOOKUP(A3,参数表!A:G,2,FALSE),"") -> 物料1 | C3: =IFERROR(VLOOKUP(A3,参数表!A:G,3,FALSE),"") -> AA | D3: =IFERROR(VLOOKUP(A3,参数表!A:G,4,FALSE),"") -> 个 | E3: =IFERROR(VLOOKUP(A3,库存统计表!A:M,11,FALSE),"") -> 100 | F3: =IFERROR(VLOOKUP(A3,库存统计表!A:M,12,FALSE),"") -> 是 | G3: 90 | H3: =IFERROR((G3-E3),"") -> -10 | I3: =IF(H3<0,"盘亏",IF(H3=0,"",IF(H3>0,"盘盈",""))) -> 盘亏
A4: =IF(参数表!A4="","",参数表!A4) -> a1002 | B4: =IFERROR(VLOOKUP(A4,参数表!A:G,2,FALSE),"") -> 物料2 | C4: =IFERROR(VLOOKUP(A4,参数表!A:G,3,FALSE),"") -> BB | D4: =IFERROR(VLOOKUP(A4,参数表!A:G,4,FALSE),"") -> 支 | E4: =IFERROR(VLOOKUP(A4,库存统计表!A:M,11,FALSE),"") -> 20 | F4: =IFERROR(VLOOKUP(A4,库存统计表!A:M,12,FALSE),"") -> 否 | G4: 29 | H4: =IFERROR((G4-E4),"") -> 9 | I4: =IF(H4<0,"盘亏",IF(H4=0,"",IF(H4>0,"盘盈",""))) -> 盘盈
A5: =IF(参数表!A5="","",参数表!A5) -> a1003 | B5: =IFERROR(VLOOKUP(A5,参数表!A:G,2,FALSE),"") -> 物料3 | C5: =IFERROR(VLOOKUP(A5,参数表!A:G,3,FALSE),"") -> CC | D5: =IFERROR(VLOOKUP(A5,参数表!A:G,4,FALSE),"") -> 袋 | E5: =IFERROR(VLOOKUP(A5,库存统计表!A:M,11,FALSE),"") -> 50 | F5: =IFERROR(VLOOKUP(A5,库存统计表!A:M,12,FALSE),"") -> 是 | G5: 120 | H5: =IFERROR((G5-E5),"") -> 70 | I5: =IF(H5<0,"盘亏",IF(H5=0,"",IF(H5>0,"盘盈",""))) -> 盘盈
A6: =IF(参数表!A6="","",参数表!A6) -> a1004 | B6: =IFERROR(VLOOKUP(A6,参数表!A:G,2,FALSE),"") -> 物料4 | C6: =IFERROR(VLOOKUP(A6,参数表!A:G,3,FALSE),"") -> DD | D6: =IFERROR(VLOOKUP(A6,参数表!A:G,4,FALSE),"") -> 个 | E6: =IFERROR(VLOOKUP(A6,库存统计表!A:M,11,FALSE),"") -> 100 | F6: =IFERROR(VLOOKUP(A6,库存统计表!A:M,12,FALSE),"") -> 是 | G6: 110 | H6: =IFERROR((G6-E6),"") -> 10 | I6: =IF(H6<0,"盘亏",IF(H6=0,"",IF(H6>0,"盘盈",""))) -> 盘盈
A7: =IF(参数表!A7="","",参数表!A7) -> a1005 | B7: =IFERROR(VLOOKUP(A7,参数表!A:G,2,FALSE),"") -> 物料5 | C7: =IFERROR(VLOOKUP(A7,参数表!A:G,3,FALSE),"") -> EE | D7: =IFERROR(VLOOKUP(A7,参数表!A:G,4,FALSE),"") -> 支 | E7: =IFERROR(VLOOKUP(A7,库存统计表!A:M,11,FALSE),"") -> 100 | F7: =IFERROR(VLOOKUP(A7,库存统计表!A:M,12,FALSE),"") -> 是 | G7: 70 | H7: =IFERROR((G7-E7),"") -> -30 | I7: =IF(H7<0,"盘亏",IF(H7=0,"",IF(H7>0,"盘盈",""))) -> 盘亏
A8: =IF(参数表!A8="","",参数表!A8) | B8: =IFERROR(VLOOKUP(A8,参数表!A:G,2,FALSE),"") | C8: =IFERROR(VLOOKUP(A8,参数表!A:G,3,FALSE),"") | D8: =IFERROR(VLOOKUP(A8,参数表!A:G,4,FALSE),"") | E8: =IFERROR(VLOOKUP(A8,库存统计表!A:M,11,FALSE),"") | F8: =IFERROR(VLOOKUP(A8,库存统计表!A:M,12,FALSE),"") | H8: =IFERROR((G8-E8),"") | I8: =IF(H8<0,"盘亏",IF(H8=0,"",IF(H8>0,"盘盈",""))) -> 盘盈
A9: =IF(参数表!A9="","",参数表!A9) | B9: =IFERROR(VLOOKUP(A9,参数表!A:G,2,FALSE),"") | C9: =IFERROR(VLOOKUP(A9,参数表!A:G,3,FALSE),"") | D9: =IFERROR(VLOOKUP(A9,参数表!A:G,4,FALSE),"") | E9: =IFERROR(VLOOKUP(A9,库存统计表!A:M,11,FALSE),"") | F9: =IFERROR(VLOOKUP(A9,库存统计表!A:M,12,FALSE),"") | H9: =IFERROR((G9-E9),"") | I9: =IF(H9<0,"盘亏",IF(H9=0,"",IF(H9>0,"盘盈",""))) -> 盘盈
A10: =IF(参数表!A10="","",参数表!A10) | B10: =IFERROR(VLOOKUP(A10,参数表!A:G,2,FALSE),"") | C10: =IFERROR(VLOOKUP(A10,参数表!A:G,3,FALSE),"") | D10: =IFERROR(VLOOKUP(A10,参数表!A:G,4,FALSE),"") | E10: =IFERROR(VLOOKUP(A10,库存统计表!A:M,11,FALSE),"") | F10: =IFERROR(VLOOKUP(A10,库存统计表!A:M,12,FALSE),"") | H10: =IFERROR((G10-E10),"") | I10: =IF(H10<0,"盘亏",IF(H10=0,"",IF(H10>0,"盘盈",""))) -> 盘盈
A11: =IF(参数表!A11="","",参数表!A11) | B11: =IFERROR(VLOOKUP(A11,参数表!A:G,2,FALSE),"") | C11: =IFERROR(VLOOKUP(A11,参数表!A:G,3,FALSE),"") | D11: =IFERROR(VLOOKUP(A11,参数表!A:G,4,FALSE),"") | E11: =IFERROR(VLOOKUP(A11,库存统计表!A:M,11,FALSE),"") | F11: =IFERROR(VLOOKUP(A11,库存统计表!A:M,12,FALSE),"") | H11: =IFERROR((G11-E11),"") | I11: =IF(H11<0,"盘亏",IF(H11=0,"",IF(H11>0,"盘盈",""))) -> 盘盈
A12: =IF(参数表!A12="","",参数表!A12) | B12: =IFERROR(VLOOKUP(A12,参数表!A:G,2,FALSE),"") | C12: =IFERROR(VLOOKUP(A12,参数表!A:G,3,FALSE),"") | D12: =IFERROR(VLOOKUP(A12,参数表!A:G,4,FALSE),"") | E12: =IFERROR(VLOOKUP(A12,库存统计表!A:M,11,FALSE),"") | F12: =IFERROR(VLOOKUP(A12,库存统计表!A:M,12,FALSE),"") | H12: =IFERROR((G12-E12),"") | I12: =IF(H12<0,"盘亏",IF(H12=0,"",IF(H12>0,"盘盈",""))) -> 盘盈
A13: =IF(参数表!A13="","",参数表!A13) | B13: =IFERROR(VLOOKUP(A13,参数表!A:G,2,FALSE),"") | C13: =IFERROR(VLOOKUP(A13,参数表!A:G,3,FALSE),"") | D13: =IFERROR(VLOOKUP(A13,参数表!A:G,4,FALSE),"") | E13: =IFERROR(VLOOKUP(A13,库存统计表!A:M,11,FALSE),"") | F13: =IFERROR(VLOOKUP(A13,库存统计表!A:M,12,FALSE),"") | H13: =IFERROR((G13-E13),"") | I13: =IF(H13<0,"盘亏",IF(H13=0,"",IF(H13>0,"盘盈",""))) -> 盘盈
A14: =IF(参数表!A14="","",参数表!A14) | B14: =IFERROR(VLOOKUP(A14,参数表!A:G,2,FALSE),"") | C14: =IFERROR(VLOOKUP(A14,参数表!A:G,3,FALSE),"") | D14: =IFERROR(VLOOKUP(A14,参数表!A:G,4,FALSE),"") | E14: =IFERROR(VLOOKUP(A14,库存统计表!A:M,11,FALSE),"") | F14: =IFERROR(VLOOKUP(A14,库存统计表!A:M,12,FALSE),"") | H14: =IFERROR((G14-E14),"") | I14: =IF(H14<0,"盘亏",IF(H14=0,"",IF(H14>0,"盘盈",""))) -> 盘盈
A15: =IF(参数表!A15="","",参数表!A15) | B15: =IFERROR(VLOOKUP(A15,参数表!A:G,2,FALSE),"") | C15: =IFERROR(VLOOKUP(A15,参数表!A:G,3,FALSE),"") | D15: =IFERROR(VLOOKUP(A15,参数表!A:G,4,FALSE),"") | E15: =IFERROR(VLOOKUP(A15,库存统计表!A:M,11,FALSE),"") | F15: =IFERROR(VLOOKUP(A15,库存统计表!A:M,12,FALSE),"") | H15: =IFERROR((G15-E15),"") | I15: =IF(H15<0,"盘亏",IF(H15=0,"",IF(H15>0,"盘盈",""))) -> 盘盈
A16: =IF(参数表!A16="","",参数表!A16) | B16: =IFERROR(VLOOKUP(A16,参数表!A:G,2,FALSE),"") | C16: =IFERROR(VLOOKUP(A16,参数表!A:G,3,FALSE),"") | D16: =IFERROR(VLOOKUP(A16,参数表!A:G,4,FALSE),"") | E16: =IFERROR(VLOOKUP(A16,库存统计表!A:M,11,FALSE),"") | F16: =IFERROR(VLOOKUP(A16,库存统计表!A:M,12,FALSE),"") | H16: =IFERROR((G16-E16),"") | I16: =IF(H16<0,"盘亏",IF(H16=0,"",IF(H16>0,"盘盈",""))) -> 盘盈
A17: =IF(参数表!A17="","",参数表!A17) | B17: =IFERROR(VLOOKUP(A17,参数表!A:G,2,FALSE),"") | C17: =IFERROR(VLOOKUP(A17,参数表!A:G,3,FALSE),"") | D17: =IFERROR(VLOOKUP(A17,参数表!A:G,4,FALSE),"") | E17: =IFERROR(VLOOKUP(A17,库存统计表!A:M,11,FALSE),"") | F17: =IFERROR(VLOOKUP(A17,库存统计表!A:M,12,FALSE),"") | H17: =IFERROR((G17-E17),"") | I17: =IF(H17<0,"盘亏",IF(H17=0,"",IF(H17>0,"盘盈",""))) -> 盘盈
A18: =IF(参数表!A18="","",参数表!A18) | B18: =IFERROR(VLOOKUP(A18,参数表!A:G,2,FALSE),"") | C18: =IFERROR(VLOOKUP(A18,参数表!A:G,3,FALSE),"") | D18: =IFERROR(VLOOKUP(A18,参数表!A:G,4,FALSE),"") | E18: =IFERROR(VLOOKUP(A18,库存统计表!A:M,11,FALSE),"") | F18: =IFERROR(VLOOKUP(A18,库存统计表!A:M,12,FALSE),"") | H18: =IFERROR((G18-E18),"") | I18: =IF(H18<0,"盘亏",IF(H18=0,"",IF(H18>0,"盘盈",""))) -> 盘盈
A19: =IF(参数表!A19="","",参数表!A19) | B19: =IFERROR(VLOOKUP(A19,参数表!A:G,2,FALSE),"") | C19: =IFERROR(VLOOKUP(A19,参数表!A:G,3,FALSE),"") | D19: =IFERROR(VLOOKUP(A19,参数表!A:G,4,FALSE),"") | E19: =IFERROR(VLOOKUP(A19,库存统计表!A:M,11,FALSE),"") | F19: =IFERROR(VLOOKUP(A19,库存统计表!A:M,12,FALSE),"") | H19: =IFERROR((G19-E19),"") | I19: =IF(H19<0,"盘亏",IF(H19=0,"",IF(H19>0,"盘盈",""))) -> 盘盈
... A200: =IF(参数表!A200="","",参数表!A200) | B200: =IFERROR(VLOOKUP(A200,参数表!A:G,2,FALSE),"") | C200: =IFERROR(VLOOKUP(A200,参数表!A:G,3,FALSE),"") | D200: =IFERROR(VLOOKUP(A200,参数表!A:G,4,FALSE),"") | E200: =IFERROR(VLOOKUP(A200,库存统计表!A:M,11,FALSE),"") | F200: =IFERROR(VLOOKUP(A200,库存统计表!A:M,12,FALSE),"") | H200: =IFERROR((G200-E200),"") | I200: =IF(H200<0,"盘亏",IF(H200=0,"",IF(H200>0,"盘盈",""))) -> 盘盈

Sheet 供应商对账单
B1: 请输入供应商名称和日期
B2: 供应商名称 | C2: 供应商1 | E2: 日期 | F2: 起 | G2: 43040
F3: 止 | G3: 43099
A5: 辅助列 | B5: 单号 | C5: 日期 | D5: 编码 | E5: 物料名称 | F5: 规格型号 | G5: 单位 | H5: 入库数量 | I5: 入库单价 | J5: 入库金额 | K5: 经办人 | L5: 备注
A6: {=INDEX(进货入库明细表!A:A,LARGE(IF(进货入库明细表!$A$3:$A$10000<>"",ROW($3:$10000),-1),ROW(供应商对账单!A1)))} -> #VALUE! | B6: =IFERROR(VLOOKUP(供应商对账单!A6,进货入库明细表!A:O,2,FALSE),"") | C6: =IFERROR(VLOOKUP(供应商对账单!A6,进货入库明细表!A:O,3,FALSE),"") | D6: =IFERROR(VLOOKUP(供应商对账单!A6,进货入库明细表!A:O,4,FALSE),"") | E6: =IFERROR(VLOOKUP(供应商对账单!A6,进货入库明细表!A:O,5,FALSE),"") | F6: =IFERROR(VLOOKUP(供应商对账单!A6,进货入库明细表!A:O,6,FALSE),"") | G6: =IFERROR(VLOOKUP(供应商对账单!A6,进货入库明细表!A:O,7,FALSE),"") | H6: =IFERROR(VLOOKUP(供应商对账单!A6,进货入库明细表!A:O,8,FALSE),"") | I6: =IFERROR(VLOOKUP(供应商对账单!A6,进货入库明细表!A:O,9,FALSE),"") | J6: =IFERROR(VLOOKUP(供应商对账单!A6,进货入库明细表!A:O,10,FALSE),"") | K6: =IFERROR(VLOOKUP(供应商对账单!A6,进货入库明细表!A:O,11,FALSE),"") | L6: =IFERROR(VLOOKUP(供应商对账单!A6,进货入库明细表!A:O,13,FALSE),"")
A7: {=INDEX(进货入库明细表!A:A,LARGE(IF(进货入库明细表!$A$3:$A$10000<>"",ROW($3:$10000),-1),ROW(供应商对账单!A2)))} -> #VALUE! | B7: =IFERROR(VLOOKUP(供应商对账单!A7,进货入库明细表!A:O,2,FALSE),"") | C7: =IFERROR(VLOOKUP(供应商对账单!A7,进货入库明细表!A:O,3,FALSE),"") | D7: =IFERROR(VLOOKUP(供应商对账单!A7,进货入库明细表!A:O,4,FALSE),"") | E7: =IFERROR(VLOOKUP(供应商对账单!A7,进货入库明细表!A:O,5,FALSE),"") | F7: =IFERROR(VLOOKUP(供应商对账单!A7,进货入库明细表!A:O,6,FALSE),"") | G7: =IFERROR(VLOOKUP(供应商对账单!A7,进货入库明细表!A:O,7,FALSE),"") | H7: =IFERROR(VLOOKUP(供应商对账单!A7,进货入库明细表!A:O,8,FALSE),"") | I7: =IFERROR(VLOOKUP(供应商对账单!A7,进货入库明细表!A:O,9,FALSE),"") | J7: =IFERROR(VLOOKUP(供应商对账单!A7,进货入库明细表!A:O,10,FALSE),"") | K7: =IFERROR(VLOOKUP(供应商对账单!A7,进货入库明细表!A:O,11,FALSE),"") | L7: =IFERROR(VLOOKUP(供应商对账单!A7,进货入库明细表!A:O,13,FALSE),"")
A8: {=INDEX(进货入库明细表!A:A,LARGE(IF(进货入库明细表!$A$3:$A$10000<>"",ROW($3:$10000),-1),ROW(供应商对账单!A3)))} -> #VALUE! | B8: =IFERROR(VLOOKUP(供应商对账单!A8,进货入库明细表!A:O,2,FALSE),"") | C8: =IFERROR(VLOOKUP(供应商对账单!A8,进货入库明细表!A:O,3,FALSE),"") | D8: =IFERROR(VLOOKUP(供应商对账单!A8,进货入库明细表!A:O,4,FALSE),"") | E8: =IFERROR(VLOOKUP(供应商对账单!A8,进货入库明细表!A:O,5,FALSE),"") | F8: =IFERROR(VLOOKUP(供应商对账单!A8,进货入库明细表!A:O,6,FALSE),"") | G8: =IFERROR(VLOOKUP(供应商对账单!A8,进货入库明细表!A:O,7,FALSE),"") | H8: =IFERROR(VLOOKUP(供应商对账单!A8,进货入库明细表!A:O,8,FALSE),"") | I8: =IFERROR(VLOOKUP(供应商对账单!A8,进货入库明细表!A:O,9,FALSE),"") | J8: =IFERROR(VLOOKUP(供应商对账单!A8,进货入库明细表!A:O,10,FALSE),"") | K8: =IFERROR(VLOOKUP(供应商对账单!A8,进货入库明细表!A:O,11,FALSE),"") | L8: =IFERROR(VLOOKUP(供应商对账单!A8,进货入库明细表!A:O,13,FALSE),"")
A9: {=INDEX(进货入库明细表!A:A,LARGE(IF(进货入库明细表!$A$3:$A$10000<>"",ROW($3:$10000),-1),ROW(供应商对账单!A4)))} -> #VALUE! | B9: =IFERROR(VLOOKUP(供应商对账单!A9,进货入库明细表!A:O,2,FALSE),"") | C9: =IFERROR(VLOOKUP(供应商对账单!A9,进货入库明细表!A:O,3,FALSE),"") | D9: =IFERROR(VLOOKUP(供应商对账单!A9,进货入库明细表!A:O,4,FALSE),"") | E9: =IFERROR(VLOOKUP(供应商对账单!A9,进货入库明细表!A:O,5,FALSE),"") | F9: =IFERROR(VLOOKUP(供应商对账单!A9,进货入库明细表!A:O,6,FALSE),"") | G9: =IFERROR(VLOOKUP(供应商对账单!A9,进货入库明细表!A:O,7,FALSE),"") | H9: =IFERROR(VLOOKUP(供应商对账单!A9,进货入库明细表!A:O,8,FALSE),"") | I9: =IFERROR(VLOOKUP(供应商对账单!A9,进货入库明细表!A:O,9,FALSE),"") | J9: =IFERROR(VLOOKUP(供应商对账单!A9,进货入库明细表!A:O,10,FALSE),"") | K9: =IFERROR(VLOOKUP(供应商对账单!A9,进货入库明细表!A:O,11,FALSE),"") | L9: =IFERROR(VLOOKUP(供应商对账单!A9,进货入库明细表!A:O,13,FALSE),"")
A10: {=INDEX(进货入库明细表!A:A,LARGE(IF(进货入库明细表!$A$3:$A$10000<>"",ROW($3:$10000),-1),ROW(供应商对账单!A5)))} -> #VALUE! | B10: =IFERROR(VLOOKUP(供应商对账单!A10,进货入库明细表!A:O,2,FALSE),"") | C10: =IFERROR(VLOOKUP(供应商对账单!A10,进货入库明细表!A:O,3,FALSE),"") | D10: =IFERROR(VLOOKUP(供应商对账单!A10,进货入库明细表!A:O,4,FALSE),"") | E10: =IFERROR(VLOOKUP(供应商对账单!A10,进货入库明细表!A:O,5,FALSE),"") | F10: =IFERROR(VLOOKUP(供应商对账单!A10,进货入库明细表!A:O,6,FALSE),"") | G10: =IFERROR(VLOOKUP(供应商对账单!A10,进货入库明细表!A:O,7,FALSE),"") | H10: =IFERROR(VLOOKUP(供应商对账单!A10,进货入库明细表!A:O,8,FALSE),"") | I10: =IFERROR(VLOOKUP(供应商对账单!A10,进货入库明细表!A:O,9,FALSE),"") | J10: =IFERROR(VLOOKUP(供应商对账单!A10,进货入库明细表!A:O,10,FALSE),"") | K10: =IFERROR(VLOOKUP(供应商对账单!A10,进货入库明细表!A:O,11,FALSE),"") | L10: =IFERROR(VLOOKUP(供应商对账单!A10,进货入库明细表!A:O,13,FALSE),"")
A11: {=INDEX(进货入库明细表!A:A,LARGE(IF(进货入库明细表!$A$3:$A$10000<>"",ROW($3:$10000),-1),ROW(供应商对账单!A6)))} -> #VALUE! | B11: =IFERROR(VLOOKUP(供应商对账单!A11,进货入库明细表!A:O,2,FALSE),"") | C11: =IFERROR(VLOOKUP(供应商对账单!A11,进货入库明细表!A:O,3,FALSE),"") | D11: =IFERROR(VLOOKUP(供应商对账单!A11,进货入库明细表!A:O,4,FALSE),"") | E11: =IFERROR(VLOOKUP(供应商对账单!A11,进货入库明细表!A:O,5,FALSE),"") | F11: =IFERROR(VLOOKUP(供应商对账单!A11,进货入库明细表!A:O,6,FALSE),"") | G11: =IFERROR(VLOOKUP(供应商对账单!A11,进货入库明细表!A:O,7,FALSE),"") | H11: =IFERROR(VLOOKUP(供应商对账单!A11,进货入库明细表!A:O,8,FALSE),"") | I11: =IFERROR(VLOOKUP(供应商对账单!A11,进货入库明细表!A:O,9,FALSE),"") | J11: =IFERROR(VLOOKUP(供应商对账单!A11,进货入库明细表!A:O,10,FALSE),"") | K11: =IFERROR(VLOOKUP(供应商对账单!A11,进货入库明细表!A:O,11,FALSE),"") | L11: =IFERROR(VLOOKUP(供应商对账单!A11,进货入库明细表!A:O,13,FALSE),"")
A12: {=INDEX(进货入库明细表!A:A,LARGE(IF(进货入库明细表!$A$3:$A$10000<>"",ROW($3:$10000),-1),ROW(供应商对账单!A7)))} -> #VALUE! | B12: =IFERROR(VLOOKUP(供应商对账单!A12,进货入库明细表!A:O,2,FALSE),"") | C12: =IFERROR(VLOOKUP(供应商对账单!A12,进货入库明细表!A:O,3,FALSE),"") | D12: =IFERROR(VLOOKUP(供应商对账单!A12,进货入库明细表!A:O,4,FALSE),"") | E12: =IFERROR(VLOOKUP(供应商对账单!A12,进货入库明细表!A:O,5,FALSE),"") | F12: =IFERROR(VLOOKUP(供应商对账单!A12,进货入库明细表!A:O,6,FALSE),"") | G12: =IFERROR(VLOOKUP(供应商对账单!A12,进货入库明细表!A:O,7,FALSE),"") | H12: =IFERROR(VLOOKUP(供应商对账单!A12,进货入库明细表!A:O,8,FALSE),"") | I12: =IFERROR(VLOOKUP(供应商对账单!A12,进货入库明细表!A:O,9,FALSE),"") | J12: =IFERROR(VLOOKUP(供应商对账单!A12,进货入库明细表!A:O,10,FALSE),"") | K12: =IFERROR(VLOOKUP(供应商对账单!A12,进货入库明细表!A:O,11,FALSE),"") | L12: =IFERROR(VLOOKUP(供应商对账单!A12,进货入库明细表!A:O,13,FALSE),"")
A13: {=INDEX(进货入库明细表!A:A,LARGE(IF(进货入库明细表!$A$3:$A$10000<>"",ROW($3:$10000),-1),ROW(供应商对账单!A8)))} -> #VALUE! | B13: =IFERROR(VLOOKUP(供应商对账单!A13,进货入库明细表!A:O,2,FALSE),"") | C13: =IFERROR(VLOOKUP(供应商对账单!A13,进货入库明细表!A:O,3,FALSE),"") | D13: =IFERROR(VLOOKUP(供应商对账单!A13,进货入库明细表!A:O,4,FALSE),"") | E13: =IFERROR(VLOOKUP(供应商对账单!A13,进货入库明细表!A:O,5,FALSE),"") | F13: =IFERROR(VLOOKUP(供应商对账单!A13,进货入库明细表!A:O,6,FALSE),"") | G13: =IFERROR(VLOOKUP(供应商对账单!A13,进货入库明细表!A:O,7,FALSE),"") | H13: =IFERROR(VLOOKUP(供应商对账单!A13,进货入库明细表!A:O,8,FALSE),"") | I13: =IFERROR(VLOOKUP(供应商对账单!A13,进货入库明细表!A:O,9,FALSE),"") | J13: =IFERROR(VLOOKUP(供应商对账单!A13,进货入库明细表!A:O,10,FALSE),"") | K13: =IFERROR(VLOOKUP(供应商对账单!A13,进货入库明细表!A:O,11,FALSE),"") | L13: =IFERROR(VLOOKUP(供应商对账单!A13,进货入库明细表!A:O,13,FALSE),"")
A14: {=INDEX(进货入库明细表!A:A,LARGE(IF(进货入库明细表!$A$3:$A$10000<>"",ROW($3:$10000),-1),ROW(供应商对账单!A9)))} -> #VALUE! | B14: =IFERROR(VLOOKUP(供应商对账单!A14,进货入库明细表!A:O,2,FALSE),"") | C14: =IFERROR(VLOOKUP(供应商对账单!A14,进货入库明细表!A:O,3,FALSE),"") | D14: =IFERROR(VLOOKUP(供应商对账单!A14,进货入库明细表!A:O,4,FALSE),"") | E14: =IFERROR(VLOOKUP(供应商对账单!A14,进货入库明细表!A:O,5,FALSE),"") | F14: =IFERROR(VLOOKUP(供应商对账单!A14,进货入库明细表!A:O,6,FALSE),"") | G14: =IFERROR(VLOOKUP(供应商对账单!A14,进货入库明细表!A:O,7,FALSE),"") | H14: =IFERROR(VLOOKUP(供应商对账单!A14,进货入库明细表!A:O,8,FALSE),"") | I14: =IFERROR(VLOOKUP(供应商对账单!A14,进货入库明细表!A:O,9,FALSE),"") | J14: =IFERROR(VLOOKUP(供应商对账单!A14,进货入库明细表!A:O,10,FALSE),"") | K14: =IFERROR(VLOOKUP(供应商对账单!A14,进货入库明细表!A:O,11,FALSE),"") | L14: =IFERROR(VLOOKUP(供应商对账单!A14,进货入库明细表!A:O,13,FALSE),"")
A15: {=INDEX(进货入库明细表!A:A,LARGE(IF(进货入库明细表!$A$3:$A$10000<>"",ROW($3:$10000),-1),ROW(供应商对账单!A10)))} -> #VALUE! | B15: =IFERROR(VLOOKUP(供应商对账单!A15,进货入库明细表!A:O,2,FALSE),"") | C15: =IFERROR(VLOOKUP(供应商对账单!A15,进货入库明细表!A:O,3,FALSE),"") | D15: =IFERROR(VLOOKUP(供应商对账单!A15,进货入库明细表!A:O,4,FALSE),"") | E15: =IFERROR(VLOOKUP(供应商对账单!A15,进货入库明细表!A:O,5,FALSE),"") | F15: =IFERROR(VLOOKUP(供应商对账单!A15,进货入库明细表!A:O,6,FALSE),"") | G15: =IFERROR(VLOOKUP(供应商对账单!A15,进货入库明细表!A:O,7,FALSE),"") | H15: =IFERROR(VLOOKUP(供应商对账单!A15,进货入库明细表!A:O,8,FALSE),"") | I15: =IFERROR(VLOOKUP(供应商对账单!A15,进货入库明细表!A:O,9,FALSE),"") | J15: =IFERROR(VLOOKUP(供应商对账单!A15,进货入库明细表!A:O,10,FALSE),"") | K15: =IFERROR(VLOOKUP(供应商对账单!A15,进货入库明细表!A:O,11,FALSE),"") | L15: =IFERROR(VLOOKUP(供应商对账单!A15,进货入库明细表!A:O,13,FALSE),"")
A16: {=INDEX(进货入库明细表!A:A,LARGE(IF(进货入库明细表!$A$3:$A$10000<>"",ROW($3:$10000),-1),ROW(供应商对账单!A11)))} -> #VALUE! | B16: =IFERROR(VLOOKUP(供应商对账单!A16,进货入库明细表!A:O,2,FALSE),"") | C16: =IFERROR(VLOOKUP(供应商对账单!A16,进货入库明细表!A:O,3,FALSE),"") | D16: =IFERROR(VLOOKUP(供应商对账单!A16,进货入库明细表!A:O,4,FALSE),"") | E16: =IFERROR(VLOOKUP(供应商对账单!A16,进货入库明细表!A:O,5,FALSE),"") | F16: =IFERROR(VLOOKUP(供应商对账单!A16,进货入库明细表!A:O,6,FALSE),"") | G16: =IFERROR(VLOOKUP(供应商对账单!A16,进货入库明细表!A:O,7,FALSE),"") | H16: =IFERROR(VLOOKUP(供应商对账单!A16,进货入库明细表!A:O,8,FALSE),"") | I16: =IFERROR(VLOOKUP(供应商对账单!A16,进货入库明细表!A:O,9,FALSE),"") | J16: =IFERROR(VLOOKUP(供应商对账单!A16,进货入库明细表!A:O,10,FALSE),"") | K16: =IFERROR(VLOOKUP(供应商对账单!A16,进货入库明细表!A:O,11,FALSE),"") | L16: =IFERROR(VLOOKUP(供应商对账单!A16,进货入库明细表!A:O,13,FALSE),"")
A17: {=INDEX(进货入库明细表!A:A,LARGE(IF(进货入库明细表!$A$3:$A$10000<>"",ROW($3:$10000),-1),ROW(供应商对账单!A12)))} -> #VALUE! | B17: =IFERROR(VLOOKUP(供应商对账单!A17,进货入库明细表!A:O,2,FALSE),"") | C17: =IFERROR(VLOOKUP(供应商对账单!A17,进货入库明细表!A:O,3,FALSE),"") | D17: =IFERROR(VLOOKUP(供应商对账单!A17,进货入库明细表!A:O,4,FALSE),"") | E17: =IFERROR(VLOOKUP(供应商对账单!A17,进货入库明细表!A:O,5,FALSE),"") | F17: =IFERROR(VLOOKUP(供应商对账单!A17,进货入库明细表!A:O,6,FALSE),"") | G17: =IFERROR(VLOOKUP(供应商对账单!A17,进货入库明细表!A:O,7,FALSE),"") | H17: =IFERROR(VLOOKUP(供应商对账单!A17,进货入库明细表!A:O,8,FALSE),"") | I17: =IFERROR(VLOOKUP(供应商对账单!A17,进货入库明细表!A:O,9,FALSE),"") | J17: =IFERROR(VLOOKUP(供应商对账单!A17,进货入库明细表!A:O,10,FALSE),"") | K17: =IFERROR(VLOOKUP(供应商对账单!A17,进货入库明细表!A:O,11,FALSE),"") | L17: =IFERROR(VLOOKUP(供应商对账单!A17,进货入库明细表!A:O,13,FALSE),"")
... A198: {=INDEX(进货入库明细表!A:A,LARGE(IF(进货入库明细表!$A$3:$A$10000<>"",ROW($3:$10000),-1),ROW(供应商对账单!A193)))} -> #VALUE! | B198: =IFERROR(VLOOKUP(供应商对账单!A198,进货入库明细表!A:O,2,FALSE),"") | C198: =IFERROR(VLOOKUP(供应商对账单!A198,进货入库明细表!A:O,3,FALSE),"") | D198: =IFERROR(VLOOKUP(供应商对账单!A198,进货入库明细表!A:O,4,FALSE),"") | E198: =IFERROR(VLOOKUP(供应商对账单!A198,进货入库明细表!A:O,5,FALSE),"") | F198: =IFERROR(VLOOKUP(供应商对账单!A198,进货入库明细表!A:O,6,FALSE),"") | G198: =IFERROR(VLOOKUP(供应商对账单!A198,进货入库明细表!A:O,7,FALSE),"") | H198: =IFERROR(VLOOKUP(供应商对账单!A198,进货入库明细表!A:O,8,FALSE),"") | I198: =IFERROR(VLOOKUP(供应商对账单!A198,进货入库明细表!A:O,9,FALSE),"") | J198: =IFERROR(VLOOKUP(供应商对账单!A198,进货入库明细表!A:O,10,FALSE),"") | K198: =IFERROR(VLOOKUP(供应商对账单!A198,进货入库明细表!A:O,11,FALSE),"") | L198: =IFERROR(VLOOKUP(供应商对账单!A198,进货入库明细表!A:O,13,FALSE),"")

Sheet 客户对账单
B1: 请输入客户名称和日期
B2: 客户名称 | C2: 客户1 | E2: 日期 | F2: 起 | G2: 43040
F3: 止 | G3: 43099
A5: 辅助列 | B5: 单号 | C5: 日期 | D5: 编码 | E5: 物料名称 | F5: 规格型号 | G5: 单位 | H5: 出库数量 | I5: 出库单价 | J5: 出库金额 | K5: 经办人 | L5: 备注
A6: {=INDEX(销售出库明细表!A:A,LARGE(IF(销售出库明细表!$A$3:$A$10000<>"",ROW($3:$10000),-1),ROW(客户对账单!A1)))} -> 4- | B6: =IFERROR(VLOOKUP(客户对账单!A6,销售出库明细表!A:O,2,FALSE),"") -> B1001 | C6: =IFERROR(VLOOKUP(客户对账单!A6,销售出库明细表!A:O,3,FALSE),"") -> 43072 | D6: =IFERROR(VLOOKUP(客户对账单!A6,销售出库明细表!A:O,4,FALSE),"") -> a1002 | E6: =IFERROR(VLOOKUP(客户对账单!A6,销售出库明细表!A:O,5,FALSE),"") -> 物料2 | F6: =IFERROR(VLOOKUP(客户对账单!A6,销售出库明细表!A:O,6,FALSE),"") -> BB | G6: =IFERROR(VLOOKUP(客户对账单!A6,销售出库明细表!A:O,7,FALSE),"") -> 支 | H6: =IFERROR(VLOOKUP(客户对账单!A6,销售出库明细表!A:O,8,FALSE),"") -> 15 | I6: =IFERROR(VLOOKUP(客户对账单!A6,销售出库明细表!A:O,9,FALSE),"") -> 99 | J6: =IFERROR(VLOOKUP(客户对账单!A6,销售出库明细表!A:O,10,FALSE),"") -> 1485 | K6: =IFERROR(VLOOKUP(客户对账单!A6,销售出库明细表!A:O,11,FALSE),"") -> 李四 | L6: =IFERROR(VLOOKUP(客户对账单!A6,销售出库明细表!A:O,13,FALSE),"") -> 0
A7: {=INDEX(销售出库明细表!A:A,LARGE(IF(销售出库明细表!$A$3:$A$10000<>"",ROW($3:$10000),-1),ROW(客户对账单!A2)))} -> 3- | B7: =IFERROR(VLOOKUP(客户对账单!A7,销售出库明细表!A:O,2,FALSE),"") -> B1001 | C7: =IFERROR(VLOOKUP(客户对账单!A7,销售出库明细表!A:O,3,FALSE),"") -> 43072 | D7: =IFERROR(VLOOKUP(客户对账单!A7,销售出库明细表!A:O,4,FALSE),"") -> a1001 | E7: =IFERROR(VLOOKUP(客户对账单!A7,销售出库明细表!A:O,5,FALSE),"") -> 物料1 | F7: =IFERROR(VLOOKUP(客户对账单!A7,销售出库明细表!A:O,6,FALSE),"") -> AA | G7: =IFERROR(VLOOKUP(客户对账单!A7,销售出库明细表!A:O,7,FALSE),"") -> 个 | H7: =IFERROR(VLOOKUP(客户对账单!A7,销售出库明细表!A:O,8,FALSE),"") -> 20 | I7: =IFERROR(VLOOKUP(客户对账单!A7,销售出库明细表!A:O,9,FALSE),"") -> 99 | J7: =IFERROR(VLOOKUP(客户对账单!A7,销售出库明细表!A:O,10,FALSE),"") -> 1980 | K7: =IFERROR(VLOOKUP(客户对账单!A7,销售出库明细表!A:O,11,FALSE),"") -> 李四 | L7: =IFERROR(VLOOKUP(客户对账单!A7,销售出库明细表!A:O,13,FALSE),"") -> 0
A8: {=INDEX(销售出库明细表!A:A,LARGE(IF(销售出库明细表!$A$3:$A$10000<>"",ROW($3:$10000),-1),ROW(客户对账单!A3)))} -> #VALUE! | B8: =IFERROR(VLOOKUP(客户对账单!A8,销售出库明细表!A:O,2,FALSE),"") | C8: =IFERROR(VLOOKUP(客户对账单!A8,销售出库明细表!A:O,3,FALSE),"") | D8: =IFERROR(VLOOKUP(客户对账单!A8,销售出库明细表!A:O,4,FALSE),"") | E8: =IFERROR(VLOOKUP(客户对账单!A8,销售出库明细表!A:O,5,FALSE),"") | F8: =IFERROR(VLOOKUP(客户对账单!A8,销售出库明细表!A:O,6,FALSE),"") | G8: =IFERROR(VLOOKUP(客户对账单!A8,销售出库明细表!A:O,7,FALSE),"") | H8: =IFERROR(VLOOKUP(客户对账单!A8,销售出库明细表!A:O,8,FALSE),"") | I8: =IFERROR(VLOOKUP(客户对账单!A8,销售出库明细表!A:O,9,FALSE),"") | J8: =IFERROR(VLOOKUP(客户对账单!A8,销售出库明细表!A:O,10,FALSE),"") | K8: =IFERROR(VLOOKUP(客户对账单!A8,销售出库明细表!A:O,11,FALSE),"") | L8: =IFERROR(VLOOKUP(客户对账单!A8,销售出库明细表!A:O,13,FALSE),"")
A9: {=INDEX(销售出库明细表!A:A,LARGE(IF(销售出库明细表!$A$3:$A$10000<>"",ROW($3:$10000),-1),ROW(客户对账单!A4)))} -> #VALUE! | B9: =IFERROR(VLOOKUP(客户对账单!A9,销售出库明细表!A:O,2,FALSE),"") | C9: =IFERROR(VLOOKUP(客户对账单!A9,销售出库明细表!A:O,3,FALSE),"") | D9: =IFERROR(VLOOKUP(客户对账单!A9,销售出库明细表!A:O,4,FALSE),"") | E9: =IFERROR(VLOOKUP(客户对账单!A9,销售出库明细表!A:O,5,FALSE),"") | F9: =IFERROR(VLOOKUP(客户对账单!A9,销售出库明细表!A:O,6,FALSE),"") | G9: =IFERROR(VLOOKUP(客户对账单!A9,销售出库明细表!A:O,7,FALSE),"") | H9: =IFERROR(VLOOKUP(客户对账单!A9,销售出库明细表!A:O,8,FALSE),"") | I9: =IFERROR(VLOOKUP(客户对账单!A9,销售出库明细表!A:O,9,FALSE),"") | J9: =IFERROR(VLOOKUP(客户对账单!A9,销售出库明细表!A:O,10,FALSE),"") | K9: =IFERROR(VLOOKUP(客户对账单!A9,销售出库明细表!A:O,11,FALSE),"") | L9: =IFERROR(VLOOKUP(客户对账单!A9,销售出库明细表!A:O,13,FALSE),"")
A10: {=INDEX(销售出库明细表!A:A,LARGE(IF(销售出库明细表!$A$3:$A$10000<>"",ROW($3:$10000),-1),ROW(客户对账单!A5)))} -> #VALUE! | B10: =IFERROR(VLOOKUP(客户对账单!A10,销售出库明细表!A:O,2,FALSE),"") | C10: =IFERROR(VLOOKUP(客户对账单!A10,销售出库明细表!A:O,3,FALSE),"") | D10: =IFERROR(VLOOKUP(客户对账单!A10,销售出库明细表!A:O,4,FALSE),"") | E10: =IFERROR(VLOOKUP(客户对账单!A10,销售出库明细表!A:O,5,FALSE),"") | F10: =IFERROR(VLOOKUP(客户对账单!A10,销售出库明细表!A:O,6,FALSE),"") | G10: =IFERROR(VLOOKUP(客户对账单!A10,销售出库明细表!A:O,7,FALSE),"") | H10: =IFERROR(VLOOKUP(客户对账单!A10,销售出库明细表!A:O,8,FALSE),"") | I10: =IFERROR(VLOOKUP(客户对账单!A10,销售出库明细表!A:O,9,FALSE),"") | J10: =IFERROR(VLOOKUP(客户对账单!A10,销售出库明细表!A:O,10,FALSE),"") | K10: =IFERROR(VLOOKUP(客户对账单!A10,销售出库明细表!A:O,11,FALSE),"") | L10: =IFERROR(VLOOKUP(客户对账单!A10,销售出库明细表!A:O,13,FALSE),"")
A11: {=INDEX(销售出库明细表!A:A,LARGE(IF(销售出库明细表!$A$3:$A$10000<>"",ROW($3:$10000),-1),ROW(客户对账单!A6)))} -> #VALUE! | B11: =IFERROR(VLOOKUP(客户对账单!A11,销售出库明细表!A:O,2,FALSE),"") | C11: =IFERROR(VLOOKUP(客户对账单!A11,销售出库明细表!A:O,3,FALSE),"") | D11: =IFERROR(VLOOKUP(客户对账单!A11,销售出库明细表!A:O,4,FALSE),"") | E11: =IFERROR(VLOOKUP(客户对账单!A11,销售出库明细表!A:O,5,FALSE),"") | F11: =IFERROR(VLOOKUP(客户对账单!A11,销售出库明细表!A:O,6,FALSE),"") | G11: =IFERROR(VLOOKUP(客户对账单!A11,销售出库明细表!A:O,7,FALSE),"") | H11: =IFERROR(VLOOKUP(客户对账单!A11,销售出库明细表!A:O,8,FALSE),"") | I11: =IFERROR(VLOOKUP(客户对账单!A11,销售出库明细表!A:O,9,FALSE),"") | J11: =IFERROR(VLOOKUP(客户对账单!A11,销售出库明细表!A:O,10,FALSE),"") | K11: =IFERROR(VLOOKUP(客户对账单!A11,销售出库明细表!A:O,11,FALSE),"") | L11: =IFERROR(VLOOKUP(客户对账单!A11,销售出库明细表!A:O,13,FALSE),"")
A12: {=INDEX(销售出库明细表!A:A,LARGE(IF(销售出库明细表!$A$3:$A$10000<>"",ROW($3:$10000),-1),ROW(客户对账单!A7)))} -> #VALUE! | B12: =IFERROR(VLOOKUP(客户对账单!A12,销售出库明细表!A:O,2,FALSE),"") | C12: =IFERROR(VLOOKUP(客户对账单!A12,销售出库明细表!A:O,3,FALSE),"") | D12: =IFERROR(VLOOKUP(客户对账单!A12,销售出库明细表!A:O,4,FALSE),"") | E12: =IFERROR(VLOOKUP(客户对账单!A12,销售出库明细表!A:O,5,FALSE),"") | F12: =IFERROR(VLOOKUP(客户对账单!A12,销售出库明细表!A:O,6,FALSE),"") | G12: =IFERROR(VLOOKUP(客户对账单!A12,销售出库明细表!A:O,7,FALSE),"") | H12: =IFERROR(VLOOKUP(客户对账单!A12,销售出库明细表!A:O,8,FALSE),"") | I12: =IFERROR(VLOOKUP(客户对账单!A12,销售出库明细表!A:O,9,FALSE),"") | J12: =IFERROR(VLOOKUP(客户对账单!A12,销售出库明细表!A:O,10,FALSE),"") | K12: =IFERROR(VLOOKUP(客户对账单!A12,销售出库明细表!A:O,11,FALSE),"") | L12: =IFERROR(VLOOKUP(客户对账单!A12,销售出库明细表!A:O,13,FALSE),"")
A13: {=INDEX(销售出库明细表!A:A,LARGE(IF(销售出库明细表!$A$3:$A$10000<>"",ROW($3:$10000),-1),ROW(客户对账单!A8)))} -> #VALUE! | B13: =IFERROR(VLOOKUP(客户对账单!A13,销售出库明细表!A:O,2,FALSE),"") | C13: =IFERROR(VLOOKUP(客户对账单!A13,销售出库明细表!A:O,3,FALSE),"") | D13: =IFERROR(VLOOKUP(客户对账单!A13,销售出库明细表!A:O,4,FALSE),"") | E13: =IFERROR(VLOOKUP(客户对账单!A13,销售出库明细表!A:O,5,FALSE),"") | F13: =IFERROR(VLOOKUP(客户对账单!A13,销售出库明细表!A:O,6,FALSE),"") | G13: =IFERROR(VLOOKUP(客户对账单!A13,销售出库明细表!A:O,7,FALSE),"") | H13: =IFERROR(VLOOKUP(客户对账单!A13,销售出库明细表!A:O,8,FALSE),"") | I13: =IFERROR(VLOOKUP(客户对账单!A13,销售出库明细表!A:O,9,FALSE),"") | J13: =IFERROR(VLOOKUP(客户对账单!A13,销售出库明细表!A:O,10,FALSE),"") | K13: =IFERROR(VLOOKUP(客户对账单!A13,销售出库明细表!A:O,11,FALSE),"") | L13: =IFERROR(VLOOKUP(客户对账单!A13,销售出库明细表!A:O,13,FALSE),"")
A14: {=INDEX(销售出库明细表!A:A,LARGE(IF(销售出库明细表!$A$3:$A$10000<>"",ROW($3:$10000),-1),ROW(客户对账单!A9)))} -> #VALUE! | B14: =IFERROR(VLOOKUP(客户对账单!A14,销售出库明细表!A:O,2,FALSE),"") | C14: =IFERROR(VLOOKUP(客户对账单!A14,销售出库明细表!A:O,3,FALSE),"") | D14: =IFERROR(VLOOKUP(客户对账单!A14,销售出库明细表!A:O,4,FALSE),"") | E14: =IFERROR(VLOOKUP(客户对账单!A14,销售出库明细表!A:O,5,FALSE),"") | F14: =IFERROR(VLOOKUP(客户对账单!A14,销售出库明细表!A:O,6,FALSE),"") | G14: =IFERROR(VLOOKUP(客户对账单!A14,销售出库明细表!A:O,7,FALSE),"") | H14: =IFERROR(VLOOKUP(客户对账单!A14,销售出库明细表!A:O,8,FALSE),"") | I14: =IFERROR(VLOOKUP(客户对账单!A14,销售出库明细表!A:O,9,FALSE),"") | J14: =IFERROR(VLOOKUP(客户对账单!A14,销售出库明细表!A:O,10,FALSE),"") | K14: =IFERROR(VLOOKUP(客户对账单!A14,销售出库明细表!A:O,11,FALSE),"") | L14: =IFERROR(VLOOKUP(客户对账单!A14,销售出库明细表!A:O,13,FALSE),"")
A15: {=INDEX(销售出库明细表!A:A,LARGE(IF(销售出库明细表!$A$3:$A$10000<>"",ROW($3:$10000),-1),ROW(客户对账单!A10)))} -> #VALUE! | B15: =IFERROR(VLOOKUP(客户对账单!A15,销售出库明细表!A:O,2,FALSE),"") | C15: =IFERROR(VLOOKUP(客户对账单!A15,销售出库明细表!A:O,3,FALSE),"") | D15: =IFERROR(VLOOKUP(客户对账单!A15,销售出库明细表!A:O,4,FALSE),"") | E15: =IFERROR(VLOOKUP(客户对账单!A15,销售出库明细表!A:O,5,FALSE),"") | F15: =IFERROR(VLOOKUP(客户对账单!A15,销售出库明细表!A:O,6,FALSE),"") | G15: =IFERROR(VLOOKUP(客户对账单!A15,销售出库明细表!A:O,7,FALSE),"") | H15: =IFERROR(VLOOKUP(客户对账单!A15,销售出库明细表!A:O,8,FALSE),"") | I15: =IFERROR(VLOOKUP(客户对账单!A15,销售出库明细表!A:O,9,FALSE),"") | J15: =IFERROR(VLOOKUP(客户对账单!A15,销售出库明细表!A:O,10,FALSE),"") | K15: =IFERROR(VLOOKUP(客户对账单!A15,销售出库明细表!A:O,11,FALSE),"") | L15: =IFERROR(VLOOKUP(客户对账单!A15,销售出库明细表!A:O,13,FALSE),"")
A16: {=INDEX(销售出库明细表!A:A,LARGE(IF(销售出库明细表!$A$3:$A$10000<>"",ROW($3:$10000),-1),ROW(客户对账单!A11)))} -> #VALUE! | B16: =IFERROR(VLOOKUP(客户对账单!A16,销售出库明细表!A:O,2,FALSE),"") | C16: =IFERROR(VLOOKUP(客户对账单!A16,销售出库明细表!A:O,3,FALSE),"") | D16: =IFERROR(VLOOKUP(客户对账单!A16,销售出库明细表!A:O,4,FALSE),"") | E16: =IFERROR(VLOOKUP(客户对账单!A16,销售出库明细表!A:O,5,FALSE),"") | F16: =IFERROR(VLOOKUP(客户对账单!A16,销售出库明细表!A:O,6,FALSE),"") | G16: =IFERROR(VLOOKUP(客户对账单!A16,销售出库明细表!A:O,7,FALSE),"") | H16: =IFERROR(VLOOKUP(客户对账单!A16,销售出库明细表!A:O,8,FALSE),"") | I16: =IFERROR(VLOOKUP(客户对账单!A16,销售出库明细表!A:O,9,FALSE),"") | J16: =IFERROR(VLOOKUP(客户对账单!A16,销售出库明细表!A:O,10,FALSE),"") | K16: =IFERROR(VLOOKUP(客户对账单!A16,销售出库明细表!A:O,11,FALSE),"") | L16: =IFERROR(VLOOKUP(客户对账单!A16,销售出库明细表!A:O,13,FALSE),"")
A17: {=INDEX(销售出库明细表!A:A,LARGE(IF(销售出库明细表!$A$3:$A$10000<>"",ROW($3:$10000),-1),ROW(客户对账单!A12)))} -> #VALUE! | B17: =IFERROR(VLOOKUP(客户对账单!A17,销售出库明细表!A:O,2,FALSE),"") | C17: =IFERROR(VLOOKUP(客户对账单!A17,销售出库明细表!A:O,3,FALSE),"") | D17: =IFERROR(VLOOKUP(客户对账单!A17,销售出库明细表!A:O,4,FALSE),"") | E17: =IFERROR(VLOOKUP(客户对账单!A17,销售出库明细表!A:O,5,FALSE),"") | F17: =IFERROR(VLOOKUP(客户对账单!A17,销售出库明细表!A:O,6,FALSE),"") | G17: =IFERROR(VLOOKUP(客户对账单!A17,销售出库明细表!A:O,7,FALSE),"") | H17: =IFERROR(VLOOKUP(客户对账单!A17,销售出库明细表!A:O,8,FALSE),"") | I17: =IFERROR(VLOOKUP(客户对账单!A17,销售出库明细表!A:O,9,FALSE),"") | J17: =IFERROR(VLOOKUP(客户对账单!A17,销售出库明细表!A:O,10,FALSE),"") | K17: =IFERROR(VLOOKUP(客户对账单!A17,销售出库明细表!A:O,11,FALSE),"") | L17: =IFERROR(VLOOKUP(客户对账单!A17,销售出库明细表!A:O,13,FALSE),"")
... A198: {=INDEX(销售出库明细表!A:A,LARGE(IF(销售出库明细表!$A$3:$A$10000<>"",ROW($3:$10000),-1),ROW(客户对账单!A193)))} -> #VALUE! | B198: =IFERROR(VLOOKUP(客户对账单!A198,销售出库明细表!A:O,2,FALSE),"") | C198: =IFERROR(VLOOKUP(客户对账单!A198,销售出库明细表!A:O,3,FALSE),"") | D198: =IFERROR(VLOOKUP(客户对账单!A198,销售出库明细表!A:O,4,FALSE),"") | E198: =IFERROR(VLOOKUP(客户对账单!A198,销售出库明细表!A:O,5,FALSE),"") | F198: =IFERROR(VLOOKUP(客户对账单!A198,销售出库明细表!A:O,6,FALSE),"") | G198: =IFERROR(VLOOKUP(客户对账单!A198,销售出库明细表!A:O,7,FALSE),"") | H198: =IFERROR(VLOOKUP(客户对账单!A198,销售出库明细表!A:O,8,FALSE),"") | I198: =IFERROR(VLOOKUP(客户对账单!A198,销售出库明细表!A:O,9,FALSE),"") | J198: =IFERROR(VLOOKUP(客户对账单!A198,销售出库明细表!A:O,10,FALSE),"") | K198: =IFERROR(VLOOKUP(客户对账单!A198,销售出库明细表!A:O,11,FALSE),"") | L198: =IFERROR(VLOOKUP(客户对账单!A198,销售出库明细表!A:O,13,FALSE),"")

Sheet 参数表
B1: 参数表
A2: 物料编码 | B2: 物料名称 | C2: 规格型号 | D2: 单位 | E2: 期初数量 | F2: 安全库存 | G2: 备注信息
A3: a1001 | B3: 物料1 | C3: AA | D3: 个 | E3: 10 | F3: 100
A4: a1002 | B4: 物料2 | C4: BB | D4: 支 | E4: 10 | F4: 20
A5: a1003 | B5: 物料3 | C5: CC | D5: 袋 | E5: 10 | F5: 50
A6: a1004 | B6: 物料4 | C6: DD | D6: 个 | E6: 20 | F6: 100
A7: a1005 | B7: 物料5 | C7: EE | D7: 支 | E7: 20 | F7: 100
A100: 1

Sheet 供应商信息表
A1: 供应商
A2: 单位名称 | B2: 单位地址 | C2: 联系电话 | D2: 备注信息
A3: 供应商1 | B3: 上海 | C3: 111
A4: 供应商2 | B4: 上海 | C4: 112
A5: 供应商3 | B5: 上海 | C5: 113
A6: 供应商4 | B6: 上海 | C6: 114
A7: 供应商5 | B7: 上海 | C7: 115
A8: 供应商6 | B8: 上海 | C8: 116
A194: 1

Sheet 客户信息表
A1: 客户信息表
A2: 单位名称 | B2: 单位地址 | C2: 联系电话 | D2: 备注信息
A3: 客户1 | B3: XX省XX市XX区XX路888号
A4: 客户2 | B4: YY省YY市YY区YY路666号
A5: 客户3 | B5: ZZ省ZZ市ZZ区ZZ路999号
A6: 客户4 | B6: AA省AA市AA区AA路111号
A7: 客户5 | B7: BB省BB市BB区BB路222号
A8: 客户6 | B8: CC省CC市CC区CC路333号
A200: 1

Sheet 出库单号查询
A1: 公司名称
A2: 出库单
A3: 客户单位: | B3: =IF($I3<>"",VLOOKUP($I3,销售出库明细表!$B:$M,11,0),"") -> 客户1 | E3: 日期: | F3: =IF($I3<>"",VLOOKUP($I3,销售出库明细表!B:M,2,0),"") -> 43072 | H3: 出库单号: | I3: B1001
A4: 联系电话: | B4: =IF($B3<>"",VLOOKUP($B3,客户信息表!A:D,3,0),"") -> 0 | E4: 经办人: | F4: =IF($I3<>"",VLOOKUP($I3,销售出库明细表!B:M,10,0),"") -> 李四
A5: 单位地址: | B5: =IF($B3<>"",VLOOKUP($B3,客户信息表!A:D,2,0),"") -> XX省XX市XX区XX路888号
A6: 物料编码 | B6: 物料名称 | C6: 规格型号 | D6: 单位 | E6: 数量 | F6: 单价 | G6: 金额 | H6: 经办人 | I6: 备注信息
A7: {=INDEX(销售出库明细表!D:D,SMALL(IF(销售出库明细表!$B$3:$B$3000=$I$3,ROW(销售出库明细表!$B$3:$B$3000),4^8),ROW(A1)))&""} -> a1001 | B7: {=INDEX(销售出库明细表!E:E,SMALL(IF(销售出库明细表!$B$3:$B$3000=$I$3,ROW(销售出库明细表!$B$3:$B$3000),4^8),ROW(A1)))&""} -> 物料1 | C7: {=INDEX(销售出库明细表!F:F,SMALL(IF(销售出库明细表!$B$3:$B$3000=$I$3,ROW(销售出库明细表!$B$3:$B$3000),4^8),ROW(A1)))&""} -> AA | D7: {=INDEX(销售出库明细表!G:G,SMALL(IF(销售出库明细表!$B$3:$B$3000=$I$3,ROW(销售出库明细表!$B$3:$B$3000),4^8),ROW(A1)))&""} -> 个 | E7: {=INDEX(销售出库明细表!H:H,SMALL(IF(销售出库明细表!$B$3:$B$3000=$I$3,ROW(销售出库明细表!$B$3:$B$3000),4^8),ROW(A1)))&""} -> 20 | F7: {=INDEX(销售出库明细表!I:I,SMALL(IF(销售出库明细表!$B$3:$B$3000=$I$3,ROW(销售出库明细表!$B$3:$B$3000),4^8),ROW(A1)))&""} -> 99 | G7: {=INDEX(销售出库明细表!J:J,SMALL(IF(销售出库明细表!$B$3:$B$3000=$I$3,ROW(销售出库明细表!$B$3:$B$3000),4^8),ROW(A1)))&""} -> 1980 | H7: {=INDEX(销售出库明细表!K:K,SMALL(IF(销售出库明细表!$B$3:$B$3000=$I$3,ROW(销售出库明细表!$B$3:$B$3000),4^8),ROW(A1)))&""} -> 李四 | I7: {=INDEX(销售出库明细表!M:M,SMALL(IF(销售出库明细表!$B$3:$B$3000=$I$3,ROW(销售出库明细表!$B$3:$B$3000),4^8),ROW(A1)))&""}
A8: {=INDEX(销售出库明细表!D:D,SMALL(IF(销售出库明细表!$B$3:$B$3000=$I$3,ROW(销售出库明细表!$B$3:$B$3000),4^8),ROW(A2)))&""} -> a1002 | B8: {=INDEX(销售出库明细表!E:E,SMALL(IF(销售出库明细表!$B$3:$B$3000=$I$3,ROW(销售出库明细表!$B$3:$B$3000),4^8),ROW(A2)))&""} -> 物料2 | C8: {=INDEX(销售出库明细表!F:F,SMALL(IF(销售出库明细表!$B$3:$B$3000=$I$3,ROW(销售出库明细表!$B$3:$B$3000),4^8),ROW(A2)))&""} -> BB | D8: {=INDEX(销售出库明细表!G:G,SMALL(IF(销售出库明细表!$B$3:$B$3000=$I$3,ROW(销售出库明细表!$B$3:$B$3000),4^8),ROW(A2)))&""} -> 支 | E8: {=INDEX(销售出库明细表!H:H,SMALL(IF(销售出库明细表!$B$3:$B$3000=$I$3,ROW(销售出库明细表!$B$3:$B$3000),4^8),ROW(A2)))&""} -> 15 | F8: {=INDEX(销售出库明细表!I:I,SMALL(IF(销售出库明细表!$B$3:$B$3000=$I$3,ROW(销售出库明细表!$B$3:$B$3000),4^8),ROW(A2)))&""} -> 99 | G8: {=INDEX(销售出库明细表!J:J,SMALL(IF(销售出库明细表!$B$3:$B$3000=$I$3,ROW(销售出库明细表!$B$3:$B$3000),4^8),ROW(A2)))&""} -> 1485 | H8: {=INDEX(销售出库明细表!K:K,SMALL(IF(销售出库明细表!$B$3:$B$3000=$I$3,ROW(销售出库明细表!$B$3:$B$3000),4^8),ROW(A2)))&""} -> 李四 | I8: {=INDEX(销售出库明细表!M:M,SMALL(IF(销售出库明细表!$B$3:$B$3000=$I$3,ROW(销售出库明细表!$B$3:$B$3000),4^8),ROW(A2)))&""}
A9: {=INDEX(销售出库明细表!D:D,SMALL(IF(销售出库明细表!$B$3:$B$3000=$I$3,ROW(销售出库明细表!$B$3:$B$3000),4^8),ROW(A3)))&""} | B9: {=INDEX(销售出库明细表!E:E,SMALL(IF(销售出库明细表!$B$3:$B$3000=$I$3,ROW(销售出库明细表!$B$3:$B$3000),4^8),ROW(A3)))&""} | C9: {=INDEX(销售出库明细表!F:F,SMALL(IF(销售出库明细表!$B$3:$B$3000=$I$3,ROW(销售出库明细表!$B$3:$B$3000),4^8),ROW(A3)))&""} | D9: {=INDEX(销售出库明细表!G:G,SMALL(IF(销售出库明细表!$B$3:$B$3000=$I$3,ROW(销售出库明细表!$B$3:$B$3000),4^8),ROW(A3)))&""} | E9: {=INDEX(销售出库明细表!H:H,SMALL(IF(销售出库明细表!$B$3:$B$3000=$I$3,ROW(销售出库明细表!$B$3:$B$3000),4^8),ROW(A3)))&""} | F9: {=INDEX(销售出库明细表!I:I,SMALL(IF(销售出库明细表!$B$3:$B$3000=$I$3,ROW(销售出库明细表!$B$3:$B$3000),4^8),ROW(A3)))&""} | G9: {=INDEX(销售出库明细表!J:J,SMALL(IF(销售出库明细表!$B$3:$B$3000=$I$3,ROW(销售出库明细表!$B$3:$B$3000),4^8),ROW(A3)))&""} | H9: {=INDEX(销售出库明细表!K:K,SMALL(IF(销售出库明细表!$B$3:$B$3000=$I$3,ROW(销售出库明细表!$B$3:$B$3000),4^8),ROW(A3)))&""} | I9: {=INDEX(销售出库明细表!M:M,SMALL(IF(销售出库明细表!$B$3:$B$3000=$I$3,ROW(销售出库明细表!$B$3:$B$3000),4^8),ROW(A3)))&""}
A10: {=INDEX(销售出库明细表!D:D,SMALL(IF(销售出库明细表!$B$3:$B$3000=$I$3,ROW(销售出库明细表!$B$3:$B$3000),4^8),ROW(A4)))&""} | B10: {=INDEX(销售出库明细表!E:E,SMALL(IF(销售出库明细表!$B$3:$B$3000=$I$3,ROW(销售出库明细表!$B$3:$B$3000),4^8),ROW(A4)))&""} | C10: {=INDEX(销售出库明细表!F:F,SMALL(IF(销售出库明细表!$B$3:$B$3000=$I$3,ROW(销售出库明细表!$B$3:$B$3000),4^8),ROW(A4)))&""} | D10: {=INDEX(销售出库明细表!G:G,SMALL(IF(销售出库明细表!$B$3:$B$3000=$I$3,ROW(销售出库明细表!$B$3:$B$3000),4^8),ROW(A4)))&""} | E10: {=INDEX(销售出库明细表!H:H,SMALL(IF(销售出库明细表!$B$3:$B$3000=$I$3,ROW(销售出库明细表!$B$3:$B$3000),4^8),ROW(A4)))&""} | F10: {=INDEX(销售出库明细表!I:I,SMALL(IF(销售出库明细表!$B$3:$B$3000=$I$3,ROW(销售出库明细表!$B$3:$B$3000),4^8),ROW(A4)))&""} | G10: {=INDEX(销售出库明细表!J:J,SMALL(IF(销售出库明细表!$B$3:$B$3000=$I$3,ROW(销售出库明细表!$B$3:$B$3000),4^8),ROW(A4)))&""} | H10: {=INDEX(销售出库明细表!K:K,SMALL(IF(销售出库明细表!$B$3:$B$3000=$I$3,ROW(销售出库明细表!$B$3:$B$3000),4^8),ROW(A4)))&""} | I10: {=INDEX(销售出库明细表!M:M,SMALL(IF(销售出库明细表!$B$3:$B$3000=$I$3,ROW(销售出库明细表!$B$3:$B$3000),4^8),ROW(A4)))&""}
A11: {=INDEX(销售出库明细表!D:D,SMALL(IF(销售出库明细表!$B$3:$B$3000=$I$3,ROW(销售出库明细表!$B$3:$B$3000),4^8),ROW(A5)))&""} | B11: {=INDEX(销售出库明细表!E:E,SMALL(IF(销售出库明细表!$B$3:$B$3000=$I$3,ROW(销售出库明细表!$B$3:$B$3000),4^8),ROW(A5)))&""} | C11: {=INDEX(销售出库明细表!F:F,SMALL(IF(销售出库明细表!$B$3:$B$3000=$I$3,ROW(销售出库明细表!$B$3:$B$3000),4^8),ROW(A5)))&""} | D11: {=INDEX(销售出库明细表!G:G,SMALL(IF(销售出库明细表!$B$3:$B$3000=$I$3,ROW(销售出库明细表!$B$3:$B$3000),4^8),ROW(A5)))&""} | E11: {=INDEX(销售出库明细表!H:H,SMALL(IF(销售出库明细表!$B$3:$B$3000=$I$3,ROW(销售出库明细表!$B$3:$B$3000),4^8),ROW(A5)))&""} | F11: {=INDEX(销售出库明细表!I:I,SMALL(IF(销售出库明细表!$B$3:$B$3000=$I$3,ROW(销售出库明细表!$B$3:$B$3000),4^8),ROW(A5)))&""} | G11: {=INDEX(销售出库明细表!J:J,SMALL(IF(销售出库明细表!$B$3:$B$3000=$I$3,ROW(销售出库明细表!$B$3:$B$3000),4^8),ROW(A5)))&""} | H11: {=INDEX(销售出库明细表!K:K,SMALL(IF(销售出库明细表!$B$3:$B$3000=$I$3,ROW(销售出库明细表!$B$3:$B$3000),4^8),ROW(A5)))&""} | I11: {=INDEX(销售出库明细表!M:M,SMALL(IF(销售出库明细表!$B$3:$B$3000=$I$3,ROW(销售出库明细表!$B$3:$B$3000),4^8),ROW(A5)))&""}
A12: {=INDEX(销售出库明细表!D:D,SMALL(IF(销售出库明细表!$B$3:$B$3000=$I$3,ROW(销售出库明细表!$B$3:$B$3000),4^8),ROW(A6)))&""} | B12: {=INDEX(销售出库明细表!E:E,SMALL(IF(销售出库明细表!$B$3:$B$3000=$I$3,ROW(销售出库明细表!$B$3:$B$3000),4^8),ROW(A6)))&""} | C12: {=INDEX(销售出库明细表!F:F,SMALL(IF(销售出库明细表!$B$3:$B$3000=$I$3,ROW(销售出库明细表!$B$3:$B$3000),4^8),ROW(A6)))&""} | D12: {=INDEX(销售出库明细表!G:G,SMALL(IF(销售出库明细表!$B$3:$B$3000=$I$3,ROW(销售出库明细表!$B$3:$B$3000),4^8),ROW(A6)))&""} | E12: {=INDEX(销售出库明细表!H:H,SMALL(IF(销售出库明细表!$B$3:$B$3000=$I$3,ROW(销售出库明细表!$B$3:$B$3000),4^8),ROW(A6)))&""} | F12: {=INDEX(销售出库明细表!I:I,SMALL(IF(销售出库明细表!$B$3:$B$3000=$I$3,ROW(销售出库明细表!$B$3:$B$3000),4^8),ROW(A6)))&""} | G12: {=INDEX(销售出库明细表!J:J,SMALL(IF(销售出库明细表!$B$3:$B$3000=$I$3,ROW(销售出库明细表!$B$3:$B$3000),4^8),ROW(A6)))&""} | H12: {=INDEX(销售出库明细表!K:K,SMALL(IF(销售出库明细表!$B$3:$B$3000=$I$3,ROW(销售出库明细表!$B$3:$B$3000),4^8),ROW(A6)))&""} | I12: {=INDEX(销售出库明细表!M:M,SMALL(IF(销售出库明细表!$B$3:$B$3000=$I$3,ROW(销售出库明细表!$B$3:$B$3000),4^8),ROW(A6)))&""}
A13: {=INDEX(销售出库明细表!D:D,SMALL(IF(销售出库明细表!$B$3:$B$3000=$I$3,ROW(销售出库明细表!$B$3:$B$3000),4^8),ROW(A7)))&""} | B13: {=INDEX(销售出库明细表!E:E,SMALL(IF(销售出库明细表!$B$3:$B$3000=$I$3,ROW(销售出库明细表!$B$3:$B$3000),4^8),ROW(A7)))&""} | C13: {=INDEX(销售出库明细表!F:F,SMALL(IF(销售出库明细表!$B$3:$B$3000=$I$3,ROW(销售出库明细表!$B$3:$B$3000),4^8),ROW(A7)))&""} | D13: {=INDEX(销售出库明细表!G:G,SMALL(IF(销售出库明细表!$B$3:$B$3000=$I$3,ROW(销售出库明细表!$B$3:$B$3000),4^8),ROW(A7)))&""} | E13: {=INDEX(销售出库明细表!H:H,SMALL(IF(销售出库明细表!$B$3:$B$3000=$I$3,ROW(销售出库明细表!$B$3:$B$3000),4^8),ROW(A7)))&""} | F13: {=INDEX(销售出库明细表!I:I,SMALL(IF(销售出库明细表!$B$3:$B$3000=$I$3,ROW(销售出库明细表!$B$3:$B$3000),4^8),ROW(A7)))&""} | G13: {=INDEX(销售出库明细表!J:J,SMALL(IF(销售出库明细表!$B$3:$B$3000=$I$3,ROW(销售出库明细表!$B$3:$B$3000),4^8),ROW(A7)))&""} | H13: {=INDEX(销售出库明细表!K:K,SMALL(IF(销售出库明细表!$B$3:$B$3000=$I$3,ROW(销售出库明细表!$B$3:$B$3000),4^8),ROW(A7)))&""} | I13: {=INDEX(销售出库明细表!M:M,SMALL(IF(销售出库明细表!$B$3:$B$3000=$I$3,ROW(销售出库明细表!$B$3:$B$3000),4^8),ROW(A7)))&""}
A14: {=INDEX(销售出库明细表!D:D,SMALL(IF(销售出库明细表!$B$3:$B$3000=$I$3,ROW(销售出库明细表!$B$3:$B$3000),4^8),ROW(A8)))&""} | B14: {=INDEX(销售出库明细表!E:E,SMALL(IF(销售出库明细表!$B$3:$B$3000=$I$3,ROW(销售出库明细表!$B$3:$B$3000),4^8),ROW(A8)))&""} | C14: {=INDEX(销售出库明细表!F:F,SMALL(IF(销售出库明细表!$B$3:$B$3000=$I$3,ROW(销售出库明细表!$B$3:$B$3000),4^8),ROW(A8)))&""} | D14: {=INDEX(销售出库明细表!G:G,SMALL(IF(销售出库明细表!$B$3:$B$3000=$I$3,ROW(销售出库明细表!$B$3:$B$3000),4^8),ROW(A8)))&""} | E14: {=INDEX(销售出库明细表!H:H,SMALL(IF(销售出库明细表!$B$3:$B$3000=$I$3,ROW(销售出库明细表!$B$3:$B$3000),4^8),ROW(A8)))&""} | F14: {=INDEX(销售出库明细表!I:I,SMALL(IF(销售出库明细表!$B$3:$B$3000=$I$3,ROW(销售出库明细表!$B$3:$B$3000),4^8),ROW(A8)))&""} | G14: {=INDEX(销售出库明细表!J:J,SMALL(IF(销售出库明细表!$B$3:$B$3000=$I$3,ROW(销售出库明细表!$B$3:$B$3000),4^8),ROW(A8)))&""} | H14: {=INDEX(销售出库明细表!K:K,SMALL(IF(销售出库明细表!$B$3:$B$3000=$I$3,ROW(销售出库明细表!$B$3:$B$3000),4^8),ROW(A8)))&""} | I14: {=INDEX(销售出库明细表!M:M,SMALL(IF(销售出库明细表!$B$3:$B$3000=$I$3,ROW(销售出库明细表!$B$3:$B$3000),4^8),ROW(A8)))&""}
A15: {=INDEX(销售出库明细表!D:D,SMALL(IF(销售出库明细表!$B$3:$B$3000=$I$3,ROW(销售出库明细表!$B$3:$B$3000),4^8),ROW(A9)))&""} | B15: {=INDEX(销售出库明细表!E:E,SMALL(IF(销售出库明细表!$B$3:$B$3000=$I$3,ROW(销售出库明细表!$B$3:$B$3000),4^8),ROW(A9)))&""} | C15: {=INDEX(销售出库明细表!F:F,SMALL(IF(销售出库明细表!$B$3:$B$3000=$I$3,ROW(销售出库明细表!$B$3:$B$3000),4^8),ROW(A9)))&""} | D15: {=INDEX(销售出库明细表!G:G,SMALL(IF(销售出库明细表!$B$3:$B$3000=$I$3,ROW(销售出库明细表!$B$3:$B$3000),4^8),ROW(A9)))&""} | E15: {=INDEX(销售出库明细表!H:H,SMALL(IF(销售出库明细表!$B$3:$B$3000=$I$3,ROW(销售出库明细表!$B$3:$B$3000),4^8),ROW(A9)))&""} | F15: {=INDEX(销售出库明细表!I:I,SMALL(IF(销售出库明细表!$B$3:$B$3000=$I$3,ROW(销售出库明细表!$B$3:$B$3000),4^8),ROW(A9)))&""} | G15: {=INDEX(销售出库明细表!J:J,SMALL(IF(销售出库明细表!$B$3:$B$3000=$I$3,ROW(销售出库明细表!$B$3:$B$3000),4^8),ROW(A9)))&""} | H15: {=INDEX(销售出库明细表!K:K,SMALL(IF(销售出库明细表!$B$3:$B$3000=$I$3,ROW(销售出库明细表!$B$3:$B$3000),4^8),ROW(A9)))&""} | I15: {=INDEX(销售出库明细表!M:M,SMALL(IF(销售出库明细表!$B$3:$B$3000=$I$3,ROW(销售出库明细表!$B$3:$B$3000),4^8),ROW(A9)))&""}
A16: {=INDEX(销售出库明细表!D:D,SMALL(IF(销售出库明细表!$B$3:$B$3000=$I$3,ROW(销售出库明细表!$B$3:$B$3000),4^8),ROW(A10)))&""} | B16: {=INDEX(销售出库明细表!E:E,SMALL(IF(销售出库明细表!$B$3:$B$3000=$I$3,ROW(销售出库明细表!$B$3:$B$3000),4^8),ROW(A10)))&""} | C16: {=INDEX(销售出库明细表!F:F,SMALL(IF(销售出库明细表!$B$3:$B$3000=$I$3,ROW(销售出库明细表!$B$3:$B$3000),4^8),ROW(A10)))&""} | D16: {=INDEX(销售出库明细表!G:G,SMALL(IF(销售出库明细表!$B$3:$B$3000=$I$3,ROW(销售出库明细表!$B$3:$B$3000),4^8),ROW(A10)))&""} | E16: {=INDEX(销售出库明细表!H:H,SMALL(IF(销售出库明细表!$B$3:$B$3000=$I$3,ROW(销售出库明细表!$B$3:$B$3000),4^8),ROW(A10)))&""} | F16: {=INDEX(销售出库明细表!I:I,SMALL(IF(销售出库明细表!$B$3:$B$3000=$I$3,ROW(销售出库明细表!$B$3:$B$3000),4^8),ROW(A10)))&""} | G16: {=INDEX(销售出库明细表!J:J,SMALL(IF(销售出库明细表!$B$3:$B$3000=$I$3,ROW(销售出库明细表!$B$3:$B$3000),4^8),ROW(A10)))&""} | H16: {=INDEX(销售出库明细表!K:K,SMALL(IF(销售出库明细表!$B$3:$B$3000=$I$3,ROW(销售出库明细表!$B$3:$B$3000),4^8),ROW(A10)))&""} | I16: {=INDEX(销售出库明细表!M:M,SMALL(IF(销售出库明细表!$B$3:$B$3000=$I$3,ROW(销售出库明细表!$B$3:$B$3000),4^8),ROW(A10)))&""}
A17: {=INDEX(销售出库明细表!D:D,SMALL(IF(销售出库明细表!$B$3:$B$3000=$I$3,ROW(销售出库明细表!$B$3:$B$3000),4^8),ROW(A11)))&""} | B17: {=INDEX(销售出库明细表!E:E,SMALL(IF(销售出库明细表!$B$3:$B$3000=$I$3,ROW(销售出库明细表!$B$3:$B$3000),4^8),ROW(A11)))&""} | C17: {=INDEX(销售出库明细表!F:F,SMALL(IF(销售出库明细表!$B$3:$B$3000=$I$3,ROW(销售出库明细表!$B$3:$B$3000),4^8),ROW(A11)))&""} | D17: {=INDEX(销售出库明细表!G:G,SMALL(IF(销售出库明细表!$B$3:$B$3000=$I$3,ROW(销售出库明细表!$B$3:$B$3000),4^8),ROW(A11)))&""} | E17: {=INDEX(销售出库明细表!H:H,SMALL(IF(销售出库明细表!$B$3:$B$3000=$I$3,ROW(销售出库明细表!$B$3:$B$3000),4^8),ROW(A11)))&""} | F17: {=INDEX(销售出库明细表!I:I,SMALL(IF(销售出库明细表!$B$3:$B$3000=$I$3,ROW(销售出库明细表!$B$3:$B$3000),4^8),ROW(A11)))&""} | G17: {=INDEX(销售出库明细表!J:J,SMALL(IF(销售出库明细表!$B$3:$B$3000=$I$3,ROW(销售出库明细表!$B$3:$B$3000),4^8),ROW(A11)))&""} | H17: {=INDEX(销售出库明细表!K:K,SMALL(IF(销售出库明细表!$B$3:$B$3000=$I$3,ROW(销售出库明细表!$B$3:$B$3000),4^8),ROW(A11)))&""} | I17: {=INDEX(销售出库明细表!M:M,SMALL(IF(销售出库明细表!$B$3:$B$3000=$I$3,ROW(销售出库明细表!$B$3:$B$3000),4^8),ROW(A11)))&""}
A18: {=INDEX(销售出库明细表!D:D,SMALL(IF(销售出库明细表!$B$3:$B$3000=$I$3,ROW(销售出库明细表!$B$3:$B$3000),4^8),ROW(A12)))&""} | B18: {=INDEX(销售出库明细表!E:E,SMALL(IF(销售出库明细表!$B$3:$B$3000=$I$3,ROW(销售出库明细表!$B$3:$B$3000),4^8),ROW(A12)))&""} | C18: {=INDEX(销售出库明细表!F:F,SMALL(IF(销售出库明细表!$B$3:$B$3000=$I$3,ROW(销售出库明细表!$B$3:$B$3000),4^8),ROW(A12)))&""} | D18: {=INDEX(销售出库明细表!G:G,SMALL(IF(销售出库明细表!$B$3:$B$3000=$I$3,ROW(销售出库明细表!$B$3:$B$3000),4^8),ROW(A12)))&""} | E18: {=INDEX(销售出库明细表!H:H,SMALL(IF(销售出库明细表!$B$3:$B$3000=$I$3,ROW(销售出库明细表!$B$3:$B$3000),4^8),ROW(A12)))&""} | F18: {=INDEX(销售出库明细表!I:I,SMALL(IF(销售出库明细表!$B$3:$B$3000=$I$3,ROW(销售出库明细表!$B$3:$B$3000),4^8),ROW(A12)))&""} | G18: {=INDEX(销售出库明细表!J:J,SMALL(IF(销售出库明细表!$B$3:$B$3000=$I$3,ROW(销售出库明细表!$B$3:$B$3000),4^8),ROW(A12)))&""} | H18: {=INDEX(销售出库明细表!K:K,SMALL(IF(销售出库明细表!$B$3:$B$3000=$I$3,ROW(销售出库明细表!$B$3:$B$3000),4^8),ROW(A12)))&""} | I18: {=INDEX(销售出库明细表!M:M,SMALL(IF(销售出库明细表!$B$3:$B$3000=$I$3,ROW(销售出库明细表!$B$3:$B$3000),4^8),ROW(A12)))&""}
... A49: {=INDEX(销售出库明细表!D:D,SMALL(IF(销售出库明细表!$B$3:$B$3000=$I$3,ROW(销售出库明细表!$B$3:$B$3000),4^8),ROW(A43)))&""} | B49: {=INDEX(销售出库明细表!E:E,SMALL(IF(销售出库明细表!$B$3:$B$3000=$I$3,ROW(销售出库明细表!$B$3:$B$3000),4^8),ROW(A43)))&""} | C49: {=INDEX(销售出库明细表!F:F,SMALL(IF(销售出库明细表!$B$3:$B$3000=$I$3,ROW(销售出库明细表!$B$3:$B$3000),4^8),ROW(A43)))&""} | D49: {=INDEX(销售出库明细表!G:G,SMALL(IF(销售出库明细表!$B$3:$B$3000=$I$3,ROW(销售出库明细表!$B$3:$B$3000),4^8),ROW(A43)))&""} | E49: {=INDEX(销售出库明细表!H:H,SMALL(IF(销售出库明细表!$B$3:$B$3000=$I$3,ROW(销售出库明细表!$B$3:$B$3000),4^8),ROW(A43)))&""} | F49: {=INDEX(销售出库明细表!I:I,SMALL(IF(销售出库明细表!$B$3:$B$3000=$I$3,ROW(销售出库明细表!$B$3:$B$3000),4^8),ROW(A43)))&""} | G49: {=INDEX(销售出库明细表!J:J,SMALL(IF(销售出库明细表!$B$3:$B$3000=$I$3,ROW(销售出库明细表!$B$3:$B$3000),4^8),ROW(A43)))&""} | H49: {=INDEX(销售出库明细表!K:K,SMALL(IF(销售出库明细表!$B$3:$B$3000=$I$3,ROW(销售出库明细表!$B$3:$B$3000),4^8),ROW(A43)))&""} | I49: {=INDEX(销售出库明细表!M:M,SMALL(IF(销售出库明细表!$B$3:$B$3000=$I$3,ROW(销售出库明细表!$B$3:$B$3000),4^8),ROW(A43)))&""}

Sheet 入库单号查询
A1: 公司名称
A2: 入库单
