Workbook
Name link: INDIRECT(主界面!$C1&"!a1")
Name qqq: 当前库存!$M$5:$N$6

Sheet 主界面
A1: EXCEL进销存管理系统
A9: 本系统由论文资源网开发设计
G10: 本系统由论文资源网开发设计
A13: 本系统由论文资源网开发设计
A16: 本系统由论文资源网开发设计
E18: 本系统由论文资源网开发设计
D37: 本系统由论文资源网开发设计
A40: 本系统由论文资源网开发设计 | M40: 本系统由论文资源网开发设计

Sheet 进货明细
A1: 八达家居进货明细
A2: 商品编码 | B2: 商品类别 | C2: 商品名称 | D2: 规格型号 | E2: 进货单价 | F2: 进货数量 | G2: 单位 | H2: 合计金额 | I2: 进货日期 | J2: 进货人 | K2: 供货商 | L2: 备注 | M2: 返回主界面 <<
A3: BD001
A4: BD002
A5: BD003
A6: BD004
A7: BD005
A8: BD006
A9: BD007
A10: BD008
A11: BD009
A12: BD010
A13: BD011
A14: BD012
... A69: BD067
H93: =IF(E93="","",E93*F93)
H94: =IF(E94="","",E94*F94)
H95: =IF(E95="","",E95*F95)
H96: =IF(E96="","",E96*F96)
H97: =IF(E97="","",E97*F97)
H98: =IF(E98="","",E98*F98)
H99: =IF(E99="","",E99*F99)
H100: =IF(E100="","",E100*F100)
H101: =IF(E101="","",E101*F101)
H102: =IF(E102="","",E102*F102)
H103: =IF(E103="","",E103*F103)
H104: =IF(E104="","",E104*F104)
... H5000: =IF(E5000="","",E5000*F5000)

Sheet 销售记录
A1: 八达家居销售明细 | O1: 全部商品列表
A2: 商品编码 | B2: 商品类别 | C2: 商品名称 | D2: 规格型号 | E2: 销售单价 | F2: 销售数量 | G2: 单位 | H2: 合计 | I2: 日期 | J2: 欠款金额 | K2: 供货商 | L2: 净利润 | M2: 成本 | N2: 返回主界面 << | O2: 商品编码 | P2: 商品类别 | Q2: 商品名称 | R2: 规格型号 | S2: 单位
A3: BD001 | B3: =IF(ISERROR(VLOOKUP(A3,进货明细!$A$2:$D$5000,COLUMN($B$2),0)&""),"",VLOOKUP(A3,进货明细!$A$2:$D$5000,COLUMN($B$2),0)&"") | C3: =IF(ISERROR(VLOOKUP(A3,进货明细!$A$2:$D$5000,COLUMN($C$2),0)&""),"",VLOOKUP(A3,进货明细!$A$2:$D$5000,COLUMN($C$2),0)&"") | D3: =IF(ISERROR(VLOOKUP(A3,进货明细!$A$2:$D$5000,COLUMN($D$2),0)&""),"",VLOOKUP(A3,进货明细!$A$2:$D$5000,COLUMN($D$2),0)&"") | G3: =IF(ISERROR(VLOOKUP(A3,进货明细!$A$2:$G$5000,COLUMN($G$2),0)&""),"",VLOOKUP(A3,进货明细!$A$2:$G$5000,COLUMN($G$2),0)&"") | H3: =IF(E3="","",E3*F3) | L3: =IF(F3="","",H3-M3*F3) | M3: =ROUND(VLOOKUP(A3,当前库存!$A$2:$F$7000,COLUMN($F$3),0)&"",2) -> #DIV/0! | O3: {=INDEX(进货明细!A:A,MATCH(0,COUNTIF(O$2:O2,进货明细!$A$2:$A$5000),)+1)&""} -> BD001 | P3: =IF(ISERROR(VLOOKUP(O3,进货明细!$A$2:$D$5000,COLUMN($B$2),0)&""),"",VLOOKUP(O3,进货明细!$A$2:$D$5000,COLUMN($B$2),0)&"") | Q3: =IF(ISERROR(VLOOKUP(O3,进货明细!$A$2:$D$5000,COLUMN($C$2),0)&""),"",VLOOKUP(O3,进货明细!$A$2:$D$5000,COLUMN($C$2),0)&"") | R3: =IF(ISERROR(VLOOKUP(O3,进货明细!$A$2:$D$5000,COLUMN($D$2),0)&""),"",VLOOKUP(O3,进货明细!$A$2:$D$5000,COLUMN($D$2),0)&"") | S3: =IF(ISERROR(VLOOKUP(O3,进货明细!$A$2:$G$5000,COLUMN($G$2),0)&""),"",VLOOKUP(O3,进货明细!$A$2:$G$5000,COLUMN($G$2),0)&"")
A4: BD002 | B4: =IF(ISERROR(VLOOKUP(A4,进货明细!$A$2:$D$5000,COLUMN($B$2),0)&""),"",VLOOKUP(A4,进货明细!$A$2:$D$5000,COLUMN($B$2),0)&"") | C4: =IF(ISERROR(VLOOKUP(A4,进货明细!$A$2:$D$5000,COLUMN($C$2),0)&""),"",VLOOKUP(A4,进货明细!$A$2:$D$5000,COLUMN($C$2),0)&"") | D4: =IF(ISERROR(VLOOKUP(A4,进货明细!$A$2:$D$5000,COLUMN($D$2),0)&""),"",VLOOKUP(A4,进货明细!$A$2:$D$5000,COLUMN($D$2),0)&"") | G4: =IF(ISERROR(VLOOKUP(A4,进货明细!$A$2:$G$5000,COLUMN($G$2),0)&""),"",VLOOKUP(A4,进货明细!$A$2:$G$5000,COLUMN($G$2),0)&"") | H4: =IF(E4="","",E4*F4) | L4: =IF(F4="","",H4-M4*F4) | M4: =ROUND(VLOOKUP(A4,当前库存!$A$2:$F$7000,COLUMN($F$3),0)&"",2) -> #DIV/0! | O4: {=INDEX(进货明细!A:A,MATCH(0,COUNTIF(O$2:O3,进货明细!$A$2:$A$5000),)+1)&""} -> BD002 | P4: =IF(ISERROR(VLOOKUP(O4,进货明细!$A$2:$D$5000,COLUMN($B$2),0)&""),"",VLOOKUP(O4,进货明细!$A$2:$D$5000,COLUMN($B$2),0)&"") | Q4: =IF(ISERROR(VLOOKUP(O4,进货明细!$A$2:$D$5000,COLUMN($C$2),0)&""),"",VLOOKUP(O4,进货明细!$A$2:$D$5000,COLUMN($C$2),0)&"") | R4: =IF(ISERROR(VLOOKUP(O4,进货明细!$A$2:$D$5000,COLUMN($D$2),0)&""),"",VLOOKUP(O4,进货明细!$A$2:$D$5000,COLUMN($D$2),0)&"") | S4: =IF(ISERROR(VLOOKUP(O4,进货明细!$A$2:$G$5000,COLUMN($G$2),0)&""),"",VLOOKUP(O4,进货明细!$A$2:$G$5000,COLUMN($G$2),0)&"")
A5: BD003 | B5: =IF(ISERROR(VLOOKUP(A5,进货明细!$A$2:$D$5000,COLUMN($B$2),0)&""),"",VLOOKUP(A5,进货明细!$A$2:$D$5000,COLUMN($B$2),0)&"") | C5: =IF(ISERROR(VLOOKUP(A5,进货明细!$A$2:$D$5000,COLUMN($C$2),0)&""),"",VLOOKUP(A5,进货明细!$A$2:$D$5000,COLUMN($C$2),0)&"") | D5: =IF(ISERROR(VLOOKUP(A5,进货明细!$A$2:$D$5000,COLUMN($D$2),0)&""),"",VLOOKUP(A5,进货明细!$A$2:$D$5000,COLUMN($D$2),0)&"") | G5: =IF(ISERROR(VLOOKUP(A5,进货明细!$A$2:$G$5000,COLUMN($G$2),0)&""),"",VLOOKUP(A5,进货明细!$A$2:$G$5000,COLUMN($G$2),0)&"") | H5: =IF(E5="","",E5*F5) | L5: =IF(F5="","",H5-M5*F5) | M5: =ROUND(VLOOKUP(A5,当前库存!$A$2:$F$7000,COLUMN($F$3),0)&"",2) -> #DIV/0! | O5: {=INDEX(进货明细!A:A,MATCH(0,COUNTIF(O$2:O4,进货明细!$A$2:$A$5000),)+1)&""} -> BD003 | P5: =IF(ISERROR(VLOOKUP(O5,进货明细!$A$2:$D$5000,COLUMN($B$2),0)&""),"",VLOOKUP(O5,进货明细!$A$2:$D$5000,COLUMN($B$2),0)&"") | Q5: =IF(ISERROR(VLOOKUP(O5,进货明细!$A$2:$D$5000,COLUMN($C$2),0)&""),"",VLOOKUP(O5,进货明细!$A$2:$D$5000,COLUMN($C$2),0)&"") | R5: =IF(ISERROR(VLOOKUP(O5,进货明细!$A$2:$D$5000,COLUMN($D$2),0)&""),"",VLOOKUP(O5,进货明细!$A$2:$D$5000,COLUMN($D$2),0)&"") | S5: =IF(ISERROR(VLOOKUP(O5,进货明细!$A$2:$G$5000,COLUMN($G$2),0)&""),"",VLOOKUP(O5,进货明细!$A$2:$G$5000,COLUMN($G$2),0)&"")
A6: BD004 | B6: =IF(ISERROR(VLOOKUP(A6,进货明细!$A$2:$D$5000,COLUMN($B$2),0)&""),"",VLOOKUP(A6,进货明细!$A$2:$D$5000,COLUMN($B$2),0)&"") | C6: =IF(ISERROR(VLOOKUP(A6,进货明细!$A$2:$D$5000,COLUMN($C$2),0)&""),"",VLOOKUP(A6,进货明细!$A$2:$D$5000,COLUMN($C$2),0)&"") | D6: =IF(ISERROR(VLOOKUP(A6,进货明细!$A$2:$D$5000,COLUMN($D$2),0)&""),"",VLOOKUP(A6,进货明细!$A$2:$D$5000,COLUMN($D$2),0)&"") | G6: =IF(ISERROR(VLOOKUP(A6,进货明细!$A$2:$G$5000,COLUMN($G$2),0)&""),"",VLOOKUP(A6,进货明细!$A$2:$G$5000,COLUMN($G$2),0)&"") | H6: =IF(E6="","",E6*F6) | L6: =IF(F6="","",H6-M6*F6) | M6: =ROUND(VLOOKUP(A6,当前库存!$A$2:$F$7000,COLUMN($F$3),0)&"",2) -> #DIV/0! | O6: {=INDEX(进货明细!A:A,MATCH(0,COUNTIF(O$2:O5,进货明细!$A$2:$A$5000),)+1)&""} -> BD004 | P6: =IF(ISERROR(VLOOKUP(O6,进货明细!$A$2:$D$5000,COLUMN($B$2),0)&""),"",VLOOKUP(O6,进货明细!$A$2:$D$5000,COLUMN($B$2),0)&"") | Q6: =IF(ISERROR(VLOOKUP(O6,进货明细!$A$2:$D$5000,COLUMN($C$2),0)&""),"",VLOOKUP(O6,进货明细!$A$2:$D$5000,COLUMN($C$2),0)&"") | R6: =IF(ISERROR(VLOOKUP(O6,进货明细!$A$2:$D$5000,COLUMN($D$2),0)&""),"",VLOOKUP(O6,进货明细!$A$2:$D$5000,COLUMN($D$2),0)&"") | S6: =IF(ISERROR(VLOOKUP(O6,进货明细!$A$2:$G$5000,COLUMN($G$2),0)&""),"",VLOOKUP(O6,进货明细!$A$2:$G$5000,COLUMN($G$2),0)&"")
A7: BD005 | B7: =IF(ISERROR(VLOOKUP(A7,进货明细!$A$2:$D$5000,COLUMN($B$2),0)&""),"",VLOOKUP(A7,进货明细!$A$2:$D$5000,COLUMN($B$2),0)&"") | C7: =IF(ISERROR(VLOOKUP(A7,进货明细!$A$2:$D$5000,COLUMN($C$2),0)&""),"",VLOOKUP(A7,进货明细!$A$2:$D$5000,COLUMN($C$2),0)&"") | D7: =IF(ISERROR(VLOOKUP(A7,进货明细!$A$2:$D$5000,COLUMN($D$2),0)&""),"",VLOOKUP(A7,进货明细!$A$2:$D$5000,COLUMN($D$2),0)&"") | G7: =IF(ISERROR(VLOOKUP(A7,进货明细!$A$2:$G$5000,COLUMN($G$2),0)&""),"",VLOOKUP(A7,进货明细!$A$2:$G$5000,COLUMN($G$2),0)&"") | H7: =IF(E7="","",E7*F7) | L7: =IF(F7="","",H7-M7*F7) | M7: =ROUND(VLOOKUP(A7,当前库存!$A$2:$F$7000,COLUMN($F$3),0)&"",2) -> #DIV/0! | O7: {=INDEX(进货明细!A:A,MATCH(0,COUNTIF(O$2:O6,进货明细!$A$2:$A$5000),)+1)&""} -> BD005 | P7: =IF(ISERROR(VLOOKUP(O7,进货明细!$A$2:$D$5000,COLUMN($B$2),0)&""),"",VLOOKUP(O7,进货明细!$A$2:$D$5000,COLUMN($B$2),0)&"") | Q7: =IF(ISERROR(VLOOKUP(O7,进货明细!$A$2:$D$5000,COLUMN($C$2),0)&""),"",VLOOKUP(O7,进货明细!$A$2:$D$5000,COLUMN($C$2),0)&"") | R7: =IF(ISERROR(VLOOKUP(O7,进货明细!$A$2:$D$5000,COLUMN($D$2),0)&""),"",VLOOKUP(O7,进货明细!$A$2:$D$5000,COLUMN($D$2),0)&"") | S7: =IF(ISERROR(VLOOKUP(O7,进货明细!$A$2:$G$5000,COLUMN($G$2),0)&""),"",VLOOKUP(O7,进货明细!$A$2:$G$5000,COLUMN($G$2),0)&"")
A8: BD006 | B8: =IF(ISERROR(VLOOKUP(A8,进货明细!$A$2:$D$5000,COLUMN($B$2),0)&""),"",VLOOKUP(A8,进货明细!$A$2:$D$5000,COLUMN($B$2),0)&"") | C8: =IF(ISERROR(VLOOKUP(A8,进货明细!$A$2:$D$5000,COLUMN($C$2),0)&""),"",VLOOKUP(A8,进货明细!$A$2:$D$5000,COLUMN($C$2),0)&"") | D8: =IF(ISERROR(VLOOKUP(A8,进货明细!$A$2:$D$5000,COLUMN($D$2),0)&""),"",VLOOKUP(A8,进货明细!$A$2:$D$5000,COLUMN($D$2),0)&"") | G8: =IF(ISERROR(VLOOKUP(A8,进货明细!$A$2:$G$5000,COLUMN($G$2),0)&""),"",VLOOKUP(A8,进货明细!$A$2:$G$5000,COLUMN($G$2),0)&"") | H8: =IF(E8="","",E8*F8) | L8: =IF(F8="","",H8-M8*F8) | M8: =ROUND(VLOOKUP(A8,当前库存!$A$2:$F$7000,COLUMN($F$3),0)&"",2) -> #DIV/0! | O8: {=INDEX(进货明细!A:A,MATCH(0,COUNTIF(O$2:O7,进货明细!$A$2:$A$5000),)+1)&""} -> BD006 | P8: =IF(ISERROR(VLOOKUP(O8,进货明细!$A$2:$D$5000,COLUMN($B$2),0)&""),"",VLOOKUP(O8,进货明细!$A$2:$D$5000,COLUMN($B$2),0)&"") | Q8: =IF(ISERROR(VLOOKUP(O8,进货明细!$A$2:$D$5000,COLUMN($C$2),0)&""),"",VLOOKUP(O8,进货明细!$A$2:$D$5000,COLUMN($C$2),0)&"") | R8: =IF(ISERROR(VLOOKUP(O8,进货明细!$A$2:$D$5000,COLUMN($D$2),0)&""),"",VLOOKUP(O8,进货明细!$A$2:$D$5000,COLUMN($D$2),0)&"") | S8: =IF(ISERROR(VLOOKUP(O8,进货明细!$A$2:$G$5000,COLUMN($G$2),0)&""),"",VLOOKUP(O8,进货明细!$A$2:$G$5000,COLUMN($G$2),0)&"")
A9: BD007 | B9: =IF(ISERROR(VLOOKUP(A9,进货明细!$A$2:$D$5000,COLUMN($B$2),0)&""),"",VLOOKUP(A9,进货明细!$A$2:$D$5000,COLUMN($B$2),0)&"") | C9: =IF(ISERROR(VLOOKUP(A9,进货明细!$A$2:$D$5000,COLUMN($C$2),0)&""),"",VLOOKUP(A9,进货明细!$A$2:$D$5000,COLUMN($C$2),0)&"") | D9: =IF(ISERROR(VLOOKUP(A9,进货明细!$A$2:$D$5000,COLUMN($D$2),0)&""),"",VLOOKUP(A9,进货明细!$A$2:$D$5000,COLUMN($D$2),0)&"") | G9: =IF(ISERROR(VLOOKUP(A9,进货明细!$A$2:$G$5000,COLUMN($G$2),0)&""),"",VLOOKUP(A9,进货明细!$A$2:$G$5000,COLUMN($G$2),0)&"") | H9: =IF(E9="","",E9*F9) | L9: =IF(F9="","",H9-M9*F9) | M9: =ROUND(VLOOKUP(A9,当前库存!$A$2:$F$7000,COLUMN($F$3),0)&"",2) -> #DIV/0! | O9: {=INDEX(进货明细!A:A,MATCH(0,COUNTIF(O$2:O8,进货明细!$A$2:$A$5000),)+1)&""} -> BD007 | P9: =IF(ISERROR(VLOOKUP(O9,进货明细!$A$2:$D$5000,COLUMN($B$2),0)&""),"",VLOOKUP(O9,进货明细!$A$2:$D$5000,COLUMN($B$2),0)&"") | Q9: =IF(ISERROR(VLOOKUP(O9,进货明细!$A$2:$D$5000,COLUMN($C$2),0)&""),"",VLOOKUP(O9,进货明细!$A$2:$D$5000,COLUMN($C$2),0)&"") | R9: =IF(ISERROR(VLOOKUP(O9,进货明细!$A$2:$D$5000,COLUMN($D$2),0)&""),"",VLOOKUP(O9,进货明细!$A$2:$D$5000,COLUMN($D$2),0)&"") | S9: =IF(ISERROR(VLOOKUP(O9,进货明细!$A$2:$G$5000,COLUMN($G$2),0)&""),"",VLOOKUP(O9,进货明细!$A$2:$G$5000,COLUMN($G$2),0)&"")
A10: BD008 | B10: =IF(ISERROR(VLOOKUP(A10,进货明细!$A$2:$D$5000,COLUMN($B$2),0)&""),"",VLOOKUP(A10,进货明细!$A$2:$D$5000,COLUMN($B$2),0)&"") | C10: =IF(ISERROR(VLOOKUP(A10,进货明细!$A$2:$D$5000,COLUMN($C$2),0)&""),"",VLOOKUP(A10,进货明细!$A$2:$D$5000,COLUMN($C$2),0)&"") | D10: =IF(ISERROR(VLOOKUP(A10,进货明细!$A$2:$D$5000,COLUMN($D$2),0)&""),"",VLOOKUP(A10,进货明细!$A$2:$D$5000,COLUMN($D$2),0)&"") | G10: =IF(ISERROR(VLOOKUP(A10,进货明细!$A$2:$G$5000,COLUMN($G$2),0)&""),"",VLOOKUP(A10,进货明细!$A$2:$G$5000,COLUMN($G$2),0)&"") | H10: =IF(E10="","",E10*F10) | L10: =IF(F10="","",H10-M10*F10) | M10: =ROUND(VLOOKUP(A10,当前库存!$A$2:$F$7000,COLUMN($F$3),0)&"",2) -> #DIV/0! | O10: {=INDEX(进货明细!A:A,MATCH(0,COUNTIF(O$2:O9,进货明细!$A$2:$A$5000),)+1)&""} -> BD008 | P10: =IF(ISERROR(VLOOKUP(O10,进货明细!$A$2:$D$5000,COLUMN($B$2),0)&""),"",VLOOKUP(O10,进货明细!$A$2:$D$5000,COLUMN($B$2),0)&"") | Q10: =IF(ISERROR(VLOOKUP(O10,进货明细!$A$2:$D$5000,COLUMN($C$2),0)&""),"",VLOOKUP(O10,进货明细!$A$2:$D$5000,COLUMN($C$2),0)&"") | R10: =IF(ISERROR(VLOOKUP(O10,进货明细!$A$2:$D$5000,COLUMN($D$2),0)&""),"",VLOOKUP(O10,进货明细!$A$2:$D$5000,COLUMN($D$2),0)&"") | S10: =IF(ISERROR(VLOOKUP(O10,进货明细!$A$2:$G$5000,COLUMN($G$2),0)&""),"",VLOOKUP(O10,进货明细!$A$2:$G$5000,COLUMN($G$2),0)&"")
A11: BD009 | B11: =IF(ISERROR(VLOOKUP(A11,进货明细!$A$2:$D$5000,COLUMN($B$2),0)&""),"",VLOOKUP(A11,进货明细!$A$2:$D$5000,COLUMN($B$2),0)&"") | C11: =IF(ISERROR(VLOOKUP(A11,进货明细!$A$2:$D$5000,COLUMN($C$2),0)&""),"",VLOOKUP(A11,进货明细!$A$2:$D$5000,COLUMN($C$2),0)&"") | D11: =IF(ISERROR(VLOOKUP(A11,进货明细!$A$2:$D$5000,COLUMN($D$2),0)&""),"",VLOOKUP(A11,进货明细!$A$2:$D$5000,COLUMN($D$2),0)&"") | G11: =IF(ISERROR(VLOOKUP(A11,进货明细!$A$2:$G$5000,COLUMN($G$2),0)&""),"",VLOOKUP(A11,进货明细!$A$2:$G$5000,COLUMN($G$2),0)&"") | H11: =IF(E11="","",E11*F11) | L11: =IF(F11="","",H11-M11*F11) | M11: =ROUND(VLOOKUP(A11,当前库存!$A$2:$F$7000,COLUMN($F$3),0)&"",2) -> #DIV/0! | O11: {=INDEX(进货明细!A:A,MATCH(0,COUNTIF(O$2:O10,进货明细!$A$2:$A$5000),)+1)&""} -> BD009 | P11: =IF(ISERROR(VLOOKUP(O11,进货明细!$A$2:$D$5000,COLUMN($B$2),0)&""),"",VLOOKUP(O11,进货明细!$A$2:$D$5000,COLUMN($B$2),0)&"") | Q11: =IF(ISERROR(VLOOKUP(O11,进货明细!$A$2:$D$5000,COLUMN($C$2),0)&""),"",VLOOKUP(O11,进货明细!$A$2:$D$5000,COLUMN($C$2),0)&"") | R11: =IF(ISERROR(VLOOKUP(O11,进货明细!$A$2:$D$5000,COLUMN($D$2),0)&""),"",VLOOKUP(O11,进货明细!$A$2:$D$5000,COLUMN($D$2),0)&"") | S11: =IF(ISERROR(VLOOKUP(O11,进货明细!$A$2:$G$5000,COLUMN($G$2),0)&""),"",VLOOKUP(O11,进货明细!$A$2:$G$5000,COLUMN($G$2),0)&"")
A12: BD010 | B12: =IF(ISERROR(VLOOKUP(A12,进货明细!$A$2:$D$5000,COLUMN($B$2),0)&""),"",VLOOKUP(A12,进货明细!$A$2:$D$5000,COLUMN($B$2),0)&"") | C12: =IF(ISERROR(VLOOKUP(A12,进货明细!$A$2:$D$5000,COLUMN($C$2),0)&""),"",VLOOKUP(A12,进货明细!$A$2:$D$5000,COLUMN($C$2),0)&"") | D12: =IF(ISERROR(VLOOKUP(A12,进货明细!$A$2:$D$5000,COLUMN($D$2),0)&""),"",VLOOKUP(A12,进货明细!$A$2:$D$5000,COLUMN($D$2),0)&"") | G12: =IF(ISERROR(VLOOKUP(A12,进货明细!$A$2:$G$5000,COLUMN($G$2),0)&""),"",VLOOKUP(A12,进货明细!$A$2:$G$5000,COLUMN($G$2),0)&"") | H12: =IF(E12="","",E12*F12) | L12: =IF(F12="","",H12-M12*F12) | M12: =ROUND(VLOOKUP(A12,当前库存!$A$2:$F$7000,COLUMN($F$3),0)&"",2) -> #DIV/0! | O12: {=INDEX(进货明细!A:A,MATCH(0,COUNTIF(O$2:O11,进货明细!$A$2:$A$5000),)+1)&""} -> BD010 | P12: =IF(ISERROR(VLOOKUP(O12,进货明细!$A$2:$D$5000,COLUMN($B$2),0)&""),"",VLOOKUP(O12,进货明细!$A$2:$D$5000,COLUMN($B$2),0)&"") | Q12: =IF(ISERROR(VLOOKUP(O12,进货明细!$A$2:$D$5000,COLUMN($C$2),0)&""),"",VLOOKUP(O12,进货明细!$A$2:$D$5000,COLUMN($C$2),0)&"") | R12: =IF(ISERROR(VLOOKUP(O12,进货明细!$A$2:$D$5000,COLUMN($D$2),0)&""),"",VLOOKUP(O12,进货明细!$A$2:$D$5000,COLUMN($D$2),0)&"") | S12: =IF(ISERROR(VLOOKUP(O12,进货明细!$A$2:$G$5000,COLUMN($G$2),0)&""),"",VLOOKUP(O12,进货明细!$A$2:$G$5000,COLUMN($G$2),0)&"")
A13: BD011 | B13: =IF(ISERROR(VLOOKUP(A13,进货明细!$A$2:$D$5000,COLUMN($B$2),0)&""),"",VLOOKUP(A13,进货明细!$A$2:$D$5000,COLUMN($B$2),0)&"") | C13: =IF(ISERROR(VLOOKUP(A13,进货明细!$A$2:$D$5000,COLUMN($C$2),0)&""),"",VLOOKUP(A13,进货明细!$A$2:$D$5000,COLUMN($C$2),0)&"") | D13: =IF(ISERROR(VLOOKUP(A13,进货明细!$A$2:$D$5000,COLUMN($D$2),0)&""),"",VLOOKUP(A13,进货明细!$A$2:$D$5000,COLUMN($D$2),0)&"") | G13: =IF(ISERROR(VLOOKUP(A13,进货明细!$A$2:$G$5000,COLUMN($G$2),0)&""),"",VLOOKUP(A13,进货明细!$A$2:$G$5000,COLUMN($G$2),0)&"") | H13: =IF(E13="","",E13*F13) | L13: =IF(F13="","",H13-M13*F13) | M13: =ROUND(VLOOKUP(A13,当前库存!$A$2:$F$7000,COLUMN($F$3),0)&"",2) -> #DIV/0! | O13: {=INDEX(进货明细!A:A,MATCH(0,COUNTIF(O$2:O12,进货明细!$A$2:$A$5000),)+1)&""} -> BD011 | P13: =IF(ISERROR(VLOOKUP(O13,进货明细!$A$2:$D$5000,COLUMN($B$2),0)&""),"",VLOOKUP(O13,进货明细!$A$2:$D$5000,COLUMN($B$2),0)&"") | Q13: =IF(ISERROR(VLOOKUP(O13,进货明细!$A$2:$D$5000,COLUMN($C$2),0)&""),"",VLOOKUP(O13,进货明细!$A$2:$D$5000,COLUMN($C$2),0)&"") | R13: =IF(ISERROR(VLOOKUP(O13,进货明细!$A$2:$D$5000,COLUMN($D$2),0)&""),"",VLOOKUP(O13,进货明细!$A$2:$D$5000,COLUMN($D$2),0)&"") | S13: =IF(ISERROR(VLOOKUP(O13,进货明细!$A$2:$G$5000,COLUMN($G$2),0)&""),"",VLOOKUP(O13,进货明细!$A$2:$G$5000,COLUMN($G$2),0)&"")
A14: BD012 | B14: =IF(ISERROR(VLOOKUP(A14,进货明细!$A$2:$D$5000,COLUMN($B$2),0)&""),"",VLOOKUP(A14,进货明细!$A$2:$D$5000,COLUMN($B$2),0)&"") | C14: =IF(ISERROR(VLOOKUP(A14,进货明细!$A$2:$D$5000,COLUMN($C$2),0)&""),"",VLOOKUP(A14,进货明细!$A$2:$D$5000,COLUMN($C$2),0)&"") | D14: =IF(ISERROR(VLOOKUP(A14,进货明细!$A$2:$D$5000,COLUMN($D$2),0)&""),"",VLOOKUP(A14,进货明细!$A$2:$D$5000,COLUMN($D$2),0)&"") | G14: =IF(ISERROR(VLOOKUP(A14,进货明细!$A$2:$G$5000,COLUMN($G$2),0)&""),"",VLOOKUP(A14,进货明细!$A$2:$G$5000,COLUMN($G$2),0)&"") | H14: =IF(E14="","",E14*F14) | L14: =IF(F14="","",H14-M14*F14) | M14: =ROUND(VLOOKUP(A14,当前库存!$A$2:$F$7000,COLUMN($F$3),0)&"",2) -> #DIV/0! | O14: {=INDEX(进货明细!A:A,MATCH(0,COUNTIF(O$2:O13,进货明细!$A$2:$A$5000),)+1)&""} -> BD012 | P14: =IF(ISERROR(VLOOKUP(O14,进货明细!$A$2:$D$5000,COLUMN($B$2),0)&""),"",VLOOKUP(O14,进货明细!$A$2:$D$5000,COLUMN($B$2),0)&"") | Q14: =IF(ISERROR(VLOOKUP(O14,进货明细!$A$2:$D$5000,COLUMN($C$2),0)&""),"",VLOOKUP(O14,进货明细!$A$2:$D$5000,COLUMN($C$2),0)&"") | R14: =IF(ISERROR(VLOOKUP(O14,进货明细!$A$2:$D$5000,COLUMN($D$2),0)&""),"",VLOOKUP(O14,进货明细!$A$2:$D$5000,COLUMN($D$2),0)&"") | S14: =IF(ISERROR(VLOOKUP(O14,进货明细!$A$2:$G$5000,COLUMN($G$2),0)&""),"",VLOOKUP(O14,进货明细!$A$2:$G$5000,COLUMN($G$2),0)&"")
... A35: BD033 | B35: =IF(ISERROR(VLOOKUP(A35,进货明细!$A$2:$D$5000,COLUMN($B$2),0)&""),"",VLOOKUP(A35,进货明细!$A$2:$D$5000,COLUMN($B$2),0)&"") | C35: =IF(ISERROR(VLOOKUP(A35,进货明细!$A$2:$D$5000,COLUMN($C$2),0)&""),"",VLOOKUP(A35,进货明细!$A$2:$D$5000,COLUMN($C$2),0)&"") | D35: =IF(ISERROR(VLOOKUP(A35,进货明细!$A$2:$D$5000,COLUMN($D$2),0)&""),"",VLOOKUP(A35,进货明细!$A$2:$D$5000,COLUMN($D$2),0)&"") | G35: =IF(ISERROR(VLOOKUP(A35,进货明细!$A$2:$G$5000,COLUMN($G$2),0)&""),"",VLOOKUP(A35,进货明细!$A$2:$G$5000,COLUMN($G$2),0)&"") | H35: =IF(E35="","",E35*F35) | L35: =IF(F35="","",H35-M35*F35) | M35: =ROUND(VLOOKUP(A35,当前库存!$A$2:$F$7000,COLUMN($F$3),0)&"",2) -> #DIV/0! | O35: {=INDEX(进货明细!A:A,MATCH(0,COUNTIF(O$2:O34,进货明细!$A$2:$A$5000),)+1)&""} -> BD033 | P35: =IF(ISERROR(VLOOKUP(O35,进货明细!$A$2:$D$5000,COLUMN($B$2),0)&""),"",VLOOKUP(O35,进货明细!$A$2:$D$5000,COLUMN($B$2),0)&"") | Q35: =IF(ISERROR(VLOOKUP(O35,进货明细!$A$2:$D$5000,COLUMN($C$2),0)&""),"",VLOOKUP(O35,进货明细!$A$2:$D$5000,COLUMN($C$2),0)&"") | R35: =IF(ISERROR(VLOOKUP(O35,进货明细!$A$2:$D$5000,COLUMN($D$2),0)&""),"",VLOOKUP(O35,进货明细!$A$2:$D$5000,COLUMN($D$2),0)&"") | S35: =IF(ISERROR(VLOOKUP(O35,进货明细!$A$2:$G$5000,COLUMN($G$2),0)&""),"",VLOOKUP(O35,进货明细!$A$2:$G$5000,COLUMN($G$2),0)&"")
A36: BD034 | B36: =IF(ISERROR(VLOOKUP(A36,进货明细!$A$2:$D$5000,COLUMN($B$2),0)&""),"",VLOOKUP(A36,进货明细!$A$2:$D$5000,COLUMN($B$2),0)&"") | C36: =IF(ISERROR(VLOOKUP(A36,进货明细!$A$2:$D$5000,COLUMN($C$2),0)&""),"",VLOOKUP(A36,进货明细!$A$2:$D$5000,COLUMN($C$2),0)&"") | D36: =IF(ISERROR(VLOOKUP(A36,进货明细!$A$2:$D$5000,COLUMN($D$2),0)&""),"",VLOOKUP(A36,进货明细!$A$2:$D$5000,COLUMN($D$2),0)&"") | G36: =IF(ISERROR(VLOOKUP(A36,进货明细!$A$2:$G$5000,COLUMN($G$2),0)&""),"",VLOOKUP(A36,进货明细!$A$2:$G$5000,COLUMN($G$2),0)&"") | M36: =ROUND(VLOOKUP(A36,当前库存!$A$2:$F$7000,COLUMN($F$3),0)&"",2) -> #DIV/0! | O36: {=INDEX(进货明细!A:A,MATCH(0,COUNTIF(O$2:O35,进货明细!$A$2:$A$5000),)+1)&""} -> BD034 | P36: =IF(ISERROR(VLOOKUP(O36,进货明细!$A$2:$D$5000,COLUMN($B$2),0)&""),"",VLOOKUP(O36,进货明细!$A$2:$D$5000,COLUMN($B$2),0)&"") | Q36: =IF(ISERROR(VLOOKUP(O36,进货明细!$A$2:$D$5000,COLUMN($C$2),0)&""),"",VLOOKUP(O36,进货明细!$A$2:$D$5000,COLUMN($C$2),0)&"") | R36: =IF(ISERROR(VLOOKUP(O36,进货明细!$A$2:$D$5000,COLUMN($D$2),0)&""),"",VLOOKUP(O36,进货明细!$A$2:$D$5000,COLUMN($D$2),0)&"") | S36: =IF(ISERROR(VLOOKUP(O36,进货明细!$A$2:$G$5000,COLUMN($G$2),0)&""),"",VLOOKUP(O36,进货明细!$A$2:$G$5000,COLUMN($G$2),0)&"")
A37: BD035 | B37: =IF(ISERROR(VLOOKUP(A37,进货明细!$A$2:$D$5000,COLUMN($B$2),0)&""),"",VLOOKUP(A37,进货明细!$A$2:$D$5000,COLUMN($B$2),0)&"") | C37: =IF(ISERROR(VLOOKUP(A37,进货明细!$A$2:$D$5000,COLUMN($C$2),0)&""),"",VLOOKUP(A37,进货明细!$A$2:$D$5000,COLUMN($C$2),0)&"") | D37: =IF(ISERROR(VLOOKUP(A37,进货明细!$A$2:$D$5000,COLUMN($D$2),0)&""),"",VLOOKUP(A37,进货明细!$A$2:$D$5000,COLUMN($D$2),0)&"") | G37: =IF(ISERROR(VLOOKUP(A37,进货明细!$A$2:$G$5000,COLUMN($G$2),0)&""),"",VLOOKUP(A37,进货明细!$A$2:$G$5000,COLUMN($G$2),0)&"") | H37: =IF(E37="","",E37*F37) | L37: =IF(F37="","",H37-M37*F37) | M37: =ROUND(VLOOKUP(A37,当前库存!$A$2:$F$7000,COLUMN($F$3),0)&"",2) -> #DIV/0! | O37: {=INDEX(进货明细!A:A,MATCH(0,COUNTIF(O$2:O36,进货明细!$A$2:$A$5000),)+1)&""} -> BD035 | P37: =IF(ISERROR(VLOOKUP(O37,进货明细!$A$2:$D$5000,COLUMN($B$2),0)&""),"",VLOOKUP(O37,进货明细!$A$2:$D$5000,COLUMN($B$2),0)&"") | Q37: =IF(ISERROR(VLOOKUP(O37,进货明细!$A$2:$D$5000,COLUMN($C$2),0)&""),"",VLOOKUP(O37,进货明细!$A$2:$D$5000,COLUMN($C$2),0)&"") | R37: =IF(ISERROR(VLOOKUP(O37,进货明细!$A$2:$D$5000,COLUMN($D$2),0)&""),"",VLOOKUP(O37,进货明细!$A$2:$D$5000,COLUMN($D$2),0)&"") | S37: =IF(ISERROR(VLOOKUP(O37,进货明细!$A$2:$G$5000,COLUMN($G$2),0)&""),"",VLOOKUP(O37,进货明细!$A$2:$G$5000,COLUMN($G$2),0)&"")
A38: BD036 | B38: =IF(ISERROR(VLOOKUP(A38,进货明细!$A$2:$D$5000,COLUMN($B$2),0)&""),"",VLOOKUP(A38,进货明细!$A$2:$D$5000,COLUMN($B$2),0)&"") | C38: =IF(ISERROR(VLOOKUP(A38,进货明细!$A$2:$D$5000,COLUMN($C$2),0)&""),"",VLOOKUP(A38,进货明细!$A$2:$D$5000,COLUMN($C$2),0)&"") | D38: =IF(ISERROR(VLOOKUP(A38,进货明细!$A$2:$D$5000,COLUMN($D$2),0)&""),"",VLOOKUP(A38,进货明细!$A$2:$D$5000,COLUMN($D$2),0)&"") | G38: =IF(ISERROR(VLOOKUP(A38,进货明细!$A$2:$G$5000,COLUMN($G$2),0)&""),"",VLOOKUP(A38,进货明细!$A$2:$G$5000,COLUMN($G$2),0)&"") | H38: =IF(E38="","",E38*F38) | L38: =IF(F38="","",H38-M38*F38) | M38: =ROUND(VLOOKUP(A38,当前库存!$A$2:$F$7000,COLUMN($F$3),0)&"",2) -> #DIV/0! | O38: {=INDEX(进货明细!A:A,MATCH(0,COUNTIF(O$2:O37,进货明细!$A$2:$A$5000),)+1)&""} -> BD036 | P38: =IF(ISERROR(VLOOKUP(O38,进货明细!$A$2:$D$5000,COLUMN($B$2),0)&""),"",VLOOKUP(O38,进货明细!$A$2:$D$5000,COLUMN($B$2),0)&"") | Q38: =IF(ISERROR(VLOOKUP(O38,进货明细!$A$2:$D$5000,COLUMN($C$2),0)&""),"",VLOOKUP(O38,进货明细!$A$2:$D$5000,COLUMN($C$2),0)&"") | R38: =IF(ISERROR(VLOOKUP(O38,进货明细!$A$2:$D$5000,COLUMN($D$2),0)&""),"",VLOOKUP(O38,进货明细!$A$2:$D$5000,COLUMN($D$2),0)&"") | S38: =IF(ISERROR(VLOOKUP(O38,进货明细!$A$2:$G$5000,COLUMN($G$2),0)&""),"",VLOOKUP(O38,进货明细!$A$2:$G$5000,COLUMN($G$2),0)&"")
A39: BD037 | B39: =IF(ISERROR(VLOOKUP(A39,进货明细!$A$2:$D$5000,COLUMN($B$2),0)&""),"",VLOOKUP(A39,进货明细!$A$2:$D$5000,COLUMN($B$2),0)&"") | C39: =IF(ISERROR(VLOOKUP(A39,进货明细!$A$2:$D$5000,COLUMN($C$2),0)&""),"",VLOOKUP(A39,进货明细!$A$2:$D$5000,COLUMN($C$2),0)&"") | D39: =IF(ISERROR(VLOOKUP(A39,进货明细!$A$2:$D$5000,COLUMN($D$2),0)&""),"",VLOOKUP(A39,进货明细!$A$2:$D$5000,COLUMN($D$2),0)&"") | G39: =IF(ISERROR(VLOOKUP(A39,进货明细!$A$2:$G$5000,COLUMN($G$2),0)&""),"",VLOOKUP(A39,进货明细!$A$2:$G$5000,COLUMN($G$2),0)&"") | M39: =ROUND(VLOOKUP(A39,当前库存!$A$2:$F$7000,COLUMN($F$3),0)&"",2) -> #DIV/0! | O39: {=INDEX(进货明细!A:A,MATCH(0,COUNTIF(O$2:O38,进货明细!$A$2:$A$5000),)+1)&""} -> BD037 | P39: =IF(ISERROR(VLOOKUP(O39,进货明细!$A$2:$D$5000,COLUMN($B$2),0)&""),"",VLOOKUP(O39,进货明细!$A$2:$D$5000,COLUMN($B$2),0)&"") | Q39: =IF(ISERROR(VLOOKUP(O39,进货明细!$A$2:$D$5000,COLUMN($C$2),0)&""),"",VLOOKUP(O39,进货明细!$A$2:$D$5000,COLUMN($C$2),0)&"") | R39: =IF(ISERROR(VLOOKUP(O39,进货明细!$A$2:$D$5000,COLUMN($D$2),0)&""),"",VLOOKUP(O39,进货明细!$A$2:$D$5000,COLUMN($D$2),0)&"") | S39: =IF(ISERROR(VLOOKUP(O39,进货明细!$A$2:$G$5000,COLUMN($G$2),0)&""),"",VLOOKUP(O39,进货明细!$A$2:$G$5000,COLUMN($G$2),0)&"")
A40: BD038 | B40: =IF(ISERROR(VLOOKUP(A40,进货明细!$A$2:$D$5000,COLUMN($B$2),0)&""),"",VLOOKUP(A40,进货明细!$A$2:$D$5000,COLUMN($B$2),0)&"") | C40: =IF(ISERROR(VLOOKUP(A40,进货明细!$A$2:$D$5000,COLUMN($C$2),0)&""),"",VLOOKUP(A40,进货明细!$A$2:$D$5000,COLUMN($C$2),0)&"") | D40: =IF(ISERROR(VLOOKUP(A40,进货明细!$A$2:$D$5000,COLUMN($D$2),0)&""),"",VLOOKUP(A40,进货明细!$A$2:$D$5000,COLUMN($D$2),0)&"") | E40: 1600 | F40: 1 | G40: =IF(ISERROR(VLOOKUP(A40,进货明细!$A$2:$G$5000,COLUMN($G$2),0)&""),"",VLOOKUP(A40,进货明细!$A$2:$G$5000,COLUMN($G$2),0)&"") | H40: =IF(E40="","",E40*F40) -> 1600 | I40: 43794 | J40: 0 | K40: 阳光美登 | L40: =IF(F40="","",H40-M40*F40) -> #DIV/0! | M40: =ROUND(VLOOKUP(A40,当前库存!$A$2:$F$7000,COLUMN($F$3),0)&"",2) -> #DIV/0! | O40: {=INDEX(进货明细!A:A,MATCH(0,COUNTIF(O$2:O39,进货明细!$A$2:$A$5000),)+1)&""} -> BD038 | P40: =IF(ISERROR(VLOOKUP(O40,进货明细!$A$2:$D$5000,COLUMN($B$2),0)&""),"",VLOOKUP(O40,进货明细!$A$2:$D$5000,COLUMN($B$2),0)&"") | Q40: =IF(ISERROR(VLOOKUP(O40,进货明细!$A$2:$D$5000,COLUMN($C$2),0)&""),"",VLOOKUP(O40,进货明细!$A$2:$D$5000,COLUMN($C$2),0)&"") | R40: =IF(ISERROR(VLOOKUP(O40,进货明细!$A$2:$D$5000,COLUMN($D$2),0)&""),"",VLOOKUP(O40,进货明细!$A$2:$D$5000,COLUMN($D$2),0)&"") | S40: =IF(ISERROR(VLOOKUP(O40,进货明细!$A$2:$G$5000,COLUMN($G$2),0)&""),"",VLOOKUP(O40,进货明细!$A$2:$G$5000,COLUMN($G$2),0)&"")
A41: BD039 | B41: =IF(ISERROR(VLOOKUP(A41,进货明细!$A$2:$D$5000,COLUMN($B$2),0)&""),"",VLOOKUP(A41,进货明细!$A$2:$D$5000,COLUMN($B$2),0)&"") | C41: =IF(ISERROR(VLOOKUP(A41,进货明细!$A$2:$D$5000,COLUMN($C$2),0)&""),"",VLOOKUP(A41,进货明细!$A$2:$D$5000,COLUMN($C$2),0)&"") | D41: =IF(ISERROR(VLOOKUP(A41,进货明细!$A$2:$D$5000,COLUMN($D$2),0)&""),"",VLOOKUP(A41,进货明细!$A$2:$D$5000,COLUMN($D$2),0)&"") | G41: =IF(ISERROR(VLOOKUP(A41,进货明细!$A$2:$G$5000,COLUMN($G$2),0)&""),"",VLOOKUP(A41,进货明细!$A$2:$G$5000,COLUMN($G$2),0)&"") | M41: =ROUND(VLOOKUP(A41,当前库存!$A$2:$F$7000,COLUMN($F$3),0)&"",2) -> #DIV/0! | O41: {=INDEX(进货明细!A:A,MATCH(0,COUNTIF(O$2:O40,进货明细!$A$2:$A$5000),)+1)&""} -> BD039 | P41: =IF(ISERROR(VLOOKUP(O41,进货明细!$A$2:$D$5000,COLUMN($B$2),0)&""),"",VLOOKUP(O41,进货明细!$A$2:$D$5000,COLUMN($B$2),0)&"") | Q41: =IF(ISERROR(VLOOKUP(O41,进货明细!$A$2:$D$5000,COLUMN($C$2),0)&""),"",VLOOKUP(O41,进货明细!$A$2:$D$5000,COLUMN($C$2),0)&"") | R41: =IF(ISERROR(VLOOKUP(O41,进货明细!$A$2:$D$5000,COLUMN($D$2),0)&""),"",VLOOKUP(O41,进货明细!$A$2:$D$5000,COLUMN($D$2),0)&"") | S41: =IF(ISERROR(VLOOKUP(O41,进货明细!$A$2:$G$5000,COLUMN($G$2),0)&""),"",VLOOKUP(O41,进货明细!$A$2:$G$5000,COLUMN($G$2),0)&"")
A42: BD040 | B42: =IF(ISERROR(VLOOKUP(A42,进货明细!$A$2:$D$5000,COLUMN($B$2),0)&""),"",VLOOKUP(A42,进货明细!$A$2:$D$5000,COLUMN($B$2),0)&"") | C42: =IF(ISERROR(VLOOKUP(A42,进货明细!$A$2:$D$5000,COLUMN($C$2),0)&""),"",VLOOKUP(A42,进货明细!$A$2:$D$5000,COLUMN($C$2),0)&"") | D42: =IF(ISERROR(VLOOKUP(A42,进货明细!$A$2:$D$5000,COLUMN($D$2),0)&""),"",VLOOKUP(A42,进货明细!$A$2:$D$5000,COLUMN($D$2),0)&"") | G42: =IF(ISERROR(VLOOKUP(A42,进货明细!$A$2:$G$5000,COLUMN($G$2),0)&""),"",VLOOKUP(A42,进货明细!$A$2:$G$5000,COLUMN($G$2),0)&"") | H42: =IF(E42="","",E42*F42) | L42: =IF(F42="","",H42-M42*F42) | M42: =ROUND(VLOOKUP(A42,当前库存!$A$2:$F$7000,COLUMN($F$3),0)&"",2) -> #DIV/0! | O42: {=INDEX(进货明细!A:A,MATCH(0,COUNTIF(O$2:O41,进货明细!$A$2:$A$5000),)+1)&""} -> BD040 | P42: =IF(ISERROR(VLOOKUP(O42,进货明细!$A$2:$D$5000,COLUMN($B$2),0)&""),"",VLOOKUP(O42,进货明细!$A$2:$D$5000,COLUMN($B$2),0)&"") | Q42: =IF(ISERROR(VLOOKUP(O42,进货明细!$A$2:$D$5000,COLUMN($C$2),0)&""),"",VLOOKUP(O42,进货明细!$A$2:$D$5000,COLUMN($C$2),0)&"") | R42: =IF(ISERROR(VLOOKUP(O42,进货明细!$A$2:$D$5000,COLUMN($D$2),0)&""),"",VLOOKUP(O42,进货明细!$A$2:$D$5000,COLUMN($D$2),0)&"") | S42: =IF(ISERROR(VLOOKUP(O42,进货明细!$A$2:$G$5000,COLUMN($G$2),0)&""),"",VLOOKUP(O42,进货明细!$A$2:$G$5000,COLUMN($G$2),0)&"")
A43: BD041 | B43: =IF(ISERROR(VLOOKUP(A43,进货明细!$A$2:$D$5000,COLUMN($B$2),0)&""),"",VLOOKUP(A43,进货明细!$A$2:$D$5000,COLUMN($B$2),0)&"") | C43: =IF(ISERROR(VLOOKUP(A43,进货明细!$A$2:$D$5000,COLUMN($C$2),0)&""),"",VLOOKUP(A43,进货明细!$A$2:$D$5000,COLUMN($C$2),0)&"") | D43: =IF(ISERROR(VLOOKUP(A43,进货明细!$A$2:$D$5000,COLUMN($D$2),0)&""),"",VLOOKUP(A43,进货明细!$A$2:$D$5000,COLUMN($D$2),0)&"") | G43: =IF(ISERROR(VLOOKUP(A43,进货明细!$A$2:$G$5000,COLUMN($G$2),0)&""),"",VLOOKUP(A43,进货明细!$A$2:$G$5000,COLUMN($G$2),0)&"") | H43: =IF(E43="","",E43*F43) | L43: =IF(F43="","",H43-M43*F43) | M43: =ROUND(VLOOKUP(A43,当前库存!$A$2:$F$7000,COLUMN($F$3),0)&"",2) -> #DIV/0! | O43: {=INDEX(进货明细!A:A,MATCH(0,COUNTIF(O$2:O42,进货明细!$A$2:$A$5000),)+1)&""} -> BD041 | P43: =IF(ISERROR(VLOOKUP(O43,进货明细!$A$2:$D$5000,COLUMN($B$2),0)&""),"",VLOOKUP(O43,进货明细!$A$2:$D$5000,COLUMN($B$2),0)&"") | Q43: =IF(ISERROR(VLOOKUP(O43,进货明细!$A$2:$D$5000,COLUMN($C$2),0)&""),"",VLOOKUP(O43,进货明细!$A$2:$D$5000,COLUMN($C$2),0)&"") | R43: =IF(ISERROR(VLOOKUP(O43,进货明细!$A$2:$D$5000,COLUMN($D$2),0)&""),"",VLOOKUP(O43,进货明细!$A$2:$D$5000,COLUMN($D$2),0)&"") | S43: =IF(ISERROR(VLOOKUP(O43,进货明细!$A$2:$G$5000,COLUMN($G$2),0)&""),"",VLOOKUP(O43,进货明细!$A$2:$G$5000,COLUMN($G$2),0)&"")
A44: BD042 | B44: =IF(ISERROR(VLOOKUP(A44,进货明细!$A$2:$D$5000,COLUMN($B$2),0)&""),"",VLOOKUP(A44,进货明细!$A$2:$D$5000,COLUMN($B$2),0)&"") | C44: =IF(ISERROR(VLOOKUP(A44,进货明细!$A$2:$D$5000,COLUMN($C$2),0)&""),"",VLOOKUP(A44,进货明细!$A$2:$D$5000,COLUMN($C$2),0)&"") | D44: =IF(ISERROR(VLOOKUP(A44,进货明细!$A$2:$D$5000,COLUMN($D$2),0)&""),"",VLOOKUP(A44,进货明细!$A$2:$D$5000,COLUMN($D$2),0)&"") | G44: =IF(ISERROR(VLOOKUP(A44,进货明细!$A$2:$G$5000,COLUMN($G$2),0)&""),"",VLOOKUP(A44,进货明细!$A$2:$G$5000,COLUMN($G$2),0)&"") | H44: =IF(E44="","",E44*F44) | L44: =IF(F44="","",H44-M44*F44) | M44: =ROUND(VLOOKUP(A44,当前库存!$A$2:$F$7000,COLUMN($F$3),0)&"",2) -> #DIV/0! | O44: {=INDEX(进货明细!A:A,MATCH(0,COUNTIF(O$2:O43,进货明细!$A$2:$A$5000),)+1)&""} -> BD042 | P44: =IF(ISERROR(VLOOKUP(O44,进货明细!$A$2:$D$5000,COLUMN($B$2),0)&""),"",VLOOKUP(O44,进货明细!$A$2:$D$5000,COLUMN($B$2),0)&"") | Q44: =IF(ISERROR(VLOOKUP(O44,进货明细!$A$2:$D$5000,COLUMN($C$2),0)&""),"",VLOOKUP(O44,进货明细!$A$2:$D$5000,COLUMN($C$2),0)&"") | R44: =IF(ISERROR(VLOOKUP(O44,进货明细!$A$2:$D$5000,COLUMN($D$2),0)&""),"",VLOOKUP(O44,进货明细!$A$2:$D$5000,COLUMN($D$2),0)&"") | S44: =IF(ISERROR(VLOOKUP(O44,进货明细!$A$2:$G$5000,COLUMN($G$2),0)&""),"",VLOOKUP(O44,进货明细!$A$2:$G$5000,COLUMN($G$2),0)&"")
A45: BD043 | B45: =IF(ISERROR(VLOOKUP(A45,进货明细!$A$2:$D$5000,COLUMN($B$2),0)&""),"",VLOOKUP(A45,进货明细!$A$2:$D$5000,COLUMN($B$2),0)&"") | C45: =IF(ISERROR(VLOOKUP(A45,进货明细!$A$2:$D$5000,COLUMN($C$2),0)&""),"",VLOOKUP(A45,进货明细!$A$2:$D$5000,COLUMN($C$2),0)&"") | D45: =IF(ISERROR(VLOOKUP(A45,进货明细!$A$2:$D$5000,COLUMN($D$2),0)&""),"",VLOOKUP(A45,进货明细!$A$2:$D$5000,COLUMN($D$2),0)&"") | G45: =IF(ISERROR(VLOOKUP(A45,进货明细!$A$2:$G$5000,COLUMN($G$2),0)&""),"",VLOOKUP(A45,进货明细!$A$2:$G$5000,COLUMN($G$2),0)&"") | H45: =IF(E45="","",E45*F45) | L45: =IF(F45="","",H45-M45*F45) | M45: =ROUND(VLOOKUP(A45,当前库存!$A$2:$F$7000,COLUMN($F$3),0)&"",2) -> #DIV/0! | O45: {=INDEX(进货明细!A:A,MATCH(0,COUNTIF(O$2:O44,进货明细!$A$2:$A$5000),)+1)&""} -> BD043 | P45: =IF(ISERROR(VLOOKUP(O45,进货明细!$A$2:$D$5000,COLUMN($B$2),0)&""),"",VLOOKUP(O45,进货明细!$A$2:$D$5000,COLUMN($B$2),0)&"") | Q45: =IF(ISERROR(VLOOKUP(O45,进货明细!$A$2:$D$5000,COLUMN($C$2),0)&""),"",VLOOKUP(O45,进货明细!$A$2:$D$5000,COLUMN($C$2),0)&"") | R45: =IF(ISERROR(VLOOKUP(O45,进货明细!$A$2:$D$5000,COLUMN($D$2),0)&""),"",VLOOKUP(O45,进货明细!$A$2:$D$5000,COLUMN($D$2),0)&"") | S45: =IF(ISERROR(VLOOKUP(O45,进货明细!$A$2:$G$5000,COLUMN($G$2),0)&""),"",VLOOKUP(O45,进货明细!$A$2:$G$5000,COLUMN($G$2),0)&"")
A46: BD044 | B46: =IF(ISERROR(VLOOKUP(A46,进货明细!$A$2:$D$5000,COLUMN($B$2),0)&""),"",VLOOKUP(A46,进货明细!$A$2:$D$5000,COLUMN($B$2),0)&"") | C46: =IF(ISERROR(VLOOKUP(A46,进货明细!$A$2:$D$5000,COLUMN($C$2),0)&""),"",VLOOKUP(A46,进货明细!$A$2:$D$5000,COLUMN($C$2),0)&"") | D46: =IF(ISERROR(VLOOKUP(A46,进货明细!$A$2:$D$5000,COLUMN($D$2),0)&""),"",VLOOKUP(A46,进货明细!$A$2:$D$5000,COLUMN($D$2),0)&"") | G46: =IF(ISERROR(VLOOKUP(A46,进货明细!$A$2:$G$5000,COLUMN($G$2),0)&""),"",VLOOKUP(A46,进货明细!$A$2:$G$5000,COLUMN($G$2),0)&"") | H46: =IF(E46="","",E46*F46) | L46: =IF(F46="","",H46-M46*F46) | M46: =ROUND(VLOOKUP(A46,当前库存!$A$2:$F$7000,COLUMN($F$3),0)&"",2) -> #DIV/0! | O46: {=INDEX(进货明细!A:A,MATCH(0,COUNTIF(O$2:O45,进货明细!$A$2:$A$5000),)+1)&""} -> BD044 | P46: =IF(ISERROR(VLOOKUP(O46,进货明细!$A$2:$D$5000,COLUMN($B$2),0)&""),"",VLOOKUP(O46,进货明细!$A$2:$D$5000,COLUMN($B$2),0)&"") | Q46: =IF(ISERROR(VLOOKUP(O46,进货明细!$A$2:$D$5000,COLUMN($C$2),0)&""),"",VLOOKUP(O46,进货明细!$A$2:$D$5000,COLUMN($C$2),0)&"") | R46: =IF(ISERROR(VLOOKUP(O46,进货明细!$A$2:$D$5000,COLUMN($D$2),0)&""),"",VLOOKUP(O46,进货明细!$A$2:$D$5000,COLUMN($D$2),0)&"") | S46: =IF(ISERROR(VLOOKUP(O46,进货明细!$A$2:$G$5000,COLUMN($G$2),0)&""),"",VLOOKUP(O46,进货明细!$A$2:$G$5000,COLUMN($G$2),0)&"")
A47: BD045 | B47: =IF(ISERROR(VLOOKUP(A47,进货明细!$A$2:$D$5000,COLUMN($B$2),0)&""),"",VLOOKUP(A47,进货明细!$A$2:$D$5000,COLUMN($B$2),0)&"") | C47: =IF(ISERROR(VLOOKUP(A47,进货明细!$A$2:$D$5000,COLUMN($C$2),0)&""),"",VLOOKUP(A47,进货明细!$A$2:$D$5000,COLUMN($C$2),0)&"") | D47: =IF(ISERROR(VLOOKUP(A47,进货明细!$A$2:$D$5000,COLUMN($D$2),0)&""),"",VLOOKUP(A47,进货明细!$A$2:$D$5000,COLUMN($D$2),0)&"") | G47: =IF(ISERROR(VLOOKUP(A47,进货明细!$A$2:$G$5000,COLUMN($G$2),0)&""),"",VLOOKUP(A47,进货明细!$A$2:$G$5000,COLUMN($G$2),0)&"") | H47: =IF(E47="","",E47*F47) | L47: =IF(F47="","",H47-M47*F47) | M47: =ROUND(VLOOKUP(A47,当前库存!$A$2:$F$7000,COLUMN($F$3),0)&"",2) -> #DIV/0! | O47: {=INDEX(进货明细!A:A,MATCH(0,COUNTIF(O$2:O46,进货明细!$A$2:$A$5000),)+1)&""} -> BD045 | P47: =IF(ISERROR(VLOOKUP(O47,进货明细!$A$2:$D$5000,COLUMN($B$2),0)&""),"",VLOOKUP(O47,进货明细!$A$2:$D$5000,COLUMN($B$2),0)&"") | Q47: =IF(ISERROR(VLOOKUP(O47,进货明细!$A$2:$D$5000,COLUMN($C$2),0)&""),"",VLOOKUP(O47,进货明细!$A$2:$D$5000,COLUMN($C$2),0)&"") | R47: =IF(ISERROR(VLOOKUP(O47,进货明细!$A$2:$D$5000,COLUMN($D$2),0)&""),"",VLOOKUP(O47,进货明细!$A$2:$D$5000,COLUMN($D$2),0)&"") | S47: =IF(ISERROR(VLOOKUP(O47,进货明细!$A$2:$G$5000,COLUMN($G$2),0)&""),"",VLOOKUP(O47,进货明细!$A$2:$G$5000,COLUMN($G$2),0)&"")
A48: BD046 | B48: =IF(ISERROR(VLOOKUP(A48,进货明细!$A$2:$D$5000,COLUMN($B$2),0)&""),"",VLOOKUP(A48,进货明细!$A$2:$D$5000,COLUMN($B$2),0)&"") | C48: =IF(ISERROR(VLOOKUP(A48,进货明细!$A$2:$D$5000,COLUMN($C$2),0)&""),"",VLOOKUP(A48,进货明细!$A$2:$D$5000,COLUMN($C$2),0)&"") | D48: =IF(ISERROR(VLOOKUP(A48,进货明细!$A$2:$D$5000,COLUMN($D$2),0)&""),"",VLOOKUP(A48,进货明细!$A$2:$D$5000,COLUMN($D$2),0)&"") | G48: =IF(ISERROR(VLOOKUP(A48,进货明细!$A$2:$G$5000,COLUMN($G$2),0)&""),"",VLOOKUP(A48,进货明细!$A$2:$G$5000,COLUMN($G$2),0)&"") | H48: =IF(E48="","",E48*F48) | L48: =IF(F48="","",H48-M48*F48) | M48: =ROUND(VLOOKUP(A48,当前库存!$A$2:$F$7000,COLUMN($F$3),0)&"",2) -> #DIV/0! | O48: {=INDEX(进货明细!A:A,MATCH(0,COUNTIF(O$2:O47,进货明细!$A$2:$A$5000),)+1)&""} -> BD046 | P48: =IF(ISERROR(VLOOKUP(O48,进货明细!$A$2:$D$5000,COLUMN($B$2),0)&""),"",VLOOKUP(O48,进货明细!$A$2:$D$5000,COLUMN($B$2),0)&"") | Q48: =IF(ISERROR(VLOOKUP(O48,进货明细!$A$2:$D$5000,COLUMN($C$2),0)&""),"",VLOOKUP(O48,进货明细!$A$2:$D$5000,COLUMN($C$2),0)&"") | R48: =IF(ISERROR(VLOOKUP(O48,进货明细!$A$2:$D$5000,COLUMN($D$2),0)&""),"",VLOOKUP(O48,进货明细!$A$2:$D$5000,COLUMN($D$2),0)&"") | S48: =IF(ISERROR(VLOOKUP(O48,进货明细!$A$2:$G$5000,COLUMN($G$2),0)&""),"",VLOOKUP(O48,进货明细!$A$2:$G$5000,COLUMN($G$2),0)&"")
A49: BD047 | B49: =IF(ISERROR(VLOOKUP(A49,进货明细!$A$2:$D$5000,COLUMN($B$2),0)&""),"",VLOOKUP(A49,进货明细!$A$2:$D$5000,COLUMN($B$2),0)&"") | C49: =IF(ISERROR(VLOOKUP(A49,进货明细!$A$2:$D$5000,COLUMN($C$2),0)&""),"",VLOOKUP(A49,进货明细!$A$2:$D$5000,COLUMN($C$2),0)&"") | D49: =IF(ISERROR(VLOOKUP(A49,进货明细!$A$2:$D$5000,COLUMN($D$2),0)&""),"",VLOOKUP(A49,进货明细!$A$2:$D$5000,COLUMN($D$2),0)&"") | G49: =IF(ISERROR(VLOOKUP(A49,进货明细!$A$2:$G$5000,COLUMN($G$2),0)&""),"",VLOOKUP(A49,进货明细!$A$2:$G$5000,COLUMN($G$2),0)&"") | H49: =IF(E49="","",E49*F49) | L49: =IF(F49="","",H49-M49*F49) | M49: =ROUND(VLOOKUP(A49,当前库存!$A$2:$F$7000,COLUMN($F$3),0)&"",2) -> #DIV/0! | O49: {=INDEX(进货明细!A:A,MATCH(0,COUNTIF(O$2:O48,进货明细!$A$2:$A$5000),)+1)&""} -> BD047 | P49: =IF(ISERROR(VLOOKUP(O49,进货明细!$A$2:$D$5000,COLUMN($B$2),0)&""),"",VLOOKUP(O49,进货明细!$A$2:$D$5000,COLUMN($B$2),0)&"") | Q49: =IF(ISERROR(VLOOKUP(O49,进货明细!$A$2:$D$5000,COLUMN($C$2),0)&""),"",VLOOKUP(O49,进货明细!$A$2:$D$5000,COLUMN($C$2),0)&"") | R49: =IF(ISERROR(VLOOKUP(O49,进货明细!$A$2:$D$5000,COLUMN($D$2),0)&""),"",VLOOKUP(O49,进货明细!$A$2:$D$5000,COLUMN($D$2),0)&"") | S49: =IF(ISERROR(VLOOKUP(O49,进货明细!$A$2:$G$5000,COLUMN($G$2),0)&""),"",VLOOKUP(O49,进货明细!$A$2:$G$5000,COLUMN($G$2),0)&"")
A50: BD048 | B50: =IF(ISERROR(VLOOKUP(A50,进货明细!$A$2:$D$5000,COLUMN($B$2),0)&""),"",VLOOKUP(A50,进货明细!$A$2:$D$5000,COLUMN($B$2),0)&"") | C50: =IF(ISERROR(VLOOKUP(A50,进货明细!$A$2:$D$5000,COLUMN($C$2),0)&""),"",VLOOKUP(A50,进货明细!$A$2:$D$5000,COLUMN($C$2),0)&"") | D50: =IF(ISERROR(VLOOKUP(A50,进货明细!$A$2:$D$5000,COLUMN($D$2),0)&""),"",VLOOKUP(A50,进货明细!$A$2:$D$5000,COLUMN($D$2),0)&"") | G50: =IF(ISERROR(VLOOKUP(A50,进货明细!$A$2:$G$5000,COLUMN($G$2),0)&""),"",VLOOKUP(A50,进货明细!$A$2:$G$5000,COLUMN($G$2),0)&"") | H50: =IF(E50="","",E50*F50) | L50: =IF(F50="","",H50-M50*F50) | M50: =ROUND(VLOOKUP(A50,当前库存!$A$2:$F$7000,COLUMN($F$3),0)&"",2) -> #DIV/0! | O50: {=INDEX(进货明细!A:A,MATCH(0,COUNTIF(O$2:O49,进货明细!$A$2:$A$5000),)+1)&""} -> BD048 | P50: =IF(ISERROR(VLOOKUP(O50,进货明细!$A$2:$D$5000,COLUMN($B$2),0)&""),"",VLOOKUP(O50,进货明细!$A$2:$D$5000,COLUMN($B$2),0)&"") | Q50: =IF(ISERROR(VLOOKUP(O50,进货明细!$A$2:$D$5000,COLUMN($C$2),0)&""),"",VLOOKUP(O50,进货明细!$A$2:$D$5000,COLUMN($C$2),0)&"") | R50: =IF(ISERROR(VLOOKUP(O50,进货明细!$A$2:$D$5000,COLUMN($D$2),0)&""),"",VLOOKUP(O50,进货明细!$A$2:$D$5000,COLUMN($D$2),0)&"") | S50: =IF(ISERROR(VLOOKUP(O50,进货明细!$A$2:$G$5000,COLUMN($G$2),0)&""),"",VLOOKUP(O50,进货明细!$A$2:$G$5000,COLUMN($G$2),0)&"")
A51: BD049 | B51: =IF(ISERROR(VLOOKUP(A51,进货明细!$A$2:$D$5000,COLUMN($B$2),0)&""),"",VLOOKUP(A51,进货明细!$A$2:$D$5000,COLUMN($B$2),0)&"") | C51: =IF(ISERROR(VLOOKUP(A51,进货明细!$A$2:$D$5000,COLUMN($C$2),0)&""),"",VLOOKUP(A51,进货明细!$A$2:$D$5000,COLUMN($C$2),0)&"") | D51: =IF(ISERROR(VLOOKUP(A51,进货明细!$A$2:$D$5000,COLUMN($D$2),0)&""),"",VLOOKUP(A51,进货明细!$A$2:$D$5000,COLUMN($D$2),0)&"") | G51: =IF(ISERROR(VLOOKUP(A51,进货明细!$A$2:$G$5000,COLUMN($G$2),0)&""),"",VLOOKUP(A51,进货明细!$A$2:$G$5000,COLUMN($G$2),0)&"") | H51: =IF(E51="","",E51*F51) | L51: =IF(F51="","",H51-M51*F51) | M51: =ROUND(VLOOKUP(A51,当前库存!$A$2:$F$7000,COLUMN($F$3),0)&"",2) -> #DIV/0! | O51: {=INDEX(进货明细!A:A,MATCH(0,COUNTIF(O$2:O50,进货明细!$A$2:$A$5000),)+1)&""} -> BD049 | P51: =IF(ISERROR(VLOOKUP(O51,进货明细!$A$2:$D$5000,COLUMN($B$2),0)&""),"",VLOOKUP(O51,进货明细!$A$2:$D$5000,COLUMN($B$2),0)&"") | Q51: =IF(ISERROR(VLOOKUP(O51,进货明细!$A$2:$D$5000,COLUMN($C$2),0)&""),"",VLOOKUP(O51,进货明细!$A$2:$D$5000,COLUMN($C$2),0)&"") | R51: =IF(ISERROR(VLOOKUP(O51,进货明细!$A$2:$D$5000,COLUMN($D$2),0)&""),"",VLOOKUP(O51,进货明细!$A$2:$D$5000,COLUMN($D$2),0)&"") | S51: =IF(ISERROR(VLOOKUP(O51,进货明细!$A$2:$G$5000,COLUMN($G$2),0)&""),"",VLOOKUP(O51,进货明细!$A$2:$G$5000,COLUMN($G$2),0)&"")
A52: BD050 | B52: =IF(ISERROR(VLOOKUP(A52,进货明细!$A$2:$D$5000,COLUMN($B$2),0)&""),"",VLOOKUP(A52,进货明细!$A$2:$D$5000,COLUMN($B$2),0)&"") | C52: =IF(ISERROR(VLOOKUP(A52,进货明细!$A$2:$D$5000,COLUMN($C$2),0)&""),"",VLOOKUP(A52,进货明细!$A$2:$D$5000,COLUMN($C$2),0)&"") | D52: =IF(ISERROR(VLOOKUP(A52,进货明细!$A$2:$D$5000,COLUMN($D$2),0)&""),"",VLOOKUP(A52,进货明细!$A$2:$D$5000,COLUMN($D$2),0)&"") | G52: =IF(ISERROR(VLOOKUP(A52,进货明细!$A$2:$G$5000,COLUMN($G$2),0)&""),"",VLOOKUP(A52,进货明细!$A$2:$G$5000,COLUMN($G$2),0)&"") | H52: =IF(E52="","",E52*F52) | L52: =IF(F52="","",H52-M52*F52) | M52: =ROUND(VLOOKUP(A52,当前库存!$A$2:$F$7000,COLUMN($F$3),0)&"",2) -> #DIV/0! | O52: {=INDEX(进货明细!A:A,MATCH(0,COUNTIF(O$2:O51,进货明细!$A$2:$A$5000),)+1)&""} -> BD050 | P52: =IF(ISERROR(VLOOKUP(O52,进货明细!$A$2:$D$5000,COLUMN($B$2),0)&""),"",VLOOKUP(O52,进货明细!$A$2:$D$5000,COLUMN($B$2),0)&"") | Q52: =IF(ISERROR(VLOOKUP(O52,进货明细!$A$2:$D$5000,COLUMN($C$2),0)&""),"",VLOOKUP(O52,进货明细!$A$2:$D$5000,COLUMN($C$2),0)&"") | R52: =IF(ISERROR(VLOOKUP(O52,进货明细!$A$2:$D$5000,COLUMN($D$2),0)&""),"",VLOOKUP(O52,进货明细!$A$2:$D$5000,COLUMN($D$2),0)&"") | S52: =IF(ISERROR(VLOOKUP(O52,进货明细!$A$2:$G$5000,COLUMN($G$2),0)&""),"",VLOOKUP(O52,进货明细!$A$2:$G$5000,COLUMN($G$2),0)&"")
A53: BD051 | B53: =IF(ISERROR(VLOOKUP(A53,进货明细!$A$2:$D$5000,COLUMN($B$2),0)&""),"",VLOOKUP(A53,进货明细!$A$2:$D$5000,COLUMN($B$2),0)&"") | C53: =IF(ISERROR(VLOOKUP(A53,进货明细!$A$2:$D$5000,COLUMN($C$2),0)&""),"",VLOOKUP(A53,进货明细!$A$2:$D$5000,COLUMN($C$2),0)&"") | D53: =IF(ISERROR(VLOOKUP(A53,进货明细!$A$2:$D$5000,COLUMN($D$2),0)&""),"",VLOOKUP(A53,进货明细!$A$2:$D$5000,COLUMN($D$2),0)&"") | G53: =IF(ISERROR(VLOOKUP(A53,进货明细!$A$2:$G$5000,COLUMN($G$2),0)&""),"",VLOOKUP(A53,进货明细!$A$2:$G$5000,COLUMN($G$2),0)&"") | H53: =IF(E53="","",E53*F53) | L53: =IF(F53="","",H53-M53*F53) | M53: =ROUND(VLOOKUP(A53,当前库存!$A$2:$F$7000,COLUMN($F$3),0)&"",2) -> #DIV/0! | O53: {=INDEX(进货明细!A:A,MATCH(0,COUNTIF(O$2:O52,进货明细!$A$2:$A$5000),)+1)&""} -> BD051 | P53: =IF(ISERROR(VLOOKUP(O53,进货明细!$A$2:$D$5000,COLUMN($B$2),0)&""),"",VLOOKUP(O53,进货明细!$A$2:$D$5000,COLUMN($B$2),0)&"") | Q53: =IF(ISERROR(VLOOKUP(O53,进货明细!$A$2:$D$5000,COLUMN($C$2),0)&""),"",VLOOKUP(O53,进货明细!$A$2:$D$5000,COLUMN($C$2),0)&"") | R53: =IF(ISERROR(VLOOKUP(O53,进货明细!$A$2:$D$5000,COLUMN($D$2),0)&""),"",VLOOKUP(O53,进货明细!$A$2:$D$5000,COLUMN($D$2),0)&"") | S53: =IF(ISERROR(VLOOKUP(O53,进货明细!$A$2:$G$5000,COLUMN($G$2),0)&""),"",VLOOKUP(O53,进货明细!$A$2:$G$5000,COLUMN($G$2),0)&"")
... A67: BD065 | B67: =IF(ISERROR(VLOOKUP(A67,进货明细!$A$2:$D$5000,COLUMN($B$2),0)&""),"",VLOOKUP(A67,进货明细!$A$2:$D$5000,COLUMN($B$2),0)&"") | C67: =IF(ISERROR(VLOOKUP(A67,进货明细!$A$2:$D$5000,COLUMN($C$2),0)&""),"",VLOOKUP(A67,进货明细!$A$2:$D$5000,COLUMN($C$2),0)&"") | D67: =IF(ISERROR(VLOOKUP(A67,进货明细!$A$2:$D$5000,COLUMN($D$2),0)&""),"",VLOOKUP(A67,进货明细!$A$2:$D$5000,COLUMN($D$2),0)&"") | G67: =IF(ISERROR(VLOOKUP(A67,进货明细!$A$2:$G$5000,COLUMN($G$2),0)&""),"",VLOOKUP(A67,进货明细!$A$2:$G$5000,COLUMN($G$2),0)&"") | H67: =IF(E67="","",E67*F67) | L67: =IF(F67="","",H67-M67*F67) | M67: =ROUND(VLOOKUP(A67,当前库存!$A$2:$F$7000,COLUMN($F$3),0)&"",2) -> #DIV/0! | O67: {=INDEX(进货明细!A:A,MATCH(0,COUNTIF(O$2:O66,进货明细!$A$2:$A$5000),)+1)&""} -> BD065 | P67: =IF(ISERROR(VLOOKUP(O67,进货明细!$A$2:$D$5000,COLUMN($B$2),0)&""),"",VLOOKUP(O67,进货明细!$A$2:$D$5000,COLUMN($B$2),0)&"") | Q67: =IF(ISERROR(VLOOKUP(O67,进货明细!$A$2:$D$5000,COLUMN($C$2),0)&""),"",VLOOKUP(O67,进货明细!$A$2:$D$5000,COLUMN($C$2),0)&"") | R67: =IF(ISERROR(VLOOKUP(O67,进货明细!$A$2:$D$5000,COLUMN($D$2),0)&""),"",VLOOKUP(O67,进货明细!$A$2:$D$5000,COLUMN($D$2),0)&"") | S67: =IF(ISERROR(VLOOKUP(O67,进货明细!$A$2:$G$5000,COLUMN($G$2),0)&""),"",VLOOKUP(O67,进货明细!$A$2:$G$5000,COLUMN($G$2),0)&"")
B68: =IF(ISERROR(VLOOKUP(A68,进货明细!$A$2:$D$5000,COLUMN($B$2),0)&""),"",VLOOKUP(A68,进货明细!$A$2:$D$5000,COLUMN($B$2),0)&"") | C68: =IF(ISERROR(VLOOKUP(A68,进货明细!$A$2:$D$5000,COLUMN($C$2),0)&""),"",VLOOKUP(A68,进货明细!$A$2:$D$5000,COLUMN($C$2),0)&"") | D68: =IF(ISERROR(VLOOKUP(A68,进货明细!$A$2:$D$5000,COLUMN($D$2),0)&""),"",VLOOKUP(A68,进货明细!$A$2:$D$5000,COLUMN($D$2),0)&"") | G68: =IF(ISERROR(VLOOKUP(A68,进货明细!$A$2:$G$5000,COLUMN($G$2),0)&""),"",VLOOKUP(A68,进货明细!$A$2:$G$5000,COLUMN($G$2),0)&"") | H68: =IF(E68="","",E68*F68) | L68: =IF(F68="","",H68-M68*F68) | M68: =ROUND(VLOOKUP(A68,当前库存!$A$2:$F$7000,COLUMN($F$3),0)&"",2) -> #DIV/0! | O68: {=INDEX(进货明细!A:A,MATCH(0,COUNTIF(O$2:O67,进货明细!$A$2:$A$5000),)+1)&""} -> BD066 | P68: =IF(ISERROR(VLOOKUP(O68,进货明细!$A$2:$D$5000,COLUMN($B$2),0)&""),"",VLOOKUP(O68,进货明细!$A$2:$D$5000,COLUMN($B$2),0)&"") | Q68: =IF(ISERROR(VLOOKUP(O68,进货明细!$A$2:$D$5000,COLUMN($C$2),0)&""),"",VLOOKUP(O68,进货明细!$A$2:$D$5000,COLUMN($C$2),0)&"") | R68: =IF(ISERROR(VLOOKUP(O68,进货明细!$A$2:$D$5000,COLUMN($D$2),0)&""),"",VLOOKUP(O68,进货明细!$A$2:$D$5000,COLUMN($D$2),0)&"") | S68: =IF(ISERROR(VLOOKUP(O68,进货明细!$A$2:$G$5000,COLUMN($G$2),0)&""),"",VLOOKUP(O68,进货明细!$A$2:$G$5000,COLUMN($G$2),0)&"")
B69: =IF(ISERROR(VLOOKUP(A69,进货明细!$A$2:$D$5000,COLUMN($B$2),0)&""),"",VLOOKUP(A69,进货明细!$A$2:$D$5000,COLUMN($B$2),0)&"") | C69: =IF(ISERROR(VLOOKUP(A69,进货明细!$A$2:$D$5000,COLUMN($C$2),0)&""),"",VLOOKUP(A69,进货明细!$A$2:$D$5000,COLUMN($C$2),0)&"") | D69: =IF(ISERROR(VLOOKUP(A69,进货明细!$A$2:$D$5000,COLUMN($D$2),0)&""),"",VLOOKUP(A69,进货明细!$A$2:$D$5000,COLUMN($D$2),0)&"") | G69: =IF(ISERROR(VLOOKUP(A69,进货明细!$A$2:$G$5000,COLUMN($G$2),0)&""),"",VLOOKUP(A69,进货明细!$A$2:$G$5000,COLUMN($G$2),0)&"") | H69: =IF(E69="","",E69*F69) | L69: =IF(F69="","",H69-M69*F69) | M69: =ROUND(VLOOKUP(A69,当前库存!$A$2:$F$7000,COLUMN($F$3),0)&"",2) -> #DIV/0! | O69: {=INDEX(进货明细!A:A,MATCH(0,COUNTIF(O$2:O68,进货明细!$A$2:$A$5000),)+1)&""} -> BD067 | P69: =IF(ISERROR(VLOOKUP(O69,进货明细!$A$2:$D$5000,COLUMN($B$2),0)&""),"",VLOOKUP(O69,进货明细!$A$2:$D$5000,COLUMN($B$2),0)&"") | Q69: =IF(ISERROR(VLOOKUP(O69,进货明细!$A$2:$D$5000,COLUMN($C$2),0)&""),"",VLOOKUP(O69,进货明细!$A$2:$D$5000,COLUMN($C$2),0)&"") | R69: =IF(ISERROR(VLOOKUP(O69,进货明细!$A$2:$D$5000,COLUMN($D$2),0)&""),"",VLOOKUP(O69,进货明细!$A$2:$D$5000,COLUMN($D$2),0)&"") | S69: =IF(ISERROR(VLOOKUP(O69,进货明细!$A$2:$G$5000,COLUMN($G$2),0)&""),"",VLOOKUP(O69,进货明细!$A$2:$G$5000,COLUMN($G$2),0)&"")
B70: =IF(ISERROR(VLOOKUP(A70,进货明细!$A$2:$D$5000,COLUMN($B$2),0)&""),"",VLOOKUP(A70,进货明细!$A$2:$D$5000,COLUMN($B$2),0)&"") | C70: =IF(ISERROR(VLOOKUP(A70,进货明细!$A$2:$D$5000,COLUMN($C$2),0)&""),"",VLOOKUP(A70,进货明细!$A$2:$D$5000,COLUMN($C$2),0)&"") | D70: =IF(ISERROR(VLOOKUP(A70,进货明细!$A$2:$D$5000,COLUMN($D$2),0)&""),"",VLOOKUP(A70,进货明细!$A$2:$D$5000,COLUMN($D$2),0)&"") | G70: =IF(ISERROR(VLOOKUP(A70,进货明细!$A$2:$G$5000,COLUMN($G$2),0)&""),"",VLOOKUP(A70,进货明细!$A$2:$G$5000,COLUMN($G$2),0)&"") | H70: =IF(E70="","",E70*F70) | L70: =IF(F70="","",H70-M70*F70) | M70: =ROUND(VLOOKUP(A70,当前库存!$A$2:$F$7000,COLUMN($F$3),0)&"",2) -> #DIV/0! | O70: {=INDEX(进货明细!A:A,MATCH(0,COUNTIF(O$2:O69,进货明细!$A$2:$A$5000),)+1)&""} | P70: =IF(ISERROR(VLOOKUP(O70,进货明细!$A$2:$D$5000,COLUMN($B$2),0)&""),"",VLOOKUP(O70,进货明细!$A$2:$D$5000,COLUMN($B$2),0)&"") | Q70: =IF(ISERROR(VLOOKUP(O70,进货明细!$A$2:$D$5000,COLUMN($C$2),0)&""),"",VLOOKUP(O70,进货明细!$A$2:$D$5000,COLUMN($C$2),0)&"") | R70: =IF(ISERROR(VLOOKUP(O70,进货明细!$A$2:$D$5000,COLUMN($D$2),0)&""),"",VLOOKUP(O70,进货明细!$A$2:$D$5000,COLUMN($D$2),0)&"") | S70: =IF(ISERROR(VLOOKUP(O70,进货明细!$A$2:$G$5000,COLUMN($G$2),0)&""),"",VLOOKUP(O70,进货明细!$A$2:$G$5000,COLUMN($G$2),0)&"")
B71: =IF(ISERROR(VLOOKUP(A71,进货明细!$A$2:$D$5000,COLUMN($B$2),0)&""),"",VLOOKUP(A71,进货明细!$A$2:$D$5000,COLUMN($B$2),0)&"") | C71: =IF(ISERROR(VLOOKUP(A71,进货明细!$A$2:$D$5000,COLUMN($C$2),0)&""),"",VLOOKUP(A71,进货明细!$A$2:$D$5000,COLUMN($C$2),0)&"") | D71: =IF(ISERROR(VLOOKUP(A71,进货明细!$A$2:$D$5000,COLUMN($D$2),0)&""),"",VLOOKUP(A71,进货明细!$A$2:$D$5000,COLUMN($D$2),0)&"") | G71: =IF(ISERROR(VLOOKUP(A71,进货明细!$A$2:$G$5000,COLUMN($G$2),0)&""),"",VLOOKUP(A71,进货明细!$A$2:$G$5000,COLUMN($G$2),0)&"") | H71: =IF(E71="","",E71*F71) | L71: =IF(F71="","",H71-M71*F71) | M71: =ROUND(VLOOKUP(A71,当前库存!$A$2:$F$7000,COLUMN($F$3),0)&"",2) -> #DIV/0! | O71: {=INDEX(进货明细!A:A,MATCH(0,COUNTIF(O$2:O70,进货明细!$A$2:$A$5000),)+1)&""} | P71: =IF(ISERROR(VLOOKUP(O71,进货明细!$A$2:$D$5000,COLUMN($B$2),0)&""),"",VLOOKUP(O71,进货明细!$A$2:$D$5000,COLUMN($B$2),0)&"") | Q71: =IF(ISERROR(VLOOKUP(O71,进货明细!$A$2:$D$5000,COLUMN($C$2),0)&""),"",VLOOKUP(O71,进货明细!$A$2:$D$5000,COLUMN($C$2),0)&"") | R71: =IF(ISERROR(VLOOKUP(O71,进货明细!$A$2:$D$5000,COLUMN($D$2),0)&""),"",VLOOKUP(O71,进货明细!$A$2:$D$5000,COLUMN($D$2),0)&"") | S71: =IF(ISERROR(VLOOKUP(O71,进货明细!$A$2:$G$5000,COLUMN($G$2),0)&""),"",VLOOKUP(O71,进货明细!$A$2:$G$5000,COLUMN($G$2),0)&"")
B72: =IF(ISERROR(VLOOKUP(A72,进货明细!$A$2:$D$5000,COLUMN($B$2),0)&""),"",VLOOKUP(A72,进货明细!$A$2:$D$5000,COLUMN($B$2),0)&"") | C72: =IF(ISERROR(VLOOKUP(A72,进货明细!$A$2:$D$5000,COLUMN($C$2),0)&""),"",VLOOKUP(A72,进货明细!$A$2:$D$5000,COLUMN($C$2),0)&"") | D72: =IF(ISERROR(VLOOKUP(A72,进货明细!$A$2:$D$5000,COLUMN($D$2),0)&""),"",VLOOKUP(A72,进货明细!$A$2:$D$5000,COLUMN($D$2),0)&"") | G72: =IF(ISERROR(VLOOKUP(A72,进货明细!$A$2:$G$5000,COLUMN($G$2),0)&""),"",VLOOKUP(A72,进货明细!$A$2:$G$5000,COLUMN($G$2),0)&"") | H72: =IF(E72="","",E72*F72) | L72: =IF(F72="","",H72-M72*F72) | M72: =ROUND(VLOOKUP(A72,当前库存!$A$2:$F$7000,COLUMN($F$3),0)&"",2) -> #DIV/0! | O72: {=INDEX(进货明细!A:A,MATCH(0,COUNTIF(O$2:O71,进货明细!$A$2:$A$5000),)+1)&""} | P72: =IF(ISERROR(VLOOKUP(O72,进货明细!$A$2:$D$5000,COLUMN($B$2),0)&""),"",VLOOKUP(O72,进货明细!$A$2:$D$5000,COLUMN($B$2),0)&"") | Q72: =IF(ISERROR(VLOOKUP(O72,进货明细!$A$2:$D$5000,COLUMN($C$2),0)&""),"",VLOOKUP(O72,进货明细!$A$2:$D$5000,COLUMN($C$2),0)&"") | R72: =IF(ISERROR(VLOOKUP(O72,进货明细!$A$2:$D$5000,COLUMN($D$2),0)&""),"",VLOOKUP(O72,进货明细!$A$2:$D$5000,COLUMN($D$2),0)&"") | S72: =IF(ISERROR(VLOOKUP(O72,进货明细!$A$2:$G$5000,COLUMN($G$2),0)&""),"",VLOOKUP(O72,进货明细!$A$2:$G$5000,COLUMN($G$2),0)&"")
B73: =IF(ISERROR(VLOOKUP(A73,进货明细!$A$2:$D$5000,COLUMN($B$2),0)&""),"",VLOOKUP(A73,进货明细!$A$2:$D$5000,COLUMN($B$2),0)&"") | C73: =IF(ISERROR(VLOOKUP(A73,进货明细!$A$2:$D$5000,COLUMN($C$2),0)&""),"",VLOOKUP(A73,进货明细!$A$2:$D$5000,COLUMN($C$2),0)&"") | D73: =IF(ISERROR(VLOOKUP(A73,进货明细!$A$2:$D$5000,COLUMN($D$2),0)&""),"",VLOOKUP(A73,进货明细!$A$2:$D$5000,COLUMN($D$2),0)&"") | G73: =IF(ISERROR(VLOOKUP(A73,进货明细!$A$2:$G$5000,COLUMN($G$2),0)&""),"",VLOOKUP(A73,进货明细!$A$2:$G$5000,COLUMN($G$2),0)&"") | H73: =IF(E73="","",E73*F73) | L73: =IF(F73="","",H73-M73*F73) | M73: =ROUND(VLOOKUP(A73,当前库存!$A$2:$F$7000,COLUMN($F$3),0)&"",2) -> #DIV/0! | O73: {=INDEX(进货明细!A:A,MATCH(0,COUNTIF(O$2:O72,进货明细!$A$2:$A$5000),)+1)&""} | P73: =IF(ISERROR(VLOOKUP(O73,进货明细!$A$2:$D$5000,COLUMN($B$2),0)&""),"",VLOOKUP(O73,进货明细!$A$2:$D$5000,COLUMN($B$2),0)&"") | Q73: =IF(ISERROR(VLOOKUP(O73,进货明细!$A$2:$D$5000,COLUMN($C$2),0)&""),"",VLOOKUP(O73,进货明细!$A$2:$D$5000,COLUMN($C$2),0)&"") | R73: =IF(ISERROR(VLOOKUP(O73,进货明细!$A$2:$D$5000,COLUMN($D$2),0)&""),"",VLOOKUP(O73,进货明细!$A$2:$D$5000,COLUMN($D$2),0)&"") | S73: =IF(ISERROR(VLOOKUP(O73,进货明细!$A$2:$G$5000,COLUMN($G$2),0)&""),"",VLOOKUP(O73,进货明细!$A$2:$G$5000,COLUMN($G$2),0)&"")
...

Sheet 当前库存
A1: 八达家居当前库存明细 | L1: 返回主界面 <<
A2: 商品编码 | B2: 商品类别 | C2: 商品名称 | D2: 规格型号 | E2: 进货统计 | H2: 销售统计 | J2: 库 存 | K2: 净利润
E3: 数 量 | F3: 单价 | G3: 合 计 | H3: 数 量 | I3: 合 计
A4: {=销售记录!O3:R9} -> BD001 | B4: {=销售记录!P3:S9} | C4: {=销售记录!Q3:T9} | D4: {=销售记录!R3:U9} | E4: =IF(A4="","",SUMIF(进货明细!$A$3:$A$5000,A4,进货明细!$F$3:$F$5000)) -> 0 | F4: =IF(E4="","",G4/E4) -> #DIV/0! | G4: =IF(E4="","",SUMIF(进货明细!$A$3:$A$5000,A4,进货明细!$H$3:$H$5000)) -> 0 | H4: =IF(A4="","",SUMIF(销售记录!$A$3:$A$5000,A4,销售记录!$F$3:$F$5000)) -> 0 | I4: =IF(H4="","",SUMIF(销售记录!$A$3:$A$5000,A4,销售记录!$H$3:$H$5000)) -> 0 | J4: =IF(E4="","",E4-H4) -> 0 | K4: =IF(ISERROR(I4-G4*H4/E4),"",I4-G4*H4/E4)
A5: {=销售记录!O4:R10} -> BD002 | B5: {=销售记录!P4:S10} | C5: {=销售记录!Q4:T10} | D5: {=销售记录!R4:U10} | E5: =IF(A5="","",SUMIF(进货明细!$A$3:$A$5000,A5,进货明细!$F$3:$F$5000)) -> 0 | F5: =IF(E5="","",G5/E5) -> #DIV/0! | G5: =IF(E5="","",SUMIF(进货明细!$A$3:$A$5000,A5,进货明细!$H$3:$H$5000)) -> 0 | H5: =IF(A5="","",SUMIF(销售记录!$A$3:$A$5000,A5,销售记录!$F$3:$F$5000)) -> 0 | I5: 0 | J5: =IF(E5="","",E5-H5) -> 0 | K5: =IF(ISERROR(I5-G5*H5/E5),"",I5-G5*H5/E5)
A6: {=销售记录!O5:R11} -> BD003 | B6: {=销售记录!P5:S11} | C6: {=销售记录!Q5:T11} | D6: {=销售记录!R5:U11} | E6: =IF(A6="","",SUMIF(进货明细!$A$3:$A$5000,A6,进货明细!$F$3:$F$5000)) -> 0 | F6: =IF(E6="","",G6/E6) -> #DIV/0! | G6: =IF(E6="","",SUMIF(进货明细!$A$3:$A$5000,A6,进货明细!$H$3:$H$5000)) -> 0 | H6: =IF(A6="","",SUMIF(销售记录!$A$3:$A$5000,A6,销售记录!$F$3:$F$5000)) -> 0 | I6: =IF(H6="","",SUMIF(销售记录!$A$3:$A$5000,A6,销售记录!$H$3:$H$5000)) -> 0 | J6: =IF(E6="","",E6-H6) -> 0 | K6: =IF(ISERROR(I6-G6*H6/E6),"",I6-G6*H6/E6)
A7: {=销售记录!O6:R12} -> BD004 | B7: {=销售记录!P6:S12} | C7: {=销售记录!Q6:T12} | D7: {=销售记录!R6:U12} | E7: =IF(A7="","",SUMIF(进货明细!$A$3:$A$5000,A7,进货明细!$F$3:$F$5000)) -> 0 | F7: =IF(E7="","",G7/E7) -> #DIV/0! | G7: =IF(E7="","",SUMIF(进货明细!$A$3:$A$5000,A7,进货明细!$H$3:$H$5000)) -> 0 | H7: =IF(A7="","",SUMIF(销售记录!$A$3:$A$5000,A7,销售记录!$F$3:$F$5000)) -> 0 | I7: =IF(H7="","",SUMIF(销售记录!$A$3:$A$5000,A7,销售记录!$H$3:$H$5000)) -> 0 | J7: =IF(E7="","",E7-H7) -> 0 | K7: =IF(ISERROR(I7-G7*H7/E7),"",I7-G7*H7/E7)
A8: {=销售记录!O7:R13} -> BD005 | B8: {=销售记录!P7:S13} | C8: {=销售记录!Q7:T13} | D8: {=销售记录!R7:U13} | E8: =IF(A8="","",SUMIF(进货明细!$A$3:$A$5000,A8,进货明细!$F$3:$F$5000)) -> 0 | F8: =IF(E8="","",G8/E8) -> #DIV/0! | G8: =IF(E8="","",SUMIF(进货明细!$A$3:$A$5000,A8,进货明细!$H$3:$H$5000)) -> 0 | H8: =IF(A8="","",SUMIF(销售记录!$A$3:$A$5000,A8,销售记录!$F$3:$F$5000)) -> 0 | I8: =IF(H8="","",SUMIF(销售记录!$A$3:$A$5000,A8,销售记录!$H$3:$H$5000)) -> 0 | J8: =IF(E8="","",E8-H8) -> 0 | K8: =IF(ISERROR(I8-G8*H8/E8),"",I8-G8*H8/E8)
A9: {=销售记录!O8:R14} -> BD006 | B9: {=销售记录!P8:S14} | C9: {=销售记录!Q8:T14} | D9: {=销售记录!R8:U14} | E9: =IF(A9="","",SUMIF(进货明细!$A$3:$A$5000,A9,进货明细!$F$3:$F$5000)) -> 0 | F9: =IF(E9="","",G9/E9) -> #DIV/0! | G9: =IF(E9="","",SUMIF(进货明细!$A$3:$A$5000,A9,进货明细!$H$3:$H$5000)) -> 0 | H9: =IF(A9="","",SUMIF(销售记录!$A$3:$A$5000,A9,销售记录!$F$3:$F$5000)) -> 0 | I9: =IF(H9="","",SUMIF(销售记录!$A$3:$A$5000,A9,销售记录!$H$3:$H$5000)) -> 0 | J9: =IF(E9="","",E9-H9) -> 0 | K9: =IF(ISERROR(I9-G9*H9/E9),"",I9-G9*H9/E9)
A10: {=销售记录!O9:R15} -> BD007 | B10: {=销售记录!P9:S15} | C10: {=销售记录!Q9:T15} | D10: {=销售记录!R9:U15} | E10: =IF(A10="","",SUMIF(进货明细!$A$3:$A$5000,A10,进货明细!$F$3:$F$5000)) -> 0 | F10: =IF(E10="","",G10/E10) -> #DIV/0! | G10: =IF(E10="","",SUMIF(进货明细!$A$3:$A$5000,A10,进货明细!$H$3:$H$5000)) -> 0 | H10: =IF(A10="","",SUMIF(销售记录!$A$3:$A$5000,A10,销售记录!$F$3:$F$5000)) -> 0 | I10: =IF(H10="","",SUMIF(销售记录!$A$3:$A$5000,A10,销售记录!$H$3:$H$5000)) -> 0 | J10: =IF(E10="","",E10-H10) -> 0 | K10: =IF(ISERROR(I10-G10*H10/E10),"",I10-G10*H10/E10)
A11: {=销售记录!O10:R16} -> BD008 | B11: {=销售记录!P10:S16} | C11: {=销售记录!Q10:T16} | D11: {=销售记录!R10:U16} | E11: =IF(A11="","",SUMIF(进货明细!$A$3:$A$5000,A11,进货明细!$F$3:$F$5000)) -> 0 | F11: =IF(E11="","",G11/E11) -> #DIV/0! | G11: =IF(E11="","",SUMIF(进货明细!$A$3:$A$5000,A11,进货明细!$H$3:$H$5000)) -> 0 | H11: =IF(A11="","",SUMIF(销售记录!$A$3:$A$5000,A11,销售记录!$F$3:$F$5000)) -> 0 | I11: =IF(H11="","",SUMIF(销售记录!$A$3:$A$5000,A11,销售记录!$H$3:$H$5000)) -> 0 | J11: =IF(E11="","",E11-H11) -> 0 | K11: =IF(ISERROR(I11-G11*H11/E11),"",I11-G11*H11/E11)
A12: {=销售记录!O11:R17} -> BD009 | B12: {=销售记录!P11:S17} | C12: {=销售记录!Q11:T17} | D12: {=销售记录!R11:U17} | E12: =IF(A12="","",SUMIF(进货明细!$A$3:$A$5000,A12,进货明细!$F$3:$F$5000)) -> 0 | F12: =IF(E12="","",G12/E12) -> #DIV/0! | G12: =IF(E12="","",SUMIF(进货明细!$A$3:$A$5000,A12,进货明细!$H$3:$H$5000)) -> 0 | H12: =IF(A12="","",SUMIF(销售记录!$A$3:$A$5000,A12,销售记录!$F$3:$F$5000)) -> 0 | I12: =IF(H12="","",SUMIF(销售记录!$A$3:$A$5000,A12,销售记录!$H$3:$H$5000)) -> 0 | J12: =IF(E12="","",E12-H12) -> 0 | K12: =IF(ISERROR(I12-G12*H12/E12),"",I12-G12*H12/E12)
A13: {=销售记录!O12:R18} -> BD010 | B13: {=销售记录!P12:S18} | C13: {=销售记录!Q12:T18} | D13: {=销售记录!R12:U18} | E13: =IF(A13="","",SUMIF(进货明细!$A$3:$A$5000,A13,进货明细!$F$3:$F$5000)) -> 0 | F13: =IF(E13="","",G13/E13) -> #DIV/0! | G13: =IF(E13="","",SUMIF(进货明细!$A$3:$A$5000,A13,进货明细!$H$3:$H$5000)) -> 0 | H13: =IF(A13="","",SUMIF(销售记录!$A$3:$A$5000,A13,销售记录!$F$3:$F$5000)) -> 0 | I13: =IF(H13="","",SUMIF(销售记录!$A$3:$A$5000,A13,销售记录!$H$3:$H$5000)) -> 0 | J13: =IF(E13="","",E13-H13) -> 0 | K13: =IF(ISERROR(I13-G13*H13/E13),"",I13-G13*H13/E13)
A14: {=销售记录!O13:R19} -> BD011 | B14: {=销售记录!P13:S19} | C14: {=销售记录!Q13:T19} | D14: {=销售记录!R13:U19} | E14: =IF(A14="","",SUMIF(进货明细!$A$3:$A$5000,A14,进货明细!$F$3:$F$5000)) -> 0 | F14: =IF(E14="","",G14/E14) -> #DIV/0! | G14: =IF(E14="","",SUMIF(进货明细!$A$3:$A$5000,A14,进货明细!$H$3:$H$5000)) -> 0 | H14: =IF(A14="","",SUMIF(销售记录!$A$3:$A$5000,A14,销售记录!$F$3:$F$5000)) -> 0 | I14: =IF(H14="","",SUMIF(销售记录!$A$3:$A$5000,A14,销售记录!$H$3:$H$5000)) -> 0 | J14: =IF(E14="","",E14-H14) -> 0 | K14: =IF(ISERROR(I14-G14*H14/E14),"",I14-G14*H14/E14)
A15: {=销售记录!O14:R20} -> BD012 | B15: {=销售记录!P14:S20} | C15: {=销售记录!Q14:T20} | D15: {=销售记录!R14:U20} | E15: =IF(A15="","",SUMIF(进货明细!$A$3:$A$5000,A15,进货明细!$F$3:$F$5000)) -> 0 | F15: =IF(E15="","",G15/E15) -> #DIV/0! | G15: =IF(E15="","",SUMIF(进货明细!$A$3:$A$5000,A15,进货明细!$H$3:$H$5000)) -> 0 | H15: =IF(A15="","",SUMIF(销售记录!$A$3:$A$5000,A15,销售记录!$F$3:$F$5000)) -> 0 | I15: =IF(H15="","",SUMIF(销售记录!$A$3:$A$5000,A15,销售记录!$H$3:$H$5000)) -> 0 | J15: =IF(E15="","",E15-H15) -> 0 | K15: =IF(ISERROR(I15-G15*H15/E15),"",I15-G15*H15/E15)
A16: {=销售记录!O15:R21} -> BD013 | B16: {=销售记录!P15:S21} | C16: {=销售记录!Q15:T21} | D16: {=销售记录!R15:U21} | E16: =IF(A16="","",SUMIF(进货明细!$A$3:$A$5000,A16,进货明细!$F$3:$F$5000)) -> 0 | F16: =IF(E16="","",G16/E16) -> #DIV/0! | G16: =IF(E16="","",SUMIF(进货明细!$A$3:$A$5000,A16,进货明细!$H$3:$H$5000)) -> 0 | H16: =IF(A16="","",SUMIF(销售记录!$A$3:$A$5000,A16,销售记录!$F$3:$F$5000)) -> 0 | I16: =IF(H16="","",SUMIF(销售记录!$A$3:$A$5000,A16,销售记录!$H$3:$H$5000)) -> 0 | J16: =IF(E16="","",E16-H16) -> 0 | K16: =IF(ISERROR(I16-G16*H16/E16),"",I16-G16*H16/E16)
A17: {=销售记录!O16:R22} -> BD014 | B17: {=销售记录!P16:S22} | C17: {=销售记录!Q16:T22} | D17: {=销售记录!R16:U22} | E17: =IF(A17="","",SUMIF(进货明细!$A$3:$A$5000,A17,进货明细!$F$3:$F$5000)) -> 0 | F17: =IF(E17="","",G17/E17) -> #DIV/0! | G17: =IF(E17="","",SUMIF(进货明细!$A$3:$A$5000,A17,进货明细!$H$3:$H$5000)) -> 0 | H17: =IF(A17="","",SUMIF(销售记录!$A$3:$A$5000,A17,销售记录!$F$3:$F$5000)) -> 0 | I17: =IF(H17="","",SUMIF(销售记录!$A$3:$A$5000,A17,销售记录!$H$3:$H$5000)) -> 0 | J17: =IF(E17="","",E17-H17) -> 0 | K17: =IF(ISERROR(I17-G17*H17/E17),"",I17-G17*H17/E17)
... A5000: {=销售记录!O4999:R5005} -> 0 | B5000: {=销售记录!P4999:S5005} -> 0 | C5000: {=销售记录!Q4999:T5005} -> 0 | D5000: {=销售记录!R4999:U5005} -> 0 | E5000: =IF(A5000="","",SUMIF(进货明细!$A$3:$A$5000,A5000,进货明细!$F$3:$F$5000)) -> 0 | F5000: =IF(E5000="","",G5000/E5000) -> #DIV/0! | G5000: =IF(E5000="","",SUMIF(进货明细!$A$3:$A$5000,A5000,进货明细!$H$3:$H$5000)) -> 0 | H5000: =IF(A5000="","",SUMIF(销售记录!$A$3:$A$5000,A5000,销售记录!$F$3:$F$5000)) -> 0 | I5000: =IF(H5000="","",SUMIF(销售记录!$A$3:$A$5000,A5000,销售记录!$H$3:$H$5000)) -> 0 | J5000: =IF(E5000="","",E5000-H5000) -> 0 | K5000: =IF(ISERROR(I5000-G5000*H5000/E5000),"",I5000-G5000*H5000/E5000)

Sheet 打印单据
A1: 八达家居 | K1: 返回主界面 <<
A2: 销售出货单
A3: 客户： | B3: 蓝光有限公司 | G3: 日期： | I3: 43184
A4: 序号 | B4: 商品名称 | E4: 数量 | F4: 单位 | G4: 单价 | H4: 金额 | I4: 备注
A5: CPA003 | B5: 苹果iPhone7 | E5: 2 | F5: 台 | G5: 7188 | H5: =E5*G5 -> 14376
A11: 金额合计 | B11: =IF(H11=0,"",IF(INT(H11),TEXT(TRUNC(H11),"[dbnum2]")&"元","")&IF(MOD(H11,1)=0,"整",IF(TRUNC(H11,1),IF(H11=TRUNC(H11,1),TEXT(LEFT(RIGHT(H11*100,2)),"[dbnum2]0角整"),TEXT(RIGHT(H11*100,2),"[dbnum2]0"&IF(LEFT(RIGHT(H11*100,2))="0","","角")&"0分")),TEXT(H11*100,"[dbnum2]0分")))) -> 壹万肆仟叁佰柒拾陆元整 | H11: =SUM(H5:H10) -> 14376
A13: 制单： 会计签字： 经理审核： 收货人：

Sheet 销售图表
A1: 八达家居销售报表分析 | Q1: 返回主界面 <<
A2: 2019 | B2: 销售报表
A3: 月份 | B3: 总销量 | C3: 净利润
A4: 1 | B4: =SUMIFS(销售记录!$H:$H,销售记录!$I:$I,">"&DATE($A$2,A4,0),销售记录!$I:$I,"<"&DATE($A$2,A4+1,1)) -> 0 | C4: =SUMIFS(销售记录!$L:$L,销售记录!$I:$I,">"&DATE($A$2,A4,0),销售记录!$I:$I,"<"&DATE($A$2,A4+1,1)) -> 0
A5: 2 | B5: =SUMIFS(销售记录!$H:$H,销售记录!$I:$I,">"&DATE($A$2,A5,0),销售记录!$I:$I,"<"&DATE($A$2,A5+1,1)) -> 0 | C5: =SUMIFS(销售记录!$L:$L,销售记录!$I:$I,">"&DATE($A$2,A5,0),销售记录!$I:$I,"<"&DATE($A$2,A5+1,1)) -> 0
A6: 3 | B6: =SUMIFS(销售记录!$H:$H,销售记录!$I:$I,">"&DATE($A$2,A6,0),销售记录!$I:$I,"<"&DATE($A$2,A6+1,1)) -> 0 | C6: =SUMIFS(销售记录!$L:$L,销售记录!$I:$I,">"&DATE($A$2,A6,0),销售记录!$I:$I,"<"&DATE($A$2,A6+1,1)) -> 0
A7: 4 | B7: =SUMIFS(销售记录!$H:$H,销售记录!$I:$I,">"&DATE($A$2,A7,0),销售记录!$I:$I,"<"&DATE($A$2,A7+1,1)) -> 0 | C7: =SUMIFS(销售记录!$L:$L,销售记录!$I:$I,">"&DATE($A$2,A7,0),销售记录!$I:$I,"<"&DATE($A$2,A7+1,1)) -> 0
A8: 5 | B8: =SUMIFS(销售记录!$H:$H,销售记录!$I:$I,">"&DATE($A$2,A8,0),销售记录!$I:$I,"<"&DATE($A$2,A8+1,1)) -> 0 | C8: =SUMIFS(销售记录!$L:$L,销售记录!$I:$I,">"&DATE($A$2,A8,0),销售记录!$I:$I,"<"&DATE($A$2,A8+1,1)) -> 0
A9: 6 | B9: =SUMIFS(销售记录!$H:$H,销售记录!$I:$I,">"&DATE($A$2,A9,0),销售记录!$I:$I,"<"&DATE($A$2,A9+1,1)) -> 0 | C9: =SUMIFS(销售记录!$L:$L,销售记录!$I:$I,">"&DATE($A$2,A9,0),销售记录!$I:$I,"<"&DATE($A$2,A9+1,1)) -> 0
A10: 7 | B10: =SUMIFS(销售记录!$H:$H,销售记录!$I:$I,">"&DATE($A$2,A10,0),销售记录!$I:$I,"<"&DATE($A$2,A10+1,1)) -> 0 | C10: =SUMIFS(销售记录!$L:$L,销售记录!$I:$I,">"&DATE($A$2,A10,0),销售记录!$I:$I,"<"&DATE($A$2,A10+1,1)) -> 0
A11: 8 | B11: =SUMIFS(销售记录!$H:$H,销售记录!$I:$I,">"&DATE($A$2,A11,0),销售记录!$I:$I,"<"&DATE($A$2,A11+1,1)) -> 0 | C11: =SUMIFS(销售记录!$L:$L,销售记录!$I:$I,">"&DATE($A$2,A11,0),销售记录!$I:$I,"<"&DATE($A$2,A11+1,1)) -> 0
A12: 9 | B12: =SUMIFS(销售记录!$H:$H,销售记录!$I:$I,">"&DATE($A$2,A12,0),销售记录!$I:$I,"<"&DATE($A$2,A12+1,1)) -> 0 | C12: =SUMIFS(销售记录!$L:$L,销售记录!$I:$I,">"&DATE($A$2,A12,0),销售记录!$I:$I,"<"&DATE($A$2,A12+1,1)) -> 0
A13: 10 | B13: =SUMIFS(销售记录!$H:$H,销售记录!$I:$I,">"&DATE($A$2,A13,0),销售记录!$I:$I,"<"&DATE($A$2,A13+1,1)) -> 0 | C13: =SUMIFS(销售记录!$L:$L,销售记录!$I:$I,">"&DATE($A$2,A13,0),销售记录!$I:$I,"<"&DATE($A$2,A13+1,1)) -> 0
A14: 11 | B14: =SUMIFS(销售记录!$H:$H,销售记录!$I:$I,">"&DATE($A$2,A14,0),销售记录!$I:$I,"<"&DATE($A$2,A14+1,1)) -> 1600 | C14: =SUMIFS(销售记录!$L:$L,销售记录!$I:$I,">"&DATE($A$2,A14,0),销售记录!$I:$I,"<"&DATE($A$2,A14+1,1)) -> #DIV/0!
A15: 12 | B15: =SUMIFS(销售记录!$H:$H,销售记录!$I:$I,">"&DATE($A$2,A15,0),销售记录!$I:$I,"<"&DATE($A$2,A15+1,1)) -> 0 | C15: =SUMIFS(销售记录!$L:$L,销售记录!$I:$I,">"&DATE($A$2,A15,0),销售记录!$I:$I,"<"&DATE($A$2,A15+1,1)) -> 0
A16: 合计 | B16: =SUM(B4:B15) -> 1600 | C16: =SUM(C4:C15) -> #DIV/0!
A18: 月销售报表
A19: 日期 | B19: 总销量 | C19: 净利润
A20: 43525 | B20: =SUMIF(销售记录!$I:$I,A20,销售记录!$H:$H) -> 0 | C20: =SUMIF(销售记录!$I:$I,A20,销售记录!$L:$L) -> 0
A21: 43526 | B21: =SUMIF(销售记录!$I:$I,A21,销售记录!$H:$H) -> 0 | C21: =SUMIF(销售记录!$I:$I,A21,销售记录!$L:$L) -> 0
A22: 43527 | B22: =SUMIF(销售记录!$I:$I,A22,销售记录!$H:$H) -> 0 | C22: =SUMIF(销售记录!$I:$I,A22,销售记录!$L:$L) -> 0
A23: 43528 | B23: =SUMIF(销售记录!$I:$I,A23,销售记录!$H:$H) -> 0 | C23: =SUMIF(销售记录!$I:$I,A23,销售记录!$L:$L) -> 0
A24: 43529 | B24: =SUMIF(销售记录!$I:$I,A24,销售记录!$H:$H) -> 0 | C24: =SUMIF(销售记录!$I:$I,A24,销售记录!$L:$L) -> 0
A25: 43530 | B25: =SUMIF(销售记录!$I:$I,A25,销售记录!$H:$H) -> 0 | C25: =SUMIF(销售记录!$I:$I,A25,销售记录!$L:$L) -> 0
A26: 43531 | B26: =SUMIF(销售记录!$I:$I,A26,销售记录!$H:$H) -> 0 | C26: =SUMIF(销售记录!$I:$I,A26,销售记录!$L:$L) -> 0
A27: 43532 | B27: =SUMIF(销售记录!$I:$I,A27,销售记录!$H:$H) -> 0 | C27: =SUMIF(销售记录!$I:$I,A27,销售记录!$L:$L) -> 0
A28: 43533 | B28: =SUMIF(销售记录!$I:$I,A28,销售记录!$H:$H) -> 0 | C28: =SUMIF(销售记录!$I:$I,A28,销售记录!$L:$L) -> 0
A29: 43534 | B29: =SUMIF(销售记录!$I:$I,A29,销售记录!$H:$H) -> 0 | C29: =SUMIF(销售记录!$I:$I,A29,销售记录!$L:$L) -> 0
A30: 43535 | B30: =SUMIF(销售记录!$I:$I,A30,销售记录!$H:$H) -> 0 | C30: =SUMIF(销售记录!$I:$I,A30,销售记录!$L:$L) -> 0
A31: 43536 | B31: =SUMIF(销售记录!$I:$I,A31,销售记录!$H:$H) -> 0 | C31: =SUMIF(销售记录!$I:$I,A31,销售记录!$L:$L) -> 0
... A50: 43555 | B50: =SUMIF(销售记录!$I:$I,A50,销售记录!$H:$H) -> 0 | C50: =SUMIF(销售记录!$I:$I,A50,销售记录!$L:$L) -> 0
A51: 合计 | B51: =SUM(B20:B50) -> 0 | C51: =SUM(C20:C50) -> 0

Sheet 供货商资料
A1: 八达家居供应商信息
A2: 供货商简称 | B2: 联系人 | C2: 公司名称 | D2: 电话 | E2: 手机 | F2: 电子邮箱 | G2: 传真 | H2: 通讯地址 | I2: 邮政编码 | J2: 性别 | K2: 职务 | L2: QQ/MSN | M2: 网站地址 | N2: 账号 | O2: 备注 | P2: 返回主界面 <<
A3: 联想科技 | C3: 联想XX有限公司
A4: 环球数码 | C4: 环球数码科技有限公司

Sheet 客户资料
A1: 八达家居客户资料
A2: 客户简称 | B2: 联系人 | C2: 公司名称 | D2: 电话 | E2: 手机 | F2: 电子邮箱 | G2: 传真 | H2: 通讯地址 | I2: 邮政编码 | J2: 性别 | K2: 职务 | L2: QQ/MSN | M2: 网站地址 | N2: 备注 | O2: 返回主界面 <<
B3: 小王 | C3: 蓝光有限公司
B4: 小张
P383: 本系统由论文资源网开发设计

Sheet 使用说明
A1: 使用说明 | K1: 返回主界面 <<
A2: 1、输入进货和销售的记录，自动统计利润和库存。
A3: 2、白色的为可输入或可编辑的区域，灰色的为不可输入区域（不需输入，自动函数公式计算）。
A4: 3、商品编码输入要字母+数字的形式，比如：CPA001 。
A5: 4、表格字段和整个结构注意不要随意修改和删除，尤其是应用了公式的区域，当然也可根据个人需要自己修改公式和表格。 修改时只需点击-审核-撤销工作表保护
