Workbook
Name amount: 订单明细查询!$E$9:$E$13
Name data1: OFFSET(订单自定义查询!$E$4,1,,订单自定义查询!$B$3,1)
Name data2: OFFSET(订单自定义查询!$F$4,1,,订单自定义查询!$B$3,1)
Name dingdanhao: OFFSET(订单数据录入!$A$2,,,COUNTA(订单数据录入!$A:$A)-1,)
Name q: 订单明细查询!$C$9:$C$13
Name tabel1: 添加商品信息!$A$2:$D$18
Name tabel2: 添加客户信息!$A$2:$I$17
Name tabel3: 订单数据录入!$A$2:$N$59

Sheet 主界面

Sheet 添加商品信息
A1: 商品编号 | B1: 商品名称 | C1: 单价 | D1: 库存量
A2: DX-0001 | B2: 商品名称N01 | C2: 188 | D2: 1000
A3: DX-0002 | B3: 商品名称N02 | C3: 198 | D3: 1200
A4: DX-0003 | B4: 商品名称N03 | C4: 220 | D4: 800
A5: DX-0004 | B5: 商品名称N04 | C5: 258 | D5: 500
A6: DX-0005 | B6: 商品名称N05 | C6: 278 | D6: 7800
A7: DX-0006 | B7: 商品名称N06 | C7: 298 | D7: 5000

Sheet 添加客户信息
A1: 客户编号 | B1: 客户名称 | C1: 联系人 | D1: 联系电话 | E1: 邮编 | F1: 公司地址 | G1: 电子邮件 | H1: 微信 | I1: QQ
A2: CUM－0001 | B2: 上海实业有限公司 | C2: 李小华 | D2: 8788010、1301528101 | E2: 610011 | F2: 北京市一环路205号 | G2: li9988@163.net | H2: 3096666 | I2: 52628668
A3: CUM－0002 | B3: 北京实业有限公司 | C3: 钟无艳 | D3: 8788010、1301528102 | E3: 610012 | F3: 北京市一环路206号 | G3: zhong@163.net | H3: 3096666 | I3: 52628669
A4: CUM－0003 | B4: 维佳实业有限公司 | C4: 罗一佳 | D4: 8788010、1301528103 | E4: 610013 | F4: 北京市一环路207号 | G4: luoluo9988@163.net | H4: 3096666 | I4: 52628670
A5: CUM－0004 | B5: 明惠实业有限公司 | C5: 王明惠 | D5: 8788010、1301528104 | E5: 610014 | F5: 北京市一环路208号 | G5: wangminghui8@163.net | H5: 3096666 | I5: 52628671
A6: CUM－0005 | B6: 小东实业有限公司 | C6: 林小东 | D6: 8788010、1301528105 | E6: 610015 | F6: 北京市一环路209号 | G6: chen@163.net | H6: 3096666 | I6: 52628672
A7: CUM－0006 | B7: 陈诚实业有限公司 | C7: 陈诚 | D7: 8788010、1301528106 | E7: 610016 | F7: 北京市一环路210号 | G7: ds198@163.net | H7: 3096666 | I7: 52628673

Sheet 订单数据录入
A1: 订单号 | B1: 下单日期 | C1: 客户编号 | D1: 客户姓名 | E1: 商品编号 | F1: 商品名称 | G1: 单价 | H1: 数量 | I1: 货款金额 | J1: 运费 | K1: 实收金额 | L1: 订单状态 | M1: 经手人 | N1: 备注
A2: 201710001 | B2: 43009 | C2: CUM－0001 | D2: =VLOOKUP(C2,tabel2,2,FALSE) -> 上海实业有限公司 | E2: DX-0001 | F2: =VLOOKUP(E2,tabel1,2,FALSE) -> 商品名称N01 | G2: =VLOOKUP(E2,tabel1,3,FALSE) -> 188 | H2: 20 | I2: =G2*H2 -> 3760 | J2: 20 | K2: 3700 | L2: 已发货 | M2: 张三 | N2: 2017-10-5发货
A3: 201710001 | B3: 43009 | C3: CUM－0001 | D3: =VLOOKUP(C3,tabel2,2,FALSE) -> 上海实业有限公司 | E3: DX-0002 | F3: =VLOOKUP(E3,tabel1,2,FALSE) -> 商品名称N02 | G3: =VLOOKUP(E3,tabel1,3,FALSE) -> 198 | H3: 50 | I3: =G3*H3 -> 9900 | J3: 20 | K3: 9000 | L3: 已发货 | N3: 2017-10-5发货
A4: 201710001 | B4: 43009 | C4: CUM－0001 | D4: =VLOOKUP(C4,tabel2,2,FALSE) -> 上海实业有限公司 | E4: DX-0003 | F4: =VLOOKUP(E4,tabel1,2,FALSE) -> 商品名称N03 | G4: =VLOOKUP(E4,tabel1,3,FALSE) -> 220 | H4: 20 | I4: =G4*H4 -> 4400 | J4: 20 | K4: 4420 | L4: 已发货 | N4: 2017-10-5发货
A5: 201710001 | B5: 43009 | C5: CUM－0001 | D5: =VLOOKUP(C5,tabel2,2,FALSE) -> 上海实业有限公司 | E5: DX-0004 | F5: =VLOOKUP(E5,tabel1,2,FALSE) -> 商品名称N04 | G5: =VLOOKUP(E5,tabel1,3,FALSE) -> 258 | H5: 15 | I5: =G5*H5 -> 3870 | J5: 20 | K5: 3890 | L5: 已发货 | N5: 2017-10-5发货
A6: 201710002 | B6: 43009 | C6: CUM－0002 | D6: =VLOOKUP(C6,tabel2,2,FALSE) -> 北京实业有限公司 | E6: DX-0005 | F6: =VLOOKUP(E6,tabel1,2,FALSE) -> 商品名称N05 | G6: =VLOOKUP(E6,tabel1,3,FALSE) -> 278 | H6: 15 | I6: =G6*H6 -> 4170 | J6: 20 | K6: 4100 | L6: 已发货 | M6: 李四 | N6: 2017-10-5发货
A7: 201710002 | B7: 43009 | C7: CUM－0002 | D7: =VLOOKUP(C7,tabel2,2,FALSE) -> 北京实业有限公司 | E7: DX-0006 | F7: =VLOOKUP(E7,tabel1,2,FALSE) -> 商品名称N06 | G7: =VLOOKUP(E7,tabel1,3,FALSE) -> 298 | H7: 15 | I7: =G7*H7 -> 4470 | J7: 20 | K7: 4490 | L7: 已发货 | N7: 2017-10-5发货
A8: 201710002 | B8: 43011 | C8: CUM－0003 | D8: =VLOOKUP(C8,tabel2,2,FALSE) -> 维佳实业有限公司 | E8: DX-0006 | F8: =VLOOKUP(E8,tabel1,2,FALSE) -> 商品名称N06 | G8: =VLOOKUP(E8,tabel1,3,FALSE) -> 298 | H8: 15 | I8: =G8*H8 -> 4470 | J8: 20 | K8: 4940 | L8: 已发货 | M8: 李四 | N8: 2017-10-8发货
A9: 201710002 | B9: 43011 | C9: CUM－0003 | D9: =VLOOKUP(C9,tabel2,2,FALSE) -> 维佳实业有限公司 | E9: DX-0006 | F9: =VLOOKUP(E9,tabel1,2,FALSE) -> 商品名称N06 | G9: =VLOOKUP(E9,tabel1,3,FALSE) -> 298 | H9: 15 | I9: =G9*H9 -> 4470 | J9: 20 | K9: 5540 | L9: 已发货 | N9: 2017-10-8发货
A10: 201710002 | B10: 43011 | C10: CUM－0003 | D10: =VLOOKUP(C10,tabel2,2,FALSE) -> 维佳实业有限公司 | E10: DX-0006 | F10: =VLOOKUP(E10,tabel1,2,FALSE) -> 商品名称N06 | G10: =VLOOKUP(E10,tabel1,3,FALSE) -> 298 | H10: 15 | I10: =G10*H10 -> 4470 | J10: 20 | K10: 5840 | L10: 已发货 | N10: 2017-10-8发货
A11: 201710002 | B11: 43011 | C11: CUM－0004 | D11: =VLOOKUP(C11,tabel2,2,FALSE) -> 明惠实业有限公司 | E11: DX-0006 | F11: =VLOOKUP(E11,tabel1,2,FALSE) -> 商品名称N06 | G11: =VLOOKUP(E11,tabel1,3,FALSE) -> 298 | H11: 15 | I11: =G11*H11 -> 4470 | J11: 20 | K11: 5990 | L11: 已发货 | M11: 李四 | N11: 2017-10-8发货
A12: 201710002 | B12: 43011 | C12: CUM－0004 | D12: =VLOOKUP(C12,tabel2,2,FALSE) -> 明惠实业有限公司 | E12: DX-0006 | F12: =VLOOKUP(E12,tabel1,2,FALSE) -> 商品名称N06 | G12: =VLOOKUP(E12,tabel1,3,FALSE) -> 298 | H12: 15 | I12: =G12*H12 -> 4470 | J12: 20 | K12: 6020 | L12: 已发货 | N12: 2017-10-8发货
A13: 201710003 | B13: 43011 | C13: CUM－0005 | D13: =VLOOKUP(C13,tabel2,2,FALSE) -> 小东实业有限公司 | E13: DX-0006 | F13: =VLOOKUP(E13,tabel1,2,FALSE) -> 商品名称N06 | G13: =VLOOKUP(E13,tabel1,3,FALSE) -> 298 | H13: 15 | I13: =G13*H13 -> 4470 | J13: 20 | K13: 7520 | L13: 已发货 | M13: 王五 | N13: 2017-10-8发货
A14: 201710003 | B14: 43011 | C14: CUM－0005 | D14: =VLOOKUP(C14,tabel2,2,FALSE) -> 小东实业有限公司 | E14: DX-0006 | F14: =VLOOKUP(E14,tabel1,2,FALSE) -> 商品名称N06 | G14: =VLOOKUP(E14,tabel1,3,FALSE) -> 298 | H14: 15 | I14: =G14*H14 -> 4470 | J14: 20 | K14: 9020 | L14: 已发货 | N14: 2017-10-8发货
A15: 201710003 | B15: 43011 | C15: CUM－0005 | D15: =VLOOKUP(C15,tabel2,2,FALSE) -> 小东实业有限公司 | E15: DX-0006 | F15: =VLOOKUP(E15,tabel1,2,FALSE) -> 商品名称N06 | G15: =VLOOKUP(E15,tabel1,3,FALSE) -> 298 | H15: 15 | I15: =G15*H15 -> 4470 | J15: 20 | K15: 6320 | L15: 已发货 | N15: 2017-10-8发货
A16: 201710003 | B16: 43011 | C16: CUM－0005 | D16: =VLOOKUP(C16,tabel2,2,FALSE) -> 小东实业有限公司 | E16: DX-0006 | F16: =VLOOKUP(E16,tabel1,2,FALSE) -> 商品名称N06 | G16: =VLOOKUP(E16,tabel1,3,FALSE) -> 298 | H16: 15 | I16: =G16*H16 -> 4470 | J16: 20 | K16: 7220 | L16: 已发货 | N16: 2017-10-8发货
A17: 201710003 | B17: 43011 | C17: CUM－0006 | D17: =VLOOKUP(C17,tabel2,2,FALSE) -> 陈诚实业有限公司 | E17: DX-0006 | F17: =VLOOKUP(E17,tabel1,2,FALSE) -> 商品名称N06 | G17: =VLOOKUP(E17,tabel1,3,FALSE) -> 298 | H17: 15 | I17: =G17*H17 -> 4470 | J17: 20 | K17: 7490 | L17: 已发货 | M17: 王五 | N17: 2017-10-8发货
A18: 201710003 | B18: 43011 | C18: CUM－0006 | D18: =VLOOKUP(C18,tabel2,2,FALSE) -> 陈诚实业有限公司 | E18: DX-0006 | F18: =VLOOKUP(E18,tabel1,2,FALSE) -> 商品名称N06 | G18: =VLOOKUP(E18,tabel1,3,FALSE) -> 298 | H18: 15 | I18: =G18*H18 -> 4470 | J18: 20 | K18: 7790 | L18: 已发货 | M18: 王五 | N18: 2017-10-8发货
A19: 201710003 | B19: 43011 | C19: CUM－0006 | D19: =VLOOKUP(C19,tabel2,2,FALSE) -> 陈诚实业有限公司 | E19: DX-0006 | F19: =VLOOKUP(E19,tabel1,2,FALSE) -> 商品名称N06 | G19: =VLOOKUP(E19,tabel1,3,FALSE) -> 298 | H19: 20 | I19: =G19*H19 -> 5960 | J19: 20 | K19: 3780 | L19: 已发货 | N19: 2017-10-8发货
A20: 201710003 | B20: 43011 | C20: CUM－0006 | D20: =VLOOKUP(C20,tabel2,2,FALSE) -> 陈诚实业有限公司 | E20: DX-0006 | F20: =VLOOKUP(E20,tabel1,2,FALSE) -> 商品名称N06 | G20: =VLOOKUP(E20,tabel1,3,FALSE) -> 298 | H20: 50 | I20: =G20*H20 -> 14900 | J20: 20 | K20: 9920 | L20: 已发货 | N20: 2017-10-8发货
A21: 201710003 | B21: 43017 | C21: CUM－0006 | D21: =VLOOKUP(C21,tabel2,2,FALSE) -> 陈诚实业有限公司 | E21: DX-0006 | F21: =VLOOKUP(E21,tabel1,2,FALSE) -> 商品名称N06 | G21: =VLOOKUP(E21,tabel1,3,FALSE) -> 298 | H21: 20 | I21: =G21*H21 -> 5960 | J21: 20 | K21: 4420 | L21: 已发货 | N21: 2017-10-13发货

Sheet 订单明细查询
A1: 商品订单 | I1: 提取不重复订单号
E2: 订单号 | F2: 201710003 | I2: {=IF(ROW(1:1)>SUM(1/COUNTIF(dingdanhao,dingdanhao)),"",INDEX(dingdanhao,SMALL(IF(MATCH(dingdanhao,dingdanhao,)=ROW(dingdanhao)-1,ROW(dingdanhao)-1),ROW(1:1))))} -> 201710001
A3: 客户编号 | B3: =VLOOKUP(F2,tabel3,3,FALSE) -> CUM－0005 | C3: 客户名称 | D3: =VLOOKUP(B3,tabel2,2,FALSE) -> 小东实业有限公司 | I3: {=IF(ROW(2:2)>SUM(1/COUNTIF(dingdanhao,dingdanhao)),"",INDEX(dingdanhao,SMALL(IF(MATCH(dingdanhao,dingdanhao,)=ROW(dingdanhao)-1,ROW(dingdanhao)-1),ROW(2:2))))} -> 201710002
A4: 下单时间 | B4: =VLOOKUP(F2,tabel3,2,FALSE) -> 43011 | C4: 联系人 | D4: =VLOOKUP(B3,tabel2,3,FALSE) -> 林小东 | E4: 联系电话 | F4: =VLOOKUP(B3,tabel2,4,FALSE) -> 8788010、1301528105 | I4: {=IF(ROW(3:3)>SUM(1/COUNTIF(dingdanhao,dingdanhao)),"",INDEX(dingdanhao,SMALL(IF(MATCH(dingdanhao,dingdanhao,)=ROW(dingdanhao)-1,ROW(dingdanhao)-1),ROW(3:3))))} -> 201710003
A5: 电子邮箱 | B5: =VLOOKUP(B3,tabel2,7,FALSE) -> chen@163.net | C5: 微信 | D5: =VLOOKUP(B3,tabel2,8,FALSE) -> 3096666 | E5: QQ | F5: =VLOOKUP(B3,tabel2,9,FALSE) -> 52628672 | I5: {=IF(ROW(4:4)>SUM(1/COUNTIF(dingdanhao,dingdanhao)),"",INDEX(dingdanhao,SMALL(IF(MATCH(dingdanhao,dingdanhao,)=ROW(dingdanhao)-1,ROW(dingdanhao)-1),ROW(4:4))))}
A6: 邮编 | B6: =VLOOKUP(B3,tabel2,5,FALSE) -> 610015 | C6: 收货地址 | D6: =VLOOKUP(B3,tabel2,6,FALSE) -> 北京市一环路209号 | I6: {=IF(ROW(5:5)>SUM(1/COUNTIF(dingdanhao,dingdanhao)),"",INDEX(dingdanhao,SMALL(IF(MATCH(dingdanhao,dingdanhao,)=ROW(dingdanhao)-1,ROW(dingdanhao)-1),ROW(5:5))))}
A7: 订购商品明细 | I7: {=IF(ROW(6:6)>SUM(1/COUNTIF(dingdanhao,dingdanhao)),"",INDEX(dingdanhao,SMALL(IF(MATCH(dingdanhao,dingdanhao,)=ROW(dingdanhao)-1,ROW(dingdanhao)-1),ROW(6:6))))}
A8: 商品编号 | B8: 商品名称 | C8: 数量 | D8: 单价 | E8: 小计 | F8: 备注 | I8: {=IF(ROW(7:7)>SUM(1/COUNTIF(dingdanhao,dingdanhao)),"",INDEX(dingdanhao,SMALL(IF(MATCH(dingdanhao,dingdanhao,)=ROW(dingdanhao)-1,ROW(dingdanhao)-1),ROW(7:7))))}
A9: {=INDEX(订单数据录入!E$2:E$199,SMALL(IF(订单数据录入!$A$2:$A$59=$F$2*1,ROW($A$2:$A$59)-1,190),ROW(A1)))&""} -> DX-0006 | B9: {=INDEX(订单数据录入!F$2:F$199,SMALL(IF(订单数据录入!$A$2:$A$59=$F$2*1,ROW($A$2:$A$59)-1,190),ROW(B1)))&""} -> 商品名称N06 | C9: {=INDEX(订单数据录入!H$2:H$199,SMALL(IF(订单数据录入!$A$2:$A$59=$F$2*1,ROW($A$2:$A$59)-1,190),ROW(C1)))&""} -> 15 | D9: {=INDEX(订单数据录入!G$2:G$199,SMALL(IF(订单数据录入!$A$2:$A$59=$F$2*1,ROW($A$2:$A$59)-1,190),ROW(D1)))&""} -> 298 | E9: {=INDEX(订单数据录入!I$2:I$199,SMALL(IF(订单数据录入!$A$2:$A$59=$F$2*1,ROW($A$2:$A$59)-1,190),ROW(E1)))&""} -> 4470 | F9: {=INDEX(订单数据录入!N$2:N$199,SMALL(IF(订单数据录入!$A$2:$A$59=$F$2*1,ROW($A$2:$A$59)-1,190),ROW(F1)))&""} -> 2017-10-8发货 | I9: {=IF(ROW(8:8)>SUM(1/COUNTIF(dingdanhao,dingdanhao)),"",INDEX(dingdanhao,SMALL(IF(MATCH(dingdanhao,dingdanhao,)=ROW(dingdanhao)-1,ROW(dingdanhao)-1),ROW(8:8))))}
A10: {=INDEX(订单数据录入!E$2:E$199,SMALL(IF(订单数据录入!$A$2:$A$59=$F$2*1,ROW($A$2:$A$59)-1,190),ROW(A2)))&""} -> DX-0006 | B10: {=INDEX(订单数据录入!F$2:F$199,SMALL(IF(订单数据录入!$A$2:$A$59=$F$2*1,ROW($A$2:$A$59)-1,190),ROW(B2)))&""} -> 商品名称N06 | C10: {=INDEX(订单数据录入!H$2:H$199,SMALL(IF(订单数据录入!$A$2:$A$59=$F$2*1,ROW($A$2:$A$59)-1,190),ROW(C2)))&""} -> 15 | D10: {=INDEX(订单数据录入!G$2:G$199,SMALL(IF(订单数据录入!$A$2:$A$59=$F$2*1,ROW($A$2:$A$59)-1,190),ROW(D2)))&""} -> 298 | E10: {=INDEX(订单数据录入!I$2:I$199,SMALL(IF(订单数据录入!$A$2:$A$59=$F$2*1,ROW($A$2:$A$59)-1,190),ROW(E2)))&""} -> 4470 | F10: {=INDEX(订单数据录入!N$2:N$199,SMALL(IF(订单数据录入!$A$2:$A$59=$F$2*1,ROW($A$2:$A$59)-1,190),ROW(F2)))&""} -> 2017-10-8发货 | I10: {=IF(ROW(9:9)>SUM(1/COUNTIF(dingdanhao,dingdanhao)),"",INDEX(dingdanhao,SMALL(IF(MATCH(dingdanhao,dingdanhao,)=ROW(dingdanhao)-1,ROW(dingdanhao)-1),ROW(9:9))))}
A11: {=INDEX(订单数据录入!E$2:E$199,SMALL(IF(订单数据录入!$A$2:$A$59=$F$2*1,ROW($A$2:$A$59)-1,190),ROW(A3)))&""} -> DX-0006 | B11: {=INDEX(订单数据录入!F$2:F$199,SMALL(IF(订单数据录入!$A$2:$A$59=$F$2*1,ROW($A$2:$A$59)-1,190),ROW(B3)))&""} -> 商品名称N06 | C11: {=INDEX(订单数据录入!H$2:H$199,SMALL(IF(订单数据录入!$A$2:$A$59=$F$2*1,ROW($A$2:$A$59)-1,190),ROW(C3)))&""} -> 15 | D11: {=INDEX(订单数据录入!G$2:G$199,SMALL(IF(订单数据录入!$A$2:$A$59=$F$2*1,ROW($A$2:$A$59)-1,190),ROW(D3)))&""} -> 298 | E11: {=INDEX(订单数据录入!I$2:I$199,SMALL(IF(订单数据录入!$A$2:$A$59=$F$2*1,ROW($A$2:$A$59)-1,190),ROW(E3)))&""} -> 4470 | F11: {=INDEX(订单数据录入!N$2:N$199,SMALL(IF(订单数据录入!$A$2:$A$59=$F$2*1,ROW($A$2:$A$59)-1,190),ROW(F3)))&""} -> 2017-10-8发货 | I11: {=IF(ROW(10:10)>SUM(1/COUNTIF(dingdanhao,dingdanhao)),"",INDEX(dingdanhao,SMALL(IF(MATCH(dingdanhao,dingdanhao,)=ROW(dingdanhao)-1,ROW(dingdanhao)-1),ROW(10:10))))}
A12: {=INDEX(订单数据录入!E$2:E$199,SMALL(IF(订单数据录入!$A$2:$A$59=$F$2*1,ROW($A$2:$A$59)-1,190),ROW(A4)))&""} -> DX-0006 | B12: {=INDEX(订单数据录入!F$2:F$199,SMALL(IF(订单数据录入!$A$2:$A$59=$F$2*1,ROW($A$2:$A$59)-1,190),ROW(B4)))&""} -> 商品名称N06 | C12: {=INDEX(订单数据录入!H$2:H$199,SMALL(IF(订单数据录入!$A$2:$A$59=$F$2*1,ROW($A$2:$A$59)-1,190),ROW(C4)))&""} -> 15 | D12: {=INDEX(订单数据录入!G$2:G$199,SMALL(IF(订单数据录入!$A$2:$A$59=$F$2*1,ROW($A$2:$A$59)-1,190),ROW(D4)))&""} -> 298 | E12: {=INDEX(订单数据录入!I$2:I$199,SMALL(IF(订单数据录入!$A$2:$A$59=$F$2*1,ROW($A$2:$A$59)-1,190),ROW(E4)))&""} -> 4470 | F12: {=INDEX(订单数据录入!N$2:N$199,SMALL(IF(订单数据录入!$A$2:$A$59=$F$2*1,ROW($A$2:$A$59)-1,190),ROW(F4)))&""} -> 2017-10-8发货 | I12: {=IF(ROW(11:11)>SUM(1/COUNTIF(dingdanhao,dingdanhao)),"",INDEX(dingdanhao,SMALL(IF(MATCH(dingdanhao,dingdanhao,)=ROW(dingdanhao)-1,ROW(dingdanhao)-1),ROW(11:11))))}
A13: {=INDEX(订单数据录入!E$2:E$199,SMALL(IF(订单数据录入!$A$2:$A$59=$F$2*1,ROW($A$2:$A$59)-1,190),ROW(A5)))&""} -> DX-0006 | B13: {=INDEX(订单数据录入!F$2:F$199,SMALL(IF(订单数据录入!$A$2:$A$59=$F$2*1,ROW($A$2:$A$59)-1,190),ROW(B5)))&""} -> 商品名称N06 | C13: {=INDEX(订单数据录入!H$2:H$199,SMALL(IF(订单数据录入!$A$2:$A$59=$F$2*1,ROW($A$2:$A$59)-1,190),ROW(C5)))&""} -> 15 | D13: {=INDEX(订单数据录入!G$2:G$199,SMALL(IF(订单数据录入!$A$2:$A$59=$F$2*1,ROW($A$2:$A$59)-1,190),ROW(D5)))&""} -> 298 | E13: {=INDEX(订单数据录入!I$2:I$199,SMALL(IF(订单数据录入!$A$2:$A$59=$F$2*1,ROW($A$2:$A$59)-1,190),ROW(E5)))&""} -> 4470 | F13: {=INDEX(订单数据录入!N$2:N$199,SMALL(IF(订单数据录入!$A$2:$A$59=$F$2*1,ROW($A$2:$A$59)-1,190),ROW(F5)))&""} -> 2017-10-8发货 | I13: {=IF(ROW(12:12)>SUM(1/COUNTIF(dingdanhao,dingdanhao)),"",INDEX(dingdanhao,SMALL(IF(MATCH(dingdanhao,dingdanhao,)=ROW(dingdanhao)-1,ROW(dingdanhao)-1),ROW(12:12))))}
A14: 合计 | B14: —— | C14: {=SUM(IF(q="",0,VALUE(q)))} -> 75 | D14: —— | E14: {=SUM(IF(amount="",0,VALUE(amount)))} -> 22350 | F14: —— | I14: {=IF(ROW(13:13)>SUM(1/COUNTIF(dingdanhao,dingdanhao)),"",INDEX(dingdanhao,SMALL(IF(MATCH(dingdanhao,dingdanhao,)=ROW(dingdanhao)-1,ROW(dingdanhao)-1),ROW(13:13))))}
A15: 实收货款 | B15: =SUMIF(订单数据录入!A2:A59,订单明细查询!F2,订单数据录入!K2:K59)-COUNTIF(订单数据录入!A2:A59,订单明细查询!F2)*20 -> 63300 | C15: 运费 | D15: =COUNTIF(订单数据录入!A2:A59,订单明细查询!F2)*20 -> 180 | E15: 折扣率 | F15: =(E14-B15)/E14 -> -1.8322148 | I15: {=IF(ROW(14:14)>SUM(1/COUNTIF(dingdanhao,dingdanhao)),"",INDEX(dingdanhao,SMALL(IF(MATCH(dingdanhao,dingdanhao,)=ROW(dingdanhao)-1,ROW(dingdanhao)-1),ROW(14:14))))}
A16: 订单状态 | B16: =VLOOKUP(F2,tabel3,12,FALSE) -> 已发货 | C16: 订单经手人 | D16: =VLOOKUP(F2,tabel3,13,FALSE) -> 王五 | I16: {=IF(ROW(15:15)>SUM(1/COUNTIF(dingdanhao,dingdanhao)),"",INDEX(dingdanhao,SMALL(IF(MATCH(dingdanhao,dingdanhao,)=ROW(dingdanhao)-1,ROW(dingdanhao)-1),ROW(15:15))))}
I17: {=IF(ROW(16:16)>SUM(1/COUNTIF(dingdanhao,dingdanhao)),"",INDEX(dingdanhao,SMALL(IF(MATCH(dingdanhao,dingdanhao,)=ROW(dingdanhao)-1,ROW(dingdanhao)-1),ROW(16:16))))}
I18: {=IF(ROW(17:17)>SUM(1/COUNTIF(dingdanhao,dingdanhao)),"",INDEX(dingdanhao,SMALL(IF(MATCH(dingdanhao,dingdanhao,)=ROW(dingdanhao)-1,ROW(dingdanhao)-1),ROW(17:17))))}
I19: {=IF(ROW(18:18)>SUM(1/COUNTIF(dingdanhao,dingdanhao)),"",INDEX(dingdanhao,SMALL(IF(MATCH(dingdanhao,dingdanhao,)=ROW(dingdanhao)-1,ROW(dingdanhao)-1),ROW(18:18))))}
I20: {=IF(ROW(19:19)>SUM(1/COUNTIF(dingdanhao,dingdanhao)),"",INDEX(dingdanhao,SMALL(IF(MATCH(dingdanhao,dingdanhao,)=ROW(dingdanhao)-1,ROW(dingdanhao)-1),ROW(19:19))))}
I21: {=IF(ROW(20:20)>SUM(1/COUNTIF(dingdanhao,dingdanhao)),"",INDEX(dingdanhao,SMALL(IF(MATCH(dingdanhao,dingdanhao,)=ROW(dingdanhao)-1,ROW(dingdanhao)-1),ROW(20:20))))}
I22: {=IF(ROW(21:21)>SUM(1/COUNTIF(dingdanhao,dingdanhao)),"",INDEX(dingdanhao,SMALL(IF(MATCH(dingdanhao,dingdanhao,)=ROW(dingdanhao)-1,ROW(dingdanhao)-1),ROW(21:21))))}
I23: {=IF(ROW(22:22)>SUM(1/COUNTIF(dingdanhao,dingdanhao)),"",INDEX(dingdanhao,SMALL(IF(MATCH(dingdanhao,dingdanhao,)=ROW(dingdanhao)-1,ROW(dingdanhao)-1),ROW(22:22))))}
I24: {=IF(ROW(23:23)>SUM(1/COUNTIF(dingdanhao,dingdanhao)),"",INDEX(dingdanhao,SMALL(IF(MATCH(dingdanhao,dingdanhao,)=ROW(dingdanhao)-1,ROW(dingdanhao)-1),ROW(23:23))))}
I25: {=IF(ROW(24:24)>SUM(1/COUNTIF(dingdanhao,dingdanhao)),"",INDEX(dingdanhao,SMALL(IF(MATCH(dingdanhao,dingdanhao,)=ROW(dingdanhao)-1,ROW(dingdanhao)-1),ROW(24:24))))}
I26: {=IF(ROW(26:26)>SUM(1/COUNTIF(dingdanhao,dingdanhao)),"",INDEX(dingdanhao,SMALL(IF(MATCH(dingdanhao,dingdanhao,)=ROW(dingdanhao)-1,ROW(dingdanhao)-1),ROW(26:26))))}

Sheet 订单自定义查询
A1: 订单查询
A2: 请输入要查询订单的起始和结束日期： | C2: 起始日期： | D2: 43009 | E2: 结束日期： | F2: 43011
A3: 筛选记录数汇总 | B3: =COUNTA($A:$A)-4 -> 23 | C3: 筛选结果数量汇总 | D3: {=SUM(IF(data1="",0,VALUE(data1)))} -> 370 | E3: 筛选结果金额汇总 | F3: {=SUM(IF(data2="",0,VALUE(data2)))} -> 100600
A4: 订单号 | B4: 客户姓名 | C4: 商品名称 | D4: 单价 | E4: 数量 | F4: 金额
A5: {=INDEX(订单数据录入!A$2:A$199,SMALL(IF(订单数据录入!$B$2:$B$59>=订单自定义查询!$D$2,IF(订单数据录入!$B$2:$B$59<=订单自定义查询!$F$2,ROW(订单数据录入!$B$2:$B$59)-1,190),190),ROW(A1)))&""} -> 201710001 | B5: {=INDEX(订单数据录入!D$2:D$199,SMALL(IF(订单数据录入!$B$2:$B$59>=订单自定义查询!$D$2,IF(订单数据录入!$B$2:$B$59<=订单自定义查询!$F$2,ROW(订单数据录入!$B$2:$B$59)-1,190),190),ROW(B1)))&""} -> 上海实业有限公司 | C5: {=INDEX(订单数据录入!F$2:F$199,SMALL(IF(订单数据录入!$B$2:$B$59>=订单自定义查询!$D$2,IF(订单数据录入!$B$2:$B$59<=订单自定义查询!$F$2,ROW(订单数据录入!$B$2:$B$59)-1,190),190),ROW(C1)))&""} -> 商品名称N01 | D5: {=INDEX(订单数据录入!G$2:G$199,SMALL(IF(订单数据录入!$B$2:$B$59>=订单自定义查询!$D$2,IF(订单数据录入!$B$2:$B$59<=订单自定义查询!$F$2,ROW(订单数据录入!$B$2:$B$59)-1,190),190),ROW(D1)))&""} -> 188 | E5: {=INDEX(订单数据录入!H$2:H$199,SMALL(IF(订单数据录入!$B$2:$B$59>=订单自定义查询!$D$2,IF(订单数据录入!$B$2:$B$59<=订单自定义查询!$F$2,ROW(订单数据录入!$B$2:$B$59)-1,190),190),ROW(E1)))&""} -> 20 | F5: {=INDEX(订单数据录入!I$2:I$199,SMALL(IF(订单数据录入!$B$2:$B$59>=订单自定义查询!$D$2,IF(订单数据录入!$B$2:$B$59<=订单自定义查询!$F$2,ROW(订单数据录入!$B$2:$B$59)-1,190),190),ROW(F1)))&""} -> 3760
A6: {=INDEX(订单数据录入!A$2:A$199,SMALL(IF(订单数据录入!$B$2:$B$59>=订单自定义查询!$D$2,IF(订单数据录入!$B$2:$B$59<=订单自定义查询!$F$2,ROW(订单数据录入!$B$2:$B$59)-1,190),190),ROW(A2)))&""} -> 201710001 | B6: {=INDEX(订单数据录入!D$2:D$199,SMALL(IF(订单数据录入!$B$2:$B$59>=订单自定义查询!$D$2,IF(订单数据录入!$B$2:$B$59<=订单自定义查询!$F$2,ROW(订单数据录入!$B$2:$B$59)-1,190),190),ROW(B2)))&""} -> 上海实业有限公司 | C6: {=INDEX(订单数据录入!F$2:F$199,SMALL(IF(订单数据录入!$B$2:$B$59>=订单自定义查询!$D$2,IF(订单数据录入!$B$2:$B$59<=订单自定义查询!$F$2,ROW(订单数据录入!$B$2:$B$59)-1,190),190),ROW(C2)))&""} -> 商品名称N02 | D6: {=INDEX(订单数据录入!G$2:G$199,SMALL(IF(订单数据录入!$B$2:$B$59>=订单自定义查询!$D$2,IF(订单数据录入!$B$2:$B$59<=订单自定义查询!$F$2,ROW(订单数据录入!$B$2:$B$59)-1,190),190),ROW(D2)))&""} -> 198 | E6: {=INDEX(订单数据录入!H$2:H$199,SMALL(IF(订单数据录入!$B$2:$B$59>=订单自定义查询!$D$2,IF(订单数据录入!$B$2:$B$59<=订单自定义查询!$F$2,ROW(订单数据录入!$B$2:$B$59)-1,190),190),ROW(E2)))&""} -> 50 | F6: {=INDEX(订单数据录入!I$2:I$199,SMALL(IF(订单数据录入!$B$2:$B$59>=订单自定义查询!$D$2,IF(订单数据录入!$B$2:$B$59<=订单自定义查询!$F$2,ROW(订单数据录入!$B$2:$B$59)-1,190),190),ROW(F2)))&""} -> 9900
A7: {=INDEX(订单数据录入!A$2:A$199,SMALL(IF(订单数据录入!$B$2:$B$59>=订单自定义查询!$D$2,IF(订单数据录入!$B$2:$B$59<=订单自定义查询!$F$2,ROW(订单数据录入!$B$2:$B$59)-1,190),190),ROW(A3)))&""} -> 201710001 | B7: {=INDEX(订单数据录入!D$2:D$199,SMALL(IF(订单数据录入!$B$2:$B$59>=订单自定义查询!$D$2,IF(订单数据录入!$B$2:$B$59<=订单自定义查询!$F$2,ROW(订单数据录入!$B$2:$B$59)-1,190),190),ROW(B3)))&""} -> 上海实业有限公司 | C7: {=INDEX(订单数据录入!F$2:F$199,SMALL(IF(订单数据录入!$B$2:$B$59>=订单自定义查询!$D$2,IF(订单数据录入!$B$2:$B$59<=订单自定义查询!$F$2,ROW(订单数据录入!$B$2:$B$59)-1,190),190),ROW(C3)))&""} -> 商品名称N03 | D7: {=INDEX(订单数据录入!G$2:G$199,SMALL(IF(订单数据录入!$B$2:$B$59>=订单自定义查询!$D$2,IF(订单数据录入!$B$2:$B$59<=订单自定义查询!$F$2,ROW(订单数据录入!$B$2:$B$59)-1,190),190),ROW(D3)))&""} -> 220 | E7: {=INDEX(订单数据录入!H$2:H$199,SMALL(IF(订单数据录入!$B$2:$B$59>=订单自定义查询!$D$2,IF(订单数据录入!$B$2:$B$59<=订单自定义查询!$F$2,ROW(订单数据录入!$B$2:$B$59)-1,190),190),ROW(E3)))&""} -> 20 | F7: {=INDEX(订单数据录入!I$2:I$199,SMALL(IF(订单数据录入!$B$2:$B$59>=订单自定义查询!$D$2,IF(订单数据录入!$B$2:$B$59<=订单自定义查询!$F$2,ROW(订单数据录入!$B$2:$B$59)-1,190),190),ROW(F3)))&""} -> 4400
A8: {=INDEX(订单数据录入!A$2:A$199,SMALL(IF(订单数据录入!$B$2:$B$59>=订单自定义查询!$D$2,IF(订单数据录入!$B$2:$B$59<=订单自定义查询!$F$2,ROW(订单数据录入!$B$2:$B$59)-1,190),190),ROW(A4)))&""} -> 201710001 | B8: {=INDEX(订单数据录入!D$2:D$199,SMALL(IF(订单数据录入!$B$2:$B$59>=订单自定义查询!$D$2,IF(订单数据录入!$B$2:$B$59<=订单自定义查询!$F$2,ROW(订单数据录入!$B$2:$B$59)-1,190),190),ROW(B4)))&""} -> 上海实业有限公司 | C8: {=INDEX(订单数据录入!F$2:F$199,SMALL(IF(订单数据录入!$B$2:$B$59>=订单自定义查询!$D$2,IF(订单数据录入!$B$2:$B$59<=订单自定义查询!$F$2,ROW(订单数据录入!$B$2:$B$59)-1,190),190),ROW(C4)))&""} -> 商品名称N04 | D8: {=INDEX(订单数据录入!G$2:G$199,SMALL(IF(订单数据录入!$B$2:$B$59>=订单自定义查询!$D$2,IF(订单数据录入!$B$2:$B$59<=订单自定义查询!$F$2,ROW(订单数据录入!$B$2:$B$59)-1,190),190),ROW(D4)))&""} -> 258 | E8: {=INDEX(订单数据录入!H$2:H$199,SMALL(IF(订单数据录入!$B$2:$B$59>=订单自定义查询!$D$2,IF(订单数据录入!$B$2:$B$59<=订单自定义查询!$F$2,ROW(订单数据录入!$B$2:$B$59)-1,190),190),ROW(E4)))&""} -> 15 | F8: {=INDEX(订单数据录入!I$2:I$199,SMALL(IF(订单数据录入!$B$2:$B$59>=订单自定义查询!$D$2,IF(订单数据录入!$B$2:$B$59<=订单自定义查询!$F$2,ROW(订单数据录入!$B$2:$B$59)-1,190),190),ROW(F4)))&""} -> 3870
A9: {=INDEX(订单数据录入!A$2:A$199,SMALL(IF(订单数据录入!$B$2:$B$59>=订单自定义查询!$D$2,IF(订单数据录入!$B$2:$B$59<=订单自定义查询!$F$2,ROW(订单数据录入!$B$2:$B$59)-1,190),190),ROW(A5)))&""} -> 201710002 | B9: {=INDEX(订单数据录入!D$2:D$199,SMALL(IF(订单数据录入!$B$2:$B$59>=订单自定义查询!$D$2,IF(订单数据录入!$B$2:$B$59<=订单自定义查询!$F$2,ROW(订单数据录入!$B$2:$B$59)-1,190),190),ROW(B5)))&""} -> 北京实业有限公司 | C9: {=INDEX(订单数据录入!F$2:F$199,SMALL(IF(订单数据录入!$B$2:$B$59>=订单自定义查询!$D$2,IF(订单数据录入!$B$2:$B$59<=订单自定义查询!$F$2,ROW(订单数据录入!$B$2:$B$59)-1,190),190),ROW(C5)))&""} -> 商品名称N05 | D9: {=INDEX(订单数据录入!G$2:G$199,SMALL(IF(订单数据录入!$B$2:$B$59>=订单自定义查询!$D$2,IF(订单数据录入!$B$2:$B$59<=订单自定义查询!$F$2,ROW(订单数据录入!$B$2:$B$59)-1,190),190),ROW(D5)))&""} -> 278 | E9: {=INDEX(订单数据录入!H$2:H$199,SMALL(IF(订单数据录入!$B$2:$B$59>=订单自定义查询!$D$2,IF(订单数据录入!$B$2:$B$59<=订单自定义查询!$F$2,ROW(订单数据录入!$B$2:$B$59)-1,190),190),ROW(E5)))&""} -> 15 | F9: {=INDEX(订单数据录入!I$2:I$199,SMALL(IF(订单数据录入!$B$2:$B$59>=订单自定义查询!$D$2,IF(订单数据录入!$B$2:$B$59<=订单自定义查询!$F$2,ROW(订单数据录入!$B$2:$B$59)-1,190),190),ROW(F5)))&""} -> 4170
A10: {=INDEX(订单数据录入!A$2:A$199,SMALL(IF(订单数据录入!$B$2:$B$59>=订单自定义查询!$D$2,IF(订单数据录入!$B$2:$B$59<=订单自定义查询!$F$2,ROW(订单数据录入!$B$2:$B$59)-1,190),190),ROW(A6)))&""} -> 201710002 | B10: {=INDEX(订单数据录入!D$2:D$199,SMALL(IF(订单数据录入!$B$2:$B$59>=订单自定义查询!$D$2,IF(订单数据录入!$B$2:$B$59<=订单自定义查询!$F$2,ROW(订单数据录入!$B$2:$B$59)-1,190),190),ROW(B6)))&""} -> 北京实业有限公司 | C10: {=INDEX(订单数据录入!F$2:F$199,SMALL(IF(订单数据录入!$B$2:$B$59>=订单自定义查询!$D$2,IF(订单数据录入!$B$2:$B$59<=订单自定义查询!$F$2,ROW(订单数据录入!$B$2:$B$59)-1,190),190),ROW(C6)))&""} -> 商品名称N06 | D10: {=INDEX(订单数据录入!G$2:G$199,SMALL(IF(订单数据录入!$B$2:$B$59>=订单自定义查询!$D$2,IF(订单数据录入!$B$2:$B$59<=订单自定义查询!$F$2,ROW(订单数据录入!$B$2:$B$59)-1,190),190),ROW(D6)))&""} -> 298 | E10: {=INDEX(订单数据录入!H$2:H$199,SMALL(IF(订单数据录入!$B$2:$B$59>=订单自定义查询!$D$2,IF(订单数据录入!$B$2:$B$59<=订单自定义查询!$F$2,ROW(订单数据录入!$B$2:$B$59)-1,190),190),ROW(E6)))&""} -> 15 | F10: {=INDEX(订单数据录入!I$2:I$199,SMALL(IF(订单数据录入!$B$2:$B$59>=订单自定义查询!$D$2,IF(订单数据录入!$B$2:$B$59<=订单自定义查询!$F$2,ROW(订单数据录入!$B$2:$B$59)-1,190),190),ROW(F6)))&""} -> 4470
A11: {=INDEX(订单数据录入!A$2:A$199,SMALL(IF(订单数据录入!$B$2:$B$59>=订单自定义查询!$D$2,IF(订单数据录入!$B$2:$B$59<=订单自定义查询!$F$2,ROW(订单数据录入!$B$2:$B$59)-1,190),190),ROW(A7)))&""} -> 201710002 | B11: {=INDEX(订单数据录入!D$2:D$199,SMALL(IF(订单数据录入!$B$2:$B$59>=订单自定义查询!$D$2,IF(订单数据录入!$B$2:$B$59<=订单自定义查询!$F$2,ROW(订单数据录入!$B$2:$B$59)-1,190),190),ROW(B7)))&""} -> 维佳实业有限公司 | C11: {=INDEX(订单数据录入!F$2:F$199,SMALL(IF(订单数据录入!$B$2:$B$59>=订单自定义查询!$D$2,IF(订单数据录入!$B$2:$B$59<=订单自定义查询!$F$2,ROW(订单数据录入!$B$2:$B$59)-1,190),190),ROW(C7)))&""} -> 商品名称N06 | D11: {=INDEX(订单数据录入!G$2:G$199,SMALL(IF(订单数据录入!$B$2:$B$59>=订单自定义查询!$D$2,IF(订单数据录入!$B$2:$B$59<=订单自定义查询!$F$2,ROW(订单数据录入!$B$2:$B$59)-1,190),190),ROW(D7)))&""} -> 298 | E11: {=INDEX(订单数据录入!H$2:H$199,SMALL(IF(订单数据录入!$B$2:$B$59>=订单自定义查询!$D$2,IF(订单数据录入!$B$2:$B$59<=订单自定义查询!$F$2,ROW(订单数据录入!$B$2:$B$59)-1,190),190),ROW(E7)))&""} -> 15 | F11: {=INDEX(订单数据录入!I$2:I$199,SMALL(IF(订单数据录入!$B$2:$B$59>=订单自定义查询!$D$2,IF(订单数据录入!$B$2:$B$59<=订单自定义查询!$F$2,ROW(订单数据录入!$B$2:$B$59)-1,190),190),ROW(F7)))&""} -> 4470
A12: {=INDEX(订单数据录入!A$2:A$199,SMALL(IF(订单数据录入!$B$2:$B$59>=订单自定义查询!$D$2,IF(订单数据录入!$B$2:$B$59<=订单自定义查询!$F$2,ROW(订单数据录入!$B$2:$B$59)-1,190),190),ROW(A8)))&""} -> 201710002 | B12: {=INDEX(订单数据录入!D$2:D$199,SMALL(IF(订单数据录入!$B$2:$B$59>=订单自定义查询!$D$2,IF(订单数据录入!$B$2:$B$59<=订单自定义查询!$F$2,ROW(订单数据录入!$B$2:$B$59)-1,190),190),ROW(B8)))&""} -> 维佳实业有限公司 | C12: {=INDEX(订单数据录入!F$2:F$199,SMALL(IF(订单数据录入!$B$2:$B$59>=订单自定义查询!$D$2,IF(订单数据录入!$B$2:$B$59<=订单自定义查询!$F$2,ROW(订单数据录入!$B$2:$B$59)-1,190),190),ROW(C8)))&""} -> 商品名称N06 | D12: {=INDEX(订单数据录入!G$2:G$199,SMALL(IF(订单数据录入!$B$2:$B$59>=订单自定义查询!$D$2,IF(订单数据录入!$B$2:$B$59<=订单自定义查询!$F$2,ROW(订单数据录入!$B$2:$B$59)-1,190),190),ROW(D8)))&""} -> 298 | E12: {=INDEX(订单数据录入!H$2:H$199,SMALL(IF(订单数据录入!$B$2:$B$59>=订单自定义查询!$D$2,IF(订单数据录入!$B$2:$B$59<=订单自定义查询!$F$2,ROW(订单数据录入!$B$2:$B$59)-1,190),190),ROW(E8)))&""} -> 15 | F12: {=INDEX(订单数据录入!I$2:I$199,SMALL(IF(订单数据录入!$B$2:$B$59>=订单自定义查询!$D$2,IF(订单数据录入!$B$2:$B$59<=订单自定义查询!$F$2,ROW(订单数据录入!$B$2:$B$59)-1,190),190),ROW(F8)))&""} -> 4470
A13: {=INDEX(订单数据录入!A$2:A$199,SMALL(IF(订单数据录入!$B$2:$B$59>=订单自定义查询!$D$2,IF(订单数据录入!$B$2:$B$59<=订单自定义查询!$F$2,ROW(订单数据录入!$B$2:$B$59)-1,190),190),ROW(A9)))&""} -> 201710002 | B13: {=INDEX(订单数据录入!D$2:D$199,SMALL(IF(订单数据录入!$B$2:$B$59>=订单自定义查询!$D$2,IF(订单数据录入!$B$2:$B$59<=订单自定义查询!$F$2,ROW(订单数据录入!$B$2:$B$59)-1,190),190),ROW(B9)))&""} -> 维佳实业有限公司 | C13: {=INDEX(订单数据录入!F$2:F$199,SMALL(IF(订单数据录入!$B$2:$B$59>=订单自定义查询!$D$2,IF(订单数据录入!$B$2:$B$59<=订单自定义查询!$F$2,ROW(订单数据录入!$B$2:$B$59)-1,190),190),ROW(C9)))&""} -> 商品名称N06 | D13: {=INDEX(订单数据录入!G$2:G$199,SMALL(IF(订单数据录入!$B$2:$B$59>=订单自定义查询!$D$2,IF(订单数据录入!$B$2:$B$59<=订单自定义查询!$F$2,ROW(订单数据录入!$B$2:$B$59)-1,190),190),ROW(D9)))&""} -> 298 | E13: {=INDEX(订单数据录入!H$2:H$199,SMALL(IF(订单数据录入!$B$2:$B$59>=订单自定义查询!$D$2,IF(订单数据录入!$B$2:$B$59<=订单自定义查询!$F$2,ROW(订单数据录入!$B$2:$B$59)-1,190),190),ROW(E9)))&""} -> 15 | F13: {=INDEX(订单数据录入!I$2:I$199,SMALL(IF(订单数据录入!$B$2:$B$59>=订单自定义查询!$D$2,IF(订单数据录入!$B$2:$B$59<=订单自定义查询!$F$2,ROW(订单数据录入!$B$2:$B$59)-1,190),190),ROW(F9)))&""} -> 4470
A14: {=INDEX(订单数据录入!A$2:A$199,SMALL(IF(订单数据录入!$B$2:$B$59>=订单自定义查询!$D$2,IF(订单数据录入!$B$2:$B$59<=订单自定义查询!$F$2,ROW(订单数据录入!$B$2:$B$59)-1,190),190),ROW(A10)))&""} -> 201710002 | B14: {=INDEX(订单数据录入!D$2:D$199,SMALL(IF(订单数据录入!$B$2:$B$59>=订单自定义查询!$D$2,IF(订单数据录入!$B$2:$B$59<=订单自定义查询!$F$2,ROW(订单数据录入!$B$2:$B$59)-1,190),190),ROW(B10)))&""} -> 明惠实业有限公司 | C14: {=INDEX(订单数据录入!F$2:F$199,SMALL(IF(订单数据录入!$B$2:$B$59>=订单自定义查询!$D$2,IF(订单数据录入!$B$2:$B$59<=订单自定义查询!$F$2,ROW(订单数据录入!$B$2:$B$59)-1,190),190),ROW(C10)))&""} -> 商品名称N06 | D14: {=INDEX(订单数据录入!G$2:G$199,SMALL(IF(订单数据录入!$B$2:$B$59>=订单自定义查询!$D$2,IF(订单数据录入!$B$2:$B$59<=订单自定义查询!$F$2,ROW(订单数据录入!$B$2:$B$59)-1,190),190),ROW(D10)))&""} -> 298 | E14: {=INDEX(订单数据录入!H$2:H$199,SMALL(IF(订单数据录入!$B$2:$B$59>=订单自定义查询!$D$2,IF(订单数据录入!$B$2:$B$59<=订单自定义查询!$F$2,ROW(订单数据录入!$B$2:$B$59)-1,190),190),ROW(E10)))&""} -> 15 | F14: {=INDEX(订单数据录入!I$2:I$199,SMALL(IF(订单数据录入!$B$2:$B$59>=订单自定义查询!$D$2,IF(订单数据录入!$B$2:$B$59<=订单自定义查询!$F$2,ROW(订单数据录入!$B$2:$B$59)-1,190),190),ROW(F10)))&""} -> 4470
A15: {=INDEX(订单数据录入!A$2:A$199,SMALL(IF(订单数据录入!$B$2:$B$59>=订单自定义查询!$D$2,IF(订单数据录入!$B$2:$B$59<=订单自定义查询!$F$2,ROW(订单数据录入!$B$2:$B$59)-1,190),190),ROW(A11)))&""} -> 201710002 | B15: {=INDEX(订单数据录入!D$2:D$199,SMALL(IF(订单数据录入!$B$2:$B$59>=订单自定义查询!$D$2,IF(订单数据录入!$B$2:$B$59<=订单自定义查询!$F$2,ROW(订单数据录入!$B$2:$B$59)-1,190),190),ROW(B11)))&""} -> 明惠实业有限公司 | C15: {=INDEX(订单数据录入!F$2:F$199,SMALL(IF(订单数据录入!$B$2:$B$59>=订单自定义查询!$D$2,IF(订单数据录入!$B$2:$B$59<=订单自定义查询!$F$2,ROW(订单数据录入!$B$2:$B$59)-1,190),190),ROW(C11)))&""} -> 商品名称N06 | D15: {=INDEX(订单数据录入!G$2:G$199,SMALL(IF(订单数据录入!$B$2:$B$59>=订单自定义查询!$D$2,IF(订单数据录入!$B$2:$B$59<=订单自定义查询!$F$2,ROW(订单数据录入!$B$2:$B$59)-1,190),190),ROW(D11)))&""} -> 298 | E15: {=INDEX(订单数据录入!H$2:H$199,SMALL(IF(订单数据录入!$B$2:$B$59>=订单自定义查询!$D$2,IF(订单数据录入!$B$2:$B$59<=订单自定义查询!$F$2,ROW(订单数据录入!$B$2:$B$59)-1,190),190),ROW(E11)))&""} -> 15 | F15: {=INDEX(订单数据录入!I$2:I$199,SMALL(IF(订单数据录入!$B$2:$B$59>=订单自定义查询!$D$2,IF(订单数据录入!$B$2:$B$59<=订单自定义查询!$F$2,ROW(订单数据录入!$B$2:$B$59)-1,190),190),ROW(F11)))&""} -> 4470
A16: {=INDEX(订单数据录入!A$2:A$199,SMALL(IF(订单数据录入!$B$2:$B$59>=订单自定义查询!$D$2,IF(订单数据录入!$B$2:$B$59<=订单自定义查询!$F$2,ROW(订单数据录入!$B$2:$B$59)-1,190),190),ROW(A12)))&""} -> 201710003 | B16: {=INDEX(订单数据录入!D$2:D$199,SMALL(IF(订单数据录入!$B$2:$B$59>=订单自定义查询!$D$2,IF(订单数据录入!$B$2:$B$59<=订单自定义查询!$F$2,ROW(订单数据录入!$B$2:$B$59)-1,190),190),ROW(B12)))&""} -> 小东实业有限公司 | C16: {=INDEX(订单数据录入!F$2:F$199,SMALL(IF(订单数据录入!$B$2:$B$59>=订单自定义查询!$D$2,IF(订单数据录入!$B$2:$B$59<=订单自定义查询!$F$2,ROW(订单数据录入!$B$2:$B$59)-1,190),190),ROW(C12)))&""} -> 商品名称N06 | D16: {=INDEX(订单数据录入!G$2:G$199,SMALL(IF(订单数据录入!$B$2:$B$59>=订单自定义查询!$D$2,IF(订单数据录入!$B$2:$B$59<=订单自定义查询!$F$2,ROW(订单数据录入!$B$2:$B$59)-1,190),190),ROW(D12)))&""} -> 298 | E16: {=INDEX(订单数据录入!H$2:H$199,SMALL(IF(订单数据录入!$B$2:$B$59>=订单自定义查询!$D$2,IF(订单数据录入!$B$2:$B$59<=订单自定义查询!$F$2,ROW(订单数据录入!$B$2:$B$59)-1,190),190),ROW(E12)))&""} -> 15 | F16: {=INDEX(订单数据录入!I$2:I$199,SMALL(IF(订单数据录入!$B$2:$B$59>=订单自定义查询!$D$2,IF(订单数据录入!$B$2:$B$59<=订单自定义查询!$F$2,ROW(订单数据录入!$B$2:$B$59)-1,190),190),ROW(F12)))&""} -> 4470
... A27: {=INDEX(订单数据录入!A$2:A$199,SMALL(IF(订单数据录入!$B$2:$B$59>=订单自定义查询!$D$2,IF(订单数据录入!$B$2:$B$59<=订单自定义查询!$F$2,ROW(订单数据录入!$B$2:$B$59)-1,190),190),ROW(A23)))&""} | B27: {=INDEX(订单数据录入!D$2:D$199,SMALL(IF(订单数据录入!$B$2:$B$59>=订单自定义查询!$D$2,IF(订单数据录入!$B$2:$B$59<=订单自定义查询!$F$2,ROW(订单数据录入!$B$2:$B$59)-1,190),190),ROW(B23)))&""} | C27: {=INDEX(订单数据录入!F$2:F$199,SMALL(IF(订单数据录入!$B$2:$B$59>=订单自定义查询!$D$2,IF(订单数据录入!$B$2:$B$59<=订单自定义查询!$F$2,ROW(订单数据录入!$B$2:$B$59)-1,190),190),ROW(C23)))&""} | D27: {=INDEX(订单数据录入!G$2:G$199,SMALL(IF(订单数据录入!$B$2:$B$59>=订单自定义查询!$D$2,IF(订单数据录入!$B$2:$B$59<=订单自定义查询!$F$2,ROW(订单数据录入!$B$2:$B$59)-1,190),190),ROW(D23)))&""} | E27: {=INDEX(订单数据录入!H$2:H$199,SMALL(IF(订单数据录入!$B$2:$B$59>=订单自定义查询!$D$2,IF(订单数据录入!$B$2:$B$59<=订单自定义查询!$F$2,ROW(订单数据录入!$B$2:$B$59)-1,190),190),ROW(E23)))&""} | F27: {=INDEX(订单数据录入!I$2:I$199,SMALL(IF(订单数据录入!$B$2:$B$59>=订单自定义查询!$D$2,IF(订单数据录入!$B$2:$B$59<=订单自定义查询!$F$2,ROW(订单数据录入!$B$2:$B$59)-1,190),190),ROW(F23)))&""}
B28: {=INDEX(订单数据录入!D$2:D$199,SMALL(IF(订单数据录入!$B$2:$B$59>=订单自定义查询!$D$2,IF(订单数据录入!$B$2:$B$59<=订单自定义查询!$F$2,ROW(订单数据录入!$B$2:$B$59)-1,190),190),ROW(B24)))&""} | C28: {=INDEX(订单数据录入!F$2:F$199,SMALL(IF(订单数据录入!$B$2:$B$59>=订单自定义查询!$D$2,IF(订单数据录入!$B$2:$B$59<=订单自定义查询!$F$2,ROW(订单数据录入!$B$2:$B$59)-1,190),190),ROW(C24)))&""} | D28: {=INDEX(订单数据录入!G$2:G$199,SMALL(IF(订单数据录入!$B$2:$B$59>=订单自定义查询!$D$2,IF(订单数据录入!$B$2:$B$59<=订单自定义查询!$F$2,ROW(订单数据录入!$B$2:$B$59)-1,190),190),ROW(D24)))&""} | E28: {=INDEX(订单数据录入!H$2:H$199,SMALL(IF(订单数据录入!$B$2:$B$59>=订单自定义查询!$D$2,IF(订单数据录入!$B$2:$B$59<=订单自定义查询!$F$2,ROW(订单数据录入!$B$2:$B$59)-1,190),190),ROW(E24)))&""} | F28: {=INDEX(订单数据录入!I$2:I$199,SMALL(IF(订单数据录入!$B$2:$B$59>=订单自定义查询!$D$2,IF(订单数据录入!$B$2:$B$59<=订单自定义查询!$F$2,ROW(订单数据录入!$B$2:$B$59)-1,190),190),ROW(F24)))&""}
B29: {=INDEX(订单数据录入!D$2:D$199,SMALL(IF(订单数据录入!$B$2:$B$59>=订单自定义查询!$D$2,IF(订单数据录入!$B$2:$B$59<=订单自定义查询!$F$2,ROW(订单数据录入!$B$2:$B$59)-1,190),190),ROW(B27)))&""} | C29: {=INDEX(订单数据录入!F$2:F$199,SMALL(IF(订单数据录入!$B$2:$B$59>=订单自定义查询!$D$2,IF(订单数据录入!$B$2:$B$59<=订单自定义查询!$F$2,ROW(订单数据录入!$B$2:$B$59)-1,190),190),ROW(C25)))&""} | D29: {=INDEX(订单数据录入!G$2:G$199,SMALL(IF(订单数据录入!$B$2:$B$59>=订单自定义查询!$D$2,IF(订单数据录入!$B$2:$B$59<=订单自定义查询!$F$2,ROW(订单数据录入!$B$2:$B$59)-1,190),190),ROW(D25)))&""} | E29: {=INDEX(订单数据录入!H$2:H$199,SMALL(IF(订单数据录入!$B$2:$B$59>=订单自定义查询!$D$2,IF(订单数据录入!$B$2:$B$59<=订单自定义查询!$F$2,ROW(订单数据录入!$B$2:$B$59)-1,190),190),ROW(E25)))&""} | F29: {=INDEX(订单数据录入!I$2:I$199,SMALL(IF(订单数据录入!$B$2:$B$59>=订单自定义查询!$D$2,IF(订单数据录入!$B$2:$B$59<=订单自定义查询!$F$2,ROW(订单数据录入!$B$2:$B$59)-1,190),190),ROW(F25)))&""}
B30: {=INDEX(订单数据录入!D$2:D$199,SMALL(IF(订单数据录入!$B$2:$B$59>=订单自定义查询!$D$2,IF(订单数据录入!$B$2:$B$59<=订单自定义查询!$F$2,ROW(订单数据录入!$B$2:$B$59)-1,190),190),ROW(B28)))&""} | C30: {=INDEX(订单数据录入!F$2:F$199,SMALL(IF(订单数据录入!$B$2:$B$59>=订单自定义查询!$D$2,IF(订单数据录入!$B$2:$B$59<=订单自定义查询!$F$2,ROW(订单数据录入!$B$2:$B$59)-1,190),190),ROW(C26)))&""} | D30: {=INDEX(订单数据录入!G$2:G$199,SMALL(IF(订单数据录入!$B$2:$B$59>=订单自定义查询!$D$2,IF(订单数据录入!$B$2:$B$59<=订单自定义查询!$F$2,ROW(订单数据录入!$B$2:$B$59)-1,190),190),ROW(D26)))&""} | E30: {=INDEX(订单数据录入!H$2:H$199,SMALL(IF(订单数据录入!$B$2:$B$59>=订单自定义查询!$D$2,IF(订单数据录入!$B$2:$B$59<=订单自定义查询!$F$2,ROW(订单数据录入!$B$2:$B$59)-1,190),190),ROW(E26)))&""} | F30: {=INDEX(订单数据录入!I$2:I$199,SMALL(IF(订单数据录入!$B$2:$B$59>=订单自定义查询!$D$2,IF(订单数据录入!$B$2:$B$59<=订单自定义查询!$F$2,ROW(订单数据录入!$B$2:$B$59)-1,190),190),ROW(F26)))&""}
B31: {=INDEX(订单数据录入!D$2:D$199,SMALL(IF(订单数据录入!$B$2:$B$59>=订单自定义查询!$D$2,IF(订单数据录入!$B$2:$B$59<=订单自定义查询!$F$2,ROW(订单数据录入!$B$2:$B$59)-1,190),190),ROW(B27)))&""} | C31: {=INDEX(订单数据录入!F$2:F$199,SMALL(IF(订单数据录入!$B$2:$B$59>=订单自定义查询!$D$2,IF(订单数据录入!$B$2:$B$59<=订单自定义查询!$F$2,ROW(订单数据录入!$B$2:$B$59)-1,190),190),ROW(C27)))&""} | D31: {=INDEX(订单数据录入!G$2:G$199,SMALL(IF(订单数据录入!$B$2:$B$59>=订单自定义查询!$D$2,IF(订单数据录入!$B$2:$B$59<=订单自定义查询!$F$2,ROW(订单数据录入!$B$2:$B$59)-1,190),190),ROW(D27)))&""}
B32: {=INDEX(订单数据录入!D$2:D$199,SMALL(IF(订单数据录入!$B$2:$B$59>=订单自定义查询!$D$2,IF(订单数据录入!$B$2:$B$59<=订单自定义查询!$F$2,ROW(订单数据录入!$B$2:$B$59)-1,190),190),ROW(B28)))&""} | C32: {=INDEX(订单数据录入!F$2:F$199,SMALL(IF(订单数据录入!$B$2:$B$59>=订单自定义查询!$D$2,IF(订单数据录入!$B$2:$B$59<=订单自定义查询!$F$2,ROW(订单数据录入!$B$2:$B$59)-1,190),190),ROW(C28)))&""} | D32: {=INDEX(订单数据录入!G$2:G$199,SMALL(IF(订单数据录入!$B$2:$B$59>=订单自定义查询!$D$2,IF(订单数据录入!$B$2:$B$59<=订单自定义查询!$F$2,ROW(订单数据录入!$B$2:$B$59)-1,190),190),ROW(D28)))&""}
B33: {=INDEX(订单数据录入!D$2:D$199,SMALL(IF(订单数据录入!$B$2:$B$59>=订单自定义查询!$D$2,IF(订单数据录入!$B$2:$B$59<=订单自定义查询!$F$2,ROW(订单数据录入!$B$2:$B$59)-1,190),190),ROW(B29)))&""} | C33: {=INDEX(订单数据录入!F$2:F$199,SMALL(IF(订单数据录入!$B$2:$B$59>=订单自定义查询!$D$2,IF(订单数据录入!$B$2:$B$59<=订单自定义查询!$F$2,ROW(订单数据录入!$B$2:$B$59)-1,190),190),ROW(C29)))&""} | D33: {=INDEX(订单数据录入!G$2:G$199,SMALL(IF(订单数据录入!$B$2:$B$59>=订单自定义查询!$D$2,IF(订单数据录入!$B$2:$B$59<=订单自定义查询!$F$2,ROW(订单数据录入!$B$2:$B$59)-1,190),190),ROW(D29)))&""}
B34: {=INDEX(订单数据录入!D$2:D$199,SMALL(IF(订单数据录入!$B$2:$B$59>=订单自定义查询!$D$2,IF(订单数据录入!$B$2:$B$59<=订单自定义查询!$F$2,ROW(订单数据录入!$B$2:$B$59)-1,190),190),ROW(B30)))&""} | C34: {=INDEX(订单数据录入!F$2:F$199,SMALL(IF(订单数据录入!$B$2:$B$59>=订单自定义查询!$D$2,IF(订单数据录入!$B$2:$B$59<=订单自定义查询!$F$2,ROW(订单数据录入!$B$2:$B$59)-1,190),190),ROW(C30)))&""}
B35: {=INDEX(订单数据录入!D$2:D$199,SMALL(IF(订单数据录入!$B$2:$B$59>=订单自定义查询!$D$2,IF(订单数据录入!$B$2:$B$59<=订单自定义查询!$F$2,ROW(订单数据录入!$B$2:$B$59)-1,190),190),ROW(B31)))&""}
B36: {=INDEX(订单数据录入!D$2:D$199,SMALL(IF(订单数据录入!$B$2:$B$59>=订单自定义查询!$D$2,IF(订单数据录入!$B$2:$B$59<=订单自定义查询!$F$2,ROW(订单数据录入!$B$2:$B$59)-1,190),190),ROW(B32)))&""}
B37: {=INDEX(订单数据录入!D$2:D$199,SMALL(IF(订单数据录入!$B$2:$B$59>=订单自定义查询!$D$2,IF(订单数据录入!$B$2:$B$59<=订单自定义查询!$F$2,ROW(订单数据录入!$B$2:$B$59)-1,190),190),ROW(B33)))&""}
