Workbook

Sheet 首页

Sheet 入库明细
B1: 产成品入库记录表
B2: 日期 | C2: 产品编码 | D2: 产品名称 | E2: 规格型号 | F2: 数量 | G2: 入库人 | H2: 备注
B3: 43101 | C3: P001 | D3: =IFERROR(VLOOKUP(C3,参数表!B:D,2,0),"") -> 产品1 | E3: =IFERROR(VLOOKUP(C3,参数表!B:D,3,0),"") -> 20*54 | F3: 5 | G3: 张三
B4: 43102 | C4: P002 | D4: =IFERROR(VLOOKUP(C4,参数表!B:D,2,0),"") -> 产品2 | E4: =IFERROR(VLOOKUP(C4,参数表!B:D,3,0),"") -> 31*54 | F4: 10 | G4: 张三
B5: 43103 | C5: P003 | D5: =IFERROR(VLOOKUP(C5,参数表!B:D,2,0),"") -> 产品3 | E5: =IFERROR(VLOOKUP(C5,参数表!B:D,3,0),"") -> 31*84 | F5: 60 | G5: 张三
B6: 43104 | C6: P004 | D6: =IFERROR(VLOOKUP(C6,参数表!B:D,2,0),"") -> 产品4 | E6: =IFERROR(VLOOKUP(C6,参数表!B:D,3,0),"") -> 62*75 | F6: 90 | G6: 张三
B7: 43105 | C7: P005 | D7: =IFERROR(VLOOKUP(C7,参数表!B:D,2,0),"") -> 产品5 | E7: =IFERROR(VLOOKUP(C7,参数表!B:D,3,0),"") -> 46*45 | F7: 47 | G7: 张三
B8: 43106 | C8: P006 | D8: =IFERROR(VLOOKUP(C8,参数表!B:D,2,0),"") -> 产品6 | E8: =IFERROR(VLOOKUP(C8,参数表!B:D,3,0),"") -> 96*12 | F8: 49 | G8: 张三
D9: =IFERROR(VLOOKUP(C9,参数表!B:D,2,0),"") | E9: =IFERROR(VLOOKUP(C9,参数表!B:D,3,0),"")
D10: =IFERROR(VLOOKUP(C10,参数表!B:D,2,0),"") | E10: =IFERROR(VLOOKUP(C10,参数表!B:D,3,0),"")
D11: =IFERROR(VLOOKUP(C11,参数表!B:D,2,0),"") | E11: =IFERROR(VLOOKUP(C11,参数表!B:D,3,0),"")
D12: =IFERROR(VLOOKUP(C12,参数表!B:D,2,0),"") | E12: =IFERROR(VLOOKUP(C12,参数表!B:D,3,0),"")
D13: =IFERROR(VLOOKUP(C13,参数表!B:D,2,0),"") | E13: =IFERROR(VLOOKUP(C13,参数表!B:D,3,0),"")
D14: =IFERROR(VLOOKUP(C14,参数表!B:D,2,0),"") | E14: =IFERROR(VLOOKUP(C14,参数表!B:D,3,0),"")
D15: =IFERROR(VLOOKUP(C15,参数表!B:D,2,0),"") | E15: =IFERROR(VLOOKUP(C15,参数表!B:D,3,0),"")
D16: =IFERROR(VLOOKUP(C16,参数表!B:D,2,0),"") | E16: =IFERROR(VLOOKUP(C16,参数表!B:D,3,0),"")
D17: =IFERROR(VLOOKUP(C17,参数表!B:D,2,0),"") | E17: =IFERROR(VLOOKUP(C17,参数表!B:D,3,0),"")
D18: =IFERROR(VLOOKUP(C18,参数表!B:D,2,0),"") | E18: =IFERROR(VLOOKUP(C18,参数表!B:D,3,0),"")
D19: =IFERROR(VLOOKUP(C19,参数表!B:D,2,0),"") | E19: =IFERROR(VLOOKUP(C19,参数表!B:D,3,0),"")
D20: =IFERROR(VLOOKUP(C20,参数表!B:D,2,0),"") | E20: =IFERROR(VLOOKUP(C20,参数表!B:D,3,0),"")
... D1000: =IFERROR(VLOOKUP(C1000,参数表!B:D,2,0),"") | E1000: =IFERROR(VLOOKUP(C1000,参数表!B:D,3,0),"")

Sheet 销售明细
B1: 产成品销售记录表
B2: 日期 | C2: 物料编码 | D2: 物料名称 | E2: 规格型号 | F2: 数量 | G2: 单价 | H2: 金额 | I2: 客户名称 | J2: 备注
B3: 43139 | C3: P001 | D3: =IFERROR(VLOOKUP(C3,参数表!B:D,2,0),"") -> 产品1 | E3: =IFERROR(VLOOKUP(C3,参数表!B:D,3,0),"") -> 20*54 | F3: 1 | G3: 1000 | H3: =F3*G3 -> 1000 | I3: 客户A
B4: 43140 | C4: P002 | D4: =IFERROR(VLOOKUP(C4,参数表!B:D,2,0),"") -> 产品2 | E4: =IFERROR(VLOOKUP(C4,参数表!B:D,3,0),"") -> 31*54 | F4: 6 | G4: 200 | H4: =F4*G4 -> 1200 | I4: 客户B
B5: 43141 | C5: P003 | D5: =IFERROR(VLOOKUP(C5,参数表!B:D,2,0),"") -> 产品3 | E5: =IFERROR(VLOOKUP(C5,参数表!B:D,3,0),"") -> 31*84 | F5: 25 | G5: 100 | H5: =F5*G5 -> 2500 | I5: 客户C
B6: 43142 | C6: P004 | D6: =IFERROR(VLOOKUP(C6,参数表!B:D,2,0),"") -> 产品4 | E6: =IFERROR(VLOOKUP(C6,参数表!B:D,3,0),"") -> 62*75 | F6: 2 | G6: 5000 | H6: =F6*G6 -> 10000 | I6: 客户D
B7: 43143 | C7: P005 | D7: =IFERROR(VLOOKUP(C7,参数表!B:D,2,0),"") -> 产品5 | E7: =IFERROR(VLOOKUP(C7,参数表!B:D,3,0),"") -> 46*45 | F7: 20 | G7: 340 | H7: =F7*G7 -> 6800 | I7: 客户A
B8: 43144 | C8: P006 | D8: =IFERROR(VLOOKUP(C8,参数表!B:D,2,0),"") -> 产品6 | E8: =IFERROR(VLOOKUP(C8,参数表!B:D,3,0),"") -> 96*12 | F8: 30 | G8: 612 | H8: =F8*G8 -> 18360 | I8: 客户C
D9: =IFERROR(VLOOKUP(C9,参数表!B:D,2,0),"") | E9: =IFERROR(VLOOKUP(C9,参数表!B:D,3,0),"") | H9: =F9*G9 -> 0
D10: =IFERROR(VLOOKUP(C10,参数表!B:D,2,0),"") | E10: =IFERROR(VLOOKUP(C10,参数表!B:D,3,0),"") | H10: =F10*G10 -> 0
D11: =IFERROR(VLOOKUP(C11,参数表!B:D,2,0),"") | E11: =IFERROR(VLOOKUP(C11,参数表!B:D,3,0),"") | H11: =F11*G11 -> 0
D12: =IFERROR(VLOOKUP(C12,参数表!B:D,2,0),"") | E12: =IFERROR(VLOOKUP(C12,参数表!B:D,3,0),"") | H12: =F12*G12 -> 0
D13: =IFERROR(VLOOKUP(C13,参数表!B:D,2,0),"") | E13: =IFERROR(VLOOKUP(C13,参数表!B:D,3,0),"") | H13: =F13*G13 -> 0
D14: =IFERROR(VLOOKUP(C14,参数表!B:D,2,0),"") | E14: =IFERROR(VLOOKUP(C14,参数表!B:D,3,0),"") | H14: =F14*G14 -> 0
D15: =IFERROR(VLOOKUP(C15,参数表!B:D,2,0),"") | E15: =IFERROR(VLOOKUP(C15,参数表!B:D,3,0),"") | H15: =F15*G15 -> 0
D16: =IFERROR(VLOOKUP(C16,参数表!B:D,2,0),"") | E16: =IFERROR(VLOOKUP(C16,参数表!B:D,3,0),"") | H16: =F16*G16 -> 0
D17: =IFERROR(VLOOKUP(C17,参数表!B:D,2,0),"") | E17: =IFERROR(VLOOKUP(C17,参数表!B:D,3,0),"") | H17: =F17*G17 -> 0
D18: =IFERROR(VLOOKUP(C18,参数表!B:D,2,0),"") | E18: =IFERROR(VLOOKUP(C18,参数表!B:D,3,0),"") | H18: =F18*G18 -> 0
D19: =IFERROR(VLOOKUP(C19,参数表!B:D,2,0),"") | E19: =IFERROR(VLOOKUP(C19,参数表!B:D,3,0),"") | H19: =F19*G19 -> 0
D20: =IFERROR(VLOOKUP(C20,参数表!B:D,2,0),"") | E20: =IFERROR(VLOOKUP(C20,参数表!B:D,3,0),"") | H20: =F20*G20 -> 0
... D1000: =IFERROR(VLOOKUP(C1000,参数表!B:D,2,0),"") | E1000: =IFERROR(VLOOKUP(C1000,参数表!B:D,3,0),"") | H1000: =F1000*G1000 -> 0

Sheet 产成品库存
B1: 产成品库存统计表
B2: 物料编码 | C2: 物料名称 | D2: 规格型号 | E2: 期初库存 | F2: 入库数量 | G2: 销售数量 | H2: 库存数量 | I2: 备注
B3: =IF(参数表!B2="","",参数表!B2) -> P001 | C3: =IFERROR(VLOOKUP(B3,参数表!B:D,2,0),"") -> 产品1 | D3: =IFERROR(VLOOKUP(B3,参数表!B:D,3,0),"") -> 20*54 | E3: 2 | F3: =SUMIFS(入库明细!F:F,入库明细!C:C,B3) -> 5 | G3: =SUMIFS(销售明细!F:F,销售明细!C:C,B3) -> 1 | H3: =E3+F3-G3 -> 6
B4: =IF(参数表!B3="","",参数表!B3) -> P002 | C4: =IFERROR(VLOOKUP(B4,参数表!B:D,2,0),"") -> 产品2 | D4: =IFERROR(VLOOKUP(B4,参数表!B:D,3,0),"") -> 31*54 | E4: 0 | F4: =SUMIFS(入库明细!F:F,入库明细!C:C,B4) -> 10 | G4: =SUMIFS(销售明细!F:F,销售明细!C:C,B4) -> 6 | H4: =E4+F4-G4 -> 4
B5: =IF(参数表!B4="","",参数表!B4) -> P003 | C5: =IFERROR(VLOOKUP(B5,参数表!B:D,2,0),"") -> 产品3 | D5: =IFERROR(VLOOKUP(B5,参数表!B:D,3,0),"") -> 31*84 | E5: 4 | F5: =SUMIFS(入库明细!F:F,入库明细!C:C,B5) -> 60 | G5: =SUMIFS(销售明细!F:F,销售明细!C:C,B5) -> 25 | H5: =E5+F5-G5 -> 39
B6: =IF(参数表!B5="","",参数表!B5) -> P004 | C6: =IFERROR(VLOOKUP(B6,参数表!B:D,2,0),"") -> 产品4 | D6: =IFERROR(VLOOKUP(B6,参数表!B:D,3,0),"") -> 62*75 | E6: 0 | F6: =SUMIFS(入库明细!F:F,入库明细!C:C,B6) -> 90 | G6: =SUMIFS(销售明细!F:F,销售明细!C:C,B6) -> 2 | H6: =E6+F6-G6 -> 88
B7: =IF(参数表!B6="","",参数表!B6) -> P005 | C7: =IFERROR(VLOOKUP(B7,参数表!B:D,2,0),"") -> 产品5 | D7: =IFERROR(VLOOKUP(B7,参数表!B:D,3,0),"") -> 46*45 | E7: 10 | F7: =SUMIFS(入库明细!F:F,入库明细!C:C,B7) -> 47 | G7: =SUMIFS(销售明细!F:F,销售明细!C:C,B7) -> 20 | H7: =E7+F7-G7 -> 37
B8: =IF(参数表!B7="","",参数表!B7) -> P006 | C8: =IFERROR(VLOOKUP(B8,参数表!B:D,2,0),"") -> 产品6 | D8: =IFERROR(VLOOKUP(B8,参数表!B:D,3,0),"") -> 96*12 | E8: 1 | F8: =SUMIFS(入库明细!F:F,入库明细!C:C,B8) -> 49 | G8: =SUMIFS(销售明细!F:F,销售明细!C:C,B8) -> 30 | H8: =E8+F8-G8 -> 20
B9: =IF(参数表!B8="","",参数表!B8) | C9: =IFERROR(VLOOKUP(B9,参数表!B:D,2,0),"") | D9: =IFERROR(VLOOKUP(B9,参数表!B:D,3,0),"") | F9: =SUMIFS(入库明细!F:F,入库明细!C:C,B9) -> 0 | G9: =SUMIFS(销售明细!F:F,销售明细!C:C,B9) -> 0 | H9: =E9+F9-G9 -> 0
B10: =IF(参数表!B9="","",参数表!B9) | C10: =IFERROR(VLOOKUP(B10,参数表!B:D,2,0),"") | D10: =IFERROR(VLOOKUP(B10,参数表!B:D,3,0),"") | F10: =SUMIFS(入库明细!F:F,入库明细!C:C,B10) -> 0 | G10: =SUMIFS(销售明细!F:F,销售明细!C:C,B10) -> 0 | H10: =E10+F10-G10 -> 0
B11: =IF(参数表!B10="","",参数表!B10) | C11: =IFERROR(VLOOKUP(B11,参数表!B:D,2,0),"") | D11: =IFERROR(VLOOKUP(B11,参数表!B:D,3,0),"") | F11: =SUMIFS(入库明细!F:F,入库明细!C:C,B11) -> 0 | G11: =SUMIFS(销售明细!F:F,销售明细!C:C,B11) -> 0 | H11: =E11+F11-G11 -> 0
B12: =IF(参数表!B11="","",参数表!B11) | C12: =IFERROR(VLOOKUP(B12,参数表!B:D,2,0),"") | D12: =IFERROR(VLOOKUP(B12,参数表!B:D,3,0),"") | F12: =SUMIFS(入库明细!F:F,入库明细!C:C,B12) -> 0 | G12: =SUMIFS(销售明细!F:F,销售明细!C:C,B12) -> 0 | H12: =E12+F12-G12 -> 0
B13: =IF(参数表!B12="","",参数表!B12) | C13: =IFERROR(VLOOKUP(B13,参数表!B:D,2,0),"") | D13: =IFERROR(VLOOKUP(B13,参数表!B:D,3,0),"") | F13: =SUMIFS(入库明细!F:F,入库明细!C:C,B13) -> 0 | G13: =SUMIFS(销售明细!F:F,销售明细!C:C,B13) -> 0 | H13: =E13+F13-G13 -> 0
B14: =IF(参数表!B13="","",参数表!B13) | C14: =IFERROR(VLOOKUP(B14,参数表!B:D,2,0),"") | D14: =IFERROR(VLOOKUP(B14,参数表!B:D,3,0),"") | F14: =SUMIFS(入库明细!F:F,入库明细!C:C,B14) -> 0 | G14: =SUMIFS(销售明细!F:F,销售明细!C:C,B14) -> 0 | H14: =E14+F14-G14 -> 0
B15: =IF(参数表!B14="","",参数表!B14) | C15: =IFERROR(VLOOKUP(B15,参数表!B:D,2,0),"") | D15: =IFERROR(VLOOKUP(B15,参数表!B:D,3,0),"") | F15: =SUMIFS(入库明细!F:F,入库明细!C:C,B15) -> 0 | G15: =SUMIFS(销售明细!F:F,销售明细!C:C,B15) -> 0 | H15: =E15+F15-G15 -> 0
B16: =IF(参数表!B15="","",参数表!B15) | C16: =IFERROR(VLOOKUP(B16,参数表!B:D,2,0),"") | D16: =IFERROR(VLOOKUP(B16,参数表!B:D,3,0),"") | F16: =SUMIFS(入库明细!F:F,入库明细!C:C,B16) -> 0 | G16: =SUMIFS(销售明细!F:F,销售明细!C:C,B16) -> 0 | H16: =E16+F16-G16 -> 0
B17: =IF(参数表!B16="","",参数表!B16) | C17: =IFERROR(VLOOKUP(B17,参数表!B:D,2,0),"") | D17: =IFERROR(VLOOKUP(B17,参数表!B:D,3,0),"") | F17: =SUMIFS(入库明细!F:F,入库明细!C:C,B17) -> 0 | G17: =SUMIFS(销售明细!F:F,销售明细!C:C,B17) -> 0 | H17: =E17+F17-G17 -> 0
B18: =IF(参数表!B17="","",参数表!B17) | C18: =IFERROR(VLOOKUP(B18,参数表!B:D,2,0),"") | D18: =IFERROR(VLOOKUP(B18,参数表!B:D,3,0),"") | F18: =SUMIFS(入库明细!F:F,入库明细!C:C,B18) -> 0 | G18: =SUMIFS(销售明细!F:F,销售明细!C:C,B18) -> 0 | H18: =E18+F18-G18 -> 0
B19: =IF(参数表!B18="","",参数表!B18) | C19: =IFERROR(VLOOKUP(B19,参数表!B:D,2,0),"") | D19: =IFERROR(VLOOKUP(B19,参数表!B:D,3,0),"") | F19: =SUMIFS(入库明细!F:F,入库明细!C:C,B19) -> 0 | G19: =SUMIFS(销售明细!F:F,销售明细!C:C,B19) -> 0 | H19: =E19+F19-G19 -> 0
B20: =IF(参数表!B19="","",参数表!B19) | C20: =IFERROR(VLOOKUP(B20,参数表!B:D,2,0),"") | D20: =IFERROR(VLOOKUP(B20,参数表!B:D,3,0),"") | F20: =SUMIFS(入库明细!F:F,入库明细!C:C,B20) -> 0 | G20: =SUMIFS(销售明细!F:F,销售明细!C:C,B20) -> 0 | H20: =E20+F20-G20 -> 0
... B500: =IF(参数表!B499="","",参数表!B499) | C500: =IFERROR(VLOOKUP(B500,参数表!B:D,2,0),"") | D500: =IFERROR(VLOOKUP(B500,参数表!B:D,3,0),"") | F500: =SUMIFS(入库明细!F:F,入库明细!C:C,B500) -> 0 | G500: =SUMIFS(销售明细!F:F,销售明细!C:C,B500) -> 0 | H500: =E500+F500-G500 -> 0

Sheet 库存查询表
B1: 库存查询表
B3: 请输入要查询的产品编码 | C3: P001
B4: 产品名称 | C4: =IFERROR(VLOOKUP(C3,产成品库存!B:I,2,0),"") -> 产品1
B5: 规格型号 | C5: =IFERROR(VLOOKUP(C3,产成品库存!B:I,3,0),"") -> 20*54
B6: 入库数量 | C6: =IFERROR(VLOOKUP(C3,产成品库存!B:I,5,0),"") -> 5
B7: 销售数量 | C7: =IFERROR(VLOOKUP(C3,产成品库存!B:I,6,0),"") -> 1
B8: 库存数量 | C8: =IFERROR(VLOOKUP(C3,产成品库存!B:I,7,0),"") -> 6

Sheet 收款记录
B1: 收款记录表
B2: 日期 | C2: 客户名称 | D2: 金额 | E2: 备注
B3: 42430 | C3: 客户A | D3: 7000
B4: 42431 | C4: 客户B | D4: 1200
B5: 42432 | C5: 客户C | D5: 10000
B6: 42463 | C6: 客户D | D6: 10000
B7: 42500 | C7: 客户C | D7: 10000

Sheet 应收账款统计
B1: 应收账款统计
B2: 供应商 | C2: 总应收金额 | D2: 已收金额 | E2: 剩余应收金额
B3: 客户A | C3: =SUMIF(销售明细!I:I,B3,销售明细!H:H) -> 7800 | D3: =SUMIF(收款记录!C:C,B3,收款记录!D:D) -> 7000 | E3: =C3-D3 -> 800
B4: 客户B | C4: =SUMIF(销售明细!I:I,B4,销售明细!H:H) -> 1200 | D4: =SUMIF(收款记录!C:C,B4,收款记录!D:D) -> 1200 | E4: =C4-D4 -> 0
B5: 客户C | C5: =SUMIF(销售明细!I:I,B5,销售明细!H:H) -> 20860 | D5: =SUMIF(收款记录!C:C,B5,收款记录!D:D) -> 20000 | E5: =C5-D5 -> 860
B6: 客户D | C6: =SUMIF(销售明细!I:I,B6,销售明细!H:H) -> 10000 | D6: =SUMIF(收款记录!C:C,B6,收款记录!D:D) -> 10000 | E6: =C6-D6 -> 0
C7: =SUMIF(销售明细!I:I,B7,销售明细!H:H) -> 0 | D7: =SUMIF(收款记录!C:C,B7,收款记录!D:D) -> 0 | E7: =C7-D7 -> 0
C8: =SUMIF(销售明细!I:I,B8,销售明细!H:H) -> 0 | D8: =SUMIF(收款记录!C:C,B8,收款记录!D:D) -> 0 | E8: =C8-D8 -> 0
C9: =SUMIF(销售明细!I:I,B9,销售明细!H:H) -> 0 | D9: =SUMIF(收款记录!C:C,B9,收款记录!D:D) -> 0 | E9: =C9-D9 -> 0
C10: =SUMIF(销售明细!I:I,B10,销售明细!H:H) -> 0 | D10: =SUMIF(收款记录!C:C,B10,收款记录!D:D) -> 0 | E10: =C10-D10 -> 0
C11: =SUMIF(销售明细!I:I,B11,销售明细!H:H) -> 0 | D11: =SUMIF(收款记录!C:C,B11,收款记录!D:D) -> 0 | E11: =C11-D11 -> 0
C12: =SUMIF(销售明细!I:I,B12,销售明细!H:H) -> 0 | D12: =SUMIF(收款记录!C:C,B12,收款记录!D:D) -> 0 | E12: =C12-D12 -> 0
C13: =SUMIF(销售明细!I:I,B13,销售明细!H:H) -> 0 | D13: =SUMIF(收款记录!C:C,B13,收款记录!D:D) -> 0 | E13: =C13-D13 -> 0
C14: =SUMIF(销售明细!I:I,B14,销售明细!H:H) -> 0 | D14: =SUMIF(收款记录!C:C,B14,收款记录!D:D) -> 0 | E14: =C14-D14 -> 0
C15: =SUMIF(销售明细!I:I,B15,销售明细!H:H) -> 0 | D15: =SUMIF(收款记录!C:C,B15,收款记录!D:D) -> 0 | E15: =C15-D15 -> 0
C16: =SUMIF(销售明细!I:I,B16,销售明细!H:H) -> 0 | D16: =SUMIF(收款记录!C:C,B16,收款记录!D:D) -> 0 | E16: =C16-D16 -> 0
C17: =SUMIF(销售明细!I:I,B17,销售明细!H:H) -> 0 | D17: =SUMIF(收款记录!C:C,B17,收款记录!D:D) -> 0 | E17: =C17-D17 -> 0
C18: =SUMIF(销售明细!I:I,B18,销售明细!H:H) -> 0 | D18: =SUMIF(收款记录!C:C,B18,收款记录!D:D) -> 0 | E18: =C18-D18 -> 0
... C20: =SUMIF(销售明细!I:I,B20,销售明细!H:H) -> 0 | D20: =SUMIF(收款记录!C:C,B20,收款记录!D:D) -> 0 | E20: =C20-D20 -> 0

Sheet 参数表
B1: 产品编码 | C1: 产品名称 | D1: 规格型号
B2: P001 | C2: 产品1 | D2: 20*54
B3: P002 | C3: 产品2 | D3: 31*54
B4: P003 | C4: 产品3 | D4: 31*84
B5: P004 | C5: 产品4 | D5: 62*75
B6: P005 | C6: 产品5 | D6: 46*45
B7: P006 | C7: 产品6 | D7: 96*12

Sheet 使用说明
B1: 使用说明
B2: 1、在入库明细及销售明细中按照所列内容进行录入即可，若需要增加记录的项目，在入库及销售明细表后面自行添加即可
B3: 2、产成品库存表中，需填入期初库存，入库数量、销售数量及库存数量中的公式下拉即可
B4: 3、库存查询表，输入所要查询的编码即可查询入库、销售数量即库存
B5: 4、收款记录表，客户的收款记录在该表中输入
B6: 5、应收账款统计表，需先列出所有的客户名称，即可自动统计每个客户总应收金额、已收金额、剩余应收金额
B7: 6、如果未涉及与客户的账务往来，收款记录，应收账款统计表不用记录即可
B8: 7、所有的公式均拉了一定数量的行数，若不够自行下拉即可
