Workbook

Sheet 菜单
B8: 入库单 | D8: 出库单 | F8: 库存单 | H8: 使用说明

Sheet 数据表
B1: 数据表
B2: 货品名称 | C2: 规格型号 | D2: 颜色 | E2: 单位
B3: HPMC-001 | C3: GGXH-001 | D3: 红色 | E3: 个
B4: HPMC-002 | C4: GGXH-002 | D4: 蓝色 | E4: 个
B5: HPMC-003 | C5: GGXH-003 | D5: 黑色 | E5: 个
B6: HPMC-004 | C6: GGXH-004 | D6: 黄色 | E6: 个
B7: HPMC-005 | C7: GGXH-005 | D7: 紫色 | E7: 个
B8: HPMC-006 | C8: GGXH-006 | D8: 金色 | E8: 个
B9: HPMC-007 | C9: GGXH-007 | D9: 橙色 | E9: 个

Sheet 入库表
A1: 入库单
A2: 进货日期 | B2: 货品名称 | C2: 规格型号 | D2: 颜色 | E2: 数量 | F2: 单位 | G2: 进货单价 | H2: 金额
A3: 42948 | B3: =数据表!B3 -> HPMC-001 | C3: =VLOOKUP(入库表!B3,数据表!B:D,2,0) -> GGXH-001 | D3: =VLOOKUP(B3,数据表!B:D,3,0) -> 红色 | E3: 192 | F3: =VLOOKUP(B3,数据表!B:E,4,0) -> 个 | G3: 16 | H3: =E3*G3 -> 3072
A4: 42949 | B4: =数据表!B4 -> HPMC-002 | C4: =VLOOKUP(入库表!B4,数据表!B:D,2,0) -> GGXH-002 | D4: =VLOOKUP(B4,数据表!B:D,3,0) -> 蓝色 | E4: 265 | F4: =VLOOKUP(B4,数据表!B:E,4,0) -> 个 | G4: 25 | H4: =E4*G4 -> 6625
A5: 42950 | B5: =数据表!B5 -> HPMC-003 | C5: =VLOOKUP(入库表!B5,数据表!B:D,2,0) -> GGXH-003 | D5: =VLOOKUP(B5,数据表!B:D,3,0) -> 黑色 | E5: 165 | F5: =VLOOKUP(B5,数据表!B:E,4,0) -> 个 | G5: 36 | H5: =E5*G5 -> 5940
A6: 42951 | B6: =数据表!B6 -> HPMC-004 | C6: =VLOOKUP(入库表!B6,数据表!B:D,2,0) -> GGXH-004 | D6: =VLOOKUP(B6,数据表!B:D,3,0) -> 黄色 | E6: 98 | F6: =VLOOKUP(B6,数据表!B:E,4,0) -> 个 | G6: 19 | H6: =E6*G6 -> 1862
A7: 42952 | B7: =数据表!B7 -> HPMC-005 | C7: =VLOOKUP(入库表!B7,数据表!B:D,2,0) -> GGXH-005 | D7: =VLOOKUP(B7,数据表!B:D,3,0) -> 紫色 | E7: 209 | F7: =VLOOKUP(B7,数据表!B:E,4,0) -> 个 | G7: 29 | H7: =E7*G7 -> 6061
A8: 42953 | B8: =数据表!B8 -> HPMC-006 | C8: =VLOOKUP(入库表!B8,数据表!B:D,2,0) -> GGXH-006 | D8: =VLOOKUP(B8,数据表!B:D,3,0) -> 金色 | E8: 368 | F8: =VLOOKUP(B8,数据表!B:E,4,0) -> 个 | G8: 37 | H8: =E8*G8 -> 13616
A9: 42954 | B9: =数据表!B9 -> HPMC-007 | C9: =VLOOKUP(入库表!B9,数据表!B:D,2,0) -> GGXH-007 | D9: =VLOOKUP(B9,数据表!B:D,3,0) -> 橙色 | E9: 189 | F9: =VLOOKUP(B9,数据表!B:E,4,0) -> 个 | G9: 30 | H9: =E9*G9 -> 5670

Sheet 出库表
B1: 出库单
B2: 出货日期 | C2: 货品名称 | D2: 规格型号 | E2: 颜色 | F2: 数量 | G2: 单位 | H2: 销售单价 | I2: 金额 | J2: 利润
B3: 43337 | C3: =数据表!B3 -> HPMC-001 | D3: =VLOOKUP(C3,数据表!B:D,2,0) -> GGXH-001 | E3: =VLOOKUP(C3,数据表!B:D,3,0) -> 红色 | F3: 65 | G3: =VLOOKUP(C3,数据表!B:E,4,0) -> 个 | H3: 25 | I3: =F3*H3 -> 1625 | J3: =(H3-入库表!G3)*出库表!F3 -> 585
B4: 43338 | C4: =数据表!B4 -> HPMC-002 | D4: =VLOOKUP(C4,数据表!B:D,2,0) -> GGXH-002 | E4: =VLOOKUP(C4,数据表!B:D,3,0) -> 蓝色 | F4: 192 | G4: =VLOOKUP(C4,数据表!B:E,4,0) -> 个 | H4: 37 | I4: =F4*H4 -> 7104 | J4: =(H4-入库表!G4)*出库表!F4 -> 2304
B5: 43339 | C5: =数据表!B5 -> HPMC-003 | D5: =VLOOKUP(C5,数据表!B:D,2,0) -> GGXH-003 | E5: =VLOOKUP(C5,数据表!B:D,3,0) -> 黑色 | F5: 108 | G5: =VLOOKUP(C5,数据表!B:E,4,0) -> 个 | H5: 45 | I5: =F5*H5 -> 4860 | J5: =(H5-入库表!G5)*出库表!F5 -> 972
B6: 43340 | C6: =数据表!B6 -> HPMC-004 | D6: =VLOOKUP(C6,数据表!B:D,2,0) -> GGXH-004 | E6: =VLOOKUP(C6,数据表!B:D,3,0) -> 黄色 | F6: 37 | G6: =VLOOKUP(C6,数据表!B:E,4,0) -> 个 | H6: 30 | I6: =F6*H6 -> 1110 | J6: =(H6-入库表!G6)*出库表!F6 -> 407
B7: 43341 | C7: =数据表!B7 -> HPMC-005 | D7: =VLOOKUP(C7,数据表!B:D,2,0) -> GGXH-005 | E7: =VLOOKUP(C7,数据表!B:D,3,0) -> 紫色 | F7: 163 | G7: =VLOOKUP(C7,数据表!B:E,4,0) -> 个 | H7: 41 | I7: =F7*H7 -> 6683 | J7: =(H7-入库表!G7)*出库表!F7 -> 1956
B8: 43342 | C8: =数据表!B8 -> HPMC-006 | D8: =VLOOKUP(C8,数据表!B:D,2,0) -> GGXH-006 | E8: =VLOOKUP(C8,数据表!B:D,3,0) -> 金色 | F8: 295 | G8: =VLOOKUP(C8,数据表!B:E,4,0) -> 个 | H8: 53 | I8: =F8*H8 -> 15635 | J8: =(H8-入库表!G8)*出库表!F8 -> 4720
B9: 43343 | C9: =数据表!B9 -> HPMC-007 | D9: =VLOOKUP(C9,数据表!B:D,2,0) -> GGXH-007 | E9: =VLOOKUP(C9,数据表!B:D,3,0) -> 橙色 | F9: 118 | G9: =VLOOKUP(C9,数据表!B:E,4,0) -> 个 | H9: 45 | I9: =F9*H9 -> 5310 | J9: =(H9-入库表!G9)*出库表!F9 -> 1770

Sheet 库存表
A1: 库存表
A2: 货品名称 | B2: 规格型号 | C2: 颜色 | D2: 数量 | E2: 单位
A3: =数据表!B3 -> HPMC-001 | B3: =VLOOKUP(A3,数据表!B:D,2,0) -> GGXH-001 | C3: =VLOOKUP(A3,数据表!B:D,3,0) -> 红色 | D3: =入库表!E3-出库表!F3 -> 127 | E3: =VLOOKUP(A3,数据表!B:E,4,0) -> 个
A4: =数据表!B4 -> HPMC-002 | B4: =VLOOKUP(A4,数据表!B:D,2,0) -> GGXH-002 | C4: =VLOOKUP(A4,数据表!B:D,3,0) -> 蓝色 | D4: =入库表!E4-出库表!F4 -> 73 | E4: =VLOOKUP(A4,数据表!B:E,4,0) -> 个
A5: =数据表!B5 -> HPMC-003 | B5: =VLOOKUP(A5,数据表!B:D,2,0) -> GGXH-003 | C5: =VLOOKUP(A5,数据表!B:D,3,0) -> 黑色 | D5: =入库表!E5-出库表!F5 -> 57 | E5: =VLOOKUP(A5,数据表!B:E,4,0) -> 个
A6: =数据表!B6 -> HPMC-004 | B6: =VLOOKUP(A6,数据表!B:D,2,0) -> GGXH-004 | C6: =VLOOKUP(A6,数据表!B:D,3,0) -> 黄色 | D6: =入库表!E6-出库表!F6 -> 61 | E6: =VLOOKUP(A6,数据表!B:E,4,0) -> 个
A7: =数据表!B7 -> HPMC-005 | B7: =VLOOKUP(A7,数据表!B:D,2,0) -> GGXH-005 | C7: =VLOOKUP(A7,数据表!B:D,3,0) -> 紫色 | D7: =入库表!E7-出库表!F7 -> 46 | E7: =VLOOKUP(A7,数据表!B:E,4,0) -> 个
A8: =数据表!B8 -> HPMC-006 | B8: =VLOOKUP(A8,数据表!B:D,2,0) -> GGXH-006 | C8: =VLOOKUP(A8,数据表!B:D,3,0) -> 金色 | D8: =入库表!E8-出库表!F8 -> 73 | E8: =VLOOKUP(A8,数据表!B:E,4,0) -> 个
A9: =数据表!B9 -> HPMC-007 | B9: =VLOOKUP(A9,数据表!B:D,2,0) -> GGXH-007 | C9: =VLOOKUP(A9,数据表!B:D,3,0) -> 橙色 | D9: =入库表!E9-出库表!F9 -> 71 | E9: =VLOOKUP(A9,数据表!B:E,4,0) -> 个

Sheet 使用说明
A1: 使用说明
A2: 1.可在数据表中自由输入货品的名称及型号 完成数据输入后入库表，出库表，库存表中 相应的数据会自动生成
A3: 2.入库表中的金额可自动生成
A4: 3.出库表中的金额、利润可自动生成
A5: 4.库存表中的数量可自动生成
