Workbook
Name link: INDIRECT(主界面和使用说明!$C1&"!a1")
Name qqq: 库存表!$T$5:$U$6

Sheet 主界面和使用说明
C3: Excel进销存含领料单打印及月报表
D5: 月份 | E5: 43435
C8: 基础资料 | E8: 出入库单 | G8: 综合查询
C10: 产品资料 | E10: 商品入库 | G10: 入库单打印
C12: 供货商 | E12: 商品出库 | G12: 领料单打印
C14: 领料部门 | E14: 月报表 | G14: 库存表
B17: 功能介绍：会用Excel电子表格，就会用我做的软件。只需维护产品资料,日常输入进货和销售的记录(红色字部份) 自动统计库存。非常简单的记账本。 =========软件使用说明=========== 1.出入库只输红色字休部份,其他会自动公式显示. 2.打印入库单及出库单时,只要复制出入库单号,即能打印. 3.表格字段和整个结构不允许修改和删除，否则数据不能自动统计
B18: 使用本账册，第一步：增加产品资料，之后产品的入库出库才能操作。后面都设置了公式。
C19: 第二步：商品入库跟商品出库只需填红字部分
C20: 第三步：表格字段和整个结构不允许修改和删除，密码可以提供，但是建议不要用密码打开，公式全部安全锁定
C21: 第四步：打印入库单和出库单时，只要复制出入库单号，既可以打印
C22: 第五步：出入库只输入红色字体部分，其他公式自动显示

Sheet 产品资料
A1: 产品资料库 | F1: 返回主界面 <<
A2: 编号 | B2: 名称 | C2: 型号 | D2: 单位 | E2: 分类
A3: 38 | B3: 放大器 | C3: mb-19 | D3: 只 | E3: 放大器类
A4: 39 | B4: 功放 | C4: 1740- | D4: 只 | E4: 放大器类
A5: 40 | B5: 功放 | C5: 1330- | D5: 只 | E5: 放大器类
A6: 41 | B6: 线放 | C6: 1230- | D6: 只 | E6: 放大器类
A7: 42 | B7: 放大器 | C7: p2150311n | D7: 只 | E7: 放大器类
A8: 43 | B8: 功放 | C8: mb-19 | D8: 只 | E8: 放大器类
A9: 44 | B9: 功放 | C9: mv-300- | D9: 只 | E9: 器件类
A10: 45 | B10: 线放 | C10: ca-280- | D10: 只 | E10: 器件类
A11: 46 | B11: 线放 | C11: gf-1330- | D11: 只 | E11: 器件类

Sheet 供货商
B1: 供应商资料 | J1: 返回主界面 <<
A2: 供货商简称 | B2: 公司名称 | C2: 联系人 | D2: 电话 | E2: 传真 | F2: 手机 | G2: 通讯地址 | H2: 邮政编码 | I2: 性别 | J2: 备注
A3: 蓬江 | B3: 熊猫办公XXXXXXX有限公司 | C3: 小李1 | D3: 123
A4: 供应商1 | B4: 熊猫办公XXXXXXX有限公司 | C4: 小李2 | D4: 124
A5: 供应商2 | B5: 熊猫办公XXXXXXX有限公司 | C5: 小李3 | D5: 125
A6: 供应商3 | B6: 熊猫办公XXXXXXX有限公司 | C6: 小李4 | D6: 126
A7: 供应商4 | B7: 熊猫办公XXXXXXX有限公司 | C7: 小李5 | D7: 127
A8: 供应商5 | B8: 熊猫办公XXXXXXX有限公司 | C8: 小李6 | D8: 128
A9: 供应商6 | B9: 熊猫办公XXXXXXX有限公司 | C9: 小李7 | D9: 129
A10: 供应商7 | B10: 熊猫办公XXXXXXX有限公司 | C10: 小李8 | D10: 130
A11: 供应商8 | B11: 熊猫办公XXXXXXX有限公司 | C11: 小李9 | D11: 131
A12: 供应商9 | B12: 熊猫办公XXXXXXX有限公司 | C12: 小李10 | D12: 132
A13: 供应商10 | B13: 熊猫办公XXXXXXX有限公司 | C13: 小李11 | D13: 133
A14: 供应商11 | B14: 熊猫办公XXXXXXX有限公司 | C14: 小李12 | D14: 134
A15: 供应商12 | B15: 熊猫办公XXXXXXX有限公司 | C15: 小李13 | D15: 135

Sheet 商品入库
A1: =主界面和使用说明!E5 -> 43435 | L1: 返回主界面 <<
A2: 入库单号 | B2: 进货日期 | C2: 商品编码 | D2: 商品名称 | E2: 规格型号 | F2: 单位 | G2: 进货数量 | H2: 进货单价 | I2: 总金额 | J2: 进货人 | K2: 供货商简称 | L2: 供货商全称 | M2: 备注
A3: RK1213-1 | B3: 43113 | C3: 40 | D3: =IF(C3="","",VLOOKUP(C3,产品资料!A:D,2,0)) -> 功放 | E3: =IF(C3="","",VLOOKUP(C3,产品资料!A:E,3,0)) -> 1330- | F3: =IF(C3="","",VLOOKUP(C3,产品资料!A:E,4,0)) -> 只 | G3: 10 | H3: 50 | I3: =IF(G3="","",G3*H3) -> 500 | J3: 小明 | K3: 蓬江 | L3: =IF(K3="","",VLOOKUP(K3,供货商!A:B,2,0)) -> 熊猫办公XXXXXXX有限公司
A4: RK1213-1 | B4: 43114 | C4: 39 | D4: =IF(C4="","",VLOOKUP(C4,产品资料!A:D,2,0)) -> 功放 | E4: =IF(C4="","",VLOOKUP(C4,产品资料!A:E,3,0)) -> 1740- | F4: =IF(C4="","",VLOOKUP(C4,产品资料!A:E,4,0)) -> 只 | G4: 11 | H4: 50 | I4: =IF(G4="","",G4*H4) -> 550 | J4: 小明 | K4: 蓬江 | L4: =IF(K4="","",VLOOKUP(K4,供货商!A:B,2,0)) -> 熊猫办公XXXXXXX有限公司
A5: RK1213-1 | B5: 43115 | C5: 40 | D5: =IF(C5="","",VLOOKUP(C5,产品资料!A:D,2,0)) -> 功放 | E5: =IF(C5="","",VLOOKUP(C5,产品资料!A:E,3,0)) -> 1330- | F5: =IF(C5="","",VLOOKUP(C5,产品资料!A:E,4,0)) -> 只 | G5: 12 | H5: 50 | I5: =IF(G5="","",G5*H5) -> 600 | J5: 小明 | K5: 蓬江 | L5: =IF(K5="","",VLOOKUP(K5,供货商!A:B,2,0)) -> 熊猫办公XXXXXXX有限公司
A6: RK1213-1 | B6: 43116 | C6: 41 | D6: =IF(C6="","",VLOOKUP(C6,产品资料!A:D,2,0)) -> 线放 | E6: =IF(C6="","",VLOOKUP(C6,产品资料!A:E,3,0)) -> 1230- | F6: =IF(C6="","",VLOOKUP(C6,产品资料!A:E,4,0)) -> 只 | G6: 13 | H6: 50 | I6: =IF(G6="","",G6*H6) -> 650 | J6: 小明 | K6: 蓬江 | L6: =IF(K6="","",VLOOKUP(K6,供货商!A:B,2,0)) -> 熊猫办公XXXXXXX有限公司
A7: RK1213-1 | B7: 43117 | C7: 42 | D7: =IF(C7="","",VLOOKUP(C7,产品资料!A:D,2,0)) -> 放大器 | E7: =IF(C7="","",VLOOKUP(C7,产品资料!A:E,3,0)) -> p2150311n | F7: =IF(C7="","",VLOOKUP(C7,产品资料!A:E,4,0)) -> 只 | G7: 14 | H7: 50 | I7: =IF(G7="","",G7*H7) -> 700 | J7: 小明 | K7: 蓬江 | L7: =IF(K7="","",VLOOKUP(K7,供货商!A:B,2,0)) -> 熊猫办公XXXXXXX有限公司
A8: RK1213-2 | B8: 43118 | C8: 43 | D8: =IF(C8="","",VLOOKUP(C8,产品资料!A:D,2,0)) -> 功放 | E8: =IF(C8="","",VLOOKUP(C8,产品资料!A:E,3,0)) -> mb-19 | F8: =IF(C8="","",VLOOKUP(C8,产品资料!A:E,4,0)) -> 只 | G8: 15 | H8: 50 | I8: =IF(G8="","",G8*H8) -> 750 | J8: 小明 | K8: 蓬江 | L8: =IF(K8="","",VLOOKUP(K8,供货商!A:B,2,0)) -> 熊猫办公XXXXXXX有限公司
A9: RK1213-2 | B9: 43119 | C9: 44 | D9: =IF(C9="","",VLOOKUP(C9,产品资料!A:D,2,0)) -> 功放 | E9: =IF(C9="","",VLOOKUP(C9,产品资料!A:E,3,0)) -> mv-300- | F9: =IF(C9="","",VLOOKUP(C9,产品资料!A:E,4,0)) -> 只 | G9: 16 | H9: 51 | I9: =IF(G9="","",G9*H9) -> 816 | J9: 小明 | K9: 蓬江 | L9: =IF(K9="","",VLOOKUP(K9,供货商!A:B,2,0)) -> 熊猫办公XXXXXXX有限公司
A10: RK1213-2 | B10: 43120 | C10: 45 | D10: =IF(C10="","",VLOOKUP(C10,产品资料!A:D,2,0)) -> 线放 | E10: =IF(C10="","",VLOOKUP(C10,产品资料!A:E,3,0)) -> ca-280- | F10: =IF(C10="","",VLOOKUP(C10,产品资料!A:E,4,0)) -> 只 | G10: 17 | H10: 52 | I10: =IF(G10="","",G10*H10) -> 884 | J10: 小明 | K10: 蓬江 | L10: =IF(K10="","",VLOOKUP(K10,供货商!A:B,2,0)) -> 熊猫办公XXXXXXX有限公司
A11: RK1213-2 | B11: 43121 | C11: 46 | D11: =IF(C11="","",VLOOKUP(C11,产品资料!A:D,2,0)) -> 线放 | E11: =IF(C11="","",VLOOKUP(C11,产品资料!A:E,3,0)) -> gf-1330- | F11: =IF(C11="","",VLOOKUP(C11,产品资料!A:E,4,0)) -> 只 | G11: 18 | H11: 53 | I11: =IF(G11="","",G11*H11) -> 954 | J11: 小明 | K11: 蓬江 | L11: =IF(K11="","",VLOOKUP(K11,供货商!A:B,2,0)) -> 熊猫办公XXXXXXX有限公司
D12: =IF(C12="","",VLOOKUP(C12,产品资料!A:D,2,0)) | E12: =IF(C12="","",VLOOKUP(C12,产品资料!A:E,3,0)) | F12: =IF(C12="","",VLOOKUP(C12,产品资料!A:E,4,0)) | I12: =IF(G12="","",G12*H12) | L12: =IF(K12="","",VLOOKUP(K12,供货商!A:B,2,0))
D13: =IF(C13="","",VLOOKUP(C13,产品资料!A:D,2,0)) | E13: =IF(C13="","",VLOOKUP(C13,产品资料!A:E,3,0)) | F13: =IF(C13="","",VLOOKUP(C13,产品资料!A:E,4,0)) | I13: =IF(G13="","",G13*H13) | L13: =IF(K13="","",VLOOKUP(K13,供货商!A:B,2,0))
D14: =IF(C14="","",VLOOKUP(C14,产品资料!A:D,2,0)) | E14: =IF(C14="","",VLOOKUP(C14,产品资料!A:E,3,0)) | F14: =IF(C14="","",VLOOKUP(C14,产品资料!A:E,4,0)) | I14: =IF(G14="","",G14*H14) | L14: =IF(K14="","",VLOOKUP(K14,供货商!A:B,2,0))
D15: =IF(C15="","",VLOOKUP(C15,产品资料!A:D,2,0)) | E15: =IF(C15="","",VLOOKUP(C15,产品资料!A:E,3,0)) | F15: =IF(C15="","",VLOOKUP(C15,产品资料!A:E,4,0)) | I15: =IF(G15="","",G15*H15) | L15: =IF(K15="","",VLOOKUP(K15,供货商!A:B,2,0))
D16: =IF(C16="","",VLOOKUP(C16,产品资料!A:D,2,0)) | E16: =IF(C16="","",VLOOKUP(C16,产品资料!A:E,3,0)) | F16: =IF(C16="","",VLOOKUP(C16,产品资料!A:E,4,0)) | I16: =IF(G16="","",G16*H16) | L16: =IF(K16="","",VLOOKUP(K16,供货商!A:B,2,0))
D17: =IF(C17="","",VLOOKUP(C17,产品资料!A:D,2,0)) | E17: =IF(C17="","",VLOOKUP(C17,产品资料!A:E,3,0)) | F17: =IF(C17="","",VLOOKUP(C17,产品资料!A:E,4,0)) | I17: =IF(G17="","",G17*H17) | L17: =IF(K17="","",VLOOKUP(K17,供货商!A:B,2,0))
D18: =IF(C18="","",VLOOKUP(C18,产品资料!A:D,2,0)) | E18: =IF(C18="","",VLOOKUP(C18,产品资料!A:E,3,0)) | F18: =IF(C18="","",VLOOKUP(C18,产品资料!A:E,4,0)) | I18: =IF(G18="","",G18*H18) | L18: =IF(K18="","",VLOOKUP(K18,供货商!A:B,2,0))
D19: =IF(C19="","",VLOOKUP(C19,产品资料!A:D,2,0)) | E19: =IF(C19="","",VLOOKUP(C19,产品资料!A:E,3,0)) | F19: =IF(C19="","",VLOOKUP(C19,产品资料!A:E,4,0)) | I19: =IF(G19="","",G19*H19) | L19: =IF(K19="","",VLOOKUP(K19,供货商!A:B,2,0))
D20: =IF(C20="","",VLOOKUP(C20,产品资料!A:D,2,0)) | E20: =IF(C20="","",VLOOKUP(C20,产品资料!A:E,3,0)) | F20: =IF(C20="","",VLOOKUP(C20,产品资料!A:E,4,0)) | I20: =IF(G20="","",G20*H20) | L20: =IF(K20="","",VLOOKUP(K20,供货商!A:B,2,0))
D21: =IF(C21="","",VLOOKUP(C21,产品资料!A:D,2,0)) | E21: =IF(C21="","",VLOOKUP(C21,产品资料!A:E,3,0)) | F21: =IF(C21="","",VLOOKUP(C21,产品资料!A:E,4,0)) | I21: =IF(G21="","",G21*H21) | L21: =IF(K21="","",VLOOKUP(K21,供货商!A:B,2,0))
D22: =IF(C22="","",VLOOKUP(C22,产品资料!A:D,2,0)) | E22: =IF(C22="","",VLOOKUP(C22,产品资料!A:E,3,0)) | F22: =IF(C22="","",VLOOKUP(C22,产品资料!A:E,4,0)) | I22: =IF(G22="","",G22*H22) | L22: =IF(K22="","",VLOOKUP(K22,供货商!A:B,2,0))
D23: =IF(C23="","",VLOOKUP(C23,产品资料!A:D,2,0)) | E23: =IF(C23="","",VLOOKUP(C23,产品资料!A:E,3,0)) | F23: =IF(C23="","",VLOOKUP(C23,产品资料!A:E,4,0)) | I23: =IF(G23="","",G23*H23) | L23: =IF(K23="","",VLOOKUP(K23,供货商!A:B,2,0))
... D37: =IF(C37="","",VLOOKUP(C37,产品资料!A:D,2,0)) | E37: =IF(C37="","",VLOOKUP(C37,产品资料!A:E,3,0)) | F37: =IF(C37="","",VLOOKUP(C37,产品资料!A:E,4,0)) | I37: =IF(G37="","",G37*H37) | L37: =IF(K37="","",VLOOKUP(K37,供货商!A:B,2,0))
D38: =IF(C38="","",VLOOKUP(C38,产品资料!A:D,2,0)) | E38: =IF(C38="","",VLOOKUP(C38,产品资料!A:E,3,0)) | F38: =IF(C38="","",VLOOKUP(C38,产品资料!A:E,4,0)) | L38: =IF(K38="","",VLOOKUP(K38,供货商!A:B,2,0))
D39: =IF(C39="","",VLOOKUP(C39,产品资料!A:D,2,0)) | E39: =IF(C39="","",VLOOKUP(C39,产品资料!A:E,3,0)) | F39: =IF(C39="","",VLOOKUP(C39,产品资料!A:E,4,0))
D40: =IF(C40="","",VLOOKUP(C40,产品资料!A:D,2,0)) | E40: =IF(C40="","",VLOOKUP(C40,产品资料!A:E,3,0)) | F40: =IF(C40="","",VLOOKUP(C40,产品资料!A:E,4,0))
D41: =IF(C41="","",VLOOKUP(C41,产品资料!A:D,2,0)) | E41: =IF(C41="","",VLOOKUP(C41,产品资料!A:E,3,0)) | F41: =IF(C41="","",VLOOKUP(C41,产品资料!A:E,4,0))
D42: =IF(C42="","",VLOOKUP(C42,产品资料!A:D,2,0)) | E42: =IF(C42="","",VLOOKUP(C42,产品资料!A:E,3,0)) | F42: =IF(C42="","",VLOOKUP(C42,产品资料!A:E,4,0))
D43: =IF(C43="","",VLOOKUP(C43,产品资料!A:D,2,0)) | E43: =IF(C43="","",VLOOKUP(C43,产品资料!A:E,3,0)) | F43: =IF(C43="","",VLOOKUP(C43,产品资料!A:E,4,0))
D44: =IF(C44="","",VLOOKUP(C44,产品资料!A:D,2,0)) | E44: =IF(C44="","",VLOOKUP(C44,产品资料!A:E,3,0)) | F44: =IF(C44="","",VLOOKUP(C44,产品资料!A:E,4,0))
D45: =IF(C45="","",VLOOKUP(C45,产品资料!A:D,2,0)) | E45: =IF(C45="","",VLOOKUP(C45,产品资料!A:E,3,0)) | F45: =IF(C45="","",VLOOKUP(C45,产品资料!A:E,4,0))
D46: =IF(C46="","",VLOOKUP(C46,产品资料!A:D,2,0)) | E46: =IF(C46="","",VLOOKUP(C46,产品资料!A:E,3,0)) | F46: =IF(C46="","",VLOOKUP(C46,产品资料!A:E,4,0))

Sheet 入库单打印
C1: ＸＸＸＸ有线电视台器材验收单 | K1: NO. | L1: RK1213-1 | P1: 返回主界面 <<
N2: 白色:存根联 红色:领料员 黄色:财务联 | P2: 本领料单只需改红字单号，中间设了公式，请勿动
A3: 来货单位: | B3: =VLOOKUP(L1,商品入库!A:L,12,0) -> 熊猫办公XXXXXXX有限公司 | J3: 日期: | K3: =VLOOKUP(L1,商品入库!A:D,2,0) -> 43113
A4: 编 号 | B4: 商品名称规格 | C4: 单位 | D4: 原发数 | G4: 实收数 | J4: 验 收 差(-) 溢(+) | L4: 备注
D5: 数量 | E5: 单价 | F5: 金额 | G5: 数量 | H5: 单价 | I5: 金额 | J5: 数量 | K5: 金额
A6: =IF(COUNTIF(商品入库!$A$3:$A$2800,$L$1)-$O5>0,OFFSET(商品入库!$C$2,MATCH($L$1,商品入库!$A$3:$A$2800,0)+$O5,0)&"",0) -> 40 | B6: =IF(COUNTIF(商品入库!$A$3:$A$2800,$L$1)-$O5>0,OFFSET(商品入库!$D$2,MATCH($L$1,商品入库!$A$3:$A$2800,0)+$O5,0)&"",0)&IF(COUNTIF(商品入库!$A$3:$A$2800,$L$1)-$O5>0,OFFSET(商品入库!$E$2,MATCH($L$1,商品入库!$A$3:$A$2800,0)+$O5,0)&"",0) -> 功放1330- | C6: =IF(COUNTIF(商品入库!$A$3:$A$2800,$L$1)-$O5>0,OFFSET(商品入库!$F$2,MATCH($L$1,商品入库!$A$3:$A$2800,0)+$O5,0)&"",0) -> 只 | D6: =IF(COUNTIF(商品入库!$A$3:$A$2800,$L$1)-$O5>0,OFFSET(商品入库!$G$2,MATCH($L$1,商品入库!$A$3:$A$2800,0)+$O5,0)&"",0) -> 10 | E6: 20 | F6: =IF(COUNTIF(商品入库!$A$3:$A$2800,$L$1)-$O5>0,OFFSET(商品入库!$I$2,MATCH($L$1,商品入库!$A$3:$A$2800,0)+$O5,0)&"",0) -> 500 | G6: =IF(COUNTIF(商品入库!$A$3:$A$2800,$L$1)-$O5>0,OFFSET(商品入库!$G$2,MATCH($L$1,商品入库!$A$3:$A$2800,0)+$O5,0)&"",0) -> 10 | I6: =IF(COUNTIF(商品入库!$A$3:$A$2800,$L$1)-$O5>0,OFFSET(商品入库!$I$2,MATCH($L$1,商品入库!$A$3:$A$2800,0)+$O5,0)&"",0) -> 500 | O6: 1
A7: =IF(COUNTIF(商品入库!$A$3:$A$2800,$L$1)-$O6>0,OFFSET(商品入库!$C$2,MATCH($L$1,商品入库!$A$3:$A$2800,0)+$O6,0)&"",0) -> 39 | B7: =IF(COUNTIF(商品入库!$A$3:$A$2800,$L$1)-$O6>0,OFFSET(商品入库!$D$2,MATCH($L$1,商品入库!$A$3:$A$2800,0)+$O6,0)&"",0)&IF(COUNTIF(商品入库!$A$3:$A$2800,$L$1)-$O6>0,OFFSET(商品入库!$E$2,MATCH($L$1,商品入库!$A$3:$A$2800,0)+$O6,0)&"",0) -> 功放1740- | C7: =IF(COUNTIF(商品入库!$A$3:$A$2800,$L$1)-$O6>0,OFFSET(商品入库!$F$2,MATCH($L$1,商品入库!$A$3:$A$2800,0)+$O6,0)&"",0) -> 只 | D7: =IF(COUNTIF(商品入库!$A$3:$A$2800,$L$1)-$O6>0,OFFSET(商品入库!$G$2,MATCH($L$1,商品入库!$A$3:$A$2800,0)+$O6,0)&"",0) -> 11 | E7: 21 | F7: =IF(COUNTIF(商品入库!$A$3:$A$2800,$L$1)-$O6>0,OFFSET(商品入库!$I$2,MATCH($L$1,商品入库!$A$3:$A$2800,0)+$O6,0)&"",0) -> 550 | G7: =IF(COUNTIF(商品入库!$A$3:$A$2800,$L$1)-$O6>0,OFFSET(商品入库!$G$2,MATCH($L$1,商品入库!$A$3:$A$2800,0)+$O6,0)&"",0) -> 11 | I7: =IF(COUNTIF(商品入库!$A$3:$A$2800,$L$1)-$O6>0,OFFSET(商品入库!$I$2,MATCH($L$1,商品入库!$A$3:$A$2800,0)+$O6,0)&"",0) -> 550 | O7: 2
A8: =IF(COUNTIF(商品入库!$A$3:$A$2800,$L$1)-$O7>0,OFFSET(商品入库!$C$2,MATCH($L$1,商品入库!$A$3:$A$2800,0)+$O7,0)&"",0) -> 40 | B8: =IF(COUNTIF(商品入库!$A$3:$A$2800,$L$1)-$O7>0,OFFSET(商品入库!$D$2,MATCH($L$1,商品入库!$A$3:$A$2800,0)+$O7,0)&"",0)&IF(COUNTIF(商品入库!$A$3:$A$2800,$L$1)-$O7>0,OFFSET(商品入库!$E$2,MATCH($L$1,商品入库!$A$3:$A$2800,0)+$O7,0)&"",0) -> 功放1330- | C8: =IF(COUNTIF(商品入库!$A$3:$A$2800,$L$1)-$O7>0,OFFSET(商品入库!$F$2,MATCH($L$1,商品入库!$A$3:$A$2800,0)+$O7,0)&"",0) -> 只 | D8: =IF(COUNTIF(商品入库!$A$3:$A$2800,$L$1)-$O7>0,OFFSET(商品入库!$G$2,MATCH($L$1,商品入库!$A$3:$A$2800,0)+$O7,0)&"",0) -> 12 | E8: 22 | F8: =IF(COUNTIF(商品入库!$A$3:$A$2800,$L$1)-$O7>0,OFFSET(商品入库!$I$2,MATCH($L$1,商品入库!$A$3:$A$2800,0)+$O7,0)&"",0) -> 600 | G8: =IF(COUNTIF(商品入库!$A$3:$A$2800,$L$1)-$O7>0,OFFSET(商品入库!$G$2,MATCH($L$1,商品入库!$A$3:$A$2800,0)+$O7,0)&"",0) -> 12 | I8: =IF(COUNTIF(商品入库!$A$3:$A$2800,$L$1)-$O7>0,OFFSET(商品入库!$I$2,MATCH($L$1,商品入库!$A$3:$A$2800,0)+$O7,0)&"",0) -> 600 | O8: 3
A9: =IF(COUNTIF(商品入库!$A$3:$A$2800,$L$1)-$O8>0,OFFSET(商品入库!$C$2,MATCH($L$1,商品入库!$A$3:$A$2800,0)+$O8,0)&"",0) -> 41 | B9: =IF(COUNTIF(商品入库!$A$3:$A$2800,$L$1)-$O8>0,OFFSET(商品入库!$D$2,MATCH($L$1,商品入库!$A$3:$A$2800,0)+$O8,0)&"",0)&IF(COUNTIF(商品入库!$A$3:$A$2800,$L$1)-$O8>0,OFFSET(商品入库!$E$2,MATCH($L$1,商品入库!$A$3:$A$2800,0)+$O8,0)&"",0) -> 线放1230- | C9: =IF(COUNTIF(商品入库!$A$3:$A$2800,$L$1)-$O8>0,OFFSET(商品入库!$F$2,MATCH($L$1,商品入库!$A$3:$A$2800,0)+$O8,0)&"",0) -> 只 | D9: =IF(COUNTIF(商品入库!$A$3:$A$2800,$L$1)-$O8>0,OFFSET(商品入库!$G$2,MATCH($L$1,商品入库!$A$3:$A$2800,0)+$O8,0)&"",0) -> 13 | E9: 23 | F9: =IF(COUNTIF(商品入库!$A$3:$A$2800,$L$1)-$O8>0,OFFSET(商品入库!$I$2,MATCH($L$1,商品入库!$A$3:$A$2800,0)+$O8,0)&"",0) -> 650 | G9: =IF(COUNTIF(商品入库!$A$3:$A$2800,$L$1)-$O8>0,OFFSET(商品入库!$G$2,MATCH($L$1,商品入库!$A$3:$A$2800,0)+$O8,0)&"",0) -> 13 | I9: =IF(COUNTIF(商品入库!$A$3:$A$2800,$L$1)-$O8>0,OFFSET(商品入库!$I$2,MATCH($L$1,商品入库!$A$3:$A$2800,0)+$O8,0)&"",0) -> 650 | O9: 4
A10: =IF(COUNTIF(商品入库!$A$3:$A$2800,$L$1)-$O9>0,OFFSET(商品入库!$C$2,MATCH($L$1,商品入库!$A$3:$A$2800,0)+$O9,0)&"",0) -> 42 | B10: =IF(COUNTIF(商品入库!$A$3:$A$2800,$L$1)-$O9>0,OFFSET(商品入库!$D$2,MATCH($L$1,商品入库!$A$3:$A$2800,0)+$O9,0)&"",0)&IF(COUNTIF(商品入库!$A$3:$A$2800,$L$1)-$O9>0,OFFSET(商品入库!$E$2,MATCH($L$1,商品入库!$A$3:$A$2800,0)+$O9,0)&"",0) -> 放大器p2150311n | C10: =IF(COUNTIF(商品入库!$A$3:$A$2800,$L$1)-$O9>0,OFFSET(商品入库!$F$2,MATCH($L$1,商品入库!$A$3:$A$2800,0)+$O9,0)&"",0) -> 只 | D10: =IF(COUNTIF(商品入库!$A$3:$A$2800,$L$1)-$O9>0,OFFSET(商品入库!$G$2,MATCH($L$1,商品入库!$A$3:$A$2800,0)+$O9,0)&"",0) -> 14 | E10: 24 | F10: =IF(COUNTIF(商品入库!$A$3:$A$2800,$L$1)-$O9>0,OFFSET(商品入库!$I$2,MATCH($L$1,商品入库!$A$3:$A$2800,0)+$O9,0)&"",0) -> 700 | G10: =IF(COUNTIF(商品入库!$A$3:$A$2800,$L$1)-$O9>0,OFFSET(商品入库!$G$2,MATCH($L$1,商品入库!$A$3:$A$2800,0)+$O9,0)&"",0) -> 14 | I10: =IF(COUNTIF(商品入库!$A$3:$A$2800,$L$1)-$O9>0,OFFSET(商品入库!$I$2,MATCH($L$1,商品入库!$A$3:$A$2800,0)+$O9,0)&"",0) -> 700 | O10: 5
A11: 合计 | I11: =SUMIF(商品入库!A:A,入库单打印!L1,商品入库!I:I) -> 3000
A13: 业务主管 | C13: 验收员 | H13: 复核 | K13: 制表

Sheet 领料部门
A1: 领料部门 | I1: 返回主界面 <<
A2: 领料部门 | B2: 联系人 | C2: 公司名称 | D2: 电话 | E2: 手机 | F2: 传真 | G2: 性别 | H2: 职务 | I2: 备注
A3: 习城乡西街村 | B3: 张松林 | C3: 123 | D3: 12345
A4: 习城乡王店村 | B4: 张华 | C4: 124 | D4: 12346
A5: 习城乡杨店村 | B5: 段合法 | C5: 125 | D5: 12347
A6: 习城乡韩岗村 | B6: 马彪 | C6: 126 | D6: 12348
A7: 习城乡马寨村 | B7: 刘飞虎 | C7: 127 | D7: 12349
A8: 习城乡陈寨村 | B8: 刘飞虎1 | C8: 128 | D8: 12350
A9: 习城乡青古庄 | B9: 刘飞虎2 | C9: 129 | D9: 12351
A10: 黄河滩环建房 | B10: 刘飞虎3 | C10: 130 | D10: 12352

Sheet 商品出库
A1: =主界面和使用说明!E5 -> 43435 | L1: 返回主界面 <<
A2: 发货单号 | B2: 日期 | C2: 领料单位 | D2: 商品编码 | E2: 商品类别 | F2: 商品名称 | G2: 规格型号 | H2: 参考单价 | I2: 单价 | J2: 数量 | K2: 合计 | L2: 备注
A3: CK1213-1 | B3: 43082 | C3: 林广钦 | D3: 40 | E3: =IF(D3="","",VLOOKUP(D3,产品资料!A:E,2,0)) -> 功放 | F3: =IF(D3="","",VLOOKUP(D3,产品资料!A:E,3,0)) -> 1330- | G3: =IF(D3="","",VLOOKUP(D3,产品资料!A:E,4,0)) -> 只 | H3: =IF(D3="","",VLOOKUP(D3,库存表!B:P,15,0)) -> 45.317241 | I3: 42.5 | J3: 10 | K3: =IF(J3="","",J3*I3) -> 425
A4: CK1213-1 | B4: 43082 | C4: 林广钦 | D4: 39 | E4: =IF(D4="","",VLOOKUP(D4,产品资料!A:E,2,0)) -> 功放 | F4: =IF(D4="","",VLOOKUP(D4,产品资料!A:E,3,0)) -> 1740- | G4: =IF(D4="","",VLOOKUP(D4,产品资料!A:E,4,0)) -> 只 | H4: =IF(D4="","",VLOOKUP(D4,库存表!B:P,15,0)) -> 42.624074 | I4: 42.61 | J4: 15 | K4: =IF(J4="","",J4*I4) -> 639.15
A5: CK1213-1 | B5: 43082 | C5: 林广钦 | D5: 40 | E5: =IF(D5="","",VLOOKUP(D5,产品资料!A:E,2,0)) -> 功放 | F5: =IF(D5="","",VLOOKUP(D5,产品资料!A:E,3,0)) -> 1330- | G5: =IF(D5="","",VLOOKUP(D5,产品资料!A:E,4,0)) -> 只 | H5: =IF(D5="","",VLOOKUP(D5,库存表!B:P,15,0)) -> 45.317241 | I5: 42.72 | J5: 15 | K5: =IF(J5="","",J5*I5) -> 640.8
A6: CK1213-1 | B6: 43082 | C6: 林广钦 | D6: 41 | E6: =IF(D6="","",VLOOKUP(D6,产品资料!A:E,2,0)) -> 线放 | F6: =IF(D6="","",VLOOKUP(D6,产品资料!A:E,3,0)) -> 1230- | G6: =IF(D6="","",VLOOKUP(D6,产品资料!A:E,4,0)) -> 只 | H6: =IF(D6="","",VLOOKUP(D6,库存表!B:P,15,0)) -> 42.827778 | I6: 42.82 | J6: 10 | K6: =IF(J6="","",J6*I6) -> 428.2
A7: CK1213-1 | B7: 43082 | C7: 林广钦 | D7: 42 | E7: =IF(D7="","",VLOOKUP(D7,产品资料!A:E,2,0)) -> 放大器 | F7: =IF(D7="","",VLOOKUP(D7,产品资料!A:E,3,0)) -> p2150311n | G7: =IF(D7="","",VLOOKUP(D7,产品资料!A:E,4,0)) -> 只 | H7: =IF(D7="","",VLOOKUP(D7,库存表!B:P,15,0)) -> 42.915789 | I7: 42.92 | J7: 10 | K7: =IF(J7="","",J7*I7) -> 429.2
A8: CK1213-1 | B8: 43082 | C8: 林广钦 | D8: 43 | E8: =IF(D8="","",VLOOKUP(D8,产品资料!A:E,2,0)) -> 功放 | F8: =IF(D8="","",VLOOKUP(D8,产品资料!A:E,3,0)) -> mb-19 | G8: =IF(D8="","",VLOOKUP(D8,产品资料!A:E,4,0)) -> 只 | H8: =IF(D8="","",VLOOKUP(D8,库存表!B:P,15,0)) -> 44.375 | I8: 41 | J8: 10 | K8: =IF(J8="","",J8*I8) -> 410
E9: =IF(D9="","",VLOOKUP(D9,商品入库!C:F,2,0)) | F9: =IF(D9="","",VLOOKUP(D9,商品入库!C:F,3,0)) | G9: =IF(D9="","",VLOOKUP(D9,商品入库!C:F,4,0)) | H9: =IF(D9="","",VLOOKUP(D9,库存表!B:P,15,0)) | K9: =IF(J9="","",J9*I9) | L9: =IF(I9="","",K9-#REF!*I9)
E10: =IF(D10="","",VLOOKUP(D10,商品入库!C:F,2,0)) | F10: =IF(D10="","",VLOOKUP(D10,商品入库!C:F,3,0)) | G10: =IF(D10="","",VLOOKUP(D10,商品入库!C:F,4,0)) | H10: =IF(D10="","",VLOOKUP(D10,库存表!B:P,15,0)) | K10: =IF(J10="","",J10*I10) | L10: =IF(I10="","",K10-#REF!*I10)
E11: =IF(D11="","",VLOOKUP(D11,商品入库!C:F,2,0)) | F11: =IF(D11="","",VLOOKUP(D11,商品入库!C:F,3,0)) | G11: =IF(D11="","",VLOOKUP(D11,商品入库!C:F,4,0)) | H11: =IF(D11="","",VLOOKUP(D11,库存表!B:P,15,0)) | K11: =IF(J11="","",J11*I11) | L11: =IF(I11="","",K11-#REF!*I11)
E12: =IF(D12="","",VLOOKUP(D12,商品入库!C:F,2,0)) | F12: =IF(D12="","",VLOOKUP(D12,商品入库!C:F,3,0)) | G12: =IF(D12="","",VLOOKUP(D12,商品入库!C:F,4,0)) | H12: =IF(D12="","",VLOOKUP(D12,库存表!B:P,15,0)) | K12: =IF(J12="","",J12*I12) | L12: =IF(I12="","",K12-#REF!*I12)
E13: =IF(D13="","",VLOOKUP(D13,商品入库!C:F,2,0)) | F13: =IF(D13="","",VLOOKUP(D13,商品入库!C:F,3,0)) | G13: =IF(D13="","",VLOOKUP(D13,商品入库!C:F,4,0)) | H13: =IF(D13="","",VLOOKUP(D13,库存表!B:P,15,0)) | K13: =IF(J13="","",J13*I13) | L13: =IF(I13="","",K13-#REF!*I13)
E14: =IF(D14="","",VLOOKUP(D14,商品入库!C:F,2,0)) | F14: =IF(D14="","",VLOOKUP(D14,商品入库!C:F,3,0)) | G14: =IF(D14="","",VLOOKUP(D14,商品入库!C:F,4,0)) | H14: =IF(D14="","",VLOOKUP(D14,库存表!B:P,15,0)) | K14: =IF(J14="","",J14*I14) | L14: =IF(I14="","",K14-#REF!*I14)
E15: =IF(D15="","",VLOOKUP(D15,商品入库!C:F,2,0)) | F15: =IF(D15="","",VLOOKUP(D15,商品入库!C:F,3,0)) | G15: =IF(D15="","",VLOOKUP(D15,商品入库!C:F,4,0)) | H15: =IF(D15="","",VLOOKUP(D15,库存表!B:P,15,0)) | K15: =IF(J15="","",J15*I15) | L15: =IF(I15="","",K15-#REF!*I15)
E16: =IF(D16="","",VLOOKUP(D16,商品入库!C:F,2,0)) | F16: =IF(D16="","",VLOOKUP(D16,商品入库!C:F,3,0)) | G16: =IF(D16="","",VLOOKUP(D16,商品入库!C:F,4,0)) | H16: =IF(D16="","",VLOOKUP(D16,库存表!B:P,15,0)) | K16: =IF(J16="","",J16*I16) | L16: =IF(I16="","",K16-#REF!*I16)
E17: =IF(D17="","",VLOOKUP(D17,商品入库!C:F,2,0)) | F17: =IF(D17="","",VLOOKUP(D17,商品入库!C:F,3,0)) | G17: =IF(D17="","",VLOOKUP(D17,商品入库!C:F,4,0)) | H17: =IF(D17="","",VLOOKUP(D17,库存表!B:P,15,0)) | K17: =IF(J17="","",J17*I17) | L17: =IF(I17="","",K17-#REF!*I17)
E18: =IF(D18="","",VLOOKUP(D18,商品入库!C:F,2,0)) | F18: =IF(D18="","",VLOOKUP(D18,商品入库!C:F,3,0)) | G18: =IF(D18="","",VLOOKUP(D18,商品入库!C:F,4,0)) | H18: =IF(D18="","",VLOOKUP(D18,库存表!B:P,15,0)) | K18: =IF(J18="","",J18*I18) | L18: =IF(I18="","",K18-#REF!*I18)
E19: =IF(D19="","",VLOOKUP(D19,商品入库!C:F,2,0)) | F19: =IF(D19="","",VLOOKUP(D19,商品入库!C:F,3,0)) | G19: =IF(D19="","",VLOOKUP(D19,商品入库!C:F,4,0)) | H19: =IF(D19="","",VLOOKUP(D19,库存表!B:P,15,0)) | K19: =IF(J19="","",J19*I19) | L19: =IF(I19="","",K19-#REF!*I19)
E20: =IF(D20="","",VLOOKUP(D20,商品入库!C:F,2,0)) | F20: =IF(D20="","",VLOOKUP(D20,商品入库!C:F,3,0)) | G20: =IF(D20="","",VLOOKUP(D20,商品入库!C:F,4,0)) | H20: =IF(D20="","",VLOOKUP(D20,库存表!B:P,15,0)) | K20: =IF(J20="","",J20*I20) | L20: =IF(I20="","",K20-#REF!*I20)
... E28: =IF(D28="","",VLOOKUP(D28,商品入库!C:F,2,0)) | F28: =IF(D28="","",VLOOKUP(D28,商品入库!C:F,3,0)) | G28: =IF(D28="","",VLOOKUP(D28,商品入库!C:F,4,0)) | H28: =IF(D28="","",VLOOKUP(D28,库存表!B:P,15,0)) | K28: =IF(J28="","",J28*I28) | L28: =IF(I28="","",K28-#REF!*I28)
E29: =IF(ISERROR(VLOOKUP(D29,商品入库!$C$2:$F$50,COLUMN($E$2),0)&""),"",VLOOKUP(D29,商品入库!$C$2:$F$50,COLUMN($E$2),0)&"") | F29: =IF(ISERROR(VLOOKUP(D29,商品入库!$C$2:$F$50,COLUMN($F$2),0)&""),"",VLOOKUP(D29,商品入库!$C$2:$F$50,COLUMN($F$2),0)&"") | G29: =IF(ISERROR(VLOOKUP(D29,商品入库!$C$2:$F$50,COLUMN($G$2),0)&""),"",VLOOKUP(D29,商品入库!$C$2:$F$50,COLUMN($G$2),0)&"") | K29: =IF(J29="","",J29*I29) | L29: =IF(I29="","",K29-#REF!*I29)
E30: =IF(ISERROR(VLOOKUP(D30,商品入库!$C$2:$F$50,COLUMN($E$2),0)&""),"",VLOOKUP(D30,商品入库!$C$2:$F$50,COLUMN($E$2),0)&"") | F30: =IF(ISERROR(VLOOKUP(D30,商品入库!$C$2:$F$50,COLUMN($F$2),0)&""),"",VLOOKUP(D30,商品入库!$C$2:$F$50,COLUMN($F$2),0)&"") | G30: =IF(ISERROR(VLOOKUP(D30,商品入库!$C$2:$F$50,COLUMN($G$2),0)&""),"",VLOOKUP(D30,商品入库!$C$2:$F$50,COLUMN($G$2),0)&"") | K30: =IF(J30="","",J30*I30) | L30: =IF(I30="","",K30-#REF!*I30)
E31: =IF(ISERROR(VLOOKUP(D31,商品入库!$C$2:$F$50,COLUMN($E$2),0)&""),"",VLOOKUP(D31,商品入库!$C$2:$F$50,COLUMN($E$2),0)&"") | F31: =IF(ISERROR(VLOOKUP(D31,商品入库!$C$2:$F$50,COLUMN($F$2),0)&""),"",VLOOKUP(D31,商品入库!$C$2:$F$50,COLUMN($F$2),0)&"") | G31: =IF(ISERROR(VLOOKUP(D31,商品入库!$C$2:$F$50,COLUMN($G$2),0)&""),"",VLOOKUP(D31,商品入库!$C$2:$F$50,COLUMN($G$2),0)&"") | K31: =IF(J31="","",J31*I31) | L31: =IF(I31="","",K31-#REF!*I31)
E32: =IF(ISERROR(VLOOKUP(D32,商品入库!$C$2:$F$50,COLUMN($E$2),0)&""),"",VLOOKUP(D32,商品入库!$C$2:$F$50,COLUMN($E$2),0)&"") | F32: =IF(ISERROR(VLOOKUP(D32,商品入库!$C$2:$F$50,COLUMN($F$2),0)&""),"",VLOOKUP(D32,商品入库!$C$2:$F$50,COLUMN($F$2),0)&"") | G32: =IF(ISERROR(VLOOKUP(D32,商品入库!$C$2:$F$50,COLUMN($G$2),0)&""),"",VLOOKUP(D32,商品入库!$C$2:$F$50,COLUMN($G$2),0)&"") | K32: =IF(J32="","",J32*I32) | L32: =IF(I32="","",K32-#REF!*I32)
E33: =IF(ISERROR(VLOOKUP(D33,商品入库!$C$2:$F$50,COLUMN($E$2),0)&""),"",VLOOKUP(D33,商品入库!$C$2:$F$50,COLUMN($E$2),0)&"") | F33: =IF(ISERROR(VLOOKUP(D33,商品入库!$C$2:$F$50,COLUMN($F$2),0)&""),"",VLOOKUP(D33,商品入库!$C$2:$F$50,COLUMN($F$2),0)&"") | G33: =IF(ISERROR(VLOOKUP(D33,商品入库!$C$2:$F$50,COLUMN($G$2),0)&""),"",VLOOKUP(D33,商品入库!$C$2:$F$50,COLUMN($G$2),0)&"") | K33: =IF(J33="","",J33*I33) | L33: =IF(I33="","",K33-#REF!*I33)
E34: =IF(ISERROR(VLOOKUP(D34,商品入库!$C$2:$F$50,COLUMN($E$2),0)&""),"",VLOOKUP(D34,商品入库!$C$2:$F$50,COLUMN($E$2),0)&"") | F34: =IF(ISERROR(VLOOKUP(D34,商品入库!$C$2:$F$50,COLUMN($F$2),0)&""),"",VLOOKUP(D34,商品入库!$C$2:$F$50,COLUMN($F$2),0)&"") | G34: =IF(ISERROR(VLOOKUP(D34,商品入库!$C$2:$F$50,COLUMN($G$2),0)&""),"",VLOOKUP(D34,商品入库!$C$2:$F$50,COLUMN($G$2),0)&"") | K34: =IF(J34="","",J34*I34) | L34: =IF(I34="","",K34-#REF!*I34)
E35: =IF(ISERROR(VLOOKUP(D35,商品入库!$C$2:$F$50,COLUMN($E$2),0)&""),"",VLOOKUP(D35,商品入库!$C$2:$F$50,COLUMN($E$2),0)&"") | F35: =IF(ISERROR(VLOOKUP(D35,商品入库!$C$2:$F$50,COLUMN($F$2),0)&""),"",VLOOKUP(D35,商品入库!$C$2:$F$50,COLUMN($F$2),0)&"") | G35: =IF(ISERROR(VLOOKUP(D35,商品入库!$C$2:$F$50,COLUMN($G$2),0)&""),"",VLOOKUP(D35,商品入库!$C$2:$F$50,COLUMN($G$2),0)&"") | K35: =IF(J35="","",J35*I35) | L35: =IF(I35="","",K35-#REF!*I35)
E36: =IF(ISERROR(VLOOKUP(D36,商品入库!$C$2:$F$50,COLUMN($E$2),0)&""),"",VLOOKUP(D36,商品入库!$C$2:$F$50,COLUMN($E$2),0)&"") | F36: =IF(ISERROR(VLOOKUP(D36,商品入库!$C$2:$F$50,COLUMN($F$2),0)&""),"",VLOOKUP(D36,商品入库!$C$2:$F$50,COLUMN($F$2),0)&"") | G36: =IF(ISERROR(VLOOKUP(D36,商品入库!$C$2:$F$50,COLUMN($G$2),0)&""),"",VLOOKUP(D36,商品入库!$C$2:$F$50,COLUMN($G$2),0)&"") | K36: =IF(J36="","",J36*I36) | L36: =IF(I36="","",K36-#REF!*I36)
E37: =IF(ISERROR(VLOOKUP(D37,商品入库!$C$2:$F$50,COLUMN($E$2),0)&""),"",VLOOKUP(D37,商品入库!$C$2:$F$50,COLUMN($E$2),0)&"") | F37: =IF(ISERROR(VLOOKUP(D37,商品入库!$C$2:$F$50,COLUMN($F$2),0)&""),"",VLOOKUP(D37,商品入库!$C$2:$F$50,COLUMN($F$2),0)&"") | G37: =IF(ISERROR(VLOOKUP(D37,商品入库!$C$2:$F$50,COLUMN($G$2),0)&""),"",VLOOKUP(D37,商品入库!$C$2:$F$50,COLUMN($G$2),0)&"") | K37: =IF(J37="","",J37*I37) | L37: =IF(I37="","",K37-#REF!*I37)
E38: =IF(ISERROR(VLOOKUP(D38,商品入库!$C$2:$F$50,COLUMN($E$2),0)&""),"",VLOOKUP(D38,商品入库!$C$2:$F$50,COLUMN($E$2),0)&"") | F38: =IF(ISERROR(VLOOKUP(D38,商品入库!$C$2:$F$50,COLUMN($F$2),0)&""),"",VLOOKUP(D38,商品入库!$C$2:$F$50,COLUMN($F$2),0)&"") | G38: =IF(ISERROR(VLOOKUP(D38,商品入库!$C$2:$F$50,COLUMN($G$2),0)&""),"",VLOOKUP(D38,商品入库!$C$2:$F$50,COLUMN($G$2),0)&"") | K38: =IF(J38="","",J38*I38)
E39: =IF(ISERROR(VLOOKUP(D39,商品入库!$C$2:$F$50,COLUMN($E$2),0)&""),"",VLOOKUP(D39,商品入库!$C$2:$F$50,COLUMN($E$2),0)&"") | F39: =IF(ISERROR(VLOOKUP(D39,商品入库!$C$2:$F$50,COLUMN($F$2),0)&""),"",VLOOKUP(D39,商品入库!$C$2:$F$50,COLUMN($F$2),0)&"") | G39: =IF(ISERROR(VLOOKUP(D39,商品入库!$C$2:$F$50,COLUMN($G$2),0)&""),"",VLOOKUP(D39,商品入库!$C$2:$F$50,COLUMN($G$2),0)&"") | K39: =IF(J39="","",J39*I39)
E40: =IF(ISERROR(VLOOKUP(D40,商品入库!$C$2:$F$50,COLUMN($E$2),0)&""),"",VLOOKUP(D40,商品入库!$C$2:$F$50,COLUMN($E$2),0)&"") | F40: =IF(ISERROR(VLOOKUP(D40,商品入库!$C$2:$F$50,COLUMN($F$2),0)&""),"",VLOOKUP(D40,商品入库!$C$2:$F$50,COLUMN($F$2),0)&"") | G40: =IF(ISERROR(VLOOKUP(D40,商品入库!$C$2:$F$50,COLUMN($G$2),0)&""),"",VLOOKUP(D40,商品入库!$C$2:$F$50,COLUMN($G$2),0)&"") | K40: =IF(J40="","",J40*I40)

Sheet 领料单打印
B1: 本单不作付出凭证 | C1: . ＸＸＸＸ 有 线 电 视 台 . | L1: 返回主界面 <<
B2: 只作出库付件 | D2: 领 料 单 | H2: NO. | I2: CK1213-1 | L2: 本领料单只需改红字单号，中间设了公式，请勿动
J3: 白色:存根联 红色:领料员 黄色:财务联
A4: 领料单位: | B4: =VLOOKUP(I2,商品出库!A:D,3,0) -> 林广钦 | D4: 日期: | E4: =VLOOKUP(I2,商品出库!A:B,2,0) -> 43082 | H4: 单位:元/件(米)
A5: 编号 | B5: 器 材 名 称 | D5: 单位 | E5: 单价 | F5: 数量 | G5: 金额 | H5: 备注
A6: =IF(COUNTIF(商品出库!$A$3:$A$2800,$I$2)-$K5>0,OFFSET(商品出库!$D$2,MATCH($I$2,商品出库!$A$3:$A$2800,0)+$K5,0)&"",0) -> 40 | B6: =IF(COUNTIF(商品出库!$A$3:$A$2800,$I$2)-$K5>0,OFFSET(商品出库!$E$2,MATCH($I$2,商品出库!$A$3:$A$2800,0)+$K5,0)&"",0)&IF(COUNTIF(商品出库!$A$3:$A$2800,$I$2)-$K5>0,OFFSET(商品出库!$F$2,MATCH($I$2,商品出库!$A$3:$A$2800,0)+$K5,0)&"",0) -> 功放1330- | D6: =IF(COUNTIF(商品出库!$A$3:$A$2800,$I$2)-$K5>0,OFFSET(商品出库!$F$2,MATCH($I$2,商品出库!$A$3:$A$2800,0)+$K5,1)&"",0) -> 只 | E6: =IF(COUNTIF(商品出库!$A$3:$A$2800,$I$2)-$K5>0,OFFSET(商品出库!$H$2,MATCH($I$2,商品出库!$A$3:$A$2800,0)+$K5,1)&"",0) -> 42.5 | F6: =IF(COUNTIF(商品出库!$A$3:$A$2800,$I$2)-$K5>0,OFFSET(商品出库!$I$2,MATCH($I$2,商品出库!$A$3:$A$2800,0)+$K5,1)&"",0) -> 10 | G6: =IF(COUNTIF(商品出库!$A$3:$A$2800,$I$2)-$K5>0,OFFSET(商品出库!$J$2,MATCH($I$2,商品出库!$A$3:$A$2800,0)+$K5,1)&"",0) -> 425 | K6: 1
A7: =IF(COUNTIF(商品出库!$A$3:$A$2800,$I$2)-$K6>0,OFFSET(商品出库!$D$2,MATCH($I$2,商品出库!$A$3:$A$2800,0)+$K6,0)&"",0) -> 39 | B7: =IF(COUNTIF(商品出库!$A$3:$A$2800,$I$2)-$K6>0,OFFSET(商品出库!$E$2,MATCH($I$2,商品出库!$A$3:$A$2800,0)+$K6,0)&"",0)&IF(COUNTIF(商品出库!$A$3:$A$2800,$I$2)-$K6>0,OFFSET(商品出库!$F$2,MATCH($I$2,商品出库!$A$3:$A$2800,0)+$K6,0)&"",0) -> 功放1740- | D7: =IF(COUNTIF(商品出库!$A$3:$A$2800,$I$2)-$K6>0,OFFSET(商品出库!$F$2,MATCH($I$2,商品出库!$A$3:$A$2800,0)+$K6,1)&"",0) -> 只 | E7: =IF(COUNTIF(商品出库!$A$3:$A$2800,$I$2)-$K6>0,OFFSET(商品出库!$H$2,MATCH($I$2,商品出库!$A$3:$A$2800,0)+$K6,1)&"",0) -> 42.61 | F7: =IF(COUNTIF(商品出库!$A$3:$A$2800,$I$2)-$K6>0,OFFSET(商品出库!$I$2,MATCH($I$2,商品出库!$A$3:$A$2800,0)+$K6,1)&"",0) -> 15 | G7: =IF(COUNTIF(商品出库!$A$3:$A$2800,$I$2)-$K6>0,OFFSET(商品出库!$J$2,MATCH($I$2,商品出库!$A$3:$A$2800,0)+$K6,1)&"",0) -> 639.15 | K7: 2
A8: =IF(COUNTIF(商品出库!$A$3:$A$2800,$I$2)-$K7>0,OFFSET(商品出库!$D$2,MATCH($I$2,商品出库!$A$3:$A$2800,0)+$K7,0)&"",0) -> 40 | B8: =IF(COUNTIF(商品出库!$A$3:$A$2800,$I$2)-$K7>0,OFFSET(商品出库!$E$2,MATCH($I$2,商品出库!$A$3:$A$2800,0)+$K7,0)&"",0)&IF(COUNTIF(商品出库!$A$3:$A$2800,$I$2)-$K7>0,OFFSET(商品出库!$F$2,MATCH($I$2,商品出库!$A$3:$A$2800,0)+$K7,0)&"",0) -> 功放1330- | D8: =IF(COUNTIF(商品出库!$A$3:$A$2800,$I$2)-$K7>0,OFFSET(商品出库!$F$2,MATCH($I$2,商品出库!$A$3:$A$2800,0)+$K7,1)&"",0) -> 只 | E8: =IF(COUNTIF(商品出库!$A$3:$A$2800,$I$2)-$K7>0,OFFSET(商品出库!$H$2,MATCH($I$2,商品出库!$A$3:$A$2800,0)+$K7,1)&"",0) -> 42.72 | F8: =IF(COUNTIF(商品出库!$A$3:$A$2800,$I$2)-$K7>0,OFFSET(商品出库!$I$2,MATCH($I$2,商品出库!$A$3:$A$2800,0)+$K7,1)&"",0) -> 15 | G8: =IF(COUNTIF(商品出库!$A$3:$A$2800,$I$2)-$K7>0,OFFSET(商品出库!$J$2,MATCH($I$2,商品出库!$A$3:$A$2800,0)+$K7,1)&"",0) -> 640.8 | K8: 3
A9: =IF(COUNTIF(商品出库!$A$3:$A$2800,$I$2)-$K8>0,OFFSET(商品出库!$D$2,MATCH($I$2,商品出库!$A$3:$A$2800,0)+$K8,0)&"",0) -> 41 | B9: =IF(COUNTIF(商品出库!$A$3:$A$2800,$I$2)-$K8>0,OFFSET(商品出库!$E$2,MATCH($I$2,商品出库!$A$3:$A$2800,0)+$K8,0)&"",0)&IF(COUNTIF(商品出库!$A$3:$A$2800,$I$2)-$K8>0,OFFSET(商品出库!$F$2,MATCH($I$2,商品出库!$A$3:$A$2800,0)+$K8,0)&"",0) -> 线放1230- | D9: =IF(COUNTIF(商品出库!$A$3:$A$2800,$I$2)-$K8>0,OFFSET(商品出库!$F$2,MATCH($I$2,商品出库!$A$3:$A$2800,0)+$K8,1)&"",0) -> 只 | E9: =IF(COUNTIF(商品出库!$A$3:$A$2800,$I$2)-$K8>0,OFFSET(商品出库!$H$2,MATCH($I$2,商品出库!$A$3:$A$2800,0)+$K8,1)&"",0) -> 42.82 | F9: =IF(COUNTIF(商品出库!$A$3:$A$2800,$I$2)-$K8>0,OFFSET(商品出库!$I$2,MATCH($I$2,商品出库!$A$3:$A$2800,0)+$K8,1)&"",0) -> 10 | G9: =IF(COUNTIF(商品出库!$A$3:$A$2800,$I$2)-$K8>0,OFFSET(商品出库!$J$2,MATCH($I$2,商品出库!$A$3:$A$2800,0)+$K8,1)&"",0) -> 428.2 | K9: 4
A10: =IF(COUNTIF(商品出库!$A$3:$A$2800,$I$2)-$K9>0,OFFSET(商品出库!$D$2,MATCH($I$2,商品出库!$A$3:$A$2800,0)+$K9,0)&"",0) -> 42 | B10: =IF(COUNTIF(商品出库!$A$3:$A$2800,$I$2)-$K9>0,OFFSET(商品出库!$E$2,MATCH($I$2,商品出库!$A$3:$A$2800,0)+$K9,0)&"",0)&IF(COUNTIF(商品出库!$A$3:$A$2800,$I$2)-$K9>0,OFFSET(商品出库!$F$2,MATCH($I$2,商品出库!$A$3:$A$2800,0)+$K9,0)&"",0) -> 放大器p2150311n | D10: =IF(COUNTIF(商品出库!$A$3:$A$2800,$I$2)-$K9>0,OFFSET(商品出库!$F$2,MATCH($I$2,商品出库!$A$3:$A$2800,0)+$K9,1)&"",0) -> 只 | E10: =IF(COUNTIF(商品出库!$A$3:$A$2800,$I$2)-$K9>0,OFFSET(商品出库!$H$2,MATCH($I$2,商品出库!$A$3:$A$2800,0)+$K9,1)&"",0) -> 42.92 | F10: =IF(COUNTIF(商品出库!$A$3:$A$2800,$I$2)-$K9>0,OFFSET(商品出库!$I$2,MATCH($I$2,商品出库!$A$3:$A$2800,0)+$K9,1)&"",0) -> 10 | G10: =IF(COUNTIF(商品出库!$A$3:$A$2800,$I$2)-$K9>0,OFFSET(商品出库!$J$2,MATCH($I$2,商品出库!$A$3:$A$2800,0)+$K9,1)&"",0) -> 429.2 | K10: 5
A11: =IF(COUNTIF(商品出库!$A$3:$A$2800,$I$2)-$K10>0,OFFSET(商品出库!$D$2,MATCH($I$2,商品出库!$A$3:$A$2800,0)+$K10,0)&"",0) -> 43 | B11: =IF(COUNTIF(商品出库!$A$3:$A$2800,$I$2)-$K10>0,OFFSET(商品出库!$E$2,MATCH($I$2,商品出库!$A$3:$A$2800,0)+$K10,0)&"",0)&IF(COUNTIF(商品出库!$A$3:$A$2800,$I$2)-$K10>0,OFFSET(商品出库!$F$2,MATCH($I$2,商品出库!$A$3:$A$2800,0)+$K10,0)&"",0) -> 功放mb-19 | D11: =IF(COUNTIF(商品出库!$A$3:$A$2800,$I$2)-$K10>0,OFFSET(商品出库!$F$2,MATCH($I$2,商品出库!$A$3:$A$2800,0)+$K10,1)&"",0) -> 只 | E11: =IF(COUNTIF(商品出库!$A$3:$A$2800,$I$2)-$K10>0,OFFSET(商品出库!$H$2,MATCH($I$2,商品出库!$A$3:$A$2800,0)+$K10,1)&"",0) -> 41 | F11: =IF(COUNTIF(商品出库!$A$3:$A$2800,$I$2)-$K10>0,OFFSET(商品出库!$I$2,MATCH($I$2,商品出库!$A$3:$A$2800,0)+$K10,1)&"",0) -> 10 | G11: =IF(COUNTIF(商品出库!$A$3:$A$2800,$I$2)-$K10>0,OFFSET(商品出库!$J$2,MATCH($I$2,商品出库!$A$3:$A$2800,0)+$K10,1)&"",0) -> 410 | K11: 6
B12: 合 计 | G12: =SUMIF(商品出库!A:A,领料单打印!I2,商品出库!K:K) -> 2972.35
A14: 复核 | C14: 领用人 | F14: 财会 | H14: 制表

Sheet 库存表
A1: =主界面和使用说明!E5 -> 43435 | R1: 返回主界面 <<
A2: 商品类别 | B2: 编 码 | C2: 商品名称 | D2: 型号 | E2: 单位 | F2: 期初库存 | I2: 本月入库 | L2: 本月出库 | O2: 期未库存 | R2: 备注
F3: 数量 | G3: 单价 | H3: 金额 | I3: 数量 | J3: 单价 | K3: 金额 | L3: 数量 | M3: 单价 | N3: 金额 | O3: 数量 | P3: 单价 | Q3: 金额
A4: =IF(B4="","",VLOOKUP(B4,产品资料!A:E,5,0)) -> 放大器类 | B4: 38 | C4: =IF(B4="","",VLOOKUP(B4,产品资料!A:E,2,0)) -> 放大器 | D4: =IF(B4="","",VLOOKUP(B4,产品资料!A:E,3,0)) -> mb-19 | E4: =IF(B4="","",VLOOKUP(B4,产品资料!A:E,4,0)) -> 只 | F4: 30 | G4: 40 | H4: =F4*G4 -> 1200 | I4: =IF(B4="","",SUMIF(商品入库!$C$3:$C$31,B4,商品入库!$G$3:$G$31)) -> 0 | J4: =IF(I4="","",IF(I4=0,"",K4/I4)) | K4: =IF(I4="","",SUMIF(商品入库!$C$3:$C$31,B4,商品入库!$I$3:$I$31)) -> 0 | L4: =IF(B4="","",SUMIF(商品出库!D:D,B4,商品出库!J:J)) -> 0 | M4: =IF(L4="","",IF(L4=0,"",N4/L4)) | N4: =IF(L4="","",SUMIF(商品出库!$D$3:$D$31,B4,商品出库!$K$3:$K$31)) -> 0 | O4: =F4+I4-L4 -> 30 | P4: =IF(O4="","",Q4/O4) -> 40 | Q4: =H4+K4-N4 -> 1200
A5: =IF(B5="","",VLOOKUP(B5,产品资料!A:E,5,0)) -> 放大器类 | B5: 39 | C5: =IF(B5="","",VLOOKUP(B5,产品资料!A:E,2,0)) -> 功放 | D5: =IF(B5="","",VLOOKUP(B5,产品资料!A:E,3,0)) -> 1740- | E5: =IF(B5="","",VLOOKUP(B5,产品资料!A:E,4,0)) -> 只 | F5: 31 | G5: 40 | H5: =F5*G5 -> 1240 | I5: =IF(B5="","",SUMIF(商品入库!$C$3:$C$31,B5,商品入库!$G$3:$G$31)) -> 11 | J5: =IF(I5="","",IF(I5=0,"",K5/I5)) -> 50 | K5: =IF(I5="","",SUMIF(商品入库!$C$3:$C$31,B5,商品入库!$I$3:$I$31)) -> 550 | L5: =IF(B5="","",SUMIF(商品出库!D:D,B5,商品出库!J:J)) -> 15 | M5: =IF(L5="","",IF(L5=0,"",N5/L5)) -> 42.61 | N5: =IF(L5="","",SUMIF(商品出库!$D$3:$D$31,B5,商品出库!$K$3:$K$31)) -> 639.15 | O5: =F5+I5-L5 -> 27 | P5: =IF(O5="","",Q5/O5) -> 42.624074 | Q5: =H5+K5-N5 -> 1150.85
A6: =IF(B6="","",VLOOKUP(B6,产品资料!A:E,5,0)) -> 放大器类 | B6: 40 | C6: =IF(B6="","",VLOOKUP(B6,产品资料!A:E,2,0)) -> 功放 | D6: =IF(B6="","",VLOOKUP(B6,产品资料!A:E,3,0)) -> 1330- | E6: =IF(B6="","",VLOOKUP(B6,产品资料!A:E,4,0)) -> 只 | F6: 32 | G6: 40 | H6: =F6*G6 -> 1280 | I6: =IF(B6="","",SUMIF(商品入库!$C$3:$C$31,B6,商品入库!$G$3:$G$31)) -> 22 | J6: =IF(I6="","",IF(I6=0,"",K6/I6)) -> 50 | K6: =IF(I6="","",SUMIF(商品入库!$C$3:$C$31,B6,商品入库!$I$3:$I$31)) -> 1100 | L6: =IF(B6="","",SUMIF(商品出库!D:D,B6,商品出库!J:J)) -> 25 | M6: =IF(L6="","",IF(L6=0,"",N6/L6)) -> 42.632 | N6: =IF(L6="","",SUMIF(商品出库!$D$3:$D$31,B6,商品出库!$K$3:$K$31)) -> 1065.8 | O6: =F6+I6-L6 -> 29 | P6: =IF(O6="","",Q6/O6) -> 45.317241 | Q6: =H6+K6-N6 -> 1314.2
A7: =IF(B7="","",VLOOKUP(B7,产品资料!A:E,5,0)) -> 放大器类 | B7: 41 | C7: =IF(B7="","",VLOOKUP(B7,产品资料!A:E,2,0)) -> 线放 | D7: =IF(B7="","",VLOOKUP(B7,产品资料!A:E,3,0)) -> 1230- | E7: =IF(B7="","",VLOOKUP(B7,产品资料!A:E,4,0)) -> 只 | F7: 33 | G7: 40 | H7: =F7*G7 -> 1320 | I7: =IF(B7="","",SUMIF(商品入库!$C$3:$C$31,B7,商品入库!$G$3:$G$31)) -> 13 | J7: =IF(I7="","",IF(I7=0,"",K7/I7)) -> 50 | K7: =IF(I7="","",SUMIF(商品入库!$C$3:$C$31,B7,商品入库!$I$3:$I$31)) -> 650 | L7: =IF(B7="","",SUMIF(商品出库!D:D,B7,商品出库!J:J)) -> 10 | M7: =IF(L7="","",IF(L7=0,"",N7/L7)) -> 42.82 | N7: =IF(L7="","",SUMIF(商品出库!$D$3:$D$31,B7,商品出库!$K$3:$K$31)) -> 428.2 | O7: =F7+I7-L7 -> 36 | P7: =IF(O7="","",Q7/O7) -> 42.827778 | Q7: =H7+K7-N7 -> 1541.8
A8: =IF(B8="","",VLOOKUP(B8,产品资料!A:E,5,0)) -> 放大器类 | B8: 42 | C8: =IF(B8="","",VLOOKUP(B8,产品资料!A:E,2,0)) -> 放大器 | D8: =IF(B8="","",VLOOKUP(B8,产品资料!A:E,3,0)) -> p2150311n | E8: =IF(B8="","",VLOOKUP(B8,产品资料!A:E,4,0)) -> 只 | F8: 34 | G8: 40 | H8: =F8*G8 -> 1360 | I8: =IF(B8="","",SUMIF(商品入库!$C$3:$C$31,B8,商品入库!$G$3:$G$31)) -> 14 | J8: =IF(I8="","",IF(I8=0,"",K8/I8)) -> 50 | K8: =IF(I8="","",SUMIF(商品入库!$C$3:$C$31,B8,商品入库!$I$3:$I$31)) -> 700 | L8: =IF(B8="","",SUMIF(商品出库!D:D,B8,商品出库!J:J)) -> 10 | M8: =IF(L8="","",IF(L8=0,"",N8/L8)) -> 42.92 | N8: =IF(L8="","",SUMIF(商品出库!$D$3:$D$31,B8,商品出库!$K$3:$K$31)) -> 429.2 | O8: =F8+I8-L8 -> 38 | P8: =IF(O8="","",Q8/O8) -> 42.915789 | Q8: =H8+K8-N8 -> 1630.8
A9: =IF(B9="","",VLOOKUP(B9,产品资料!A:E,5,0)) -> 放大器类 | B9: 43 | C9: =IF(B9="","",VLOOKUP(B9,产品资料!A:E,2,0)) -> 功放 | D9: =IF(B9="","",VLOOKUP(B9,产品资料!A:E,3,0)) -> mb-19 | E9: =IF(B9="","",VLOOKUP(B9,产品资料!A:E,4,0)) -> 只 | F9: 35 | G9: 41 | H9: =F9*G9 -> 1435 | I9: =IF(B9="","",SUMIF(商品入库!$C$3:$C$31,B9,商品入库!$G$3:$G$31)) -> 15 | J9: =IF(I9="","",IF(I9=0,"",K9/I9)) -> 50 | K9: =IF(I9="","",SUMIF(商品入库!$C$3:$C$31,B9,商品入库!$I$3:$I$31)) -> 750 | L9: =IF(B9="","",SUMIF(商品出库!D:D,B9,商品出库!J:J)) -> 10 | M9: =IF(L9="","",IF(L9=0,"",N9/L9)) -> 41 | N9: =IF(L9="","",SUMIF(商品出库!$D$3:$D$31,B9,商品出库!$K$3:$K$31)) -> 410 | O9: =F9+I9-L9 -> 40 | P9: =IF(O9="","",Q9/O9) -> 44.375 | Q9: =H9+K9-N9 -> 1775
A10: =IF(B10="","",VLOOKUP(B10,产品资料!A:E,5,0)) -> 器件类 | B10: 44 | C10: =IF(B10="","",VLOOKUP(B10,产品资料!A:E,2,0)) -> 功放 | D10: =IF(B10="","",VLOOKUP(B10,产品资料!A:E,3,0)) -> mv-300- | E10: =IF(B10="","",VLOOKUP(B10,产品资料!A:E,4,0)) -> 只 | F10: 36 | G10: 42 | H10: =F10*G10 -> 1512 | I10: =IF(B10="","",SUMIF(商品入库!$C$3:$C$31,B10,商品入库!$G$3:$G$31)) -> 16 | J10: =IF(I10="","",IF(I10=0,"",K10/I10)) -> 51 | K10: =IF(I10="","",SUMIF(商品入库!$C$3:$C$31,B10,商品入库!$I$3:$I$31)) -> 816 | L10: =IF(B10="","",SUMIF(商品出库!D:D,B10,商品出库!J:J)) -> 0 | M10: =IF(L10="","",IF(L10=0,"",N10/L10)) | N10: =IF(L10="","",SUMIF(商品出库!$D$3:$D$31,B10,商品出库!$K$3:$K$31)) -> 0 | O10: =F10+I10-L10 -> 52 | P10: =IF(O10="","",Q10/O10) -> 44.769231 | Q10: =H10+K10-N10 -> 2328
A11: =IF(B11="","",VLOOKUP(B11,产品资料!A:E,5,0)) -> 器件类 | B11: 45 | C11: =IF(B11="","",VLOOKUP(B11,产品资料!A:E,2,0)) -> 线放 | D11: =IF(B11="","",VLOOKUP(B11,产品资料!A:E,3,0)) -> ca-280- | E11: =IF(B11="","",VLOOKUP(B11,产品资料!A:E,4,0)) -> 只 | F11: 37 | G11: 43 | H11: =F11*G11 -> 1591 | I11: =IF(B11="","",SUMIF(商品入库!$C$3:$C$31,B11,商品入库!$G$3:$G$31)) -> 17 | J11: =IF(I11="","",IF(I11=0,"",K11/I11)) -> 52 | K11: =IF(I11="","",SUMIF(商品入库!$C$3:$C$31,B11,商品入库!$I$3:$I$31)) -> 884 | L11: =IF(B11="","",SUMIF(商品出库!D:D,B11,商品出库!J:J)) -> 0 | M11: =IF(L11="","",IF(L11=0,"",N11/L11)) | N11: =IF(L11="","",SUMIF(商品出库!$D$3:$D$31,B11,商品出库!$K$3:$K$31)) -> 0 | O11: =F11+I11-L11 -> 54 | P11: =IF(O11="","",Q11/O11) -> 45.833333 | Q11: =H11+K11-N11 -> 2475
A12: =IF(B12="","",VLOOKUP(B12,产品资料!A:E,5,0)) -> 器件类 | B12: 46 | C12: =IF(B12="","",VLOOKUP(B12,产品资料!A:E,2,0)) -> 线放 | D12: =IF(B12="","",VLOOKUP(B12,产品资料!A:E,3,0)) -> gf-1330- | E12: =IF(B12="","",VLOOKUP(B12,产品资料!A:E,4,0)) -> 只 | F12: 38 | G12: 44 | H12: =F12*G12 -> 1672 | I12: =IF(B12="","",SUMIF(商品入库!$C$3:$C$31,B12,商品入库!$G$3:$G$31)) -> 18 | J12: =IF(I12="","",IF(I12=0,"",K12/I12)) -> 53 | K12: =IF(I12="","",SUMIF(商品入库!$C$3:$C$31,B12,商品入库!$I$3:$I$31)) -> 954 | L12: =IF(B12="","",SUMIF(商品出库!D:D,B12,商品出库!J:J)) -> 0 | M12: =IF(L12="","",IF(L12=0,"",N12/L12)) | N12: =IF(L12="","",SUMIF(商品出库!$D$3:$D$31,B12,商品出库!$K$3:$K$31)) -> 0 | O12: =F12+I12-L12 -> 56 | P12: =IF(O12="","",Q12/O12) -> 46.892857 | Q12: =H12+K12-N12 -> 2626
A13: =IF(B13="","",VLOOKUP(B13,产品资料!A:E,5,0)) | C13: =IF(B13="","",VLOOKUP(B13,产品资料!A:E,2,0)) | D13: =IF(B13="","",VLOOKUP(B13,产品资料!A:E,3,0)) | E13: =IF(B13="","",VLOOKUP(B13,产品资料!A:E,4,0)) | I13: =IF(B13="","",SUMIF(商品入库!$C$3:$C$31,B13,商品入库!$G$3:$G$31)) | K13: =IF(I13="","",SUMIF(商品入库!$C$3:$C$31,B13,商品入库!$I$3:$I$31)) | L13: =IF(B13="","",SUMIF(商品出库!D:D,B13,商品出库!J:J)) | M13: =IF(L13="","",IF(L13=0,"",N13/L13)) | N13: =IF(L13="","",SUMIF(商品出库!$D$3:$D$31,B13,商品出库!$K$3:$K$31))
A14: =IF(B14="","",VLOOKUP(B14,产品资料!A:E,5,0)) | C14: =IF(B14="","",VLOOKUP(B14,产品资料!A:E,2,0)) | D14: =IF(B14="","",VLOOKUP(B14,产品资料!A:E,3,0)) | E14: =IF(B14="","",VLOOKUP(B14,产品资料!A:E,4,0)) | I14: =IF(B14="","",SUMIF(商品入库!$C$3:$C$31,B14,商品入库!$G$3:$G$31)) | K14: =IF(I14="","",SUMIF(商品入库!$C$3:$C$31,B14,商品入库!$I$3:$I$31)) | L14: =IF(B14="","",SUMIF(商品出库!D:D,B14,商品出库!J:J)) | M14: =IF(L14="","",IF(L14=0,"",N14/L14)) | N14: =IF(L14="","",SUMIF(商品出库!$D$3:$D$31,B14,商品出库!$K$3:$K$31))
A15: =IF(B15="","",VLOOKUP(B15,产品资料!A:E,5,0)) | C15: =IF(B15="","",VLOOKUP(B15,产品资料!A:E,2,0)) | D15: =IF(B15="","",VLOOKUP(B15,产品资料!A:E,3,0)) | E15: =IF(B15="","",VLOOKUP(B15,产品资料!A:E,4,0)) | I15: =IF(B15="","",SUMIF(商品入库!$C$3:$C$31,B15,商品入库!$G$3:$G$31)) | K15: =IF(I15="","",SUMIF(商品入库!$C$3:$C$31,B15,商品入库!$I$3:$I$31)) | L15: =IF(B15="","",SUMIF(商品出库!D:D,B15,商品出库!J:J)) | M15: =IF(L15="","",IF(L15=0,"",N15/L15)) | N15: =IF(L15="","",SUMIF(商品出库!$D$3:$D$31,B15,商品出库!$K$3:$K$31))
A16: =IF(B16="","",VLOOKUP(B16,产品资料!A:E,5,0)) | C16: =IF(B16="","",VLOOKUP(B16,产品资料!A:E,2,0)) | D16: =IF(B16="","",VLOOKUP(B16,产品资料!A:E,3,0)) | E16: =IF(B16="","",VLOOKUP(B16,产品资料!A:E,4,0)) | I16: =IF(B16="","",SUMIF(商品入库!$C$3:$C$31,B16,商品入库!$G$3:$G$31)) | K16: =IF(I16="","",SUMIF(商品入库!$C$3:$C$31,B16,商品入库!$I$3:$I$31)) | L16: =IF(B16="","",SUMIF(商品出库!D:D,B16,商品出库!J:J)) | M16: =IF(L16="","",IF(L16=0,"",N16/L16)) | N16: =IF(L16="","",SUMIF(商品出库!$D$3:$D$31,B16,商品出库!$K$3:$K$31))
A17: =IF(B17="","",VLOOKUP(B17,产品资料!A:E,5,0)) | C17: =IF(B17="","",VLOOKUP(B17,产品资料!A:E,2,0)) | D17: =IF(B17="","",VLOOKUP(B17,产品资料!A:E,3,0)) | E17: =IF(B17="","",VLOOKUP(B17,产品资料!A:E,4,0)) | I17: =IF(B17="","",SUMIF(商品入库!$C$3:$C$31,B17,商品入库!$G$3:$G$31)) | K17: =IF(I17="","",SUMIF(商品入库!$C$3:$C$31,B17,商品入库!$I$3:$I$31)) | L17: =IF(B17="","",SUMIF(商品出库!D:D,B17,商品出库!J:J)) | M17: =IF(L17="","",IF(L17=0,"",N17/L17)) | N17: =IF(L17="","",SUMIF(商品出库!$D$3:$D$31,B17,商品出库!$K$3:$K$31))
A18: =IF(B18="","",VLOOKUP(B18,产品资料!A:E,5,0)) | C18: =IF(B18="","",VLOOKUP(B18,产品资料!A:E,2,0)) | D18: =IF(B18="","",VLOOKUP(B18,产品资料!A:E,3,0)) | E18: =IF(B18="","",VLOOKUP(B18,产品资料!A:E,4,0)) | I18: =IF(B18="","",SUMIF(商品入库!$C$3:$C$31,B18,商品入库!$G$3:$G$31)) | K18: =IF(I18="","",SUMIF(商品入库!$C$3:$C$31,B18,商品入库!$I$3:$I$31)) | L18: =IF(B18="","",SUMIF(商品出库!D:D,B18,商品出库!J:J)) | M18: =IF(L18="","",IF(L18=0,"",N18/L18)) | N18: =IF(L18="","",SUMIF(商品出库!$D$3:$D$31,B18,商品出库!$K$3:$K$31))
A19: =IF(B19="","",VLOOKUP(B19,产品资料!A:E,5,0)) | C19: =IF(B19="","",VLOOKUP(B19,产品资料!A:E,2,0)) | D19: =IF(B19="","",VLOOKUP(B19,产品资料!A:E,3,0)) | E19: =IF(B19="","",VLOOKUP(B19,产品资料!A:E,4,0)) | I19: =IF(B19="","",SUMIF(商品入库!$C$3:$C$31,B19,商品入库!$G$3:$G$31)) | K19: =IF(I19="","",SUMIF(商品入库!$C$3:$C$31,B19,商品入库!$I$3:$I$31)) | L19: =IF(B19="","",SUMIF(商品出库!D:D,B19,商品出库!J:J)) | M19: =IF(L19="","",IF(L19=0,"",N19/L19)) | N19: =IF(L19="","",SUMIF(商品出库!$D$3:$D$31,B19,商品出库!$K$3:$K$31)) | Q19: =IF(I19="","",I19-L19)
A20: =IF(B20="","",VLOOKUP(B20,产品资料!A:E,5,0)) | C20: =IF(B20="","",VLOOKUP(B20,产品资料!A:E,2,0)) | D20: =IF(B20="","",VLOOKUP(B20,产品资料!A:E,3,0)) | E20: =IF(B20="","",VLOOKUP(B20,产品资料!A:E,4,0)) | I20: =IF(B20="","",SUMIF(商品入库!$C$3:$C$31,B20,商品入库!$G$3:$G$31)) | K20: =IF(I20="","",SUMIF(商品入库!$C$3:$C$31,B20,商品入库!$I$3:$I$31)) | L20: =IF(B20="","",SUMIF(商品出库!D:D,B20,商品出库!J:J)) | M20: =IF(L20="","",IF(L20=0,"",N20/L20)) | N20: =IF(L20="","",SUMIF(商品出库!$D$3:$D$31,B20,商品出库!$K$3:$K$31)) | Q20: =IF(I20="","",I20-L20)
A21: =IF(B21="","",VLOOKUP(B21,产品资料!A:E,5,0)) | C21: =IF(B21="","",VLOOKUP(B21,产品资料!A:E,2,0)) | D21: =IF(B21="","",VLOOKUP(B21,产品资料!A:E,3,0)) | E21: =IF(B21="","",VLOOKUP(B21,产品资料!A:E,4,0)) | I21: =IF(B21="","",SUMIF(商品入库!$C$3:$C$31,B21,商品入库!$G$3:$G$31)) | K21: =IF(I21="","",SUMIF(商品入库!$C$3:$C$31,B21,商品入库!$I$3:$I$31)) | L21: =IF(B21="","",SUMIF(商品出库!D:D,B21,商品出库!J:J)) | M21: =IF(L21="","",IF(L21=0,"",N21/L21)) | N21: =IF(L21="","",SUMIF(商品出库!$D$3:$D$31,B21,商品出库!$K$3:$K$31)) | Q21: =IF(I21="","",I21-L21)
A22: =IF(B22="","",VLOOKUP(B22,产品资料!A:E,5,0)) | C22: =IF(B22="","",VLOOKUP(B22,产品资料!A:E,2,0)) | D22: =IF(B22="","",VLOOKUP(B22,产品资料!A:E,3,0)) | E22: =IF(B22="","",VLOOKUP(B22,产品资料!A:E,4,0)) | I22: =IF(B22="","",SUMIF(商品入库!$C$3:$C$31,B22,商品入库!$G$3:$G$31)) | K22: =IF(I22="","",SUMIF(商品入库!$C$3:$C$31,B22,商品入库!$I$3:$I$31)) | L22: =IF(B22="","",SUMIF(商品出库!D:D,B22,商品出库!J:J)) | M22: =IF(L22="","",IF(L22=0,"",N22/L22)) | N22: =IF(L22="","",SUMIF(商品出库!$D$3:$D$31,B22,商品出库!$K$3:$K$31)) | Q22: =IF(I22="","",I22-L22)
A23: =IF(B23="","",VLOOKUP(B23,产品资料!A:E,5,0)) | C23: =IF(B23="","",VLOOKUP(B23,产品资料!A:E,2,0)) | D23: =IF(B23="","",VLOOKUP(B23,产品资料!A:E,3,0)) | E23: =IF(B23="","",VLOOKUP(B23,产品资料!A:E,4,0)) | I23: =IF(B23="","",SUMIF(商品入库!$C$3:$C$31,B23,商品入库!$G$3:$G$31)) | K23: =IF(I23="","",SUMIF(商品入库!$C$3:$C$31,B23,商品入库!$I$3:$I$31)) | L23: =IF(B23="","",SUMIF(商品出库!D:D,B23,商品出库!J:J)) | M23: =IF(L23="","",IF(L23=0,"",N23/L23)) | N23: =IF(L23="","",SUMIF(商品出库!$D$3:$D$31,B23,商品出库!$K$3:$K$31)) | Q23: =IF(I23="","",I23-L23)
A24: =IF(B24="","",VLOOKUP(B24,产品资料!A:E,5,0)) | C24: =IF(B24="","",VLOOKUP(B24,产品资料!A:E,2,0)) | D24: =IF(B24="","",VLOOKUP(B24,产品资料!A:E,3,0)) | E24: =IF(B24="","",VLOOKUP(B24,产品资料!A:E,4,0)) | I24: =IF(B24="","",SUMIF(商品入库!$C$3:$C$31,B24,商品入库!$G$3:$G$31)) | K24: =IF(I24="","",SUMIF(商品入库!$C$3:$C$31,B24,商品入库!$I$3:$I$31)) | L24: =IF(B24="","",SUMIF(商品出库!D:D,B24,商品出库!J:J)) | M24: =IF(L24="","",IF(L24=0,"",N24/L24)) | N24: =IF(L24="","",SUMIF(商品出库!$D$3:$D$31,B24,商品出库!$K$3:$K$31)) | Q24: =IF(I24="","",I24-L24)
A25: =IF(B25="","",VLOOKUP(B25,产品资料!A:E,5,0)) | C25: =IF(B25="","",VLOOKUP(B25,产品资料!A:E,2,0)) | D25: =IF(B25="","",VLOOKUP(B25,产品资料!A:E,3,0)) | E25: =IF(B25="","",VLOOKUP(B25,产品资料!A:E,4,0)) | I25: =IF(B25="","",SUMIF(商品入库!$C$3:$C$31,B25,商品入库!$G$3:$G$31)) | K25: =IF(I25="","",SUMIF(商品入库!$C$3:$C$31,B25,商品入库!$I$3:$I$31)) | L25: =IF(B25="","",SUMIF(商品出库!D:D,B25,商品出库!J:J)) | M25: =IF(L25="","",IF(L25=0,"",N25/L25)) | N25: =IF(L25="","",SUMIF(商品出库!$D$3:$D$31,B25,商品出库!$K$3:$K$31)) | Q25: =IF(I25="","",I25-L25)
A26: =IF(B26="","",VLOOKUP(B26,产品资料!A:E,5,0)) | C26: =IF(B26="","",VLOOKUP(B26,产品资料!A:E,2,0)) | D26: =IF(B26="","",VLOOKUP(B26,产品资料!A:E,3,0)) | E26: =IF(B26="","",VLOOKUP(B26,产品资料!A:E,4,0)) | I26: =IF(B26="","",SUMIF(商品入库!$C$3:$C$31,B26,商品入库!$G$3:$G$31)) | K26: =IF(I26="","",SUMIF(商品入库!$C$3:$C$31,B26,商品入库!$I$3:$I$31)) | L26: =IF(B26="","",SUMIF(商品出库!D:D,B26,商品出库!J:J)) | M26: =IF(L26="","",IF(L26=0,"",N26/L26)) | N26: =IF(L26="","",SUMIF(商品出库!$D$3:$D$31,B26,商品出库!$K$3:$K$31)) | Q26: =IF(I26="","",I26-L26)

Sheet 月报表
A1: ＸＸＸＸ广播电视台仓库器材购进及出库月报表 | N1: 返回主界面 <<
F3: 月份 | G3: =主界面和使用说明!E5 -> 43435
A4: 类别 | B4: 品名规格 | C4: 上月金额 | E4: 本月入库 | H4: 本月出库 | L4: 本月结存 | M4: 备注 | O4: 本表不用操作，只要打印就行
C5: 数量 | D5: 金额 | E5: 购进(验收) | F5: 其他 | G5: 小计 | H5: 领用 | I5: 其他 | J5: 报损 | K5: 小计
E6: 金额 | F6: 金额 | G6: 金额 | H6: 金额 | I6: 金额 | J6: 金额 | K6: 金额 | L6: 金 额
A7: 1 | B7: 放大器类 | C7: =SUMIF(库存表!A:A,月报表!B7,库存表!F:F) -> 195 | D7: =SUMIF(库存表!A:A,月报表!B7,库存表!H:H) -> 7835 | E7: =SUMIF(库存表!A:A,月报表!B7,库存表!I:I) -> 75 | G7: =SUMIF(库存表!A:A,月报表!B7,库存表!K:K) -> 3750 | H7: =SUMIF(库存表!A:A,月报表!B7,库存表!L:L) -> 70 | K7: =SUMIF(库存表!A:A,月报表!B7,库存表!N:N) -> 2972.35 | L7: =SUMIF(库存表!A:A,月报表!B7,库存表!Q:Q) -> 8612.65
A8: 2 | B8: 器件类 | C8: =SUMIF(库存表!A:A,月报表!B8,库存表!F:F) -> 111 | D8: =SUMIF(库存表!A:A,月报表!B8,库存表!H:H) -> 4775 | E8: =SUMIF(库存表!A:A,月报表!B8,库存表!I:I) -> 51 | G8: =SUMIF(库存表!A:A,月报表!B8,库存表!K:K) -> 2654 | H8: =SUMIF(库存表!A:A,月报表!B8,库存表!L:L) -> 0 | K8: =SUMIF(库存表!A:A,月报表!B8,库存表!N:N) -> 0 | L8: =SUMIF(库存表!A:A,月报表!B8,库存表!Q:Q) -> 7429
A9: 3 | B9: 分支器类 | C9: =SUMIF(库存表!A:A,月报表!B9,库存表!F:F) -> 0 | D9: =SUMIF(库存表!A:A,月报表!B9,库存表!H:H) -> 0 | E9: =SUMIF(库存表!A:A,月报表!B9,库存表!I:I) -> 0 | G9: =SUMIF(库存表!A:A,月报表!B9,库存表!K:K) -> 0 | H9: =SUMIF(库存表!A:A,月报表!B9,库存表!L:L) -> 0 | K9: =SUMIF(库存表!A:A,月报表!B9,库存表!N:N) -> 0 | L9: =SUMIF(库存表!A:A,月报表!B9,库存表!Q:Q) -> 0
A10: 4 | B10: 线类 | C10: =SUMIF(库存表!A:A,月报表!B10,库存表!F:F) -> 0 | D10: =SUMIF(库存表!A:A,月报表!B10,库存表!H:H) -> 0 | E10: =SUMIF(库存表!A:A,月报表!B10,库存表!I:I) -> 0 | G10: =SUMIF(库存表!A:A,月报表!B10,库存表!K:K) -> 0 | H10: =SUMIF(库存表!A:A,月报表!B10,库存表!L:L) -> 0 | K10: =SUMIF(库存表!A:A,月报表!B10,库存表!N:N) -> 0 | L10: =SUMIF(库存表!A:A,月报表!B10,库存表!Q:Q) -> 0
A11: 5 | B11: 配件类 | C11: =SUMIF(库存表!A:A,月报表!B11,库存表!F:F) -> 0 | D11: =SUMIF(库存表!A:A,月报表!B11,库存表!H:H) -> 0 | E11: =SUMIF(库存表!A:A,月报表!B11,库存表!I:I) -> 0 | G11: =SUMIF(库存表!A:A,月报表!B11,库存表!K:K) -> 0 | H11: =SUMIF(库存表!A:A,月报表!B11,库存表!L:L) -> 0 | K11: =SUMIF(库存表!A:A,月报表!B11,库存表!N:N) -> 0 | L11: =SUMIF(库存表!A:A,月报表!B11,库存表!Q:Q) -> 0
A12: 6 | B12: 工具类 | C12: =SUMIF(库存表!A:A,月报表!B12,库存表!F:F) -> 0 | D12: =SUMIF(库存表!A:A,月报表!B12,库存表!H:H) -> 0 | E12: =SUMIF(库存表!A:A,月报表!B12,库存表!I:I) -> 0 | G12: =SUMIF(库存表!A:A,月报表!B12,库存表!K:K) -> 0 | H12: =SUMIF(库存表!A:A,月报表!B12,库存表!L:L) -> 0 | K12: =SUMIF(库存表!A:A,月报表!B12,库存表!N:N) -> 0 | L12: =SUMIF(库存表!A:A,月报表!B12,库存表!Q:Q) -> 0
A13: 7
A14: 8
A15: 9
A16: 10
A17: 合计 | D17: =SUM(D7:D16) -> 12610 | G17: =SUM(G7:G16) -> 6404 | K17: =SUM(K7:K16) -> 2972.35 | L17: =SUM(L7:L16) -> 16041.65
B18: 台主管领导 | E18: 施工主管 | H18: 会计 | K18: 保管 | L18: 记账

Sheet 使用说明
A1: 使用说明
