Workbook
Name codein: 入库记录!$A:$A
Name codein1: 入库记录!$A:$J
Name codeout: 出库记录!$A:$A
Name codeout1: 出库记录!$A:$J
Name comein: 入库记录!$A:$I
Name comeout: 出库记录!$A:$I
Name ddd: 入库记录!$A:$A
Name kk: 入库记录!$A:$A
Name ran: #REF!
Name sumin: 入库记录!$D:$D
Name sumout: 出库记录!$D:$D
Name totalin: 入库记录!$F:$F
Name totalout: 出库记录!$F:$F

Sheet 主页
A1: 非常实用的仓库进销存管理系统

Sheet 入库表
B1: 入库单输入表
B2: A | C2: 供货单位: | D2: 天天公司 | F2: 日期 : | G2: 42845 | H2: 入库单号: | I2: 1
B3: 序号 | C3: 代码 | D3: 材料名称 | E3: 单位 | F3: 数量 | G3: 单价 | H3: 金额 | I3: 验收单号
B4: 1 | C4: 1001 | D4: 材料1 | E4: 件 | F4: 100 | G4: 20 | H4: =F4*G4 -> 2000 | I4: 20009 | M4: 0
B5: 2 | C5: 1002 | D5: 材料2 | E5: 件 | F5: 40 | G5: 10 | H5: =F5*G5 -> 400 | I5: 20008
B6: 3
B7: 4
B8: 5
B9: 6
B10: 7
B11: 8
B12: 9 | F12: 0 | G12: 0 | H12: =F12*G12 -> 0
B13: 10 | F13: 0 | G13: 0 | H13: =F13*G13 -> 0
B14: 11 | F14: 0 | G14: 0 | H14: =F14*G14 -> 0
B15: 12 | F15: 0 | G15: 0 | H15: =F15*G15 -> 0
B16: 13 | F16: 0 | G16: 0 | H16: =F16*G16 -> 0
B17: 14 | F17: 0 | G17: 0 | H17: =F17*G17 -> 0
B18: 经手人:张三

Sheet 出库表
B1: 出库单输入表
B2: B | C2: 领用单位： | D2: 恒大公司 | F2: 日期 | G2: 42846 | H2: 出库单号 | I2: 2
B3: 序号 | C3: 代码 | D3: 材料名称 | E3: 单位 | F3: 数量 | G3: 单价 | H3: 金额 | I3: 领用人
B4: 1 | C4: 1001 | D4: =VLOOKUP(C4,入库表!C$4:D$900,2,0) -> 材料1 | E4: =VLOOKUP(C4,入库表!C$4:E$1300,3,0) -> 件 | F4: 2 | G4: =VLOOKUP(C4,入库表!C$4:G4600,5,0) -> 20 | H4: =F4*G4 -> 40 | I4: 小明
B5: 2 | C5: 1002 | D5: =VLOOKUP(C5,入库表!C$4:D$900,2,0) -> 材料2 | E5: =VLOOKUP(C5,入库表!C$4:E$1300,3,0) -> 件 | F5: 3 | G5: =VLOOKUP(C5,入库表!C$4:G4601,5,0) -> 10 | H5: =F5*G5 -> 30 | I5: 小明
B6: 3 | D6: =VLOOKUP(C6,入库表!C$4:D$900,2,0) -> #N/A | E6: =VLOOKUP(C6,入库表!C$4:E$1300,3,0) -> #N/A | G6: =VLOOKUP(C6,入库表!C$4:G4602,5,0) -> #N/A | H6: =F6*G6 -> #N/A
B7: 4 | D7: =VLOOKUP(C7,入库表!C$4:D$900,2,0) -> #N/A | E7: =VLOOKUP(C7,入库表!C$4:E$1300,3,0) -> #N/A | G7: =VLOOKUP(C7,入库表!C$4:G4603,5,0) -> #N/A | H7: =F7*G7 -> #N/A
B8: 5 | D8: =VLOOKUP(C8,入库表!C$4:D$900,2,0) -> #N/A | E8: =VLOOKUP(C8,入库表!C$4:E$1300,3,0) -> #N/A | G8: =VLOOKUP(C8,入库表!C$4:G4604,5,0) -> #N/A | H8: =F8*G8 -> #N/A
B9: 6 | D9: =VLOOKUP(C9,入库表!C$4:D$900,2,0) -> #N/A | E9: =VLOOKUP(C9,入库表!C$4:E$1300,3,0) -> #N/A | G9: =VLOOKUP(C9,入库表!C$4:G4605,5,0) -> #N/A | H9: =F9*G9 -> #N/A
B10: 7 | D10: =VLOOKUP(C10,入库表!C$4:D$900,2,0) -> #N/A | E10: =VLOOKUP(C10,入库表!C$4:E$1300,3,0) -> #N/A | G10: =VLOOKUP(C10,入库表!C$4:G4606,5,0) -> #N/A | H10: =F10*G10 -> #N/A
B11: 8 | D11: =VLOOKUP(C11,入库表!C$4:D$900,2,0) -> #N/A | E11: =VLOOKUP(C11,入库表!C$4:E$1300,3,0) -> #N/A | G11: =VLOOKUP(C11,入库表!C$4:G4607,5,0) -> #N/A | H11: =F11*G11 -> #N/A
B12: 9 | D12: =VLOOKUP(C12,入库表!C$4:D$900,2,0) -> #N/A | E12: =VLOOKUP(C12,入库表!C$4:E$1300,3,0) -> #N/A | F12: 0 | G12: =VLOOKUP(C12,入库表!C$4:G4608,5,0) -> #N/A | H12: =F12*G12 -> #N/A
B13: 10 | D13: =VLOOKUP(C13,入库表!C$4:D$900,2,0) -> #N/A | E13: =VLOOKUP(C13,入库表!C$4:E$1300,3,0) -> #N/A | F13: 0 | G13: =VLOOKUP(C13,入库表!C$4:G4609,5,0) -> #N/A | H13: =F13*G13 -> #N/A
B14: 11 | D14: =VLOOKUP(C14,入库表!C$4:D$900,2,0) -> #N/A | E14: =VLOOKUP(C14,入库表!C$4:E$1300,3,0) -> #N/A | F14: 0 | G14: =VLOOKUP(C14,入库表!C$4:G4610,5,0) -> #N/A | H14: =F14*G14 -> #N/A
B15: 12 | D15: =VLOOKUP(C15,入库表!C$4:D$900,2,0) -> #N/A | E15: =VLOOKUP(C15,入库表!C$4:E$1300,3,0) -> #N/A | F15: 0 | G15: =VLOOKUP(C15,入库表!C$4:G4611,5,0) -> #N/A | H15: =F15*G15 -> #N/A
B16: 13 | D16: =VLOOKUP(C16,入库表!C$4:D$900,2,0) -> #N/A | E16: =VLOOKUP(C16,入库表!C$4:E$1300,3,0) -> #N/A | F16: 0 | G16: =VLOOKUP(C16,入库表!C$4:G4612,5,0) -> #N/A | H16: =F16*G16 -> #N/A
B17: 14 | D17: =VLOOKUP(C17,入库表!C$4:D$900,2,0) -> #N/A | E17: =VLOOKUP(C17,入库表!C$4:E$1300,3,0) -> #N/A | F17: 0 | G17: =VLOOKUP(C17,入库表!C$4:G4613,5,0) -> #N/A | H17: =F17*G17 -> #N/A
B18: 经手人：李四

Sheet 入库记录
A1: 入库记录
A2: 代码 | B2: 入库材料 名称 | C2: 单位 | D2: 数量 | E2: 单价 | F2: 金额 | G2: 验收单号 | H2: 日期 | I2: 供货单位 | J2: 经手人
A3: 1001 | B3: =VLOOKUP(A3,入库表!$C$4:$D$900,2,0) -> 材料1 | C3: =VLOOKUP(A3,入库表!C$4:E$700,3,0) -> 件 | D3: =VLOOKUP(A3,入库表!C$4:F$700,4,0) -> 100 | E3: =VLOOKUP(A3,入库表!C$4:G$500,5,0) -> 20 | F3: =D3*E3 -> 2000 | G3: =VLOOKUP(A3,入库表!C$3:I$600,7,0) -> 20009 | H3: 42845 | I3: 天天公司 | J3: 张三
A4: 1002 | B4: =VLOOKUP(A4,入库表!$C$4:$D$900,2,0) -> 材料2 | C4: =VLOOKUP(A4,入库表!C$4:E$700,3,0) -> 件 | D4: =VLOOKUP(A4,入库表!C$4:F$700,4,0) -> 40 | E4: =VLOOKUP(A4,入库表!C$4:G$500,5,0) -> 10 | F4: =D4*E4 -> 400 | G4: =VLOOKUP(A4,入库表!C$3:I$600,7,0) -> 20008
B5: =VLOOKUP(A5,入库表!$C$4:$D$900,2,0) -> #N/A | C5: =VLOOKUP(A5,入库表!C$4:E$700,3,0) -> #N/A | D5: =VLOOKUP(A5,入库表!C$4:F$700,4,0) -> #N/A | E5: =VLOOKUP(A5,入库表!C$4:G$500,5,0) -> #N/A | F5: =D5*E5 -> #N/A | G5: =VLOOKUP(A5,入库表!C$3:I$600,7,0) -> #N/A
B6: =VLOOKUP(A6,入库表!$C$4:$D$900,2,0) -> #N/A | C6: =VLOOKUP(A6,入库表!C$4:E$700,3,0) -> #N/A | D6: =VLOOKUP(A6,入库表!C$4:F$700,4,0) -> #N/A | E6: =VLOOKUP(A6,入库表!C$4:G$500,5,0) -> #N/A | F6: =D6*E6 -> #N/A | G6: =VLOOKUP(A6,入库表!C$3:I$600,7,0) -> #N/A
B7: =VLOOKUP(A7,入库表!$C$4:$D$900,2,0) -> #N/A | C7: =VLOOKUP(A7,入库表!C$4:E$700,3,0) -> #N/A | D7: =VLOOKUP(A7,入库表!C$4:F$700,4,0) -> #N/A | E7: =VLOOKUP(A7,入库表!C$4:G$500,5,0) -> #N/A | F7: =D7*E7 -> #N/A | G7: =VLOOKUP(A7,入库表!C$3:I$600,7,0) -> #N/A | H7: =入库表!G6 -> 0
B8: =VLOOKUP(A8,入库表!$C$4:$D$900,2,0) -> #N/A | C8: =VLOOKUP(A8,入库表!C$4:E$700,3,0) -> #N/A | D8: =VLOOKUP(A8,入库表!C$4:F$700,4,0) -> #N/A | E8: =VLOOKUP(A8,入库表!C$4:G$500,5,0) -> #N/A | F8: =D8*E8 -> #N/A | G8: =VLOOKUP(A8,入库表!C$3:I$600,7,0) -> #N/A | H8: =入库表!G7 -> 0
B9: =VLOOKUP(A9,入库表!$C$4:$D$900,2,0) -> #N/A | C9: =VLOOKUP(A9,入库表!C$4:E$700,3,0) -> #N/A | D9: =VLOOKUP(A9,入库表!C$4:F$700,4,0) -> #N/A | E9: =VLOOKUP(A9,入库表!C$4:G$500,5,0) -> #N/A | F9: =D9*E9 -> #N/A | G9: =VLOOKUP(A9,入库表!C$3:I$600,7,0) -> #N/A | H9: =入库表!G8 -> 0
B10: =VLOOKUP(A10,入库表!$C$4:$D$900,2,0) -> #N/A | C10: =VLOOKUP(A10,入库表!C$4:E$700,3,0) -> #N/A | D10: =VLOOKUP(A10,入库表!C$4:F$700,4,0) -> #N/A | E10: =VLOOKUP(A10,入库表!C$4:G$500,5,0) -> #N/A | F10: =D10*E10 -> #N/A | G10: =VLOOKUP(A10,入库表!C$3:I$600,7,0) -> #N/A | H10: =入库表!G9 -> 0
B11: =VLOOKUP(A11,入库表!$C$4:$D$900,2,0) -> #N/A | C11: =VLOOKUP(A11,入库表!C$4:E$700,3,0) -> #N/A | D11: =VLOOKUP(A11,入库表!C$4:F$700,4,0) -> #N/A | E11: =VLOOKUP(A11,入库表!C$4:G$500,5,0) -> #N/A | F11: =D11*E11 -> #N/A | G11: =VLOOKUP(A11,入库表!C$3:I$600,7,0) -> #N/A | H11: =入库表!G10 -> 0
B12: =VLOOKUP(A12,入库表!$C$4:$D$900,2,0) -> #N/A | C12: =VLOOKUP(A12,入库表!C$4:E$700,3,0) -> #N/A | D12: =VLOOKUP(A12,入库表!C$4:F$700,4,0) -> #N/A | E12: =VLOOKUP(A12,入库表!C$4:G$500,5,0) -> #N/A | F12: =D12*E12 -> #N/A | G12: =VLOOKUP(A12,入库表!C$3:I$600,7,0) -> #N/A | H12: =入库表!G11 -> 0
B13: =VLOOKUP(A13,入库表!$C$4:$D$900,2,0) -> #N/A | C13: =VLOOKUP(A13,入库表!C$4:E$700,3,0) -> #N/A | D13: =VLOOKUP(A13,入库表!C$4:F$700,4,0) -> #N/A | E13: =VLOOKUP(A13,入库表!C$4:G$500,5,0) -> #N/A | F13: =D13*E13 -> #N/A | G13: =VLOOKUP(A13,入库表!C$3:I$600,7,0) -> #N/A | H13: =入库表!G12 -> 0
B14: =VLOOKUP(A14,入库表!$C$4:$D$900,2,0) -> #N/A | C14: =VLOOKUP(A14,入库表!C$4:E$700,3,0) -> #N/A | D14: =VLOOKUP(A14,入库表!C$4:F$700,4,0) -> #N/A | E14: =VLOOKUP(A14,入库表!C$4:G$500,5,0) -> #N/A | F14: =D14*E14 -> #N/A | G14: =VLOOKUP(A14,入库表!C$3:I$600,7,0) -> #N/A | H14: =入库表!G13 -> 0
B15: =VLOOKUP(A15,入库表!$C$4:$D$900,2,0) -> #N/A | C15: =VLOOKUP(A15,入库表!C$4:E$700,3,0) -> #N/A | D15: =VLOOKUP(A15,入库表!C$4:F$700,4,0) -> #N/A | E15: =VLOOKUP(A15,入库表!C$4:G$500,5,0) -> #N/A | F15: =D15*E15 -> #N/A | G15: =VLOOKUP(A15,入库表!C$3:I$600,7,0) -> #N/A | H15: =入库表!G14 -> 0
B16: =VLOOKUP(A16,入库表!$C$4:$D$900,2,0) -> #N/A | C16: =VLOOKUP(A16,入库表!C$4:E$700,3,0) -> #N/A | D16: =VLOOKUP(A16,入库表!C$4:F$700,4,0) -> #N/A | E16: =VLOOKUP(A16,入库表!C$4:G$500,5,0) -> #N/A | F16: =D16*E16 -> #N/A | G16: =VLOOKUP(A16,入库表!C$3:I$600,7,0) -> #N/A | H16: =入库表!G15 -> 0
B17: =VLOOKUP(A17,入库表!$C$4:$D$900,2,0) -> #N/A | C17: =VLOOKUP(A17,入库表!C$4:E$700,3,0) -> #N/A | D17: =VLOOKUP(A17,入库表!C$4:F$700,4,0) -> #N/A | E17: =VLOOKUP(A17,入库表!C$4:G$500,5,0) -> #N/A | F17: =D17*E17 -> #N/A | G17: =VLOOKUP(A17,入库表!C$3:I$600,7,0) -> #N/A | H17: =入库表!G16 -> 0
B18: =VLOOKUP(A18,入库表!$C$4:$D$900,2,0) -> #N/A | C18: =VLOOKUP(A18,入库表!C$4:E$700,3,0) -> #N/A | D18: =VLOOKUP(A18,入库表!C$4:F$700,4,0) -> #N/A | E18: =VLOOKUP(A18,入库表!C$4:G$500,5,0) -> #N/A | F18: =D18*E18 -> #N/A | G18: =VLOOKUP(A18,入库表!C$3:I$600,7,0) -> #N/A | H18: =入库表!G17 -> 0
... B73: =VLOOKUP(A73,入库表!$C$4:$D$900,2,0) -> #N/A | C73: =VLOOKUP(A73,入库表!C$4:E$700,3,0) -> #N/A | D73: =VLOOKUP(A73,入库表!C$4:F$700,4,0) -> #N/A | E73: =VLOOKUP(A73,入库表!C$4:G$500,5,0) -> #N/A | F73: =D73*E73 -> #N/A | G73: =VLOOKUP(A73,入库表!C$3:I$600,7,0) -> #N/A | H73: =入库表!G72 -> 0

Sheet 出库记录
A1: 出库记录
A2: 代码 | B2: 出库材料 名称 | C2: 单位 | D2: 数量 | E2: 单价 | F2: 金额 | G2: 领用人 | H2: 日期 | I2: 领用单位 | J2: 经手人
A3: 1001 | B3: =VLOOKUP(A3,出库表!C$4:D$1000,2,0) -> 材料1 | C3: =VLOOKUP(A3,出库表!C$4:E$700,3,0) -> 件 | D3: =VLOOKUP(A3,出库表!C$4:F4800,4,0) -> 2 | E3: =VLOOKUP(A3,出库表!C$4:G$800,5,0) -> 20 | F3: =D3*E3 -> 40 | G3: =VLOOKUP(A3,出库表!C$4:I$700,7,0) -> 小明 | H3: 42846 | I3: 恒大 | J3: 李四
A4: 1002 | B4: =VLOOKUP(A4,出库表!C$4:D$1000,2,0) -> 材料2 | C4: =VLOOKUP(A4,出库表!C$4:E$700,3,0) -> 件 | D4: =VLOOKUP(A4,出库表!C$4:F4801,4,0) -> 3 | E4: =VLOOKUP(A4,出库表!C$4:G$800,5,0) -> 10 | F4: =D4*E4 -> 30 | G4: =VLOOKUP(A4,出库表!C$4:I$700,7,0) -> 小明 | H4: 42846 | I4: 恒大 | J4: 李四
B5: =VLOOKUP(A5,出库表!C$4:D$1000,2,0) -> #N/A | C5: =VLOOKUP(A5,出库表!C$4:E$700,3,0) -> #N/A | D5: =VLOOKUP(A5,出库表!C$4:F4802,4,0) -> #N/A | E5: =VLOOKUP(A5,出库表!C$4:G$800,5,0) -> #N/A | F5: =D5*E5 -> #N/A | G5: =VLOOKUP(A5,出库表!C$4:I$700,7,0) -> #N/A
B6: =VLOOKUP(A6,出库表!C$4:D$1000,2,0) -> #N/A | C6: =VLOOKUP(A6,出库表!C$4:E$700,3,0) -> #N/A | D6: =VLOOKUP(A6,出库表!C$4:F4803,4,0) -> #N/A | E6: =VLOOKUP(A6,出库表!C$4:G$800,5,0) -> #N/A | F6: =D6*E6 -> #N/A | G6: =VLOOKUP(A6,出库表!C$4:I$700,7,0) -> #N/A
B7: =VLOOKUP(A7,出库表!C$4:D$1000,2,0) -> #N/A | C7: =VLOOKUP(A7,出库表!C$4:E$700,3,0) -> #N/A | D7: =VLOOKUP(A7,出库表!C$4:F4804,4,0) -> #N/A | E7: =VLOOKUP(A7,出库表!C$4:G$800,5,0) -> #N/A | F7: =D7*E7 -> #N/A | G7: =VLOOKUP(A7,出库表!C$4:I$700,7,0) -> #N/A
B8: =VLOOKUP(A8,出库表!C$4:D$1000,2,0) -> #N/A | C8: =VLOOKUP(A8,出库表!C$4:E$700,3,0) -> #N/A | D8: =VLOOKUP(A8,出库表!C$4:F4805,4,0) -> #N/A | E8: =VLOOKUP(A8,出库表!C$4:G$800,5,0) -> #N/A | F8: =D8*E8 -> #N/A | G8: =VLOOKUP(A8,出库表!C$4:I$700,7,0) -> #N/A
B9: =VLOOKUP(A9,出库表!C$4:D$1000,2,0) -> #N/A | C9: =VLOOKUP(A9,出库表!C$4:E$700,3,0) -> #N/A | D9: =VLOOKUP(A9,出库表!C$4:F4806,4,0) -> #N/A | E9: =VLOOKUP(A9,出库表!C$4:G$800,5,0) -> #N/A | F9: =D9*E9 -> #N/A | G9: =VLOOKUP(A9,出库表!C$4:I$700,7,0) -> #N/A
B10: =VLOOKUP(A10,出库表!C$4:D$1000,2,0) -> #N/A | C10: =VLOOKUP(A10,出库表!C$4:E$700,3,0) -> #N/A | D10: =VLOOKUP(A10,出库表!C$4:F4807,4,0) -> #N/A | E10: =VLOOKUP(A10,出库表!C$4:G$800,5,0) -> #N/A | F10: =D10*E10 -> #N/A | G10: =VLOOKUP(A10,出库表!C$4:I$700,7,0) -> #N/A
B11: =VLOOKUP(A11,出库表!C$4:D$1000,2,0) -> #N/A | C11: =VLOOKUP(A11,出库表!C$4:E$700,3,0) -> #N/A | D11: =VLOOKUP(A11,出库表!C$4:F4808,4,0) -> #N/A | E11: =VLOOKUP(A11,出库表!C$4:G$800,5,0) -> #N/A | F11: =D11*E11 -> #N/A | G11: =VLOOKUP(A11,出库表!C$4:I$700,7,0) -> #N/A
B12: =VLOOKUP(A12,出库表!C$4:D$1000,2,0) -> #N/A | C12: =VLOOKUP(A12,出库表!C$4:E$700,3,0) -> #N/A | D12: =VLOOKUP(A12,出库表!C$4:F4809,4,0) -> #N/A | E12: =VLOOKUP(A12,出库表!C$4:G$800,5,0) -> #N/A | F12: =D12*E12 -> #N/A | G12: =VLOOKUP(A12,出库表!C$4:I$700,7,0) -> #N/A
B13: =VLOOKUP(A13,出库表!C$4:D$1000,2,0) -> #N/A | C13: =VLOOKUP(A13,出库表!C$4:E$700,3,0) -> #N/A | D13: =VLOOKUP(A13,出库表!C$4:F4810,4,0) -> #N/A | E13: =VLOOKUP(A13,出库表!C$4:G$800,5,0) -> #N/A | F13: =D13*E13 -> #N/A | G13: =VLOOKUP(A13,出库表!C$4:I$700,7,0) -> #N/A
B14: =VLOOKUP(A14,出库表!C$4:D$1000,2,0) -> #N/A | C14: =VLOOKUP(A14,出库表!C$4:E$700,3,0) -> #N/A | D14: =VLOOKUP(A14,出库表!C$4:F4811,4,0) -> #N/A | E14: =VLOOKUP(A14,出库表!C$4:G$800,5,0) -> #N/A | F14: =D14*E14 -> #N/A | G14: =VLOOKUP(A14,出库表!C$4:I$700,7,0) -> #N/A
B15: =VLOOKUP(A15,出库表!C$4:D$1000,2,0) -> #N/A | C15: =VLOOKUP(A15,出库表!C$4:E$700,3,0) -> #N/A | D15: =VLOOKUP(A15,出库表!C$4:F4812,4,0) -> #N/A | E15: =VLOOKUP(A15,出库表!C$4:G$800,5,0) -> #N/A | F15: =D15*E15 -> #N/A | G15: =VLOOKUP(A15,出库表!C$4:I$700,7,0) -> #N/A
B16: =VLOOKUP(A16,出库表!C$4:D$1000,2,0) -> #N/A | C16: =VLOOKUP(A16,出库表!C$4:E$700,3,0) -> #N/A | D16: =VLOOKUP(A16,出库表!C$4:F4813,4,0) -> #N/A | E16: =VLOOKUP(A16,出库表!C$4:G$800,5,0) -> #N/A | F16: =D16*E16 -> #N/A | G16: =VLOOKUP(A16,出库表!C$4:I$700,7,0) -> #N/A
... B57: =VLOOKUP(A57,出库表!C$4:D$1000,2,0) -> #N/A | C57: =VLOOKUP(A57,出库表!C$4:E$700,3,0) -> #N/A | D57: =VLOOKUP(A57,出库表!C$4:F4854,4,0) -> #N/A | E57: =VLOOKUP(A57,出库表!C$4:G$800,5,0) -> #N/A | F57: =D57*E57 -> #N/A | G57: =VLOOKUP(A57,出库表!C$4:I$700,7,0) -> #N/A

Sheet 材料汇总
A1: 材料汇总
A2: 代码 | B2: 货物名称 | C2: 单位 | D2: 期初数 | F2: 入库数 | H2: 出库数 | J2: 期末数 | L2: 单价 | M2: 安全 | N2: 是否
D3: 期末数 | E3: 金额 | F3: 数量 | G3: 金额 | H3: 数量 | I3: 金额 | J3: 期末数 | K3: 金额 | M3: 库存 | N3: 请购
A4: 1001 | B4: =VLOOKUP(A4,入库表!C$4:D$700,2,0) -> 材料1 | C4: =VLOOKUP(A4,入库表!C$4:E$800,3,0) -> 件 | F4: =SUMIF(codein,A4,sumin) -> 100 | G4: =SUMIF(codein,A4,totalin) -> 2000 | H4: =SUMIF(codeout,A4,sumout) -> 2 | I4: =ROUND(H4*L4,2) -> 40 | J4: =D4+F4-H4 -> 98 | K4: =E4+G4-I4 -> 1960 | L4: =IF(E4+G4<>0,ROUND((E4+G4)/(D4+F4),2),0) -> 20 | M4: 50 | N4: =IF(J4<M4,"请购",0) -> 0
A5: 1002 | B5: =VLOOKUP(A5,入库表!C$4:D$700,2,0) -> 材料2 | C5: =VLOOKUP(A5,入库表!C$4:E$800,3,0) -> 件 | F5: =SUMIF(codein,A5,sumin) -> 40 | G5: =SUMIF(codein,A5,totalin) -> 400 | H5: =SUMIF(codeout,A5,sumout) -> 3 | I5: =ROUND(H5*L5,2) -> 30 | J5: =D5+F5-H5 -> 37 | K5: =E5+G5-I5 -> 370 | L5: =IF(E5+G5<>0,ROUND((E5+G5)/(D5+F5),2),0) -> 10 | M5: 50 | N5: =IF(J5<M5,"请购",0) -> 请购
B6: =VLOOKUP(A6,入库表!C$4:D$700,2,0) -> #N/A | C6: =VLOOKUP(A6,入库表!C$4:E$800,3,0) -> #N/A | F6: =SUMIF(codein,A6,sumin) -> 0 | G6: =SUMIF(codein,A6,totalin) -> 0 | H6: =SUMIF(codeout,A6,sumout) -> 0 | I6: =ROUND(H6*L6,2) -> 0 | J6: =D6+F6-H6 -> 0 | K6: =E6+G6-I6 -> 0 | L6: =IF(E6+G6<>0,ROUND((E6+G6)/(D6+F6),2),0) -> 0
B7: =VLOOKUP(A7,入库表!C$4:D$700,2,0) -> #N/A | C7: =VLOOKUP(A7,入库表!C$4:E$800,3,0) -> #N/A | F7: =SUMIF(codein,A7,sumin) -> 0 | G7: =SUMIF(codein,A7,totalin) -> 0 | H7: =SUMIF(codeout,A7,sumout) -> 0 | I7: =ROUND(H7*L7,2) -> 0 | J7: =D7+F7-H7 -> 0 | K7: =E7+G7-I7 -> 0 | L7: =IF(E7+G7<>0,ROUND((E7+G7)/(D7+F7),2),0) -> 0 | N7: =IF(J7<M7,"请购",0) -> 0
B8: =VLOOKUP(A8,入库表!C$4:D$700,2,0) -> #N/A | C8: =VLOOKUP(A8,入库表!C$4:E$800,3,0) -> #N/A | F8: =SUMIF(codein,A8,sumin) -> 0 | G8: =SUMIF(codein,A8,totalin) -> 0 | H8: =SUMIF(codeout,A8,sumout) -> 0 | I8: =ROUND(H8*L8,2) -> 0 | J8: =D8+F8-H8 -> 0 | K8: =E8+G8-I8 -> 0 | L8: =IF(E8+G8<>0,ROUND((E8+G8)/(D8+F8),2),0) -> 0 | N8: =IF(J8<M8,"请购",0) -> 0
B9: =VLOOKUP(A9,入库表!C$4:D$700,2,0) -> #N/A | C9: =VLOOKUP(A9,入库表!C$4:E$800,3,0) -> #N/A | F9: =SUMIF(codein,A9,sumin) -> 0 | G9: =SUMIF(codein,A9,totalin) -> 0 | H9: =SUMIF(codeout,A9,sumout) -> 0 | I9: =ROUND(H9*L9,2) -> 0 | J9: =D9+F9-H9 -> 0 | K9: =E9+G9-I9 -> 0 | L9: =IF(E9+G9<>0,ROUND((E9+G9)/(D9+F9),2),0) -> 0 | N9: =IF(J9<M9,"请购",0) -> 0
B10: =VLOOKUP(A10,入库表!C$4:D$700,2,0) -> #N/A | C10: =VLOOKUP(A10,入库表!C$4:E$800,3,0) -> #N/A | F10: =SUMIF(codein,A10,sumin) -> 0 | G10: =SUMIF(codein,A10,totalin) -> 0 | H10: =SUMIF(codeout,A10,sumout) -> 0 | I10: =ROUND(H10*L10,2) -> 0 | J10: =D10+F10-H10 -> 0 | K10: =E10+G10-I10 -> 0 | L10: =IF(E10+G10<>0,ROUND((E10+G10)/(D10+F10),2),0) -> 0 | N10: =IF(J10<M10,"请购",0) -> 0
B11: =VLOOKUP(A11,入库表!C$4:D$700,2,0) -> #N/A | C11: =VLOOKUP(A11,入库表!C$4:E$800,3,0) -> #N/A | F11: =SUMIF(codein,A11,sumin) -> 0 | G11: =SUMIF(codein,A11,totalin) -> 0 | H11: =SUMIF(codeout,A11,sumout) -> 0 | I11: =ROUND(H11*L11,2) -> 0 | J11: =D11+F11-H11 -> 0 | K11: =E11+G11-I11 -> 0 | L11: =IF(E11+G11<>0,ROUND((E11+G11)/(D11+F11),2),0) -> 0 | N11: =IF(J11<M11,"请购",0) -> 0
B12: =VLOOKUP(A12,入库表!C$4:D$700,2,0) -> #N/A | C12: =VLOOKUP(A12,入库表!C$4:E$800,3,0) -> #N/A | F12: =SUMIF(codein,A12,sumin) -> 0 | G12: =SUMIF(codein,A12,totalin) -> 0 | H12: =SUMIF(codeout,A12,sumout) -> 0 | I12: =ROUND(H12*L12,2) -> 0 | J12: =D12+F12-H12 -> 0 | K12: =E12+G12-I12 -> 0 | L12: =IF(E12+G12<>0,ROUND((E12+G12)/(D12+F12),2),0) -> 0 | N12: =IF(J12<M12,"请购",0) -> 0
B13: =VLOOKUP(A13,入库表!C$4:D$700,2,0) -> #N/A | C13: =VLOOKUP(A13,入库表!C$4:E$800,3,0) -> #N/A | F13: =SUMIF(codein,A13,sumin) -> 0 | G13: =SUMIF(codein,A13,totalin) -> 0 | H13: =SUMIF(codeout,A13,sumout) -> 0 | I13: =ROUND(H13*L13,2) -> 0 | J13: =D13+F13-H13 -> 0 | K13: =E13+G13-I13 -> 0 | L13: =IF(E13+G13<>0,ROUND((E13+G13)/(D13+F13),2),0) -> 0 | N13: =IF(J13<M13,"请购",0) -> 0
B14: =VLOOKUP(A14,入库表!C$4:D$700,2,0) -> #N/A | C14: =VLOOKUP(A14,入库表!C$4:E$800,3,0) -> #N/A | F14: =SUMIF(codein,A14,sumin) -> 0 | G14: =SUMIF(codein,A14,totalin) -> 0 | H14: =SUMIF(codeout,A14,sumout) -> 0 | I14: =ROUND(H14*L14,2) -> 0 | J14: =D14+F14-H14 -> 0 | K14: =E14+G14-I14 -> 0 | L14: =IF(E14+G14<>0,ROUND((E14+G14)/(D14+F14),2),0) -> 0 | N14: =IF(J14<M14,"请购",0) -> 0
B15: =VLOOKUP(A15,入库表!C$4:D$700,2,0) -> #N/A | C15: =VLOOKUP(A15,入库表!C$4:E$800,3,0) -> #N/A | F15: =SUMIF(codein,A15,sumin) -> 0 | G15: =SUMIF(codein,A15,totalin) -> 0 | H15: =SUMIF(codeout,A15,sumout) -> 0 | I15: =ROUND(H15*L15,2) -> 0 | J15: =D15+F15-H15 -> 0 | K15: =E15+G15-I15 -> 0 | L15: =IF(E15+G15<>0,ROUND((E15+G15)/(D15+F15),2),0) -> 0 | N15: =IF(J15<M15,"请购",0) -> 0
B16: =VLOOKUP(A16,入库表!C$4:D$700,2,0) -> #N/A | C16: =VLOOKUP(A16,入库表!C$4:E$800,3,0) -> #N/A | F16: =SUMIF(codein,A16,sumin) -> 0 | G16: =SUMIF(codein,A16,totalin) -> 0 | H16: =SUMIF(codeout,A16,sumout) -> 0 | I16: =ROUND(H16*L16,2) -> 0 | J16: =D16+F16-H16 -> 0 | K16: =E16+G16-I16 -> 0 | L16: =IF(E16+G16<>0,(E16+G16)/(D16+F16),0) -> 0 | N16: =IF(J16<M16,"请购",0) -> 0
B17: =VLOOKUP(A17,入库表!C$4:D$700,2,0) -> #N/A | C17: =VLOOKUP(A17,入库表!C$4:E$800,3,0) -> #N/A | F17: =SUMIF(codein,A17,sumin) -> 0 | G17: =SUMIF(codein,A17,totalin) -> 0 | H17: =SUMIF(codeout,A17,sumout) -> 0 | I17: =ROUND(H17*L17,2) -> 0 | J17: =D17+F17-H17 -> 0 | K17: =E17+G17-I17 -> 0 | L17: =IF(E17+G17<>0,(E17+G17)/(D17+F17),0) -> 0 | N17: =IF(J17<M17,"请购",0) -> 0
B18: =VLOOKUP(A18,入库表!C$4:D$700,2,0) -> #N/A | C18: =VLOOKUP(A18,入库表!C$4:E$800,3,0) -> #N/A | F18: =SUMIF(codein,A18,sumin) -> 0 | G18: =SUMIF(codein,A18,totalin) -> 0 | H18: =SUMIF(codeout,A18,sumout) -> 0 | I18: =ROUND(H18*L18,2) -> 0 | J18: =D18+F18-H18 -> 0 | K18: =E18+G18-I18 -> 0 | L18: =IF(E18+G18<>0,(E18+G18)/(D18+F18),0) -> 0 | N18: =IF(J18<M18,"请购",0) -> 0
B19: =VLOOKUP(A19,入库表!C$4:D$700,2,0) -> #N/A | C19: =VLOOKUP(A19,入库表!C$4:E$800,3,0) -> #N/A | F19: =SUMIF(codein,A19,sumin) -> 0 | G19: =SUMIF(codein,A19,totalin) -> 0 | H19: =SUMIF(codeout,A19,sumout) -> 0 | I19: =ROUND(H19*L19,2) -> 0 | J19: =D19+F19-H19 -> 0 | K19: =E19+G19-I19 -> 0 | L19: =IF(E19+G19<>0,(E19+G19)/(D19+F19),0) -> 0 | N19: =IF(J19<M19,"请购",0) -> 0
B20: =VLOOKUP(A20,入库表!C$4:D$700,2,0) -> #N/A | C20: =VLOOKUP(A20,入库表!C$4:E$800,3,0) -> #N/A | F20: =SUMIF(codein,A20,sumin) -> 0 | G20: =SUMIF(codein,A20,totalin) -> 0 | H20: =SUMIF(codeout,A20,sumout) -> 0 | I20: =ROUND(H20*L20,2) -> 0 | J20: =D20+F20-H20 -> 0 | K20: =E20+G20-I20 -> 0 | L20: =IF(E20+G20<>0,(E20+G20)/(D20+F20),0) -> 0 | N20: =IF(J20<M20,"请购",0) -> 0
B21: =VLOOKUP(A21,入库表!C$4:D$700,2,0) -> #N/A | C21: =VLOOKUP(A21,入库表!C$4:E$800,3,0) -> #N/A | F21: =SUMIF(codein,A21,sumin) -> 0 | G21: =SUMIF(codein,A21,totalin) -> 0 | H21: =SUMIF(codeout,A21,sumout) -> 0 | I21: =ROUND(H21*L21,2) -> 0 | J21: =D21+F21-H21 -> 0 | K21: =E21+G21-I21 -> 0 | L21: =IF(E21+G21<>0,(E21+G21)/(D21+F21),0) -> 0 | N21: =IF(J21<M21,"请购",0) -> 0
B22: =VLOOKUP(A22,入库表!C$4:D$700,2,0) -> #N/A | C22: =VLOOKUP(A22,入库表!C$4:E$800,3,0) -> #N/A | F22: =SUMIF(codein,A22,sumin) -> 0 | G22: =SUMIF(codein,A22,totalin) -> 0 | H22: =SUMIF(codeout,A22,sumout) -> 0 | I22: =ROUND(H22*L22,2) -> 0 | J22: =D22+F22-H22 -> 0 | K22: =E22+G22-I22 -> 0 | L22: =IF(E22+G22<>0,(E22+G22)/(D22+F22),0) -> 0 | N22: =IF(J22<M22,"请购",0) -> 0
B23: =VLOOKUP(A23,入库表!C$4:D$700,2,0) -> #N/A | C23: =VLOOKUP(A23,入库表!C$4:E$800,3,0) -> #N/A | F23: =SUMIF(codein,A23,sumin) -> 0 | G23: =SUMIF(codein,A23,totalin) -> 0 | H23: =SUMIF(codeout,A23,sumout) -> 0 | I23: =ROUND(H23*L23,2) -> 0 | J23: =D23+F23-H23 -> 0 | K23: =E23+G23-I23 -> 0 | L23: =IF(E23+G23<>0,(E23+G23)/(D23+F23),0) -> 0 | N23: =IF(J23<M23,"请购",0) -> 0
B24: =VLOOKUP(A24,入库表!C$4:D$700,2,0) -> #N/A | C24: =VLOOKUP(A24,入库表!C$4:E$800,3,0) -> #N/A | F24: =SUMIF(codein,A24,sumin) -> 0 | G24: =SUMIF(codein,A24,totalin) -> 0 | H24: =SUMIF(codeout,A24,sumout) -> 0 | I24: =ROUND(H24*L24,2) -> 0 | J24: =D24+F24-H24 -> 0 | K24: =E24+G24-I24 -> 0 | L24: =IF(E24+G24<>0,(E24+G24)/(D24+F24),0) -> 0 | N24: =IF(J24<M24,"请购",0) -> 0
B25: =VLOOKUP(A25,入库表!C$4:D$700,2,0) -> #N/A | C25: =VLOOKUP(A25,入库表!C$4:E$800,3,0) -> #N/A | F25: =SUMIF(codein,A25,sumin) -> 0 | G25: =SUMIF(codein,A25,totalin) -> 0 | H25: =SUMIF(codeout,A25,sumout) -> 0 | I25: =ROUND(H25*L25,2) -> 0 | J25: =D25+F25-H25 -> 0 | K25: =E25+G25-I25 -> 0 | L25: =IF(E25+G25<>0,(E25+G25)/(D25+F25),0) -> 0 | N25: =IF(J25<M25,"请购",0) -> 0
B26: =VLOOKUP(A26,入库表!C$4:D$700,2,0) -> #N/A | C26: =VLOOKUP(A26,入库表!C$4:E$800,3,0) -> #N/A | F26: =SUMIF(codein,A26,sumin) -> 0 | G26: =SUMIF(codein,A26,totalin) -> 0 | H26: =SUMIF(codeout,A26,sumout) -> 0 | I26: =ROUND(H26*L26,2) -> 0 | J26: =D26+F26-H26 -> 0 | K26: =E26+G26-I26 -> 0 | L26: =IF(E26+G26<>0,(E26+G26)/(D26+F26),0) -> 0 | N26: =IF(J26<M26,"请购",0) -> 0
B27: =VLOOKUP(A27,入库表!C$4:D$700,2,0) -> #N/A | C27: =VLOOKUP(A27,入库表!C$4:E$800,3,0) -> #N/A | F27: =SUMIF(codein,A27,sumin) -> 0 | G27: =SUMIF(codein,A27,totalin) -> 0 | H27: =SUMIF(codeout,A27,sumout) -> 0 | I27: =ROUND(H27*L27,2) -> 0 | J27: =D27+F27-H27 -> 0 | K27: =E27+G27-I27 -> 0 | L27: =IF(E27+G27<>0,(E27+G27)/(D27+F27),0) -> 0 | N27: =IF(J27<M27,"请购",0) -> 0
... B297: =VLOOKUP(A297,入库表!C$4:D$700,2,0) -> #N/A | C297: =VLOOKUP(A297,入库表!C$4:E$800,3,0) -> #N/A | F297: =SUMIF(codein,A297,sumin) -> 0 | G297: =SUMIF(codein,A297,totalin) -> 0 | H297: =SUMIF(codeout,A297,sumout) -> 0 | I297: =ROUND(H297*L297,2) -> 0 | J297: =D297+F297-H297 -> 0 | K297: =E297+G297-I297 -> 0 | L297: =IF(E297+G297<>0,(E297+G297)/(D297+F297),0) -> 0 | N297: =IF(J297<M297,"请购",0) -> 0

Sheet 使用说明
A1: 使用说明
A2: 序号 | B2: 名称 | C2: 用途
A3: 1 | B3: 入库表 | C3: 进行入库记录输入和更改操作
A4: 2 | B4: 出库表 | C4: 进行出库记录输入和审核更改操作
A5: 3 | B5: 入库记录 | C5: 存放入库记录的数据，并提供用于计算的命名区域
A6: 4 | B6: 出库记录 | C6: 存放出库记录的数据，并提供用于计算的命名区域
A7: 5 | B7: 材料汇总 | C7: 提供存放物质的代码、名称信息、并用于计算汇总数据
A8: 6 | B8: 本系统主要需要用户录入入库表，表中的黄色区域设有公式，自动生成。在材料汇总中的“安全库存”中录入安全库存的数字，在“是否请购”栏自动提醒。
