Workbook

Sheet 首页
C6: 餐饮企业物料查询系统
D12: 销售记录 | G12: 参数设置
D17: 提成结算 | G17: 使用说明

Sheet 物料记录
A1: 物料编号 | B1: 物料名称 | C1: 物料描述 | D1: 位置ID | E1: 使用位置 | F1: 常备数量 | G1: 备注
A2: 1001 | B2: 拖把1 | C2: 清洁用品 | D2: 901 | E2: =IFERROR(VLOOKUP(D2,参数设置!A:B,2,FALSE),"") -> 前厅A区 | F2: 30
A3: 1002 | B3: 拖把2 | C3: 清洁用品 | D3: 903 | E3: =IFERROR(VLOOKUP(D3,参数设置!A:B,2,FALSE),"") -> PA | F3: 31
A4: 1003 | B4: 拖把3 | C4: 清洁用品 | D4: 904 | E4: =IFERROR(VLOOKUP(D4,参数设置!A:B,2,FALSE),"") -> 后厨1 | F4: 32
A5: 1004 | B5: 拖把4 | C5: 清洁用品 | D5: 905 | E5: =IFERROR(VLOOKUP(D5,参数设置!A:B,2,FALSE),"") -> 后厨2 | F5: 33
A6: 1005 | B6: 前厅A | C6: 餐具，主要用于，餐厅上使用 | D6: 906 | E6: =IFERROR(VLOOKUP(D6,参数设置!A:B,2,FALSE),"") -> 后厨3 | F6: 34
A7: 1001 | B7: 大碗2 | C7: 清洁用品 | D7: 907 | E7: =IFERROR(VLOOKUP(D7,参数设置!A:B,2,FALSE),"") -> 后厨4 | F7: 35
A8: 1001 | B8: 大碗2 | C8: 清洁用品 | D8: 908 | E8: =IFERROR(VLOOKUP(D8,参数设置!A:B,2,FALSE),"") -> 后厨5 | F8: 36
A9: 1001 | B9: 大碗2 | C9: 清洁用品 | D9: 909 | E9: =IFERROR(VLOOKUP(D9,参数设置!A:B,2,FALSE),"") -> 后厨6 | F9: 37
A10: 1001 | B10: 大碗2 | C10: 清洁用品 | D10: 901 | E10: =IFERROR(VLOOKUP(D10,参数设置!A:B,2,FALSE),"") -> 前厅A区 | F10: 38
A11: 1001 | B11: 大碗2 | C11: 清洁用品 | D11: 903 | E11: =IFERROR(VLOOKUP(D11,参数设置!A:B,2,FALSE),"") -> PA | F11: 39
A12: 1001 | B12: 大碗2 | C12: 清洁用品 | D12: 904 | E12: =IFERROR(VLOOKUP(D12,参数设置!A:B,2,FALSE),"") -> 后厨1 | F12: 40 | J12: 位置是枚举类信息，请在参数设置页设置好，本页，只需要输入位置编码即可，
A13: 1001 | B13: 大碗2 | C13: 清洁用品 | D13: 905 | E13: =IFERROR(VLOOKUP(D13,参数设置!A:B,2,FALSE),"") -> 后厨2 | F13: 41
A14: 1001 | B14: 大碗2 | C14: 清洁用品 | D14: 906 | E14: =IFERROR(VLOOKUP(D14,参数设置!A:B,2,FALSE),"") -> 后厨3 | F14: 42
A15: 1001 | B15: 大碗2 | C15: 清洁用品 | D15: 908 | E15: =IFERROR(VLOOKUP(D15,参数设置!A:B,2,FALSE),"") -> 后厨5 | F15: 43
A16: 1001 | B16: 大碗2 | C16: 清洁用品 | D16: 907 | E16: =IFERROR(VLOOKUP(D16,参数设置!A:B,2,FALSE),"") -> 后厨4 | F16: 44
A17: 1001 | B17: 大碗2 | C17: 清洁用品 | D17: 901 | E17: =IFERROR(VLOOKUP(D17,参数设置!A:B,2,FALSE),"") -> 前厅A区 | F17: 45
A18: 1001 | B18: 大碗2 | C18: 清洁用品 | D18: 902 | E18: =IFERROR(VLOOKUP(D18,参数设置!A:B,2,FALSE),"") -> 前厅B区 | F18: 46
A19: 1001 | B19: 大碗2 | C19: 清洁用品 | D19: 903 | E19: =IFERROR(VLOOKUP(D19,参数设置!A:B,2,FALSE),"") -> PA | F19: 47
A20: 1001 | B20: 大碗2 | C20: 清洁用品 | D20: 905 | E20: =IFERROR(VLOOKUP(D20,参数设置!A:B,2,FALSE),"") -> 后厨2 | F20: 48
A21: 1001 | B21: 大碗2 | C21: 清洁用品 | D21: 905 | E21: =IFERROR(VLOOKUP(D21,参数设置!A:B,2,FALSE),"") -> 后厨2 | F21: 49
A22: 1001 | B22: 大碗2 | C22: 清洁用品 | D22: 904 | E22: =IFERROR(VLOOKUP(D22,参数设置!A:B,2,FALSE),"") -> 后厨1 | F22: 50
A23: 1001 | B23: 大碗2 | C23: 清洁用品 | D23: 906 | E23: =IFERROR(VLOOKUP(D23,参数设置!A:B,2,FALSE),"") -> 后厨3 | F23: 51
B24: =IFERROR(VLOOKUP(A24,参数设置!A:B,2,FALSE),"") | E24: =IFERROR(VLOOKUP(D24,参数设置!A:B,2,FALSE),"")
B25: =IFERROR(VLOOKUP(A25,参数设置!A:B,2,FALSE),"") | E25: =IFERROR(VLOOKUP(D25,参数设置!A:B,2,FALSE),"")
B26: =IFERROR(VLOOKUP(A26,参数设置!A:B,2,FALSE),"") | E26: =IFERROR(VLOOKUP(D26,参数设置!A:B,2,FALSE),"")
B27: =IFERROR(VLOOKUP(A27,参数设置!A:B,2,FALSE),"") | E27: =IFERROR(VLOOKUP(D27,参数设置!A:B,2,FALSE),"")
B28: =IFERROR(VLOOKUP(A28,参数设置!A:B,2,FALSE),"") | E28: =IFERROR(VLOOKUP(D28,参数设置!A:B,2,FALSE),"")
B29: =IFERROR(VLOOKUP(A29,参数设置!A:B,2,FALSE),"") | E29: =IFERROR(VLOOKUP(D29,参数设置!A:B,2,FALSE),"")
B30: =IFERROR(VLOOKUP(A30,参数设置!A:B,2,FALSE),"") | E30: =IFERROR(VLOOKUP(D30,参数设置!A:B,2,FALSE),"")
B31: =IFERROR(VLOOKUP(A31,参数设置!A:B,2,FALSE),"") | E31: =IFERROR(VLOOKUP(D31,参数设置!A:B,2,FALSE),"")
B32: =IFERROR(VLOOKUP(A32,参数设置!A:B,2,FALSE),"") | E32: =IFERROR(VLOOKUP(D32,参数设置!A:B,2,FALSE),"")
B33: =IFERROR(VLOOKUP(A33,参数设置!A:B,2,FALSE),"") | E33: =IFERROR(VLOOKUP(D33,参数设置!A:B,2,FALSE),"")
B34: =IFERROR(VLOOKUP(A34,参数设置!A:B,2,FALSE),"") | E34: =IFERROR(VLOOKUP(D34,参数设置!A:B,2,FALSE),"")
B35: =IFERROR(VLOOKUP(A35,参数设置!A:B,2,FALSE),"") | E35: =IFERROR(VLOOKUP(D35,参数设置!A:B,2,FALSE),"")
... B100: =IFERROR(VLOOKUP(A100,参数设置!A:B,2,FALSE),"") | E100: =IFERROR(VLOOKUP(D100,参数设置!A:B,2,FALSE),"")
B101: =IFERROR(VLOOKUP(A101,参数设置!A:B,2,FALSE),"")
B102: =IFERROR(VLOOKUP(A102,参数设置!A:B,2,FALSE),"")
B103: =IFERROR(VLOOKUP(A103,参数设置!A:B,2,FALSE),"")
B104: =IFERROR(VLOOKUP(A104,参数设置!A:B,2,FALSE),"")
B105: =IFERROR(VLOOKUP(A105,参数设置!A:B,2,FALSE),"")
B106: =IFERROR(VLOOKUP(A106,参数设置!A:B,2,FALSE),"")
B107: =IFERROR(VLOOKUP(A107,参数设置!A:B,2,FALSE),"")
B108: =IFERROR(VLOOKUP(A108,参数设置!A:B,2,FALSE),"")
B109: =IFERROR(VLOOKUP(A109,参数设置!A:B,2,FALSE),"")
B110: =IFERROR(VLOOKUP(A110,参数设置!A:B,2,FALSE),"")
B111: =IFERROR(VLOOKUP(A111,参数设置!A:B,2,FALSE),"")
B112: =IFERROR(VLOOKUP(A112,参数设置!A:B,2,FALSE),"")
... B116: =IFERROR(VLOOKUP(A116,参数设置!A:B,2,FALSE),"")

Sheet 物料查询
A1: 物料详情查询
A2: 请输入需要查询的物料编号： | C2: 1001
A3: 物料编号： | B3: =IFERROR(VLOOKUP(C2,物料记录!A:G,1,FALSE),"") -> 1001 | C3: 物料名称： | D3: =IFERROR(VLOOKUP(C2,物料记录!A:G,2,FALSE),"") -> 拖把1 | E3: 使用位置： | F3: =IFERROR(VLOOKUP(C2,物料记录!A:G,4,FALSE),"") -> 901
A4: 常备数量： | B4: =IFERROR(VLOOKUP(C2,物料记录!A:G,6,FALSE),"") -> 30 | E4: 位置名称： | F4: =IFERROR(VLOOKUP(C2,物料记录!A:G,5,FALSE),"") -> 前厅A区
A5: 物料描述： | B5: =IFERROR(VLOOKUP(C2,物料记录!A:G,3,FALSE),"") -> 清洁用品
A13: 说明： | B13: 1、请在橙色位置输入物料编码即可查询相关数据
B14: 2、其它数据列为自动显示，请勿修改，本页为查询页面

Sheet 参数设置
A1: 使用位置 | B1: 位置名称
A2: 901 | B2: 前厅A区
A3: 902 | B3: 前厅B区
A4: 903 | B4: PA
A5: 904 | B5: 后厨1
A6: 905 | B6: 后厨2
A7: 906 | B7: 后厨3
A8: 907 | B8: 后厨4
A9: 908 | B9: 后厨5
A10: 909 | B10: 后厨6
A11: 910 | B11: 粗加工

Sheet 使用说明
A1: 使用说明
A2: 一、设置枚举类位置（或其它）类型的信息 | B2: 进入【参数设置】
A3: 二、录入商品记录，输入位置ID，即可显示位置名称 | B3: 进入【销售记录】
A4: 三、物料查询 | B4: 进入【物料查询】
